Workbook
Name DropARange: OFFSET([1]리스트!$O$1,0,0,COUNTA([1]리스트!$O:I),1)
Name DropLstRange: OFFSET([1]DropDown!$A$1,0,0,COUNTA([1]DropDown!$A:$A)+1,1)
Name 문항분석과목: OFFSET([1]문항분석표!$T$4,0,0,COUNTA([1]문항분석표!$T:$T),1)
Name 성적분포과목: OFFSET([1]성적분포도!$W$4,0,0,COUNTA([1]성적분포도!$W:$W),1)

Sheet 모의고사
B1: . | C1: ㅗ
B2: 4월 정기 모의고사
B4: 시험일자 | G4: 42850 | M4: 응시인원 | Q4: 63 | U4: =Q4*0.35 -> 22.05
B6: 응시번호 | C6: 성명 | D6: 응시직렬 | E6: 성별 | F6: 영어 | G6: 한국사 | H6: 과목3 | I6: 과목4 | J6: 과목5 | K6: 총점 | L6: 평균 | M6: 석차 | N6: 참수리관 등록가능 | O6: MC | P6: =IF(COUNTIF(참수리!$B$3:$B$79,C6)>0, "참수리","") | Q6: 비고 | R6: 체력 | S6: 총점
B7: 14434324 | C7: 염현지 | D7: 경찰행정학과특채 | E7: 남자 | F7: 95 | G7: 85 | H7: 65.247002 | I7: 64.637177 | J7: 62.993015 | K7: 372.8772 | L7: 74.575439 | M7: 1 | N7: =IF(MIN(M7)<$U$4,"등록가능","") -> 등록가능 | P7: =IF(COUNTIF(참수리!$B$3:$B$79,C7)>0, "참수리","") -> 참수리 | Q7: ★전체1등★ | AA7: ★전체1등★
B8: 14381016 | C8: 신현경 | D8: 경찰행정학과특채 | E8: 남자 | F8: 95 | G8: 80 | H8: 70.247787 | I8: 62.377022 | J8: 59.636829 | K8: 367.26163 | L8: 73.452332 | M8: 2 | N8: =IF(MIN(M8)<$U$4,"등록가능","") -> 등록가능 | O8: =IF(COUNTIF(mc!$B$3:$B$75,C8)>0, "MC","") | P8: =IF(COUNTIF(참수리!$B$3:$B$79,C8)>0, "참수리","") -> 참수리 | Q8: ★전체2등★ | R8: =IFERROR(VLOOKUP(C10,체력테스트!$B$3:$O$100,14,FALSE),"") | S8: =IFERROR(R8+K10,"") | AA8: ★전체2등★
B9: 14541915 | C9: 김수임 | D9: 경찰행정학과특채 | E9: 남자 | F9: 90 | G9: 90 | H9: 62.441917 | I9: 62.377022 | J9: 60.574757 | K9: 365.39371 | L9: 73.078735 | M9: 3 | N9: =IF(MIN(M9)<$U$4,"등록가능","") -> 등록가능 | O9: =IF(COUNTIF(mc!$B$3:$B$75,C9)>0, "MC","") | P9: =IF(COUNTIF(참수리!$B$3:$B$79,C9)>0, "참수리","") -> 참수리 | Q9: ★전체3등★ | AA9: ★전체3등★
B10: 16242203 | C10: 이종철 | D10: 일반경찰 | E10: 여자 | F10: 80 | G10: 80 | H10: 68.052094 | I10: 60.116871 | J10: 70.247787 | K10: 358.41675 | L10: 71.68335 | M10: 4 | N10: =IF(MIN(M10)<$U$4,"등록가능","") -> 등록가능 | O10: =IF(COUNTIF(mc!$B$3:$B$75,C10)>0, "MC","") | P10: =IF(COUNTIF(참수리!$B$3:$B$79,C10)>0, "참수리","") | Q10: =IF(MIN(F10:J10)<40,"과락","")
B11: 90657602 | C11: 민가영 | D11: 경찰행정학과특채 | E11: 남자 | F11: 59.636829 | G11: 60.116871 | H11: 62.993015 | I11: 95 | J11: 80 | K11: 357.7467 | L11: 71.549347 | M11: 5 | N11: =IF(MIN(M11)<$U$4,"등록가능","") -> 등록가능 | P11: =IF(COUNTIF(참수리!$B$3:$B$79,C11)>0, "참수리","") | Q11: =IF(MIN(F11:J11)<40,"과락","")
B12: 16164303 | C12: 박수연 | D12: 경찰행정학과특채 | E12: 남자 | F12: 90 | G12: 90 | H12: 51.221569 | I12: 55.596565 | J12: 65.41127 | K12: 352.2294 | L12: 70.445877 | M12: 6 | N12: =IF(MIN(M12)<$U$4,"등록가능","") -> 등록가능 | O12: =IF(COUNTIF(mc!$B$3:$B$75,C12)>0, "MC","") | P12: =IF(COUNTIF(참수리!$B$3:$B$79,C12)>0, "참수리","") | Q12: =IF(MIN(F12:J12)<40,"과락","")
B13: 13402707 | C13: 강지윤 | D13: 일반경찰 | E13: 여자 | F13: 90 | G13: 80 | H13: 54.026657 | I13: 64.637177 | J13: 58.156498 | K13: 346.82034 | L13: 69.364067 | M13: 7 | N13: =IF(MIN(M13)<$U$4,"등록가능","") -> 등록가능 | O13: =IF(COUNTIF(mc!$B$3:$B$75,C13)>0, "MC","") | P13: =IF(COUNTIF(참수리!$B$3:$B$79,C13)>0, "참수리","") -> 참수리 | Q13: =IF(MIN(F13:J13)<40,"과락","") | R13: =IFERROR(VLOOKUP(C15,체력테스트!$B$3:$O$100,14,FALSE),"") | S13: =IFERROR(R13+K15,"")
B14: 10093823 | C14: 정영민 | D14: 경찰행정학과특채 | E14: 여자 | F14: 90 | G14: 85 | H14: 56.831745 | I14: 53.336414 | J14: 60.574757 | K14: 345.74292 | L14: 69.148582 | M14: 8 | N14: =IF(MIN(M14)<$U$4,"등록가능","") -> 등록가능 | P14: =IF(COUNTIF(참수리!$B$3:$B$79,C14)>0, "참수리","") -> 참수리 | Q14: =IF(MIN(F14:J14)<40,"과락","") | R14: =IFERROR(VLOOKUP(C16,체력테스트!$B$3:$O$100,14,FALSE),"") | S14: =IFERROR(R14+K16,"")
B15: 11072702 | C15: 정성희 | D15: 일반경찰 | E15: 남자 | F15: 90 | G15: 70 | H15: 62.441917 | I15: 66.897324 | J15: 53.319981 | K15: 342.65921 | L15: 68.531845 | M15: 9 | N15: =IF(MIN(M15)<$U$4,"등록가능","") -> 등록가능 | O15: =IF(COUNTIF(mc!$B$3:$B$75,C15)>0, "MC","") | P15: =IF(COUNTIF(참수리!$B$3:$B$79,C15)>0, "참수리","") | Q15: =IF(MIN(F15:J15)<40,"과락","")
B16: 14045508 | C16: 최성림 | D16: 일반경찰 | E16: 여자 | F16: 80 | G16: 70 | H16: 65.247002 | I16: 60.116871 | J16: 55.738239 | K16: 331.10211 | L16: 66.220421 | M16: 10 | N16: =IF(MIN(M16)<$U$4,"등록가능","") -> 등록가능 | O16: =IF(COUNTIF(mc!$B$3:$B$75,C16)>0, "MC","") | P16: =IF(COUNTIF(참수리!$B$3:$B$79,C16)>0, "참수리","") -> 참수리 | Q16: =IF(MIN(F16:J16)<40,"과락","")
B17: 15170904 | C17: 김형석 | D17: 일반경찰 | E17: 남자 | F17: 65 | G17: 75 | H17: 68.052094 | I17: 60.116871 | J17: 55.738239 | K17: 323.9072 | L17: 64.781441 | M17: 11 | N17: =IF(MIN(M17)<$U$4,"등록가능","") -> 등록가능 | P17: =IF(COUNTIF(참수리!$B$3:$B$79,C17)>0, "참수리","") | Q17: =IF(MIN(F17:J17)<40,"과락","")
B18: 15325005 | C18: 유성훈 | D18: 일반경찰 | E18: 남자 | F18: 75 | G18: 70 | H18: 62.441917 | I18: 57.85672 | J18: 58.156498 | K18: 323.45514 | L18: 64.691025 | M18: 12 | N18: =IF(MIN(M18)<$U$4,"등록가능","") -> 등록가능 | O18: =IF(COUNTIF(mc!$B$3:$B$75,C18)>0, "MC","") | P18: =IF(COUNTIF(참수리!$B$3:$B$79,C18)>0, "참수리","") | Q18: =IF(MIN(F18:J18)<40,"과락","")
B19: 12033104 | C19: 이태훈 | D19: 경찰행정학과특채 | E19: 남자 | F19: 80 | G19: 80 | H19: 54.026657 | I19: 62.377022 | J19: 43.64695 | K19: 320.05063 | L19: 64.010124 | M19: 13 | N19: =IF(MIN(M19)<$U$4,"등록가능","") -> 등록가능 | P19: =IF(COUNTIF(참수리!$B$3:$B$79,C19)>0, "참수리","") | Q19: =IF(MIN(F19:J19)<40,"과락","") | R19: =IFERROR(VLOOKUP(C21,체력테스트!$B$3:$O$100,14,FALSE),"") | S19: =IFERROR(R19+K21,"")
B20: 66518193 | C20: 안송 | D20: 일반경찰 | E20: 여자 | F20: 75 | G20: 75 | H20: 54.026657 | I20: 62.377022 | J20: 50.901722 | K20: 317.30539 | L20: 63.461079 | M20: 14 | N20: =IF(MIN(M20)<$U$4,"등록가능","") -> 등록가능 | O20: =IF(COUNTIF(mc!$B$3:$B$75,C20)>0, "MC","") | P20: =IF(COUNTIF(참수리!$B$3:$B$79,C20)>0, "참수리","") | Q20: =IF(MIN(F20:J20)<40,"과락","")
B21: 71064379 | C21: 유재현 | D21: 일반경찰 | E21: 남자 | F21: 60 | G21: 75 | H21: 62.377022 | I21: 56.831745 | J21: 60.574757 | K21: 314.78351 | L21: 62.956703 | M21: 15 | N21: =IF(MIN(M21)<$U$4,"등록가능","") -> 등록가능 | O21: =IF(COUNTIF(mc!$B$3:$B$75,C21)>0, "MC","") | P21: =IF(COUNTIF(참수리!$B$3:$B$79,C21)>0, "참수리","") | Q21: =IF(MIN(F21:J21)<40,"과락","")
B22: 16104813 | C22: 김수정 | D22: 일반경찰 | E22: 여자 | F22: 80 | G22: 65 | H22: 56.831745 | I22: 53.336414 | J22: 58.728714 | K22: 313.89688 | L22: 62.779373 | M22: 16 | N22: =IF(MIN(M22)<$U$4,"등록가능","") -> 등록가능 | P22: =IF(COUNTIF(참수리!$B$3:$B$79,C22)>0, "참수리","") | Q22: =IF(MIN(F22:J22)<40,"과락","")
B23: 16053626 | C23: 차민정 | D23: 경찰행정학과특채 | E23: 여자 | F23: 80 | G23: 75 | H23: 51.221569 | I23: 53.336414 | J23: 46.065208 | K23: 305.6232 | L23: 61.124638 | M23: 17 | N23: =IF(MIN(M23)<$U$4,"등록가능","") -> 등록가능 | O23: =IF(COUNTIF(mc!$B$3:$B$75,C23)>0, "MC","") | Q23: =IF(MIN(F23:J23)<40,"과락","")
B24: 17040803 | C24: 안형준 | D24: 일반경찰 | F24: 65 | G24: 95 | H24: 42.806309 | I24: 51.076263 | J24: 48.483463 | K24: 302.36603 | L24: 60.473206 | M24: 18 | N24: =IF(MIN(M24)<$U$4,"등록가능","") -> 등록가능 | P24: MC | Q24: =IF(MIN(F24:J24)<40,"과락","")
B25: 16540804 | C25: 임여진 | D25: 일반경찰 | E25: 남자 | F25: 65 | G25: 55 | H25: 65.247002 | I25: 55.596565 | J25: 60.574757 | K25: 301.41833 | L25: 60.283665 | M25: 19 | N25: =IF(MIN(M25)<$U$4,"등록가능","") -> 등록가능 | Q25: =IF(MIN(F25:J25)<40,"과락","") | R25: =IFERROR(VLOOKUP(C26,체력테스트!$B$3:$O$100,14,FALSE),"") | S25: =IFERROR(R25+K26,"")
B26: 15222023 | C26: 정아름 | D26: 경찰행정학과특채 | F26: 56.831745 | G26: 51.076263 | H26: 48.483463 | I26: 75 | J26: 70 | K26: 301.39148 | L26: 60.278294 | M26: 20 | N26: =IF(MIN(M26)<$U$4,"등록가능","") -> 등록가능 | O26: =IF(COUNTIF(mc!$B$3:$B$75,C26)>0, "MC","") | P26: =IF(COUNTIF(참수리!$B$3:$B$79,C26)>0, "참수리","") | Q26: =IF(MIN(F26:J26)<40,"과락","") | R26: =IFERROR(VLOOKUP(C27,체력테스트!$B$3:$O$100,14,FALSE),"") | S26: =IFERROR(R26+K27,"")
B27: 10463505 | C27: 이도선 | D27: 일반경찰 | E27: 남자 | F27: 75 | G27: 75 | H27: 51.221569 | I27: 57.85672 | J27: 38.810432 | K27: 297.88873 | L27: 59.577744 | M27: 21 | N27: =IF(MIN(M27)<$U$4,"등록가능","") -> 등록가능 | Q27: =IF(MIN(F27:J27)<40,"과락","") -> 과락
B28: 16281821 | C28: 이의주 | D28: 경찰행정학과특채 | E28: 남자 | F28: 75 | G28: 75 | H28: 48.416485 | I28: 42.035656 | J28: 55.738239 | K28: 296.19037 | L28: 59.238075 | M28: 22 | N28: =IF(MIN(M28)<$U$4,"등록가능","") -> 등록가능 | O28: =IF(COUNTIF(mc!$B$3:$B$75,C28)>0, "MC","") | P28: =IF(COUNTIF(참수리!$B$3:$B$79,C28)>0, "참수리","") | Q28: =IF(MIN(F28:J28)<40,"과락","")
B29: 16250003 | C29: 박주아 | D29: 일반경찰 | E29: 여자 | F29: 85 | G29: 60 | H29: 46.555958 | I29: 48.416485 | J29: 50.901722 | K29: 290.87418 | L29: 58.174831 | M29: 23 | N29: =IF(MIN(M29)<$U$4,"등록가능","") | O29: =IF(COUNTIF(mc!$B$3:$B$75,C29)>0, "MC","") | P29: =IF(COUNTIF(참수리!$B$3:$B$79,C29)>0, "참수리","") | Q29: =IF(MIN(F29:J29)<40,"과락","")
B30: 16393521 | C30: 정재빈 | D30: 일반경찰 | E30: 남자 | F30: 65 | G30: 70 | H30: 54.026657 | I30: 44.295807 | J30: 55.738239 | K30: 289.0607 | L30: 57.812141 | M30: 24 | N30: =IF(MIN(M30)<$U$4,"등록가능","") | Q30: =IF(MIN(F30:J30)<40,"과락","")
B31: 89133221 | C31: 김진형 | D31: 경찰행정학과특채 | E31: 남자 | F31: 75 | G31: 60 | H31: 37.196136 | I31: 60.116871 | J31: 55.738239 | K31: 288.05124 | L31: 57.610249 | M31: 25 | N31: =IF(MIN(M31)<$U$4,"등록가능","") | O31: =IF(COUNTIF(mc!$B$3:$B$75,C31)>0, "MC","") | P31: =IF(COUNTIF(참수리!$B$3:$B$79,C31)>0, "참수리","") | Q31: =IF(MIN(F31:J31)<40,"과락","") -> 과락
B32: 16300206 | C32: 조지원 | D32: 경찰행정학과특채 | E32: 남자 | F32: 80 | G32: 60 | H32: 42.806309 | I32: 53.336414 | J32: 50.901722 | K32: 287.04443 | L32: 57.40889 | M32: 26 | N32: =IF(MIN(M32)<$U$4,"등록가능","") | O32: =IF(COUNTIF(mc!$B$3:$B$75,C32)>0, "MC","") | P32: MC | Q32: =IF(MIN(F32:J32)<40,"과락","")
B33: 14542021 | C33: 김도완 | D33: 일반경찰 | E33: 남자 | F33: 55 | G33: 65 | H33: 59.636829 | I33: 51.076263 | J33: 53.319981 | K33: 284.03308 | L33: 56.806614 | M33: 27 | N33: =IF(MIN(M33)<$U$4,"등록가능","") | P33: =IF(COUNTIF(참수리!$B$3:$B$79,C33)>0, "참수리","") | Q33: =IF(MIN(F33:J33)<40,"과락","")
B34: 14031028 | C34: 김봉근 | D34: 일반경찰 | E34: 남자 | F34: 65 | G34: 45 | H34: 59.636829 | I34: 60.116871 | J34: 50.901722 | K34: 280.65543 | L34: 56.131084 | M34: 28 | N34: =IF(MIN(M34)<$U$4,"등록가능","") | O34: =IF(COUNTIF(mc!$B$3:$B$75,C34)>0, "MC","") | P34: =IF(COUNTIF(참수리!$B$3:$B$79,C34)>0, "참수리","") | Q34: =IF(MIN(F34:J34)<40,"과락","") | R34: =IFERROR(VLOOKUP(C36,체력테스트!$B$3:$O$100,14,FALSE),"") | S34: =IFERROR(R34+K36,"")
B35: 16055905 | C35: 김현빈 | D35: 일반경찰 | E35: 여자 | F35: 50 | G35: 65 | H35: 48.416485 | I35: 53.336414 | J35: 62.993015 | K35: 279.74591 | L35: 55.949184 | M35: 29 | N35: =IF(MIN(M35)<$U$4,"등록가능","") | O35: =IF(COUNTIF(mc!$B$3:$B$75,C35)>0, "MC","") -> MC | P35: =IF(COUNTIF(참수리!$B$3:$B$79,C35)>0, "참수리","") -> 참수리 | Q35: =IF(MIN(F35:J35)<40,"과락","")
B36: 14414302 | C36: 권희주 | D36: 일반경찰 | E36: 남자 | F36: 65 | G36: 40 | H36: 59.636829 | I36: 53.336414 | J36: 58.156498 | K36: 276.12973 | L36: 55.225948 | M36: 30 | N36: =IF(MIN(M36)<$U$4,"등록가능","") | O36: =IF(COUNTIF(mc!$B$3:$B$75,C36)>0, "MC","") | P36: =IF(COUNTIF(참수리!$B$3:$B$79,C36)>0, "참수리","") | Q36: =IF(MIN(F36:J36)<40,"과락","")
B37: 15440831 | C37: 정지훈 | D37: 일반경찰 | E37: 여자 | F37: 65 | G37: 50 | H37: 51.221569 | I37: 48.816113 | J37: 60.574757 | K37: 275.61243 | L37: 55.122486 | M37: 31 | N37: =IF(MIN(M37)<$U$4,"등록가능","") | O37: =IF(COUNTIF(mc!$B$3:$B$75,C37)>0, "MC","") | P37: =IF(COUNTIF(참수리!$B$3:$B$79,C37)>0, "참수리","") | Q37: =IF(MIN(F37:J37)<40,"과락","") | R37: =IFERROR(VLOOKUP(C40,체력테스트!$B$3:$O$100,14,FALSE),"") | S37: =IFERROR(R37+K40,"")
B38: 16260209 | C38: 안영민 | E38: 남자 | F38: 60 | G38: 40 | H38: 55 | I38: 55 | J38: 65 | K38: 275 | L38: 55 | M38: 32 | N38: =IF(MIN(M38)<$U$4,"등록가능","") | O38: =IF(COUNTIF(mc!$B$3:$B$75,C38)>0, "MC","") | P38: =IF(COUNTIF(참수리!$B$3:$B$79,C38)>0, "참수리","") | Q38: =IF(MIN(F38:J38)<40,"과락","")
B39: 44859188 | C39: 이승훈 | D39: 일반경찰 | E39: 남자 | F39: 55 | G39: 60 | H39: 54.026657 | I39: 55.596565 | J39: 48.483463 | K39: 273.10669 | L39: 54.621338 | M39: 33 | N39: =IF(MIN(M39)<$U$4,"등록가능","") | O39: =IF(COUNTIF(mc!$B$3:$B$75,C39)>0, "MC","") | P39: =IF(COUNTIF(참수리!$B$3:$B$79,C39)>0, "참수리","") | Q39: =IF(MIN(F39:J39)<40,"과락","")
B40: 16432602 | C40: 최수은 | D40: 경찰행정학과특채 | E40: 여자 | F40: 55 | G40: 65 | H40: 48.416485 | I40: 53.336414 | J40: 48.483463 | K40: 270.23636 | L40: 54.047272 | M40: 34 | N40: =IF(MIN(M40)<$U$4,"등록가능","") | O40: =IF(COUNTIF(mc!$B$3:$B$75,C40)>0, "MC","") | P40: =IF(COUNTIF(참수리!$B$3:$B$79,C40)>0, "참수리","") | Q40: =IF(MIN(F40:J40)<40,"과락","")
B41: 16151915 | C41: 심지혜 | D41: 일반경찰 | E41: 여자 | F41: 35 | G41: 80 | H41: 51.221569 | I41: 46.555958 | J41: 50.901722 | K41: 263.67926 | L41: 52.735851 | M41: 35 | N41: =IF(MIN(M41)<$U$4,"등록가능","") | O41: =IF(COUNTIF(mc!$B$3:$B$75,C41)>0, "MC","") | P41: =IF(COUNTIF(참수리!$B$3:$B$79,C41)>0, "참수리","") | Q41: =IF(MIN(F41:J41)<40,"과락","") -> 과락
B42: 22089023 | C42: 송지수 | D42: 일반경찰 | E42: 여자 | F42: 50 | G42: 60 | H42: 54.026657 | I42: 55.596565 | J42: 43.64695 | K42: 263.27017 | L42: 52.654034 | M42: 36 | N42: =IF(MIN(M42)<$U$4,"등록가능","") | O42: =IF(COUNTIF(mc!$B$3:$B$75,C42)>0, "MC","") | P42: =IF(COUNTIF(참수리!$B$3:$B$79,C42)>0, "참수리","") | Q42: =IF(MIN(F42:J42)<40,"과락","") | R42: =IFERROR(VLOOKUP(C45,체력테스트!$B$3:$O$100,14,FALSE),"") | S42: =IFERROR(R42+K45,"")
B43: 16062321 | C43: 고희수 | D43: 일반경찰 | E43: 남자 | F43: 50 | G43: 45 | H43: 56.831745 | I43: 53.336414 | J43: 57.071068 | K43: 262.23923 | L43: 52.447845 | M43: 37 | N43: =IF(MIN(M43)<$U$4,"등록가능","") | P43: =IF(COUNTIF(참수리!$B$3:$B$79,C43)>0, "참수리","") -> 참수리 | Q43: =IF(MIN(F43:J43)<40,"과락","") | R43: =IFERROR(VLOOKUP(C46,체력테스트!$B$3:$O$100,14,FALSE),"") | S43: =IFERROR(R43+K46,"")
B44: 13193401 | C44: 우태성 | D44: 일반경찰 | E44: 남자 | F44: 50 | G44: 60 | H44: 42.806309 | I44: 57.85672 | J44: 50.901722 | K44: 261.56476 | L44: 52.31295 | M44: 38 | N44: =IF(MIN(M44)<$U$4,"등록가능","") | O44: =IF(COUNTIF(mc!$B$3:$B$75,C44)>0, "MC","") | P44: =IF(COUNTIF(참수리!$B$3:$B$79,C44)>0, "참수리","") | Q44: =IF(MIN(F44:J44)<40,"과락","")
B45: 16243425 | C45: 곽정환 | D45: 일반경찰 | E45: 남자 | F45: 50 | G45: 75 | H45: 42.806309 | I45: 46.555958 | J45: 46.065208 | K45: 260.42749 | L45: 52.085495 | M45: 39 | N45: =IF(MIN(M45)<$U$4,"등록가능","") | O45: =IF(COUNTIF(mc!$B$3:$B$75,C45)>0, "MC","") -> MC | P45: =IF(COUNTIF(참수리!$B$3:$B$79,C45)>0, "참수리","") -> 참수리 | Q45: =IF(MIN(F45:J45)<40,"과락","")
B46: 17022302 | C46: 도영환 | D46: 일반경찰 | E46: 남자 | F46: 60 | G46: 35 | H46: 54.026657 | I46: 57.85672 | J46: 43.64695 | K46: 250.53033 | L46: 50.106064 | M46: 40 | N46: =IF(MIN(M46)<$U$4,"등록가능","") | O46: =IF(COUNTIF(mc!$B$3:$B$75,C46)>0, "MC","") | P46: =IF(COUNTIF(참수리!$B$3:$B$79,C46)>0, "참수리","") | Q46: =IF(MIN(F46:J46)<40,"과락","") -> 과락 | R46: =IFERROR(VLOOKUP(C48,체력테스트!$B$3:$O$100,14,FALSE),"") | S46: =IFERROR(R46+K48,"")
B47: 93997579 | C47: 김수곤 | D47: 일반경찰 | E47: 남자 | F47: 52.182178 | G47: 55 | H47: 50 | I47: 48.816113 | J47: 42.928932 | K47: 248.92722 | L47: 49.785446 | M47: 41 | N47: =IF(MIN(M47)<$U$4,"등록가능","") | O47: =IF(COUNTIF(mc!$B$3:$B$75,C47)>0, "MC","") | P47: =IF(COUNTIF(참수리!$B$3:$B$79,C47)>0, "참수리","") | Q47: =IF(MIN(F47:J47)<40,"과락","")
B48: 14313697 | D48: 일반경찰 | E48: 여자 | F48: 75 | G48: 20 | H48: 31.585962 | I48: 60.116871 | J48: 60.574757 | K48: 247.27759 | L48: 49.455517 | M48: 42 | N48: =IF(MIN(M48)<$U$4,"등록가능","") | O48: =IF(COUNTIF(mc!$B$3:$B$75,C48)>0, "MC","") | P48: =IF(COUNTIF(참수리!$B$3:$B$79,C48)>0, "참수리","") | Q48: =IF(MIN(F48:J48)<40,"과락","") -> 과락 | R48: =IFERROR(VLOOKUP(C50,체력테스트!$B$3:$O$100,14,FALSE),"") | S48: =IFERROR(R48+K50,"") | T48: 11
B49: 16325909 | C49: 민준영 | D49: 일반경찰 | E49: 여자 | F49: 45 | G49: 40 | H49: 51.221569 | I49: 53.336414 | J49: 55.738239 | K49: 245.29622 | L49: 49.059246 | M49: 43 | N49: =IF(MIN(M49)<$U$4,"등록가능","") | O49: =IF(COUNTIF(mc!$B$3:$B$75,C49)>0, "MC","") -> MC | P49: =IF(COUNTIF(참수리!$B$3:$B$79,C49)>0, "참수리","") -> 참수리 | Q49: =IF(MIN(F49:J49)<40,"과락","")
B50: 16182303 | C50: 정잳윤 | D50: 일반경찰 | E50: 남자 | F50: 45 | G50: 55 | H50: 54.026657 | I50: 44.295807 | J50: 43.64695 | K50: 241.96942 | L50: 48.393883 | M50: 44 | N50: =IF(MIN(M50)<$U$4,"등록가능","") | O50: =IF(COUNTIF(mc!$B$3:$B$75,C50)>0, "MC","") | P50: =IF(COUNTIF(참수리!$B$3:$B$79,C50)>0, "참수리","") | Q50: =IF(MIN(F50:J50)<40,"과락","") | T50: 46
B51: 16014805 | C51: 조준범 | D51: 일반경찰 | E51: 남자 | F51: 65 | G51: 25 | H51: 48.416485 | I51: 46.555958 | J51: 55.738239 | K51: 240.71068 | L51: 48.142136 | M51: 45 | N51: =IF(MIN(M51)<$U$4,"등록가능","") | P51: MC | Q51: =IF(MIN(F51:J51)<40,"과락","") -> 과락 | T51: 52
B52: 16383621 | C52: 최민지 | D52: 일반경찰 | E52: 여자 | F52: 30 | G52: 75 | H52: 54.026657 | I52: 39.775505 | J52: 38.810432 | K52: 237.61259 | L52: 47.522518 | M52: 46 | N52: =IF(MIN(M52)<$U$4,"등록가능","") | O52: =IF(COUNTIF(mc!$B$3:$B$75,C52)>0, "MC","") | P52: =IF(COUNTIF(참수리!$B$3:$B$79,C52)>0, "참수리","") | Q52: =IF(MIN(F52:J52)<40,"과락","") -> 과락 | R52: =IFERROR(VLOOKUP(C55,체력테스트!$B$3:$O$100,14,FALSE),"") | S52: =IFERROR(R52+K55,"") | T52: 16
B53: 16310928 | C53: 남택승 | D53: 일반경찰 | E53: 남자 | F53: 55 | G53: 55 | H53: 48.416485 | I53: 35.255199 | J53: 38.810432 | K53: 232.48212 | L53: 46.496422 | M53: 47 | N53: =IF(MIN(M53)<$U$4,"등록가능","") | O53: =IF(COUNTIF(mc!$B$3:$B$75,C53)>0, "MC","") | P53: MC | Q53: =IF(MIN(F53:J53)<40,"과락","") -> 과락 | R53: =IFERROR(VLOOKUP(C55,체력테스트!$B$3:$O$100,14,FALSE),"") | S53: =IFERROR(R53+K55,"") | T53: 8
B54: 14150231 | C54: 김승희 | D54: 일반경찰 | E54: 여자 | F54: 30 | G54: 45 | H54: 48.816113 | I54: 56.831745 | J54: 50.901722 | K54: 231.54958 | L54: 46.309917 | M54: 48 | N54: =IF(MIN(M54)<$U$4,"등록가능","") | P54: =IF(COUNTIF(참수리!$B$3:$B$79,C54)>0, "참수리","") | Q54: =IF(MIN(F54:J54)<40,"과락","") -> 과락
B55: 16255405 | C55: 김남준 | D55: 일반경찰 | E55: 남자 | F55: 55 | G55: 65 | H55: 28.780876 | I55: 37.51535 | J55: 43.64695 | K55: 229.94318 | L55: 45.988636 | M55: 49 | N55: =IF(MIN(M55)<$U$4,"등록가능","") | P55: =IF(COUNTIF(참수리!$B$3:$B$79,C55)>0, "참수리","") | Q55: =IF(MIN(F55:J55)<40,"과락","") -> 과락
B56: 16001230 | C56: 오송희 | D56: 일반경찰 | E56: 남자 | F56: 55 | G56: 55 | H56: 42.035656 | I56: 40.001225 | J56: 36.392174 | K56: 228.42905 | L56: 45.68581 | M56: 50 | N56: =IF(MIN(M56)<$U$4,"등록가능","") | P56: MC | Q56: =IF(MIN(F56:J56)<40,"과락","") -> 과락 | R56: =IFERROR(VLOOKUP(C59,체력테스트!$B$3:$O$100,14,FALSE),"") | S56: =IFERROR(R56+K59,"") | T56: 20
B57: 16334823 | C57: 강영지 | D57: 경찰행정학과특채 | E57: 여자 | F57: 45 | G57: 40 | H57: 40.001225 | I57: 44.295807 | J57: 50.901722 | K57: 220.19876 | L57: 44.039749 | M57: 51 | N57: =IF(MIN(M57)<$U$4,"등록가능","") | O57: =IF(COUNTIF(mc!$B$3:$B$75,C57)>0, "MC","") | P57: =IF(COUNTIF(참수리!$B$3:$B$79,C57)>0, "참수리","") | Q57: =IF(MIN(F57:J57)<40,"과락","") | T57: 23
B58: 16521423 | C58: 정민욱 | D58: 일반경찰 | E58: 여자 | F58: 40 | G58: 55 | H58: 37.51535 | I58: 45.611397 | J58: 41.228691 | K58: 219.35544 | L58: 43.871086 | M58: 52 | N58: =IF(MIN(M58)<$U$4,"등록가능","") | Q58: =IF(MIN(F58:J58)<40,"과락","") -> 과락
B59: 16461128 | C59: 김상민 | D59: 일반경찰 | E59: 남자 | F59: 50 | G59: 45 | H59: 42.806309 | I59: 38.810432 | J59: 37.51535 | K59: 214.1321 | L59: 42.82642 | M59: 53 | N59: =IF(MIN(M59)<$U$4,"등록가능","") | O59: =IF(COUNTIF(mc!$B$3:$B$75,C59)>0, "MC","") | P59: =IF(COUNTIF(참수리!$B$3:$B$79,C59)>0, "참수리","") | Q59: =IF(MIN(F59:J59)<40,"과락","") -> 과락
B60: 16220127 | C60: 이가은 | D60: 경찰행정학과특채 | E60: 남자 | F60: 50 | G60: 40 | H60: 45.611397 | I60: 37.51535 | J60: 38.810432 | K60: 211.93718 | L60: 42.387436 | M60: 54 | N60: =IF(MIN(M60)<$U$4,"등록가능","") | O60: =IF(COUNTIF(mc!$B$3:$B$75,C60)>0, "MC","") | P60: MC | Q60: =IF(MIN(F60:J60)<40,"과락","") -> 과락 | T60: 55
B61: 58195610 | C61: 송현동 | D61: 경찰행정학과특채 | E61: 남자 | F61: 40 | G61: 60 | H61: 42.806309 | I61: 32.995049 | J61: 31.555656 | K61: 207.35701 | L61: 41.471401 | M61: 55 | N61: =IF(MIN(M61)<$U$4,"등록가능","") | P61: =IF(COUNTIF(참수리!$B$3:$B$79,C61)>0, "참수리","") | Q61: =IF(MIN(F61:J61)<40,"과락","") -> 과락
B62: 15301431 | C62: 김광현 | D62: 일반경찰 | E62: 여자 | F62: 40 | G62: 45 | H62: 34.391048 | I62: 32.995049 | J62: 43.64695 | K62: 196.03305 | L62: 39.206608 | M62: 56 | N62: =IF(MIN(M62)<$U$4,"등록가능","") | O62: =IF(COUNTIF(mc!$B$3:$B$75,C62)>0, "MC","") | P62: =IF(COUNTIF(참수리!$B$3:$B$79,C62)>0, "참수리","") | Q62: =IF(MIN(F62:J62)<40,"과락","") -> 과락 | T62: 26
B63: 17021702 | C63: 이강호 | D63: 일반경찰 | E63: 여자 | F63: 20 | G63: 60 | H63: 34.391048 | I63: 37.51535 | J63: 36.392174 | K63: 188.29857 | L63: 37.659714 | M63: 57 | N63: =IF(MIN(M63)<$U$4,"등록가능","") | P63: =IF(COUNTIF(참수리!$B$3:$B$79,C63)>0, "참수리","") | Q63: =IF(MIN(F63:J63)<40,"과락","") -> 과락 | T63: 24
B64: 16111115 | C64: 이현정 | D64: 일반경찰 | E64: 남자 | F64: 30 | G64: 35 | H64: 42.806309 | I64: 37.51535 | J64: 39.089104 | K64: 184.41077 | L64: 36.882153 | M64: 58 | N64: =IF(MIN(M64)<$U$4,"등록가능","") | O64: =IF(COUNTIF(mc!$B$3:$B$75,C64)>0, "MC","") | P64: =IF(COUNTIF(참수리!$B$3:$B$79,C64)>0, "참수리","") | Q64: =IF(MIN(F64:J64)<40,"과락","") -> 과락 | R64: =IFERROR(VLOOKUP(C66,체력테스트!$B$3:$O$100,14,FALSE),"") | S64: =IFERROR(R64+K66,"") | T64: 13
B65: 16305729 | C65: 김진수 | D65: 일반경찰 | E65: 여자 | F65: 60 | G65: 25 | H65: 37.196136 | I65: 32.995049 | J65: 29.1374 | K65: 184.32858 | L65: 36.865715 | M65: 59 | N65: =IF(MIN(M65)<$U$4,"등록가능","") | O65: =IF(COUNTIF(mc!$B$3:$B$75,C65)>0, "MC","") | P65: =IF(COUNTIF(참수리!$B$3:$B$79,C65)>0, "참수리","") | Q65: =IF(MIN(F65:J65)<40,"과락","") -> 과락 | T65: 22
B66: 17030315 | C66: 김동열 | D66: 경찰행정학과특채 | E66: 남자 | F66: 45 | G66: 25 | H66: 34.391048 | I66: 42.035656 | J66: 33.973915 | K66: 180.40062 | L66: 36.080124 | M66: 60 | N66: =IF(MIN(M66)<$U$4,"등록가능","") | P66: =IF(COUNTIF(참수리!$B$3:$B$79,C66)>0, "참수리","") | Q66: =IF(MIN(F66:J66)<40,"과락","") -> 과락 | T66: 29
B67: 16384828 | C67: 오기 | D67: 일반경찰 | E67: 여자 | F67: 70 | G67: 15 | H67: 23.954441 | I67: 40.001225 | J67: 29.1374 | K67: 178.09306 | L67: 35.618614 | M67: 61 | N67: =IF(MIN(M67)<$U$4,"등록가능","") | P67: =IF(COUNTIF(참수리!$B$3:$B$79,C67)>0, "참수리","") | Q67: =IF(MIN(F67:J67)<40,"과락","") -> 과락 | T67: 51
B68: 16084210 | C68: 임규택 | D68: 일반경찰 | E68: 여자 | F68: 46.065208 | G68: 10 | H68: 30 | I68: 34.391048 | J68: 37.51535 | K68: 157.9716 | L68: 31.594322 | M68: 62 | N68: =IF(MIN(M68)<$U$4,"등록가능","") | O68: =IF(COUNTIF(mc!$B$3:$B$75,C68)>0, "MC","") | P68: =IF(COUNTIF(참수리!$B$3:$B$79,C68)>0, "참수리","") | Q68: =IF(MIN(F68:J68)<40,"과락","") -> 과락 | T68: 34
B69: 2047 | C69: 유재 | D69: 일반경찰 | E69: 남자 | F69: 40 | G69: 20 | H69: 25.97579 | I69: 35.255199 | J69: 33.973915 | K69: 155.20491 | L69: 31.040981 | M69: 63 | N69: =IF(MIN(M69)<$U$4,"등록가능","") | O69: =IF(COUNTIF(mc!$B$3:$B$75,C69)>0, "MC","") | P69: =IF(COUNTIF(참수리!$B$3:$B$79,C69)>0, "참수리","") | Q69: =IF(MIN(F69:J69)<40,"과락","") -> 과락 | R69: =IFERROR(VLOOKUP(C72,체력테스트!$B$3:$O$100,14,FALSE),"") | S69: =IFERROR(R69+K72,"") | T69: 17
N70: =IF(MIN(M70)<$U$4,"등록가능","") -> 등록가능 | O70: =IF(COUNTIF(mc!$B$3:$B$75,C70)>0, "MC","") | P70: =IF(COUNTIF(참수리!$B$3:$B$79,C70)>0, "참수리","") | Q70: =IF(MIN(F70:J70)<40,"과락","") -> 과락 | T70: 33
T71: 49
R73: =IFERROR(VLOOKUP(C73,체력테스트!$B$3:$O$100,14,FALSE),"") | S73: =IFERROR(R73+K73,"") | T73: 1
T75: 61
T76: 28
T79: 37
T80: 58
R81: =IFERROR(VLOOKUP(C83,체력테스트!$B$3:$O$100,14,FALSE),"") | S81: =IFERROR(R81+K83,"") | T81: 9
T82: 56
R83: =IFERROR(VLOOKUP(C85,체력테스트!$B$3:$O$100,14,FALSE),"") | S83: =IFERROR(R83+K85,"") | T83: 7
T84: 39
T85: 32
T86: 50
T87: 53
T88: 44
T89: 35

Sheet 9월 문항분석표
B1: 문항분석표
B3: 시험일자 | C3: 41449 | J3: 응시인원 | K3: 170명
B5: 과목 | C5: 문항번호 | D5: 정답 | E5: 최다 오답선택지 | F5: 답지반응률(%) | K5: 정답률(%) | L5: 정답자수
F6: 1 | G6: 2 | H6: 3 | I6: 4 | J6: 5
B7: 경찰학 개론 | C7: 1 | D7: 1 | E7: 4 | F7: 0.86826347 | G7: 0.011976048 | H7: 0.017964072 | I7: 0.10179641 | J7: 0 | K7: 0.86826347 | L7: 145
C8: 2 | D8: 3 | E8: 4 | F8: 0.023952096 | G8: 0.071856287 | H8: 0.71856287 | I8: 0.18562874 | J8: 0 | K8: 0.71856287 | L8: 120
C9: 3 | D9: 4 | E9: 2 | F9: 0.083832335 | G9: 0.22155689 | H9: 0.13772455 | I9: 0.55688623 | J9: 0 | K9: 0.55688623 | L9: 93
C10: 4 | D10: 4 | E10: 2 | F10: 0.089820359 | G10: 0.17964072 | H10: 0.10179641 | I10: 0.62874251 | J10: 0 | K10: 0.62874251 | L10: 105
C11: 5 | D11: 2 | E11: 3 | F11: 0.071856287 | G11: 0.41317365 | H11: 0.31137725 | I11: 0.20359281 | J11: 0 | K11: 0.41317365 | L11: 69
C12: 6 | D12: 3 | E12: 2 | F12: 0.05988024 | G12: 0.13772455 | H12: 0.74850299 | I12: 0.053892216 | J12: 0 | K12: 0.74850299 | L12: 125
C13: 7 | D13: 3 | E13: 2 | F13: 0.047904192 | G13: 0.18562874 | H13: 0.61676647 | I13: 0.1497006 | J13: 0 | K13: 0.61676647 | L13: 103
C14: 8 | D14: 1 | E14: 3 | F14: 0.65868263 | G14: 0.05988024 | H14: 0.17365269 | I14: 0.10778443 | J14: 0 | K14: 0.65868263 | L14: 110
C15: 9 | D15: 4 | E15: 2 | F15: 0.1257485 | G15: 0.22754491 | H15: 0.13772455 | I15: 0.50898204 | J15: 0 | K15: 0.50898204 | L15: 85
C16: 10 | D16: 2 | E16: 3 | F16: 0.15568862 | G16: 0.39520958 | H16: 0.43113772 | I16: 0.017964072 | J16: 0 | K16: 0.39520958 | L16: 66
C17: 11 | D17: 3 | E17: 1 | F17: 0.19161677 | G17: 0.13772455 | H17: 0.63473054 | I17: 0.035928144 | J17: 0 | K17: 0.63473054 | L17: 106
C18: 12 | D18: 2 | E18: 4 | F18: 0.24550898 | G18: 0.39520958 | H18: 0.095808383 | I18: 0.26347305 | J18: 0 | K18: 0.39520958 | L18: 66
C19: 13 | D19: 2 | E19: 4 | F19: 0.089820359 | G19: 0.24550898 | H19: 0.20359281 | I19: 0.46107784 | J19: 0 | K19: 0.24550898 | L19: 41
... C26: 20 | D26: 4 | E26: 3 | F26: 0.018072289 | G26: 0.21686747 | H26: 0.24698795 | I26: 0.51807229 | J26: 0 | K26: 0.51807229 | L26: 86
B27: 수사 | C27: 21 | D27: 4 | E27: 1 | F27: 0.19760479 | G27: 0.16167665 | H27: 0.17365269 | I27: 0.46706587 | J27: 0 | K27: 0.46706587 | L27: 78
C28: 22 | D28: 1 | E28: 2 4 | F28: 0.26347305 | G28: 0.25748503 | H28: 0.22155689 | I28: 0.25748503 | J28: 0 | K28: 0.26347305 | L28: 44
C29: 23 | D29: 3 | E29: 2 | F29: 0.19760479 | G29: 0.23952096 | H29: 0.36526946 | I29: 0.19760479 | J29: 0 | K29: 0.36526946 | L29: 61
C30: 24 | D30: 4 | E30: 2 | F30: 0.02994012 | G30: 0.17964072 | H30: 0.14371257 | I30: 0.64670659 | J30: 0 | K30: 0.64670659 | L30: 108
C31: 25 | D31: 4 | E31: 2 | F31: 0.05988024 | G31: 0.32934132 | H31: 0.2754491 | I31: 0.33532934 | J31: 0 | K31: 0.33532934 | L31: 56
C32: 26 | D32: 4 | E32: 3 | F32: 0.035928144 | G32: 0.13772455 | H32: 0.55688623 | I32: 0.26946108 | J32: 0 | K32: 0.26946108 | L32: 45
C33: 27 | D33: 1 | E33: 4 | F33: 0.4011976 | G33: 0.053892216 | H33: 0.13173653 | I33: 0.41317365 | J33: 0 | K33: 0.4011976 | L33: 67
C34: 28 | D34: 2 | E34: 3 | F34: 0.12650602 | G34: 0.41566265 | H34: 0.34939759 | I34: 0.10843373 | J34: 0 | K34: 0.41566265 | L34: 69
C35: 29 | D35: 1 | E35: 4 | F35: 0.13772455 | G35: 0.26946108 | H35: 0.22754491 | I35: 0.36526946 | J35: 0 | K35: 0.13772455 | L35: 23
C36: 30 | D36: 3 | E36: 4 | F36: 0.11377246 | G36: 0.20958084 | H36: 0.23353293 | I36: 0.44311377 | J36: 0 | K36: 0.23353293 | L36: 39
C37: 31 | D37: 3 | E37: 1 | F37: 0.2994012 | G37: 0.14371257 | H37: 0.28742515 | I37: 0.26946108 | J37: 0 | K37: 0.28742515 | L37: 48
C38: 32 | D38: 1 | E38: 2 | F38: 0.36526946 | G38: 0.24550898 | H38: 0.22754491 | I38: 0.16167665 | J38: 0 | K38: 0.36526946 | L38: 61
C39: 33 | D39: 2 | E39: 4 | F39: 0.10778443 | G39: 0.28742515 | H39: 0.20958084 | I39: 0.39520958 | J39: 0 | K39: 0.28742515 | L39: 48
C40: 34 | D40: 4 | E40: 3 | F40: 0.13855422 | G40: 0.1746988 | H40: 0.39156627 | I40: 0.29518072 | J40: 0 | K40: 0.29518072 | L40: 49
... C46: 40 | D46: 4 | E46: 3 | F46: 0.02994012 | G46: 0.089820359 | H46: 0.17964072 | I46: 0.7005988 | J46: 0 | K46: 0.7005988 | L46: 117
B47: 영어 | C47: 41 | D47: 2 | E47: 3 | F47: 0.16071429 | G47: 0.55952381 | H47: 0.25595238 | I47: 0.023809524 | J47: 0 | K47: 0.55952381 | L47: 94
C48: 42 | D48: 3 | E48: 2 | F48: 0.047619048 | G48: 0.24404762 | H48: 0.56547619 | I48: 0.14285714 | J48: 0 | K48: 0.56547619 | L48: 95
C49: 43 | D49: 3 | E49: 2 | F49: 0.05988024 | G49: 0.11377246 | H49: 0.79041916 | I49: 0.035928144 | J49: 0 | K49: 0.79041916 | L49: 132
C50: 44 | D50: 4 | E50: 2 | F50: 0.023809524 | G50: 0.13095238 | H50: 0.041666667 | I50: 0.80357143 | J50: 0 | K50: 0.80357143 | L50: 135
C51: 45 | D51: 1 | E51: 3 | F51: 0.48809524 | G51: 0.13095238 | H51: 0.20833333 | I51: 0.17261905 | J51: 0 | K51: 0.48809524 | L51: 82
C52: 46 | D52: 3 | E52: 1 | F52: 0.28571429 | G52: 0.095238095 | H52: 0.51190476 | I52: 0.10714286 | J52: 0 | K52: 0.51190476 | L52: 86
C53: 47 | D53: 1 | E53: 4 | F53: 0.48214286 | G53: 0.10714286 | H53: 0.11309524 | I53: 0.29761905 | J53: 0 | K53: 0.48214286 | L53: 81
C54: 48 | D54: 1 | E54: 2 | F54: 0.39285714 | G54: 0.3452381 | H54: 0.2202381 | I54: 0.041666667 | J54: 0 | K54: 0.39285714 | L54: 66
C55: 49 | D55: 2 | E55: 3 | F55: 0.17261905 | G55: 0.57142857 | H55: 0.2202381 | I55: 0.035714286 | J55: 0 | K55: 0.57142857 | L55: 96
C56: 50 | D56: 3 | E56: 1 | F56: 0.20833333 | G56: 0.11904762 | H56: 0.61904762 | I56: 0.053571429 | J56: 0 | K56: 0.61904762 | L56: 104
C57: 51 | D57: 4 | E57: 1 | F57: 0.05952381 | G57: 0.053571429 | H57: 0.023809524 | I57: 0.86309524 | J57: 0 | K57: 0.86309524 | L57: 145
C58: 52 | D58: 1 | E58: 4 | F58: 0.75 | G58: 0.071428571 | H58: 0.053571429 | I58: 0.125 | J58: 0 | K58: 0.75 | L58: 126
C59: 53 | D59: 2 | E59: 3 | F59: 0.029761905 | G59: 0.61309524 | H59: 0.26190476 | I59: 0.095238095 | J59: 0 | K59: 0.61309524 | L59: 103
... C66: 60 | D66: 4 | E66: 1 | F66: 0.23214286 | G66: 0.125 | H66: 0.10119048 | I66: 0.54166667 | J66: 0 | K66: 0.54166667 | L66: 91
B67: 형법 | C67: 61 | D67: 3 | E67: 4 | F67: 0.023809524 | G67: 0.041666667 | H67: 0.86309524 | I67: 0.071428571 | J67: 0 | K67: 0.86309524 | L67: 145
C68: 62 | D68: 2 | E68: 3 | F68: 0.083832335 | G68: 0.5988024 | H68: 0.18562874 | I68: 0.13173653 | J68: 0 | K68: 0.5988024 | L68: 100
C69: 63 | D69: 4 | E69: 3 | F69: 0.05952381 | G69: 0.041666667 | H69: 0.083333333 | I69: 0.81547619 | J69: 0 | K69: 0.81547619 | L69: 137
C70: 64 | D70: 1 | E70: 2 | F70: 0.29761905 | G70: 0.41071429 | H70: 0.22619048 | I70: 0.06547619 | J70: 0 | K70: 0.29761905 | L70: 50
C71: 65 | D71: 1 | E71: 4 | F71: 0.47305389 | G71: 0.065868263 | H71: 0.065868263 | I71: 0.39520958 | J71: 0 | K71: 0.47305389 | L71: 79
C72: 66 | D72: 2 | E72: 3 | F72: 0.10714286 | G72: 0.55357143 | H72: 0.19642857 | I72: 0.14285714 | J72: 0 | K72: 0.55357143 | L72: 93
C73: 67 | D73: 3 | E73: 2 4 | F73: 0.089285714 | G73: 0.26190476 | H73: 0.38690476 | I73: 0.26190476 | J73: 0 | K73: 0.38690476 | L73: 65
C74: 68 | D74: 3 | E74: 2 | F74: 0.041666667 | G74: 0.23809524 | H74: 0.64285714 | I74: 0.077380952 | J74: 0 | K74: 0.64285714 | L74: 108
C75: 69 | D75: 3 | E75: 2 | F75: 0.05988024 | G75: 0.2754491 | H75: 0.50299401 | I75: 0.16167665 | J75: 0 | K75: 0.50299401 | L75: 84
C76: 70 | D76: 1 | E76: 4 | F76: 0.69642857 | G76: 0.047619048 | H76: 0.035714286 | I76: 0.2202381 | J76: 0 | K76: 0.69642857 | L76: 117
C77: 71 | D77: 1 | E77: 2 | F77: 0.44642857 | G77: 0.33928571 | H77: 0.047619048 | I77: 0.16666667 | J77: 0 | K77: 0.44642857 | L77: 75
C78: 72 | D78: 1 | E78: 3 | F78: 0.48809524 | G78: 0.11309524 | H78: 0.26785714 | I78: 0.13095238 | J78: 0 | K78: 0.48809524 | L78: 82
C79: 73 | D79: 2 | E79: 1 | F79: 0.23353293 | G79: 0.52095808 | H79: 0.10778443 | I79: 0.13772455 | J79: 0 | K79: 0.52095808 | L79: 87
C80: 74 | D80: 1 | E80: 4 | F80: 0.64880952 | G80: 0.05952381 | H80: 0.10119048 | I80: 0.19047619 | J80: 0 | K80: 0.64880952 | L80: 109
C81: 75 | D81: 3 | E81: 2 | F81: 0.071856287 | G81: 0.29341317 | H81: 0.53293413 | I81: 0.10179641 | J81: 0 | K81: 0.53293413 | L81: 89
C82: 76 | D82: 4 | E82: 2 | F82: 0.065868263 | G82: 0.26347305 | H82: 0.095808383 | I82: 0.5748503 | J82: 0 | K82: 0.5748503 | L82: 96
C83: 77 | D83: 2 | E83: 1 | F83: 0.40718563 | G83: 0.45508982 | H83: 0.10778443 | I83: 0.02994012 | J83: 0 | K83: 0.45508982 | L83: 76
C84: 78 | D84: 3 | E84: 1 | F84: 0.4491018 | G84: 0.023952096 | H84: 0.44311377 | I84: 0.083832335 | J84: 0 | K84: 0.44311377 | L84: 74
C85: 79 | D85: 3 | E85: 2 | F85: 0.095808383 | G85: 0.23353293 | H85: 0.46706587 | I85: 0.20359281 | J85: 0 | K85: 0.46706587 | L85: 78
C86: 80 | D86: 4 | E86: 2 | F86: 0.083832335 | G86: 0.31137725 | H86: 0.25149701 | I86: 0.35329341 | J86: 0 | K86: 0.35329341 | L86: 59
B87: 형사 소송법 | C87: 81 | D87: 3 | E87: 4 | F87: 0.035928144 | G87: 0.035928144 | H87: 0.88023952 | I87: 0.047904192 | J87: 0 | K87: 0.88023952 | L87: 147
C88: 82 | D88: 4 | E88: 2 | F88: 0.036144578 | G88: 0.10843373 | H88: 0.072289157 | I88: 0.78313253 | J88: 0 | K88: 0.78313253 | L88: 130
C89: 83 | D89: 3 | E89: 4 | F89: 0.071856287 | G89: 0.14371257 | H89: 0.58083832 | I89: 0.20359281 | J89: 0 | K89: 0.58083832 | L89: 97
C90: 84 | D90: 3 | E90: 2 | F90: 0.14371257 | G90: 0.20958084 | H90: 0.50898204 | I90: 0.13772455 | J90: 0 | K90: 0.50898204 | L90: 85
C91: 85 | D91: 4 | E91: 3 | F91: 0.18562874 | G91: 0.10179641 | H91: 0.26946108 | I91: 0.44311377 | J91: 0 | K91: 0.44311377 | L91: 74
C92: 86 | D92: 4 | E92: 3 | F92: 0.071856287 | G92: 0.18562874 | H92: 0.38323353 | I92: 0.35928144 | J92: 0 | K92: 0.35928144 | L92: 60
C93: 87 | D93: 1 | E93: 3 | F93: 0.51497006 | G93: 0.17365269 | H93: 0.25149701 | I93: 0.05988024 | J93: 0 | K93: 0.51497006 | L93: 86
C94: 88 | D94: 3 | E94: 4 | F94: 0.048484848 | G94: 0.078787879 | H94: 0.78181818 | I94: 0.090909091 | J94: 0 | K94: 0.78181818 | L94: 129
C95: 89 | D95: 4 | E95: 1 | F95: 0.16766467 | G95: 0.16167665 | H95: 0.11976048 | I95: 0.5508982 | J95: 0 | K95: 0.5508982 | L95: 92
C96: 90 | D96: 3 | E96: 4 | F96: 0.065868263 | G96: 0.041916168 | H96: 0.63473054 | I96: 0.25748503 | J96: 0 | K96: 0.63473054 | L96: 106
C97: 91 | D97: 2 | E97: 3 | F97: 0.05988024 | G97: 0.58083832 | H97: 0.31137725 | I97: 0.047904192 | J97: 0 | K97: 0.58083832 | L97: 97
C98: 92 | D98: 4 | E98: 1 | F98: 0.17365269 | G98: 0.023952096 | H98: 0.10179641 | I98: 0.7005988 | J98: 0 | K98: 0.7005988 | L98: 117
C99: 93 | D99: 2 | E99: 1 | F99: 0.17964072 | G99: 0.61676647 | H99: 0.071856287 | I99: 0.13173653 | J99: 0 | K99: 0.61676647 | L99: 103
... C106: 100 | D106: 3 | E106: 1 | F106: 0.18562874 | G106: 0.16766467 | H106: 0.58682635 | I106: 0.05988024 | J106: 0 | K106: 0.58682635 | L106: 98

Sheet 9월 참수리 모의고사 (2)
A2: 10월 정기 모의고사
A4: 시험일자 | E4: 41570 | J4: 응시인원 | M4: 99명
A6: 응시 번호 | B6: 이름 | C6: 성별 | D6: 한국사 | E6: 영어 | F6: 형법 | G6: 형소법 | H6: 경찰학 | I6: 총점 | J6: 평균 | K6: 석차 | L6: 체력 | M6: 참수리관 등록가능 | N6: 참수리 장학생 | O6: 비고
A7: 12 | B7: 강혜란 | C7: =IF(S7=1,"남","여") -> 여 | D7: 100 | E7: 45 | F7: 80 | G7: 80 | H7: 50 | I7: 355 | J7: 71 | K7: 1 | M7: 등록가능 | N7: 참수리 | O7: ★전체1등★ | S7: 2 | V7: 1
A8: 135 | B8: 이현지 | C8: =IF(S8=1,"남","여") -> 여 | D8: 65 | E8: 50 | F8: 95 | G8: 85 | H8: 60 | I8: 355 | J8: 71 | K8: 1 | M8: 등록가능 | O8: ★여자1등★ | S8: 2 | V8: 2
A9: 19 | B9: 장현근 | C9: =IF(S9=1,"남","여") -> 남 | D9: 60 | E9: 45 | F9: 75 | G9: 90 | H9: 55 | I9: 325 | J9: 65 | K9: 5 | M9: 등록가능 | N9: 참수리 | S9: 1 | V9: 3
A10: 78 | B10: 공정원 | C10: =IF(S10=1,"남","여") -> 여 | D10: 70 | E10: 70 | F10: 75 | G10: 70 | H10: 35 | I10: 320 | J10: 64 | K10: 8 | M10: 등록가능 | N10: 참수리 | S10: 2 | V10: 4
A11: 82 | B11: 전송이 | C11: =IF(S11=1,"남","여") -> 여 | D11: 60 | E11: 20 | F11: 95 | G11: 70 | H11: 75 | I11: 320 | J11: 64 | K11: 8 | M11: 등록가능 | O11: 과락 | S11: 2 | V11: 5
A12: 24 | B12: 추민정 | C12: =IF(S12=1,"남","여") -> 여 | D12: 70 | E12: 40 | F12: 90 | G12: 75 | H12: 40 | I12: 315 | J12: 63 | K12: 11 | M12: 등록가능 | N12: 참수리 | S12: 2 | V12: 6
A13: 4 | B13: 권효상 | C13: =IF(S13=1,"남","여") -> 남 | D13: 55 | E13: 60 | F13: 75 | G13: 65 | H13: 50 | I13: 305 | J13: 61 | K13: 14 | M13: 등록가능 | N13: 참수리 | S13: 1 | V13: 7
A14: 13 | B14: 김희은 | C14: =IF(S14=1,"남","여") -> 여 | D14: 50 | E14: 70 | F14: 70 | G14: 70 | H14: 45 | I14: 305 | J14: 61 | K14: 14 | M14: 등록가능 | N14: 참수리 | S14: 2 | V14: 8
A15: 77 | B15: 정성희 | C15: =IF(S15=1,"남","여") -> 여 | D15: 55 | E15: 60 | F15: 75 | G15: 65 | H15: 45 | I15: 300 | J15: 60 | K15: 17 | M15: 등록가능 | N15: 참수리 | S15: 2 | V15: 9
A16: 31 | B16: 김민지 | C16: =IF(S16=1,"남","여") -> 여 | D16: 70 | E16: 45 | F16: 50 | G16: 80 | H16: 50 | I16: 295 | J16: 59 | K16: 20 | M16: 등록가능 | N16: 참수리 | S16: 2 | V16: 10
A17: 7 | B17: 최춘기 | C17: =IF(S17=1,"남","여") -> 남 | D17: 60 | E17: 35 | F17: 60 | G17: 65 | H17: 65 | I17: 285 | J17: 57 | K17: 21 | M17: 등록가능 | N17: 참수리 | O17: 과락 | S17: 1 | V17: 11
A18: 108 | B18: 황희준 | C18: =IF(S18=1,"남","여") -> 남 | D18: 65 | E18: 35 | F18: 65 | G18: 70 | H18: 30 | I18: 265 | J18: 53 | K18: 28 | M18: 등록가능 | O18: 과락 | S18: 1 | V18: 12
A19: 8 | B19: 정유석 | C19: =IF(S19=1,"남","여") -> 남 | D19: 45 | E19: 40 | F19: 70 | G19: 60 | H19: 45 | I19: 260 | J19: 52 | K19: 29 | M19: 등록가능 | N19: 참수리 | S19: 1 | V19: 13
A20: 28 | B20: 문재형 | C20: =IF(S20=1,"남","여") -> 남 | D20: 55 | E20: 20 | F20: 55 | G20: 70 | H20: 55 | I20: 255 | J20: 51 | K20: 30 | M20: 등록가능 | N20: 참수리 | O20: 과락 | S20: 1 | V20: 14
A21: 15 | B21: 배영민 | C21: =IF(S21=1,"남","여") -> 남 | D21: 60 | E21: 35 | F21: 60 | G21: 55 | H21: 35 | I21: 245 | J21: 49 | K21: 32 | M21: 등록가능 | N21: 참수리 | O21: 과락 | S21: 1 | V21: 15
A22: 26 | B22: 김성애 | C22: =IF(S22=1,"남","여") -> 여 | D22: 50 | E22: 55 | F22: 55 | G22: 70 | H22: 10 | I22: 240 | J22: 48 | K22: 37 | M22: 등록가능 | N22: 참수리 | S22: 2 | V22: 16
A23: 14 | B23: 최용훈 | C23: =IF(S23=1,"남","여") -> 남 | D23: 55 | E23: 30 | F23: 55 | G23: 60 | H23: 35 | I23: 235 | J23: 47 | K23: 39 | M23: 등록가능 | N23: 참수리 | O23: 과락 | S23: 1 | V23: 17
A24: 27 | B24: 황예슬 | C24: =IF(S24=1,"남","여") -> 여 | D24: 25 | E24: 55 | F24: 45 | G24: 50 | H24: 50 | I24: 225 | J24: 45 | K24: 45 | N24: 참수리 | O24: 과락 | S24: 2 | V24: 18
A25: 30 | B25: 백주희 | C25: =IF(S25=1,"남","여") -> 여 | D25: 25 | E25: 55 | F25: 45 | G25: 50 | H25: 50 | I25: 225 | J25: 45 | K25: 45 | N25: 참수리 | O25: 과락 | S25: 2 | V25: 19
A26: 136 | B26: 조혜진 | C26: =IF(S26=1,"남","여") -> 여 | D26: 30 | E26: 40 | F26: 35 | G26: 55 | H26: 60 | I26: 220 | J26: 44 | K26: 48 | O26: 과락 | S26: 2 | V26: 20
A27: 72 | B27: 정한혁 | C27: =IF(S27=1,"남","여") -> 남 | D27: 35 | E27: 55 | F27: 40 | G27: 45 | H27: 40 | I27: 215 | J27: 43 | K27: 52 | N27: 참수리 | O27: 과락 | S27: 1 | V27: 21
A28: 111 | B28: 송현우 | C28: =IF(S28=1,"남","여") -> 남 | D28: 45 | E28: 50 | F28: 40 | G28: 40 | H28: 20 | I28: 195 | J28: 39 | K28: 64 | O28: 과락 | S28: 1 | V28: 22
B29: 김진성

Sheet 참수리 5월
A1: 5월 참수리 성적
A3: 시험일자 | F3: 41418
A5: 성명 | C5: 응시 번호 | D5: 국사 | E5: 영어 | F5: 형법 | G5: 형소법 | H5: 경찰학 | I5: 총점 | J5: 평균 | K5: 석차 | L5: 전월대비 점수 | M5: 참수리 등록여부 | O5: 비고
A6: 00주 | B6: 여 | C6: 44 | D6: 90 | E6: 65 | F6: 90 | G6: 85 | H6: 90 | I6: 420 | J6: 84 | K6: 1 | L6: ㅡ | M6: 등록가능 | N6: 재등록가능 | O6: 2관등록
A7: 00현 | B7: 남 | C7: 82 | D7: 100 | E7: 85 | F7: 85 | G7: 70 | H7: 70 | I7: 410 | J7: 82 | K7: 2 | L7: 1등↑ | M7: 등록가능 | N7: 재등록가능 | O7: 5만원
A8: 00승 | B8: 남 | C8: 57 | D8: 90 | E8: 50 | F8: 95 | G8: 80 | H8: 85 | I8: 400 | J8: 80 | K8: 3 | L8: 28등↑ | M8: 등록가능 | N8: 재등록가능 | O8: 5만원
A9: 00주 | B9: 남 | C9: 92 | D9: 85 | E9: 75 | F9: 85 | G9: 85 | H9: 60 | I9: 390 | J9: 78 | K9: 4 | L9: ㅡ | M9: 등록가능 | N9: 재등록가능 | O9: 3만원
A10: 00준 | B10: 남 | C10: 1 | D10: 70 | E10: 70 | F10: 95 | G10: 85 | H10: 65 | I10: 385 | J10: 77 | K10: 6 | L10: 2등↑ | M10: 등록가능 | N10: 재등록가능 | O10: 3만원
A11: 00현 | B11: 남 | C11: 39 | D11: 70 | E11: 80 | F11: 90 | G11: 70 | H11: 75 | I11: 385 | J11: 77 | K11: 6 | L11: 1등↑ | M11: 등록가능 | N11: 재등록가능 | O11: 3만원
A12: 00현 | B12: 남 | C12: 50 | D12: 70 | E12: 40 | F12: 95 | G12: 95 | H12: 85 | I12: 385 | J12: 77 | K12: 6 | L12: ㅡ | M12: 등록가능 | N12: 재등록가능 | O12: 3만원
A13: 00나 | B13: 여 | C13: 54 | D13: 85 | E13: 50 | F13: 100 | G13: 75 | H13: 75 | I13: 385 | J13: 77 | K13: 6 | L13: 4등↑ | M13: 등록가능 | N13: 재등록가능 | O13: 3만원
A14: 00열 | B14: 남 | C14: 170 | D14: 85 | E14: 65 | F14: 85 | G14: 65 | H14: 80 | I14: 380 | J14: 76 | K14: 11 | L14: 7등↑ | M14: 등록가능 | N14: 재등록가능 | O14: 1만원
A15: 00상 | B15: 남 | C15: 192 | D15: 80 | E15: 65 | F15: 85 | G15: 90 | H15: 60 | I15: 380 | J15: 76 | K15: 11 | L15: 7등↑ | M15: 등록가능 | N15: 재등록가능 | O15: 2관등록
A16: 00규 | B16: 남 | C16: 46 | D16: 70 | E16: 80 | F16: 80 | G16: 65 | H16: 75 | I16: 370 | J16: 74 | K16: 17 | L16: 26등↑ | M16: 등록가능 | N16: 재등록가능 | O16: 1만원
A17: 00재 | B17: 남 | C17: 9 | D17: 75 | E17: 70 | F17: 65 | G17: 75 | H17: 75 | I17: 360 | J17: 72 | K17: 22 | L17: 1등↑ | M17: 등록가능 | N17: 재등록가능 | O17: 1만원
... A19: 00석 | B19: 남 | C19: 101 | D19: 50 | E19: 55 | F19: 95 | G19: 85 | H19: 75 | I19: 360 | J19: 72 | K19: 22 | L19: 8등↓ | M19: 등록가능 | N19: 재등록가능 | O19: 2관등록
A20: 00슬 | B20: 여 | C20: 3 | D20: 60 | E20: 75 | F20: 80 | G20: 75 | H20: 65 | I20: 355 | J20: 71 | K20: 25 | L20: 32등↑ | M20: 등록가능 | N20: 재등록가능
A21: 00형 | B21: 남 | C21: 35 | D21: 65 | E21: 70 | F21: 85 | G21: 80 | H21: 55 | I21: 355 | J21: 71 | K21: 25 | L21: 3등↓ | M21: 등록가능 | N21: 재등록가능
A22: 00희 | B22: 여 | C22: 34 | D22: 60 | E22: 65 | F22: 80 | G22: 70 | H22: 70 | I22: 345 | J22: 69 | K22: 30 | L22: 4등↓ | M22: 등록가능 | N22: 재등록가능
A23: 00석 | B23: 남 | C23: 37 | D23: 60 | E23: 60 | F23: 95 | G23: 60 | H23: 70 | I23: 345 | J23: 69 | K23: 30 | L23: 8등↑ | M23: 등록가능 | N23: 재등록가능
A24: 00희 | B24: 여 | C24: 86 | D24: 80 | E24: 60 | F24: 60 | G24: 75 | H24: 70 | I24: 345 | J24: 69 | K24: 30 | L24: 18등↑ | M24: 등록가능 | N24: 재등록가능
A25: 00욱 | B25: 남 | C25: 127 | D25: 65 | E25: 60 | F25: 85 | G25: 80 | H25: 55 | I25: 345 | J25: 69 | K25: 30 | L25: 20등↓ | M25: 등록가능 | N25: 재등록가능
A26: 00진 | B26: 여 | C26: 4 | D26: 55 | E26: 65 | F26: 80 | G26: 80 | H26: 60 | I26: 340 | J26: 68 | K26: 35 | L26: 11등↓ | M26: 등록가능 | N26: 재등록가능
A27: 00인 | B27: 여 | C27: 51 | D27: 85 | E27: 45 | F27: 75 | G27: 80 | H27: 55 | I27: 340 | J27: 68 | K27: 35 | L27: 13등↑ | M27: 등록가능 | N27: 재등록가능
A28: 00성 | B28: 남 | C28: 206 | D28: 65 | E28: 60 | F28: 85 | G28: 60 | H28: 65 | I28: 335 | J28: 67 | K28: 38 | L28: 15등↓ | M28: 등록가능 | N28: 재등록가능
A29: 00정 | B29: 여 | C29: 83 | D29: 50 | E29: 70 | F29: 90 | G29: 80 | H29: 35 | I29: 325 | J29: 65 | K29: 42 | L29: 1등↑ | M29: 등록가능 | N29: 재등록가능
A30: 00이 | B30: 여 | C30: 126 | D30: 65 | E30: 45 | F30: 80 | G30: 70 | H30: 60 | I30: 320 | J30: 64 | K30: 45 | L30: 10등↓ | M30: 등록가능 | N30: 필수상담
A31: 00성 | B31: 남 | C31: 73 | D31: 60 | E31: 45 | F31: 75 | G31: 65 | H31: 65 | I31: 310 | J31: 62 | K31: 49 | L31: 12등↑ | M31: 등록가능 | N31: 필수상담
A32: 00근 | B32: 남 | C32: 7 | D32: 55 | E32: 35 | F32: 65 | G32: 80 | H32: 50 | I32: 285 | J32: 57 | K32: 62 | L32: 27등↓ | M32: 경고 | N32: 필수상담 | O32: 과락
A33: 00진 | B33: 여 | C33: 147 | D33: 75 | E33: 40 | F33: 30 | G33: 75 | H33: 60 | I33: 280 | J33: 56 | K33: 65 | L33: 17등↓ | M33: 경고 | N33: 필수상담 | O33: 과락
A34: 00현 | B34: 남 | C34: 15 | D34: 40 | E34: 45 | F34: 70 | G34: 60 | H34: 60 | I34: 275 | J34: 55 | K34: 69 | L34: ㅡ | M34: 경고 | N34: 필수상담
A35: 00혁 | B35: 남 | C35: 171 | D35: 45 | E35: 50 | F35: 55 | G35: 75 | H35: 50 | I35: 275 | J35: 55 | K35: 69 | L35: 15등↑ | M35: 경고 | N35: 필수상담
A36: 00준 | B36: 남 | C36: 11 | D36: 50 | E36: 30 | F36: 85 | G36: 50 | H36: 55 | I36: 270 | J36: 54 | K36: 72 | L36: 20등↓ | M36: 경고 | N36: 필수상담 | O36: 과락
A37: 00철 | B37: 남 | C37: 40 | D37: 45 | E37: 55 | F37: 55 | G37: 60 | H37: 45 | I37: 260 | J37: 52 | K37: 79 | L37: 16등↓ | M37: 경고 | N37: 필수상담
A38: 00희 | B38: 남 | C38: 13 | D38: 50 | E38: 45 | F38: 50 | G38: 50 | H38: 55 | I38: 250 | J38: 50 | K38: 86 | L38: 42등↑ | M38: 경고 | N38: 필수상담
A39: 00기 | B39: 남 | C39: 14 | D39: 40 | E39: 25 | F39: 50 | G39: 65 | H39: 40 | I39: 220 | J39: 44 | K39: 116 | L39: 35등↑ | M39: 경고 | N39: 필수상담 | O39: 과락
A40: 00훈 | B40: 남 | C40: 8 | D40: 35 | E40: 20 | F40: 55 | G40: 60 | H40: 45 | I40: 215 | J40: 43 | K40: 123 | L40: 39등↓ | M40: 경고 | N40: 필수상담 | O40: 과락
A41: 00경 | B41: 여 | C41: 75 | D41: 65 | E41: 25 | F41: 55 | G41: 25 | H41: 35 | I41: 205 | J41: 41 | K41: 133 | L41: ㅡ | M41: 경고 | N41: 필수상담 | O41: 과락
A42: 김성용 | B42: 남 | C42: 부산 1차 필기 합격자 | L42: 시험 면제
A43: 오경환 | B43: 남 | C43: 101단 필기 합격자 | L43: 시험 면제
A44: 백종수 | B44: 남 | C44: 101단 필기 합격자 | L44: 시험 면제
A45: 정지원 | B45: 여 | C45: 서울 1차 필기 합격자 | L45: 시험 면제
A46: 심수한 | B46: 남 | C46: 서울 1차 필기 합격자 | L46: 시험 면제
A47: 이준홍 | B47: 남 | C47: 경남 1차 필기 합격자 | L47: 시험 면제
A49: * 장학금에는 출결점수가 반영되지 않았으며, 출결점수에 따라 변동될 수 있습니다.
A50: * 참수리2관등록생의 경우 6월부터 성적장학금 혜택이 적용됩니다.

Sheet 참수리
A1: 참수리 | G1: M.C 참수리
B2: 이름
A3: 1 | B3: 박은주 | G3: 2 | H3: 김부선
A4: 2 | B4: 김부선 | G4: 7 | H4: 이소현
A5: 3 | B5: 조안나 | G5: 9 | H5: 김태준
A6: 4 | B6: 임소윤 | G6: 11 | H6: 양혜욱
A7: 5 | B7: 이소현 | G7: 13 | H7: 정수정
A8: 6 | B8: 강지윤 | G8: 15 | H8: 박수옥
A9: 7 | B9: 강준웅 | G9: 17 | H9: 김세영
A10: 8 | B10: 정영민 | G10: 18 | H10: 문수형
A11: 9 | B11: 김태준 | G11: 21 | H11: 김창현
A12: 10 | B12: 박태홍 | G12: 22 | H12: 차승진
A13: 11 | B13: 양혜욱 | G13: 24 | H13: 최지영
A14: 12 | B14: 배기태 | G14: 25 | H14: 이지영
... A31: 29 | B31: 서민지 | G31: 50 | H31: 장수영
A32: 30 | G32: 51 | H32: 정서진
A33: 31 | B33: 황태영 | G33: 54 | H33: 이희원
A34: 32 | B34: 강성엽 | G34: 55 | H34: 구슬기
A35: 33 | B35: 강민기 | G35: 58 | H35: 조준범
A36: 34 | B36: 조혜영 | G36: 59 | H36: 신종현
A37: 35 | B37: 황수민 | G37: 61 | H37: 전유현
A38: 36 | B38: 최준 | G38: 63 | H38: 김지원
A39: 37 | B39: 나운철 | G39: 64 | H39: 변지호
A40: 38 | B40: 김정은 | G40: 65 | H40: 홍석준
A41: 39 | B41: 구슬기 | G41: 66 | H41: 강창훈
A42: 40
A43: 41 | B43: 김현빈
A44: 42 | B44: 민준영
A45: 43 | B45: 윤창수
A46: 44 | B46: 박현우
A47: 45 | B47: 이지은
A48: 46 | B48: 최성림
A49: 47 | B49: 이준서
A50: 48 | B50: 김수임
A51: 49 | B51: 한도연
A52: 50 | B52: 장수영
A53: 51 | B53: 정서진
A54: 52 | B54: 곽정환
... A73: 71 | B73: 신종현
A74: 2관
A75: 113 | B75: 이지수
A76: 114 | B76: 이영희
A77: 106 | B77: 정양현
A78: 98 | B78: 하지은
A79: 115 | B79: 김채린

Sheet mc
A1: M.C 참수리
B2: 이름
A3: 1 | B3: 김부선
A4: 2 | B4: 이소현
A5: 3 | B5: 김태준
A6: 4 | B6: 양혜욱
A7: 5 | B7: 정수정
A8: 6 | B8: 박수옥
A9: 7 | B9: 김세영
A10: 8 | B10: 문수형
A11: 9 | B11: 김창현
A12: 10 | B12: 차승진
A13: 11 | B13: 최지영
A14: 12 | B14: 이지영
... A108: 86 | B108: 하다솜

Sheet 체력테스트
A1: 체력 시험 확인표
A2: 응시번호 | B2: 이 름 | C2: 연락처 | D2: 성별 | E2: 악력 | F2: 팔꿈 | G2: 윗몸 | H2: 100m | I2: 1000m | J2: 악력 | K2: 팔꿈 | L2: 윗몸 | M2: 100m | N2: 1000m | O2: 종합 | P2: 응시
B3: 양식(남) | D3: 남 | E3: 57 | F3: 27 | J3: =IFERROR(VLOOKUP(E3,[2]점수표!$G$3:$H$12,2),0) -> 8 | K3: =IFERROR(VLOOKUP(F3,[2]점수표!$A$3:$B$12,2),0) -> 4 | L3: =IFERROR(VLOOKUP(G3,[2]점수표!$D$3:$E$12,2),0) -> 0 | M3: =IFERROR(VLOOKUP(H3,[3]점수표!$J$3:$K$12,2),0) -> 0 | N3: =IFERROR(VLOOKUP(I3,[3]점수표!$M$3:$N$12,2),0) -> 0 | O3: =IFERROR(SUM(J3:N3),"") -> 12
B4: 양식(여) | D4: 여
A41: 159 | O41: =SUM(J41:N41) -> 0 | P41: =COUNTA(G41,H41:K41)/5 -> 0
A42: 160 | O42: =SUM(J42:N42) -> 0 | P42: =COUNTA(G42,H42:K42)/5 -> 0
A43: 161 | O43: =SUM(J43:N43) -> 0 | P43: =COUNTA(G43,H43:K43)/5 -> 0
A44: 162 | O44: =SUM(J44:N44) -> 0 | P44: =COUNTA(G44,H44:K44)/5 -> 0
A45: 163 | O45: =SUM(J45:N45) -> 0 | P45: =COUNTA(G45,H45:K45)/5 -> 0
A46: 164 | O46: =SUM(J46:N46) -> 0 | P46: =COUNTA(G46,H46:K46)/5 -> 0
A47: 165 | O47: =SUM(J47:N47) -> 0 | P47: =COUNTA(G47,H47:K47)/5 -> 0
A48: 166 | O48: =SUM(J48:N48) -> 0 | P48: =COUNTA(G48,H48:K48)/5 -> 0
A49: 167 | O49: =SUM(J49:N49) -> 0 | P49: =COUNTA(G49,H49:K49)/5 -> 0
A50: 168 | O50: =SUM(J50:N50) -> 0 | P50: =COUNTA(G50,H50:K50)/5 -> 0
A51: 169 | O51: =SUM(J51:N51) -> 0 | P51: =COUNTA(G51,H51:K51)/5 -> 0
A52: 170 | O52: =SUM(J52:N52) -> 0 | P52: =COUNTA(G52,H52:K52)/5 -> 0
... A82: 200 | O82: =SUM(J82:N82) -> 0 | P82: =COUNTA(G82,H82:K82)/5 -> 0
H83: =COUNTIF(H3:H82, 0) -> 0 | I83: =COUNTIF(I3:I82, 0) -> 0

Sheet 점수표
A1: 남자
A2: 팔꿈 | D2: 윗몸 | G2: 악력 | J2: 100m | M2: 1000m
A3: 1 | B3: 1 | D3: 1 | E3: 1 | G3: 1 | H3: 1 | J3: 10 | K3: 10 | M3: 100 | N3: 10
A4: 13 | B4: 2 | D4: 22 | E4: 2 | G4: 38 | H4: 2 | J4: 13.1 | K4: 9 | M4: 231 | N4: 9
A5: 18 | B5: 3 | D5: 25 | E5: 3 | G5: 42 | H5: 3 | J5: 13.6 | K5: 8 | M5: 237 | N5: 8
A6: 23 | B6: 4 | D6: 31 | E6: 4 | G6: 45 | H6: 4 | J6: 14.1 | K6: 7 | M6: 243 | N6: 7
A7: 28 | B7: 5 | D7: 36 | E7: 5 | G7: 48 | H7: 5 | J7: 14.6 | K7: 6 | M7: 249 | N7: 6
A8: 34 | B8: 6 | D8: 40 | E8: 6 | G8: 51 | H8: 6 | J8: 15.1 | K8: 5 | M8: 255 | N8: 5
A9: 40 | B9: 7 | D9: 46 | E9: 7 | G9: 54 | H9: 7 | J9: 15.6 | K9: 4 | M9: 261 | N9: 4
A10: 46 | B10: 8 | D10: 51 | E10: 8 | G10: 56 | H10: 8 | J10: 16.1 | K10: 3 | M10: 267 | N10: 3
A11: 52 | B11: 9 | D11: 55 | E11: 9 | G11: 59 | H11: 9 | J11: 16.6 | K11: 2 | M11: 273 | N11: 2
A12: 58 | B12: 10 | D12: 58 | E12: 10 | G12: 61 | H12: 10 | J12: 17 | K12: 1 | M12: 280 | N12: 1
A16: 여자
A17: 팔꿈 | D17: 윗몸 | G17: 악력 | J17: 100m | M17: 1000m
A18: 1 | B18: 1 | D18: 1 | E18: 1 | G18: 1 | H18: 1 | J18: 10 | K18: 10 | M18: 100 | N18: 10
A19: 11 | B19: 2 | D19: 13 | E19: 2 | G19: 22 | H19: 2 | J19: 15.6 | K19: 9 | M19: 291 | N19: 9
A20: 16 | B20: 3 | D20: 19 | E20: 3 | G20: 25 | H20: 3 | J20: 16.4 | K20: 8 | M20: 298 | N20: 8
A21: 21 | B21: 4 | D21: 25 | E21: 4 | G21: 27 | H21: 4 | J21: 17.2 | K21: 7 | M21: 305 | N21: 7
A22: 26 | B22: 5 | D22: 30 | E22: 5 | G22: 29 | H22: 5 | J22: 18 | K22: 6 | M22: 312 | N22: 6
A23: 30 | B23: 6 | D23: 35 | E23: 6 | G23: 31 | H23: 6 | J23: 18.8 | K23: 5 | M23: 319 | N23: 5
A24: 35 | B24: 7 | D24: 40 | E24: 7 | G24: 34 | H24: 7 | J24: 19.5 | K24: 4 | M24: 326 | N24: 4
A25: 40 | B25: 8 | D25: 45 | E25: 8 | G25: 36 | H25: 8 | J25: 20.2 | K25: 3 | M25: 333 | N25: 3
A26: 45 | B26: 9 | D26: 50 | E26: 9 | G26: 38 | H26: 9 | J26: 20.9 | K26: 2 | M26: 340 | N26: 2
A27: 50 | B27: 10 | D27: 55 | E27: 10 | G27: 40 | H27: 10 | J27: 21.6 | K27: 1 | M27: 348 | N27: 1

Sheet Sheet1

Sheet Sheet2
