Workbook

Sheet 1주차
B2: 5~6월 아침 모의고사 성적현황
B3: 시험 1주차 : 5월 13일 ~ 17일
B4: 수험 | C4: 구분 | E4: 성별 | F4: 13 | G4: 14 | H4: 15 | I4: 16 | J4: 17 | K4: 주간성적 | M4: 모의고사 참여율 | N4: 비고
A5: 수험 번호 | B5: 번호 | C5: 입문 | D5: 심화 | F5: 한국사 형법 | G5: 형소법 한국사 | H5: 경찰학 형소법 | I5: 형법 경찰학 | J5: 영어 | K5: 전체 총점 | L5: 등수
B6: 500 | C6: 0 | E6: 남 | K6: =SUM(F6,G6,H6,I6,J6) -> 0 | L6: =RANK(K6,K$6:K$126) -> 94 | M6: =COUNTA(F6,G6,H6,I6,J6)/5 -> 0
B7: 501 | C7: 0 | E7: 남 | F7: 10 | G7: 9 | I7: 4 | J7: 5 | K7: =SUM(F7,G7,H7,I7,J7) -> 28 | L7: =RANK(K7,K$6:K$126) -> 57 | M7: =COUNTA(F7,G7,H7,I7,J7)/5 -> 0.8
B8: 502 | C8: 0 | E8: 남 | K8: =SUM(F8,G8,H8,I8,J8) -> 0 | L8: =RANK(K8,K$6:K$126) -> 94 | M8: =COUNTA(F8,G8,H8,I8,J8)/5 -> 0
B9: 503 | C9: 0 | E9: 남 | K9: =SUM(F9,G9,H9,I9,J9) -> 0 | L9: =RANK(K9,K$6:K$126) -> 94 | M9: =COUNTA(F9,G9,H9,I9,J9)/5 -> 0
B10: 504 | C10: 0 | E10: 남 | F10: 8 | G10: 6 | H10: 9 | I10: 3 | K10: =SUM(F10,G10,H10,I10,J10) -> 26 | L10: =RANK(K10,K$6:K$126) -> 60 | M10: =COUNTA(F10,G10,H10,I10,J10)/5 -> 0.8
B11: 505 | C11: 0 | E11: 남 | K11: =SUM(F11,G11,H11,I11,J11) -> 0 | L11: =RANK(K11,K$6:K$126) -> 94 | M11: =COUNTA(F11,G11,H11,I11,J11)/5 -> 0
B12: 506 | C12: 0 | E12: 남 | K12: =SUM(F12,G12,H12,I12,J12) -> 0 | L12: =RANK(K12,K$6:K$126) -> 94 | M12: =COUNTA(F12,G12,H12,I12,J12)/5 -> 0
B13: 508 | C13: 0 | E13: 남 | K13: =SUM(F13,G13,H13,I13,J13) -> 0 | L13: =RANK(K13,K$6:K$126) -> 94 | M13: =COUNTA(F13,G13,H13,I13,J13)/5 -> 0
B14: 509 | C14: 0 | E14: 남 | K14: =SUM(F14,G14,H14,I14,J14) -> 0 | L14: =RANK(K14,K$6:K$126) -> 94 | M14: =COUNTA(F14,G14,H14,I14,J14)/5 -> 0
B15: 510 | C15: 0 | E15: 여 | F15: 10 | G15: 13 | H15: 10 | I15: 7 | K15: =SUM(F15,G15,H15,I15,J15) -> 40 | L15: =RANK(K15,K$6:K$126) -> 29 | M15: =COUNTA(F15,G15,H15,I15,J15)/5 -> 0.8
B16: 511 | C16: 0 | E16: 여 | F16: 8 | G16: 12 | H16: 11 | I16: 4 | J16: 11 | K16: =SUM(F16,G16,H16,I16,J16) -> 46 | L16: =RANK(K16,K$6:K$126) -> 19 | M16: =COUNTA(F16,G16,H16,I16,J16)/5 -> 1
B17: 512 | C17: 0 | E17: 여 | F17: 12 | G17: 11 | H17: 14 | I17: 6 | J17: 7 | K17: =SUM(F17,G17,H17,I17,J17) -> 50 | L17: =RANK(K17,K$6:K$126) -> 9 | M17: =COUNTA(F17,G17,H17,I17,J17)/5 -> 1
B18: 513 | C18: 0 | E18: 남 | K18: =SUM(F18,G18,H18,I18,J18) -> 0 | L18: =RANK(K18,K$6:K$126) -> 94 | M18: =COUNTA(F18,G18,H18,I18,J18)/5 -> 0
B19: 515 | C19: 0 | E19: 남 | K19: =SUM(F19,G19,H19,I19,J19) -> 0 | L19: =RANK(K19,K$6:K$126) -> 94 | M19: =COUNTA(F19,G19,H19,I19,J19)/5 -> 0
B20: 516 | C20: 0 | E20: 남 | F20: 6 | G20: 7 | I20: 4 | J20: 5 | K20: =SUM(F20,G20,H20,I20,J20) -> 22 | L20: =RANK(K20,K$6:K$126) -> 70 | M20: =COUNTA(F20,G20,H20,I20,J20)/5 -> 0.8
B21: 517 | C21: 0 | E21: 남 | F21: 10 | G21: 9 | H21: 8 | K21: =SUM(F21,G21,H21,I21,J21) -> 27 | L21: =RANK(K21,K$6:K$126) -> 58 | M21: =COUNTA(F21,G21,H21,I21,J21)/5 -> 0.6
B22: 518 | C22: 0 | E22: 여 | F22: 5 | G22: 11 | H22: 5 | I22: 5 | J22: 6 | K22: =SUM(F22,G22,H22,I22,J22) -> 32 | L22: =RANK(K22,K$6:K$126) -> 47 | M22: =COUNTA(F22,G22,H22,I22,J22)/5 -> 1
B23: 519 | C23: 0 | E23: 여 | F23: 8 | K23: =SUM(F23,G23,H23,I23,J23) -> 8 | L23: =RANK(K23,K$6:K$126) -> 86 | M23: =COUNTA(F23,G23,H23,I23,J23)/5 -> 0.2
B24: 520 | C24: 0 | E24: 여 | K24: =SUM(F24,G24,H24,I24,J24) -> 0 | L24: =RANK(K24,K$6:K$126) -> 94 | M24: =COUNTA(F24,G24,H24,I24,J24)/5 -> 0
B25: 521 | C25: 0 | E25: 남 | K25: =SUM(F25,G25,H25,I25,J25) -> 0 | L25: =RANK(K25,K$6:K$126) -> 94 | M25: =COUNTA(F25,G25,H25,I25,J25)/5 -> 0
B26: 522 | C26: 0 | E26: 남 | K26: =SUM(F26,G26,H26,I26,J26) -> 0 | L26: =RANK(K26,K$6:K$126) -> 94 | M26: =COUNTA(F26,G26,H26,I26,J26)/5 -> 0
B27: 523 | C27: 0 | E27: 남 | F27: 9 | G27: 11 | H27: 11 | I27: 7 | J27: 7 | K27: =SUM(F27,G27,H27,I27,J27) -> 45 | L27: =RANK(K27,K$6:K$126) -> 21 | M27: =COUNTA(F27,G27,H27,I27,J27)/5 -> 1
B28: 524 | D28: 0 | E28: 남 | F28: 11 | G28: 9 | H28: 13 | I28: 13 | J28: 8 | K28: =SUM(F28,G28,H28,I28,J28) -> 54 | L28: =RANK(K28,K$6:K$126) -> 4 | M28: =COUNTA(F28,G28,H28,I28,J28)/5 -> 1
B29: 525 | C29: 0 | E29: 남 | K29: =SUM(F29,G29,H29,I29,J29) -> 0 | L29: =RANK(K29,K$6:K$126) -> 94 | M29: =COUNTA(F29,G29,H29,I29,J29)/5 -> 0
B30: 526 | C30: 0 | E30: 남 | K30: =SUM(F30,G30,H30,I30,J30) -> 0 | L30: =RANK(K30,K$6:K$126) -> 94 | M30: =COUNTA(F30,G30,H30,I30,J30)/5 -> 0
B31: 527 | C31: 0 | E31: 남 | F31: 7 | G31: 12 | H31: 11 | I31: 4 | J31: 5 | K31: =SUM(F31,G31,H31,I31,J31) -> 39 | L31: =RANK(K31,K$6:K$126) -> 31 | M31: =COUNTA(F31,G31,H31,I31,J31)/5 -> 1
B32: 528 | C32: 0 | E32: 남 | F32: 7 | G32: 11 | H32: 14 | J32: 6 | K32: =SUM(F32,G32,H32,I32,J32) -> 38 | L32: =RANK(K32,K$6:K$126) -> 37 | M32: =COUNTA(F32,G32,H32,I32,J32)/5 -> 0.8
B33: 529 | C33: 0 | E33: 여 | K33: =SUM(F33,G33,H33,I33,J33) -> 0 | L33: =RANK(K33,K$6:K$126) -> 94 | M33: =COUNTA(F33,G33,H33,I33,J33)/5 -> 0
B34: 530 | C34: 0 | E34: 남 | I34: 2 | K34: =SUM(F34,G34,H34,I34,J34) -> 2 | L34: =RANK(K34,K$6:K$126) -> 92 | M34: =COUNTA(F34,G34,H34,I34,J34)/5 -> 0.2
B35: 531 | C35: 0 | E35: 남 | K35: =SUM(F35,G35,H35,I35,J35) -> 0 | L35: =RANK(K35,K$6:K$126) -> 94 | M35: =COUNTA(F35,G35,H35,I35,J35)/5 -> 0
B36: 532 | C36: 0 | E36: 여 | K36: =SUM(F36,G36,H36,I36,J36) -> 0 | L36: =RANK(K36,K$6:K$126) -> 94 | M36: =COUNTA(F36,G36,H36,I36,J36)/5 -> 0
B37: 533 | C37: 0 | E37: 여 | K37: =SUM(F37,G37,H37,I37,J37) -> 0 | L37: =RANK(K37,K$6:K$126) -> 94 | M37: =COUNTA(F37,G37,H37,I37,J37)/5 -> 0
B38: 534 | C38: 0 | E38: 남 | G38: 11 | H38: 9 | I38: 5 | J38: 5 | K38: =SUM(F38,G38,H38,I38,J38) -> 30 | L38: =RANK(K38,K$6:K$126) -> 53 | M38: =COUNTA(F38,G38,H38,I38,J38)/5 -> 0.8
B39: 535 | C39: 0 | E39: 남 | K39: =SUM(F39,G39,H39,I39,J39) -> 0 | L39: =RANK(K39,K$6:K$126) -> 94 | M39: =COUNTA(F39,G39,H39,I39,J39)/5 -> 0
B40: 536 | C40: 0 | E40: 남 | F40: 10 | G40: 12 | H40: 12 | I40: 8 | J40: 7 | K40: =SUM(F40,G40,H40,I40,J40) -> 49 | L40: =RANK(K40,K$6:K$126) -> 11 | M40: =COUNTA(F40,G40,H40,I40,J40)/5 -> 1
B41: 537 | C41: 0 | E41: 여 | F41: 6 | G41: 10 | H41: 10 | I41: 8 | J41: 4 | K41: =SUM(F41,G41,H41,I41,J41) -> 38 | L41: =RANK(K41,K$6:K$126) -> 37 | M41: =COUNTA(F41,G41,H41,I41,J41)/5 -> 1
B42: 538 | C42: 0 | E42: 여 | F42: 12 | G42: 8 | I42: 6 | J42: 6 | K42: =SUM(F42,G42,H42,I42,J42) -> 32 | L42: =RANK(K42,K$6:K$126) -> 47 | M42: =COUNTA(F42,G42,H42,I42,J42)/5 -> 0.8
B43: 540 | C43: 0 | E43: 남 | F43: 2 | G43: 8 | H43: 5 | I43: 3 | K43: =SUM(F43,G43,H43,I43,J43) -> 18 | L43: =RANK(K43,K$6:K$126) -> 77 | M43: =COUNTA(F43,G43,H43,I43,J43)/5 -> 0.8
B44: 541 | C44: 0 | E44: 남 | K44: =SUM(F44,G44,H44,I44,J44) -> 0 | L44: =RANK(K44,K$6:K$126) -> 94 | M44: =COUNTA(F44,G44,H44,I44,J44)/5 -> 0
B45: 650 | C45: 0 | E45: 남 | K45: =SUM(F45,G45,H45,I45,J45) -> 0 | L45: =RANK(K45,K$6:K$126) -> 94 | M45: =COUNTA(F45,G45,H45,I45,J45)/5 -> 0
B46: 651 | D46: 0 | E46: 여 | F46: 8 | G46: 11 | H46: 10 | I46: 10 | J46: 10 | K46: =SUM(F46,G46,H46,I46,J46) -> 49 | L46: =RANK(K46,K$6:K$126) -> 11 | M46: =COUNTA(F46,G46,H46,I46,J46)/5 -> 1
B47: 652 | C47: 0 | E47: 여 | G47: 14 | H47: 14 | I47: 8 | J47: 13 | K47: =SUM(F47,G47,H47,I47,J47) -> 49 | L47: =RANK(K47,K$6:K$126) -> 11 | M47: =COUNTA(F47,G47,H47,I47,J47)/5 -> 0.8
B48: 653 | D48: 0 | E48: 여 | F48: 5 | G48: 3 | H48: 5 | I48: 5 | K48: =SUM(F48,G48,H48,I48,J48) -> 18 | L48: =RANK(K48,K$6:K$126) -> 77 | M48: =COUNTA(F48,G48,H48,I48,J48)/5 -> 0.8
B49: 654 | C49: 0 | E49: 여 | F49: 6 | G49: 8 | H49: 6 | I49: 1 | K49: =SUM(F49,G49,H49,I49,J49) -> 21 | L49: =RANK(K49,K$6:K$126) -> 72 | M49: =COUNTA(F49,G49,H49,I49,J49)/5 -> 0.8
B50: 655 | D50: 0 | E50: 여 | F50: 4 | G50: 8 | H50: 11 | J50: 6 | K50: =SUM(F50,G50,H50,I50,J50) -> 29 | L50: =RANK(K50,K$6:K$126) -> 54 | M50: =COUNTA(F50,G50,H50,I50,J50)/5 -> 0.8
B51: 656 | D51: 0 | E51: 여 | F51: 13 | G51: 8 | H51: 15 | I51: 12 | J51: 6 | K51: =SUM(F51,G51,H51,I51,J51) -> 54 | L51: =RANK(K51,K$6:K$126) -> 4 | M51: =COUNTA(F51,G51,H51,I51,J51)/5 -> 1
B52: 657 | C52: 0 | E52: 여 | F52: 9 | G52: 11 | H52: 10 | I52: 5 | K52: =SUM(F52,G52,H52,I52,J52) -> 35 | L52: =RANK(K52,K$6:K$126) -> 43 | M52: =COUNTA(F52,G52,H52,I52,J52)/5 -> 0.8
B53: 658 | D53: 0 | E53: 남 | F53: 2 | G53: 5 | H53: 8 | I53: 4 | J53: 2 | K53: =SUM(F53,G53,H53,I53,J53) -> 21 | L53: =RANK(K53,K$6:K$126) -> 72 | M53: =COUNTA(F53,G53,H53,I53,J53)/5 -> 1
B54: 659 | D54: 0 | E54: 남 | F54: 15 | G54: 11 | H54: 15 | I54: 15 | J54: 12 | K54: =SUM(F54,G54,H54,I54,J54) -> 68 | L54: =RANK(K54,K$6:K$126) -> 1 | M54: =COUNTA(F54,G54,H54,I54,J54)/5 -> 1
B55: 660 | D55: 0 | E55: 여 | F55: 9 | G55: 8 | H55: 8 | I55: 7 | K55: =SUM(F55,G55,H55,I55,J55) -> 32 | L55: =RANK(K55,K$6:K$126) -> 47 | M55: =COUNTA(F55,G55,H55,I55,J55)/5 -> 0.8
B56: 661 | D56: 0 | E56: 남 | F56: 5 | G56: 7 | H56: 14 | I56: 9 | J56: 5 | K56: =SUM(F56,G56,H56,I56,J56) -> 40 | L56: =RANK(K56,K$6:K$126) -> 29 | M56: =COUNTA(F56,G56,H56,I56,J56)/5 -> 1
B57: 662 | D57: 0 | E57: 여 | F57: 7 | G57: 4 | H57: 6 | I57: 6 | J57: 6 | K57: =SUM(F57,G57,H57,I57,J57) -> 29 | L57: =RANK(K57,K$6:K$126) -> 54 | M57: =COUNTA(F57,G57,H57,I57,J57)/5 -> 1
B58: 663 | D58: 0 | E58: 여 | G58: 4 | H58: 7 | I58: 2 | K58: =SUM(F58,G58,H58,I58,J58) -> 13 | L58: =RANK(K58,K$6:K$126) -> 83 | M58: =COUNTA(F58,G58,H58,I58,J58)/5 -> 0.6
B59: 664 | D59: 0 | E59: 남 | K59: =SUM(F59,G59,H59,I59,J59) -> 0 | L59: =RANK(K59,K$6:K$126) -> 94 | M59: =COUNTA(F59,G59,H59,I59,J59)/5 -> 0
B60: 665 | C60: 0 | E60: 남 | F60: 9 | G60: 14 | H60: 14 | I60: 6 | J60: 7 | K60: =SUM(F60,G60,H60,I60,J60) -> 50 | L60: =RANK(K60,K$6:K$126) -> 9 | M60: =COUNTA(F60,G60,H60,I60,J60)/5 -> 1
B61: 666 | D61: 0 | E61: 여 | F61: 1 | G61: 9 | H61: 13 | I61: 9 | K61: =SUM(F61,G61,H61,I61,J61) -> 32 | L61: =RANK(K61,K$6:K$126) -> 47 | M61: =COUNTA(F61,G61,H61,I61,J61)/5 -> 0.8
B62: 667 | D62: 0 | E62: 남 | F62: 6 | G62: 6 | H62: 12 | I62: 7 | J62: 4 | K62: =SUM(F62,G62,H62,I62,J62) -> 35 | L62: =RANK(K62,K$6:K$126) -> 43 | M62: =COUNTA(F62,G62,H62,I62,J62)/5 -> 1
B63: 668 | D63: 0 | E63: 남 | F63: 10 | G63: 10 | H63: 9 | I63: 5 | J63: 7 | K63: =SUM(F63,G63,H63,I63,J63) -> 41 | L63: =RANK(K63,K$6:K$126) -> 26 | M63: =COUNTA(F63,G63,H63,I63,J63)/5 -> 1
B64: 669 | D64: 0 | E64: 여 | F64: 10 | G64: 8 | H64: 14 | I64: 11 | J64: 9 | K64: =SUM(F64,G64,H64,I64,J64) -> 52 | L64: =RANK(K64,K$6:K$126) -> 7 | M64: =COUNTA(F64,G64,H64,I64,J64)/5 -> 1
B65: 670 | D65: 0 | E65: 남 | F65: 7 | G65: 6 | H65: 3 | I65: 9 | J65: 7 | K65: =SUM(F65,G65,H65,I65,J65) -> 32 | L65: =RANK(K65,K$6:K$126) -> 47 | M65: =COUNTA(F65,G65,H65,I65,J65)/5 -> 1
B66: 671 | D66: 0 | E66: 남 | F66: 12 | G66: 8 | H66: 15 | I66: 11 | J66: 8 | K66: =SUM(F66,G66,H66,I66,J66) -> 54 | L66: =RANK(K66,K$6:K$126) -> 4 | M66: =COUNTA(F66,G66,H66,I66,J66)/5 -> 1
B67: 672 | D67: 0 | E67: 남 | F67: 9 | H67: 11 | I67: 9 | K67: =SUM(F67,G67,H67,I67,J67) -> 29 | L67: =RANK(K67,K$6:K$126) -> 54 | M67: =COUNTA(F67,G67,H67,I67,J67)/5 -> 0.6
B68: 673 | D68: 0 | E68: 남 | F68: 14 | H68: 13 | I68: 12 | K68: =SUM(F68,G68,H68,I68,J68) -> 39 | L68: =RANK(K68,K$6:K$126) -> 31 | M68: =COUNTA(F68,G68,H68,I68,J68)/5 -> 0.6
B69: 674 | D69: 0 | E69: 남 | F69: 8 | G69: 10 | H69: 13 | I69: 6 | J69: 10 | K69: =SUM(F69,G69,H69,I69,J69) -> 47 | L69: =RANK(K69,K$6:K$126) -> 16 | M69: =COUNTA(F69,G69,H69,I69,J69)/5 -> 1
B70: 675 | C70: 0 | E70: 여 | F70: 11 | G70: 13 | H70: 13 | K70: =SUM(F70,G70,H70,I70,J70) -> 37 | L70: =RANK(K70,K$6:K$126) -> 40 | M70: =COUNTA(F70,G70,H70,I70,J70)/5 -> 0.6
B71: 676 | D71: 0 | E71: 남 | F71: 7 | G71: 6 | H71: 11 | I71: 4 | J71: 6 | K71: =SUM(F71,G71,H71,I71,J71) -> 34 | L71: =RANK(K71,K$6:K$126) -> 45 | M71: =COUNTA(F71,G71,H71,I71,J71)/5 -> 1
B72: 677 | C72: 0 | E72: 여 | F72: 8 | G72: 11 | H72: 13 | I72: 13 | J72: 6 | K72: =SUM(F72,G72,H72,I72,J72) -> 51 | L72: =RANK(K72,K$6:K$126) -> 8 | M72: =COUNTA(F72,G72,H72,I72,J72)/5 -> 1
B73: 678 | D73: 0 | E73: 남 | F73: 7 | G73: 11 | H73: 13 | J73: 8 | K73: =SUM(F73,G73,H73,I73,J73) -> 39 | L73: =RANK(K73,K$6:K$126) -> 31 | M73: =COUNTA(F73,G73,H73,I73,J73)/5 -> 0.8
B74: 679 | D74: 0 | E74: 남 | F74: 7 | G74: 8 | H74: 8 | K74: =SUM(F74,G74,H74,I74,J74) -> 23 | L74: =RANK(K74,K$6:K$126) -> 69 | M74: =COUNTA(F74,G74,H74,I74,J74)/5 -> 0.6
B75: 680 | C75: 0 | E75: 남 | F75: 13 | G75: 14 | H75: 12 | I75: 13 | J75: 9 | K75: =SUM(F75,G75,H75,I75,J75) -> 61 | L75: =RANK(K75,K$6:K$126) -> 2 | M75: =COUNTA(F75,G75,H75,I75,J75)/5 -> 1
B76: 681 | D76: 0 | E76: 여 | F76: 4 | G76: 4 | H76: 12 | I76: 10 | J76: 6 | K76: =SUM(F76,G76,H76,I76,J76) -> 36 | L76: =RANK(K76,K$6:K$126) -> 41 | M76: =COUNTA(F76,G76,H76,I76,J76)/5 -> 1
B77: 682 | D77: 0 | E77: 여 | F77: 8 | G77: 13 | H77: 11 | I77: 9 | K77: =SUM(F77,G77,H77,I77,J77) -> 41 | L77: =RANK(K77,K$6:K$126) -> 26 | M77: =COUNTA(F77,G77,H77,I77,J77)/5 -> 0.8
B78: 683 | C78: 0 | E78: 여 | F78: 13 | K78: =SUM(F78,G78,H78,I78,J78) -> 13 | L78: =RANK(K78,K$6:K$126) -> 83 | M78: =COUNTA(F78,G78,H78,I78,J78)/5 -> 0.2
B79: 684 | C79: 0 | E79: 여 | F79: 7 | H79: 4 | I79: 4 | J79: 6 | K79: =SUM(F79,G79,H79,I79,J79) -> 21 | L79: =RANK(K79,K$6:K$126) -> 72 | M79: =COUNTA(F79,G79,H79,I79,J79)/5 -> 0.8
B80: 685 | D80: 0 | E80: 남 | F80: 0 | G80: 7 | H80: 2 | I80: 6 | K80: =SUM(F80,G80,H80,I80,J80) -> 15 | L80: =RANK(K80,K$6:K$126) -> 81 | M80: =COUNTA(F80,G80,H80,I80,J80)/5 -> 0.8
B81: 686 | D81: 0 | E81: 남 | F81: 9 | G81: 8 | H81: 13 | I81: 10 | J81: 7 | K81: =SUM(F81,G81,H81,I81,J81) -> 47 | L81: =RANK(K81,K$6:K$126) -> 16 | M81: =COUNTA(F81,G81,H81,I81,J81)/5 -> 1
B82: 687 | D82: 0 | E82: 남 | F82: 12 | G82: 7 | H82: 11 | I82: 8 | J82: 6 | K82: =SUM(F82,G82,H82,I82,J82) -> 44 | L82: =RANK(K82,K$6:K$126) -> 22 | M82: =COUNTA(F82,G82,H82,I82,J82)/5 -> 1
B83: 688 | C83: 0 | E83: 남 | F83: 0 | G83: 0 | H83: 0 | I83: 7 | J83: 5 | K83: =SUM(F83,G83,H83,I83,J83) -> 12 | L83: =RANK(K83,K$6:K$126) -> 85 | M83: =COUNTA(F83,G83,H83,I83,J83)/5 -> 1
B84: 689 | D84: 0 | E84: 남 | F84: 4 | G84: 1 | H84: 3 | I84: 8 | K84: =SUM(F84,G84,H84,I84,J84) -> 16 | L84: =RANK(K84,K$6:K$126) -> 80 | M84: =COUNTA(F84,G84,H84,I84,J84)/5 -> 0.8
B85: 690 | D85: 0 | E85: 남 | F85: 7 | G85: 4 | H85: 7 | J85: 6 | K85: =SUM(F85,G85,H85,I85,J85) -> 24 | L85: =RANK(K85,K$6:K$126) -> 65 | M85: =COUNTA(F85,G85,H85,I85,J85)/5 -> 0.8
B86: 691 | D86: 0 | E86: 남 | F86: 13 | G86: 6 | H86: 13 | I86: 9 | J86: 5 | K86: =SUM(F86,G86,H86,I86,J86) -> 46 | L86: =RANK(K86,K$6:K$126) -> 19 | M86: =COUNTA(F86,G86,H86,I86,J86)/5 -> 1
B87: 692 | C87: 0 | E87: 남 | F87: 11 | G87: 9 | H87: 10 | I87: 4 | J87: 9 | K87: =SUM(F87,G87,H87,I87,J87) -> 43 | L87: =RANK(K87,K$6:K$126) -> 23 | M87: =COUNTA(F87,G87,H87,I87,J87)/5 -> 1
B88: 693 | D88: 0 | E88: 남 | F88: 6 | K88: =SUM(F88,G88,H88,I88,J88) -> 6 | L88: =RANK(K88,K$6:K$126) -> 88 | M88: =COUNTA(F88,G88,H88,I88,J88)/5 -> 0.2
B89: 694 | D89: 0 | E89: 남 | F89: 4 | G89: 9 | H89: 13 | I89: 7 | K89: =SUM(F89,G89,H89,I89,J89) -> 33 | L89: =RANK(K89,K$6:K$126) -> 46 | M89: =COUNTA(F89,G89,H89,I89,J89)/5 -> 0.8
B90: 695 | D90: 0 | E90: 남 | F90: 3 | G90: 9 | H90: 12 | K90: =SUM(F90,G90,H90,I90,J90) -> 24 | L90: =RANK(K90,K$6:K$126) -> 65 | M90: =COUNTA(F90,G90,H90,I90,J90)/5 -> 0.6
B91: 696 | C91: 0 | E91: 남 | F91: 10 | G91: 12 | I91: 3 | K91: =SUM(F91,G91,H91,I91,J91) -> 25 | L91: =RANK(K91,K$6:K$126) -> 64 | M91: =COUNTA(F91,G91,H91,I91,J91)/5 -> 0.6
B92: 697 | C92: 0 | E92: 남 | F92: 10 | G92: 5 | I92: 5 | K92: =SUM(F92,G92,H92,I92,J92) -> 20 | L92: =RANK(K92,K$6:K$126) -> 76 | M92: =COUNTA(F92,G92,H92,I92,J92)/5 -> 0.6
B93: 698 | E93: 여 | K93: =SUM(F93,G93,H93,I93,J93) -> 0 | L93: =RANK(K93,K$6:K$126) -> 94 | M93: =COUNTA(F93,G93,H93,I93,J93)/5 -> 0
B94: 699 | C94: 0 | E94: 여 | F94: 9 | G94: 12 | H94: 12 | I94: 6 | J94: 9 | K94: =SUM(F94,G94,H94,I94,J94) -> 48 | L94: =RANK(K94,K$6:K$126) -> 14 | M94: =COUNTA(F94,G94,H94,I94,J94)/5 -> 1
B95: 700 | C95: 0 | E95: 남 | I95: 7 | K95: =SUM(F95,G95,H95,I95,J95) -> 7 | L95: =RANK(K95,K$6:K$126) -> 87 | M95: =COUNTA(F95,G95,H95,I95,J95)/5 -> 0.2
B96: 701 | C96: 0 | E96: 여 | F96: 11 | G96: 13 | H96: 12 | I96: 3 | K96: =SUM(F96,G96,H96,I96,J96) -> 39 | L96: =RANK(K96,K$6:K$126) -> 31 | M96: =COUNTA(F96,G96,H96,I96,J96)/5 -> 0.8
B97: 702 | C97: 0 | E97: 남 | F97: 8 | G97: 8 | I97: 5 | K97: =SUM(F97,G97,H97,I97,J97) -> 21 | L97: =RANK(K97,K$6:K$126) -> 72 | M97: =COUNTA(F97,G97,H97,I97,J97)/5 -> 0.6
B98: 704 | C98: 0 | E98: 남 | F98: 7 | G98: 8 | H98: 5 | I98: 9 | J98: 12 | K98: =SUM(F98,G98,H98,I98,J98) -> 41 | L98: =RANK(K98,K$6:K$126) -> 26 | M98: =COUNTA(F98,G98,H98,I98,J98)/5 -> 1
B99: 705 | C99: 0 | E99: 남 | F99: 8 | G99: 13 | H99: 12 | I99: 8 | J99: 7 | K99: =SUM(F99,G99,H99,I99,J99) -> 48 | L99: =RANK(K99,K$6:K$126) -> 14 | M99: =COUNTA(F99,G99,H99,I99,J99)/5 -> 1
B100: 706 | D100: 0 | E100: 여 | F100: 11 | G100: 12 | H100: 8 | J100: 8 | K100: =SUM(F100,G100,H100,I100,J100) -> 39 | L100: =RANK(K100,K$6:K$126) -> 31 | M100: =COUNTA(F100,G100,H100,I100,J100)/5 -> 0.8
B101: 707 | D101: 0 | E101: 남 | F101: 4 | G101: 7 | H101: 7 | J101: 9 | K101: =SUM(F101,G101,H101,I101,J101) -> 27 | L101: =RANK(K101,K$6:K$126) -> 58 | M101: =COUNTA(F101,G101,H101,I101,J101)/5 -> 0.8
...

Sheet 2주차
B2: 5~6월 아침 모의고사 성적현황
B3: 시험 2주차 : 5월 20일 ~ 24일
B4: 수험 | C4: 구분 | E4: 성별 | F4: 20 | G4: 21 | H4: 22 | I4: 23 | J4: 24 | K4: 주간성적 | N4: 등수 | O4: 모의고사 참여율 | P4: 비고
A5: 수험 번호 | B5: 번호 | C5: 입문 | D5: 심화 | F5: 한국사 형법 | G5: 형소법 한국사 | H5: 경찰학 형소법 | I5: 형법 경찰학 | J5: 영어 | K5: 주간 총점 | L5: 누적 총점 | M5: 전체 총점
B6: 500 | C6: 0 | E6: 남 | K6: =SUM(F6,G6,H6,I6,J6) -> 0 | L6: ='1주차'!K6 -> 0 | M6: =SUM(K6,L6) -> 0 | N6: =RANK(K6,K$6:K$125) -> 92 | O6: =COUNTA(F6,G6,H6,I6,J6)/5 -> 0
B7: 501 | C7: 0 | E7: 남 | F7: 5 | G7: 7 | I7: 6 | J7: 8 | K7: =SUM(F7,G7,H7,I7,J7) -> 26 | L7: ='1주차'!K7 -> 28 | M7: =SUM(K7,L7) -> 54 | N7: =RANK(K7,K$6:K$125) -> 54 | O7: =COUNTA(F7,G7,H7,I7,J7)/5 -> 0.8
B8: 502 | C8: 0 | E8: 남 | K8: =SUM(F8,G8,H8,I8,J8) -> 0 | L8: ='1주차'!K8 -> 0 | M8: =SUM(K8,L8) -> 0 | N8: =RANK(K8,K$6:K$125) -> 92 | O8: =COUNTA(F8,G8,H8,I8,J8)/5 -> 0
B9: 503 | C9: 0 | E9: 남 | G9: 9 | H9: 8 | I9: 7 | K9: =SUM(F9,G9,H9,I9,J9) -> 24 | L9: ='1주차'!K9 -> 0 | M9: =SUM(K9,L9) -> 24 | N9: =RANK(K9,K$6:K$125) -> 59 | O9: =COUNTA(F9,G9,H9,I9,J9)/5 -> 0.6
B10: 504 | C10: 0 | E10: 남 | F10: 5 | G10: 5 | H10: 4 | I10: 1 | J10: 4 | K10: =SUM(F10,G10,H10,I10,J10) -> 19 | L10: ='1주차'!K10 -> 26 | M10: =SUM(K10,L10) -> 45 | N10: =RANK(K10,K$6:K$125) -> 69 | O10: =COUNTA(F10,G10,H10,I10,J10)/5 -> 1
B11: 505 | C11: 0 | E11: 남 | K11: =SUM(F11,G11,H11,I11,J11) -> 0 | L11: ='1주차'!K11 -> 0 | M11: =SUM(K11,L11) -> 0 | N11: =RANK(K11,K$6:K$125) -> 92 | O11: =COUNTA(F11,G11,H11,I11,J11)/5 -> 0
B12: 506 | C12: 0 | E12: 남 | K12: =SUM(F12,G12,H12,I12,J12) -> 0 | L12: ='1주차'!K12 -> 0 | M12: =SUM(K12,L12) -> 0 | N12: =RANK(K12,K$6:K$125) -> 92 | O12: =COUNTA(F12,G12,H12,I12,J12)/5 -> 0
B13: 508 | C13: 0 | E13: 남 | K13: =SUM(F13,G13,H13,I13,J13) -> 0 | L13: ='1주차'!K13 -> 0 | M13: =SUM(K13,L13) -> 0 | N13: =RANK(K13,K$6:K$125) -> 92 | O13: =COUNTA(F13,G13,H13,I13,J13)/5 -> 0
B14: 509 | C14: 0 | E14: 남 | K14: =SUM(F14,G14,H14,I14,J14) -> 0 | L14: ='1주차'!K14 -> 0 | M14: =SUM(K14,L14) -> 0 | N14: =RANK(K14,K$6:K$125) -> 92 | O14: =COUNTA(F14,G14,H14,I14,J14)/5 -> 0
B15: 510 | C15: 0 | E15: 여 | G15: 13 | H15: 11 | I15: 5 | K15: =SUM(F15,G15,H15,I15,J15) -> 29 | L15: ='1주차'!K15 -> 40 | M15: =SUM(K15,L15) -> 69 | N15: =RANK(K15,K$6:K$125) -> 51 | O15: =COUNTA(F15,G15,H15,I15,J15)/5 -> 0.6
B16: 511 | C16: 0 | E16: 여 | F16: 9 | G16: 11 | H16: 11 | I16: 5 | J16: 8 | K16: =SUM(F16,G16,H16,I16,J16) -> 44 | L16: ='1주차'!K16 -> 46 | M16: =SUM(K16,L16) -> 90 | N16: =RANK(K16,K$6:K$125) -> 25 | O16: =COUNTA(F16,G16,H16,I16,J16)/5 -> 1
B17: 512 | C17: 0 | E17: 여 | F17: 6 | G17: 13 | I17: 5 | J17: 10 | K17: =SUM(F17,G17,H17,I17,J17) -> 34 | L17: ='1주차'!K17 -> 50 | M17: =SUM(K17,L17) -> 84 | N17: =RANK(K17,K$6:K$125) -> 39 | O17: =COUNTA(F17,G17,H17,I17,J17)/5 -> 0.8
B18: 513 | C18: 0 | E18: 남 | K18: =SUM(F18,G18,H18,I18,J18) -> 0 | L18: ='1주차'!K18 -> 0 | M18: =SUM(K18,L18) -> 0 | N18: =RANK(K18,K$6:K$125) -> 92 | O18: =COUNTA(F18,G18,H18,I18,J18)/5 -> 0
B19: 515 | C19: 0 | E19: 남 | K19: =SUM(F19,G19,H19,I19,J19) -> 0 | L19: ='1주차'!K19 -> 0 | M19: =SUM(K19,L19) -> 0 | N19: =RANK(K19,K$6:K$125) -> 92 | O19: =COUNTA(F19,G19,H19,I19,J19)/5 -> 0
B20: 516 | C20: 0 | E20: 남 | F20: 7 | G20: 5 | H20: 5 | I20: 1 | J20: 5 | K20: =SUM(F20,G20,H20,I20,J20) -> 23 | L20: ='1주차'!K20 -> 22 | M20: =SUM(K20,L20) -> 45 | N20: =RANK(K20,K$6:K$125) -> 60 | O20: =COUNTA(F20,G20,H20,I20,J20)/5 -> 1
B21: 517 | C21: 0 | E21: 남 | K21: =SUM(F21,G21,H21,I21,J21) -> 0 | L21: ='1주차'!K21 -> 27 | M21: =SUM(K21,L21) -> 27 | N21: =RANK(K21,K$6:K$125) -> 92 | O21: =COUNTA(F21,G21,H21,I21,J21)/5 -> 0
B22: 518 | C22: 0 | E22: 여 | F22: 3 | G22: 9 | H22: 9 | I22: 6 | J22: 6 | K22: =SUM(F22,G22,H22,I22,J22) -> 33 | L22: ='1주차'!K22 -> 32 | M22: =SUM(K22,L22) -> 65 | N22: =RANK(K22,K$6:K$125) -> 45 | O22: =COUNTA(F22,G22,H22,I22,J22)/5 -> 1
B23: 519 | C23: 0 | E23: 여 | K23: =SUM(F23,G23,H23,I23,J23) -> 0 | L23: ='1주차'!K23 -> 8 | M23: =SUM(K23,L23) -> 8 | N23: =RANK(K23,K$6:K$125) -> 92 | O23: =COUNTA(F23,G23,H23,I23,J23)/5 -> 0
B24: 520 | C24: 0 | E24: 여 | K24: =SUM(F24,G24,H24,I24,J24) -> 0 | L24: ='1주차'!K24 -> 0 | M24: =SUM(K24,L24) -> 0 | N24: =RANK(K24,K$6:K$125) -> 92 | O24: =COUNTA(F24,G24,H24,I24,J24)/5 -> 0
B25: 521 | C25: 0 | E25: 남 | K25: =SUM(F25,G25,H25,I25,J25) -> 0 | L25: ='1주차'!K25 -> 0 | M25: =SUM(K25,L25) -> 0 | N25: =RANK(K25,K$6:K$125) -> 92 | O25: =COUNTA(F25,G25,H25,I25,J25)/5 -> 0
B26: 522 | C26: 0 | E26: 남 | K26: =SUM(F26,G26,H26,I26,J26) -> 0 | L26: ='1주차'!K26 -> 0 | M26: =SUM(K26,L26) -> 0 | N26: =RANK(K26,K$6:K$125) -> 92 | O26: =COUNTA(F26,G26,H26,I26,J26)/5 -> 0
B27: 523 | C27: 0 | E27: 남 | F27: 12 | G27: 10 | H27: 8 | I27: 4 | J27: 13 | K27: =SUM(F27,G27,H27,I27,J27) -> 47 | L27: ='1주차'!K27 -> 45 | M27: =SUM(K27,L27) -> 92 | N27: =RANK(K27,K$6:K$125) -> 18 | O27: =COUNTA(F27,G27,H27,I27,J27)/5 -> 1
B28: 524 | D28: 0 | E28: 남 | F28: 9 | G28: 12 | H28: 14 | I28: 10 | J28: 9 | K28: =SUM(F28,G28,H28,I28,J28) -> 54 | L28: ='1주차'!K28 -> 54 | M28: =SUM(K28,L28) -> 108 | N28: =RANK(K28,K$6:K$125) -> 6 | O28: =COUNTA(F28,G28,H28,I28,J28)/5 -> 1
B29: 525 | C29: 0 | E29: 남 | K29: =SUM(F29,G29,H29,I29,J29) -> 0 | L29: ='1주차'!K29 -> 0 | M29: =SUM(K29,L29) -> 0 | N29: =RANK(K29,K$6:K$125) -> 92 | O29: =COUNTA(F29,G29,H29,I29,J29)/5 -> 0
B30: 526 | C30: 0 | E30: 남 | K30: =SUM(F30,G30,H30,I30,J30) -> 0 | L30: ='1주차'!K30 -> 0 | M30: =SUM(K30,L30) -> 0 | N30: =RANK(K30,K$6:K$125) -> 92 | O30: =COUNTA(F30,G30,H30,I30,J30)/5 -> 0
B31: 527 | C31: 0 | E31: 남 | F31: 3 | G31: 8 | H31: 11 | I31: 4 | J31: 10 | K31: =SUM(F31,G31,H31,I31,J31) -> 36 | L31: ='1주차'!K31 -> 39 | M31: =SUM(K31,L31) -> 75 | N31: =RANK(K31,K$6:K$125) -> 34 | O31: =COUNTA(F31,G31,H31,I31,J31)/5 -> 1
B32: 528 | C32: 0 | E32: 남 | G32: 8 | H32: 8 | J32: 3 | K32: =SUM(F32,G32,H32,I32,J32) -> 19 | L32: ='1주차'!K32 -> 38 | M32: =SUM(K32,L32) -> 57 | N32: =RANK(K32,K$6:K$125) -> 69 | O32: =COUNTA(F32,G32,H32,I32,J32)/5 -> 0.6
B33: 529 | C33: 0 | E33: 여 | K33: =SUM(F33,G33,H33,I33,J33) -> 0 | L33: ='1주차'!K33 -> 0 | M33: =SUM(K33,L33) -> 0 | N33: =RANK(K33,K$6:K$125) -> 92 | O33: =COUNTA(F33,G33,H33,I33,J33)/5 -> 0
B34: 530 | C34: 0 | E34: 남 | K34: =SUM(F34,G34,H34,I34,J34) -> 0 | L34: ='1주차'!K34 -> 2 | M34: =SUM(K34,L34) -> 2 | N34: =RANK(K34,K$6:K$125) -> 92 | O34: =COUNTA(F34,G34,H34,I34,J34)/5 -> 0
B35: 531 | C35: 0 | E35: 남 | K35: =SUM(F35,G35,H35,I35,J35) -> 0 | L35: ='1주차'!K35 -> 0 | M35: =SUM(K35,L35) -> 0 | N35: =RANK(K35,K$6:K$125) -> 92 | O35: =COUNTA(F35,G35,H35,I35,J35)/5 -> 0
B36: 532 | C36: 0 | E36: 여 | K36: =SUM(F36,G36,H36,I36,J36) -> 0 | L36: ='1주차'!K36 -> 0 | M36: =SUM(K36,L36) -> 0 | N36: =RANK(K36,K$6:K$125) -> 92 | O36: =COUNTA(F36,G36,H36,I36,J36)/5 -> 0
B37: 533 | C37: 0 | E37: 여 | K37: =SUM(F37,G37,H37,I37,J37) -> 0 | L37: ='1주차'!K37 -> 0 | M37: =SUM(K37,L37) -> 0 | N37: =RANK(K37,K$6:K$125) -> 92 | O37: =COUNTA(F37,G37,H37,I37,J37)/5 -> 0
B38: 534 | C38: 0 | E38: 남 | F38: 9 | G38: 9 | H38: 11 | I38: 5 | J38: 7 | K38: =SUM(F38,G38,H38,I38,J38) -> 41 | L38: ='1주차'!K38 -> 30 | M38: =SUM(K38,L38) -> 71 | N38: =RANK(K38,K$6:K$125) -> 30 | O38: =COUNTA(F38,G38,H38,I38,J38)/5 -> 1
B39: 535 | C39: 0 | E39: 남 | K39: =SUM(F39,G39,H39,I39,J39) -> 0 | L39: ='1주차'!K39 -> 0 | M39: =SUM(K39,L39) -> 0 | N39: =RANK(K39,K$6:K$125) -> 92 | O39: =COUNTA(F39,G39,H39,I39,J39)/5 -> 0
B40: 536 | C40: 0 | E40: 남 | F40: 6 | G40: 6 | H40: 10 | I40: 4 | J40: 8 | K40: =SUM(F40,G40,H40,I40,J40) -> 34 | L40: ='1주차'!K40 -> 49 | M40: =SUM(K40,L40) -> 83 | N40: =RANK(K40,K$6:K$125) -> 39 | O40: =COUNTA(F40,G40,H40,I40,J40)/5 -> 1
B41: 537 | C41: 0 | E41: 남 | F41: 7 | G41: 8 | H41: 7 | I41: 8 | J41: 5 | K41: =SUM(F41,G41,H41,I41,J41) -> 35 | L41: ='1주차'!K41 -> 38 | M41: =SUM(K41,L41) -> 73 | N41: =RANK(K41,K$6:K$125) -> 37 | O41: =COUNTA(F41,G41,H41,I41,J41)/5 -> 1
B42: 538 | C42: 0 | E42: 여 | F42: 5 | G42: 7 | H42: 7 | I42: 0 | K42: =SUM(F42,G42,H42,I42,J42) -> 19 | L42: ='1주차'!K42 -> 32 | M42: =SUM(K42,L42) -> 51 | N42: =RANK(K42,K$6:K$125) -> 69 | O42: =COUNTA(F42,G42,H42,I42,J42)/5 -> 0.8
B43: 540 | C43: 0 | E43: 남 | G43: 5 | K43: =SUM(F43,G43,H43,I43,J43) -> 5 | L43: ='1주차'!K43 -> 18 | M43: =SUM(K43,L43) -> 23 | N43: =RANK(K43,K$6:K$125) -> 85 | O43: =COUNTA(F43,G43,H43,I43,J43)/5 -> 0.2
B44: 541 | C44: 0 | E44: 남 | K44: =SUM(F44,G44,H44,I44,J44) -> 0 | L44: ='1주차'!K44 -> 0 | M44: =SUM(K44,L44) -> 0 | N44: =RANK(K44,K$6:K$125) -> 92 | O44: =COUNTA(F44,G44,H44,I44,J44)/5 -> 0
B45: 650 | C45: 0 | E45: 남 | K45: =SUM(F45,G45,H45,I45,J45) -> 0 | L45: ='1주차'!K45 -> 0 | M45: =SUM(K45,L45) -> 0 | N45: =RANK(K45,K$6:K$125) -> 92 | O45: =COUNTA(F45,G45,H45,I45,J45)/5 -> 0
B46: 651 | D46: 0 | E46: 여 | F46: 8 | G46: 14 | H46: 12 | I46: 10 | J46: 7 | K46: =SUM(F46,G46,H46,I46,J46) -> 51 | L46: ='1주차'!K46 -> 49 | M46: =SUM(K46,L46) -> 100 | N46: =RANK(K46,K$6:K$125) -> 10 | O46: =COUNTA(F46,G46,H46,I46,J46)/5 -> 1
B47: 652 | C47: 0 | E47: 여 | G47: 15 | H47: 13 | I47: 10 | J47: 10 | K47: =SUM(F47,G47,H47,I47,J47) -> 48 | L47: ='1주차'!K47 -> 49 | M47: =SUM(K47,L47) -> 97 | N47: =RANK(K47,K$6:K$125) -> 17 | O47: =COUNTA(F47,G47,H47,I47,J47)/5 -> 0.8
B48: 653 | D48: 0 | E48: 여 | F48: 1 | K48: =SUM(F48,G48,H48,I48,J48) -> 1 | L48: ='1주차'!K48 -> 18 | M48: =SUM(K48,L48) -> 19 | N48: =RANK(K48,K$6:K$125) -> 91 | O48: =COUNTA(F48,G48,H48,I48,J48)/5 -> 0.2
B49: 654 | C49: 0 | E49: 여 | G49: 4 | H49: 5 | K49: =SUM(F49,G49,H49,I49,J49) -> 9 | L49: ='1주차'!K49 -> 21 | M49: =SUM(K49,L49) -> 30 | N49: =RANK(K49,K$6:K$125) -> 81 | O49: =COUNTA(F49,G49,H49,I49,J49)/5 -> 0.4
B50: 655 | D50: 0 | E50: 여 | G50: 11 | H50: 10 | I50: 9 | J50: 6 | K50: =SUM(F50,G50,H50,I50,J50) -> 36 | L50: ='1주차'!K50 -> 29 | M50: =SUM(K50,L50) -> 65 | N50: =RANK(K50,K$6:K$125) -> 34 | O50: =COUNTA(F50,G50,H50,I50,J50)/5 -> 0.8
B51: 656 | D51: 0 | E51: 여 | F51: 9 | G51: 13 | H51: 13 | I51: 14 | J51: 7 | K51: =SUM(F51,G51,H51,I51,J51) -> 56 | L51: ='1주차'!K51 -> 54 | M51: =SUM(K51,L51) -> 110 | N51: =RANK(K51,K$6:K$125) -> 5 | O51: =COUNTA(F51,G51,H51,I51,J51)/5 -> 1
B52: 657 | C52: 0 | E52: 여 | F52: 4 | G52: 6 | H52: 8 | K52: =SUM(F52,G52,H52,I52,J52) -> 18 | L52: ='1주차'!K52 -> 35 | M52: =SUM(K52,L52) -> 53 | N52: =RANK(K52,K$6:K$125) -> 72 | O52: =COUNTA(F52,G52,H52,I52,J52)/5 -> 0.6
B53: 658 | D53: 0 | E53: 남 | F53: 2 | G53: 8 | H53: 3 | I53: 7 | J53: 6 | K53: =SUM(F53,G53,H53,I53,J53) -> 26 | L53: ='1주차'!K53 -> 21 | M53: =SUM(K53,L53) -> 47 | N53: =RANK(K53,K$6:K$125) -> 54 | O53: =COUNTA(F53,G53,H53,I53,J53)/5 -> 1
B54: 659 | D54: 0 | E54: 남 | F54: 10 | G54: 14 | H54: 15 | I54: 14 | J54: 13 | K54: =SUM(F54,G54,H54,I54,J54) -> 66 | L54: ='1주차'!K54 -> 68 | M54: =SUM(K54,L54) -> 134 | N54: =RANK(K54,K$6:K$125) -> 1 | O54: =COUNTA(F54,G54,H54,I54,J54)/5 -> 1
B55: 660 | D55: 0 | E55: 여 | F55: 4 | G55: 14 | K55: =SUM(F55,G55,H55,I55,J55) -> 18 | L55: ='1주차'!K55 -> 32 | M55: =SUM(K55,L55) -> 50 | N55: =RANK(K55,K$6:K$125) -> 72 | O55: =COUNTA(F55,G55,H55,I55,J55)/5 -> 0.4
B56: 661 | D56: 0 | E56: 남 | F56: 7 | G56: 8 | H56: 14 | I56: 7 | J56: 4 | K56: =SUM(F56,G56,H56,I56,J56) -> 40 | L56: ='1주차'!K56 -> 40 | M56: =SUM(K56,L56) -> 80 | N56: =RANK(K56,K$6:K$125) -> 31 | O56: =COUNTA(F56,G56,H56,I56,J56)/5 -> 1
B57: 662 | D57: 0 | E57: 여 | F57: 3 | G57: 6 | H57: 9 | I57: 9 | J57: 5 | K57: =SUM(F57,G57,H57,I57,J57) -> 32 | L57: ='1주차'!K57 -> 29 | M57: =SUM(K57,L57) -> 61 | N57: =RANK(K57,K$6:K$125) -> 46 | O57: =COUNTA(F57,G57,H57,I57,J57)/5 -> 1
B58: 663 | D58: 0 | E58: 여 | F58: 3 | G58: 3 | H58: 7 | I58: 12 | J58: 5 | K58: =SUM(F58,G58,H58,I58,J58) -> 30 | L58: ='1주차'!K58 -> 13 | M58: =SUM(K58,L58) -> 43 | N58: =RANK(K58,K$6:K$125) -> 48 | O58: =COUNTA(F58,G58,H58,I58,J58)/5 -> 1
B59: 664 | D59: 0 | E59: 남 | F59: 3 | H59: 1 | K59: =SUM(F59,G59,H59,I59,J59) -> 4 | L59: ='1주차'!K59 -> 0 | M59: =SUM(K59,L59) -> 4 | N59: =RANK(K59,K$6:K$125) -> 86 | O59: =COUNTA(F59,G59,H59,I59,J59)/5 -> 0.4
B60: 665 | C60: 0 | E60: 남 | F60: 11 | G60: 12 | H60: 14 | I60: 7 | J60: 7 | K60: =SUM(F60,G60,H60,I60,J60) -> 51 | L60: ='1주차'!K60 -> 50 | M60: =SUM(K60,L60) -> 101 | N60: =RANK(K60,K$6:K$125) -> 10 | O60: =COUNTA(F60,G60,H60,I60,J60)/5 -> 1
B61: 666 | D61: 0 | E61: 여 | G61: 8 | H61: 11 | I61: 11 | J61: 13 | K61: =SUM(F61,G61,H61,I61,J61) -> 43 | L61: ='1주차'!K61 -> 32 | M61: =SUM(K61,L61) -> 75 | N61: =RANK(K61,K$6:K$125) -> 27 | O61: =COUNTA(F61,G61,H61,I61,J61)/5 -> 0.8
B62: 667 | D62: 0 | E62: 남 | F62: 4 | G62: 10 | H62: 13 | I62: 11 | J62: 6 | K62: =SUM(F62,G62,H62,I62,J62) -> 44 | L62: ='1주차'!K62 -> 35 | M62: =SUM(K62,L62) -> 79 | N62: =RANK(K62,K$6:K$125) -> 25 | O62: =COUNTA(F62,G62,H62,I62,J62)/5 -> 1
B63: 668 | D63: 0 | E63: 남 | F63: 6 | G63: 7 | H63: 11 | I63: 10 | J63: 9 | K63: =SUM(F63,G63,H63,I63,J63) -> 43 | L63: ='1주차'!K63 -> 41 | M63: =SUM(K63,L63) -> 84 | N63: =RANK(K63,K$6:K$125) -> 27 | O63: =COUNTA(F63,G63,H63,I63,J63)/5 -> 1
B64: 669 | D64: 0 | E64: 여 | F64: 8 | G64: 13 | H64: 12 | I64: 13 | J64: 14 | K64: =SUM(F64,G64,H64,I64,J64) -> 60 | L64: ='1주차'!K64 -> 52 | M64: =SUM(K64,L64) -> 112 | N64: =RANK(K64,K$6:K$125) -> 3 | O64: =COUNTA(F64,G64,H64,I64,J64)/5 -> 1
B65: 670 | D65: 0 | E65: 남 | F65: 5 | G65: 11 | H65: 4 | I65: 11 | J65: 7 | K65: =SUM(F65,G65,H65,I65,J65) -> 38 | L65: ='1주차'!K65 -> 32 | M65: =SUM(K65,L65) -> 70 | N65: =RANK(K65,K$6:K$125) -> 33 | O65: =COUNTA(F65,G65,H65,I65,J65)/5 -> 1
B66: 671 | D66: 0 | E66: 남 | F66: 5 | G66: 11 | H66: 14 | I66: 10 | J66: 10 | K66: =SUM(F66,G66,H66,I66,J66) -> 50 | L66: ='1주차'!K66 -> 54 | M66: =SUM(K66,L66) -> 104 | N66: =RANK(K66,K$6:K$125) -> 13 | O66: =COUNTA(F66,G66,H66,I66,J66)/5 -> 1
B67: 672 | D67: 0 | E67: 남 | F67: 7 | I67: 11 | K67: =SUM(F67,G67,H67,I67,J67) -> 18 | L67: ='1주차'!K67 -> 29 | M67: =SUM(K67,L67) -> 47 | N67: =RANK(K67,K$6:K$125) -> 72 | O67: =COUNTA(F67,G67,H67,I67,J67)/5 -> 0.4
B68: 673 | D68: 0 | E68: 남 | F68: 10 | G68: 12 | H68: 13 | I68: 12 | J68: 11 | K68: =SUM(F68,G68,H68,I68,J68) -> 58 | L68: ='1주차'!K68 -> 39 | M68: =SUM(K68,L68) -> 97 | N68: =RANK(K68,K$6:K$125) -> 4 | O68: =COUNTA(F68,G68,H68,I68,J68)/5 -> 1
B69: 674 | D69: 0 | E69: 남 | F69: 8 | G69: 12 | H69: 11 | I69: 11 | J69: 11 | K69: =SUM(F69,G69,H69,I69,J69) -> 53 | L69: ='1주차'!K69 -> 47 | M69: =SUM(K69,L69) -> 100 | N69: =RANK(K69,K$6:K$125) -> 7 | O69: =COUNTA(F69,G69,H69,I69,J69)/5 -> 1
B70: 675 | C70: 0 | E70: 여 | F70: 10 | G70: 13 | H70: 14 | J70: 9 | K70: =SUM(F70,G70,H70,I70,J70) -> 46 | L70: ='1주차'!K70 -> 37 | M70: =SUM(K70,L70) -> 83 | N70: =RANK(K70,K$6:K$125) -> 21 | O70: =COUNTA(F70,G70,H70,I70,J70)/5 -> 0.8
B71: 676 | D71: 0 | E71: 남 | F71: 2 | G71: 11 | H71: 11 | I71: 9 | J71: 6 | K71: =SUM(F71,G71,H71,I71,J71) -> 39 | L71: ='1주차'!K71 -> 34 | M71: =SUM(K71,L71) -> 73 | N71: =RANK(K71,K$6:K$125) -> 32 | O71: =COUNTA(F71,G71,H71,I71,J71)/5 -> 1
B72: 677 | C72: 0 | E72: 여 | F72: 7 | G72: 12 | H72: 13 | I72: 7 | J72: 10 | K72: =SUM(F72,G72,H72,I72,J72) -> 49 | L72: ='1주차'!K72 -> 51 | M72: =SUM(K72,L72) -> 100 | N72: =RANK(K72,K$6:K$125) -> 14 | O72: =COUNTA(F72,G72,H72,I72,J72)/5 -> 1
B73: 678 | D73: 0 | E73: 남 | F73: 3 | G73: 11 | J73: 7 | K73: =SUM(F73,G73,H73,I73,J73) -> 21 | L73: ='1주차'!K73 -> 39 | M73: =SUM(K73,L73) -> 60 | N73: =RANK(K73,K$6:K$125) -> 65 | O73: =COUNTA(F73,G73,H73,I73,J73)/5 -> 0.6
B74: 679 | D74: 0 | E74: 남 | H74: 6 | I74: 3 | K74: =SUM(F74,G74,H74,I74,J74) -> 9 | L74: ='1주차'!K74 -> 23 | M74: =SUM(K74,L74) -> 32 | N74: =RANK(K74,K$6:K$125) -> 81 | O74: =COUNTA(F74,G74,H74,I74,J74)/5 -> 0.4
B75: 680 | C75: 0 | E75: 남 | F75: 15 | G75: 13 | H75: 12 | I75: 13 | J75: 10 | K75: =SUM(F75,G75,H75,I75,J75) -> 63 | L75: ='1주차'!K75 -> 61 | M75: =SUM(K75,L75) -> 124 | N75: =RANK(K75,K$6:K$125) -> 2 | O75: =COUNTA(F75,G75,H75,I75,J75)/5 -> 1
B76: 681 | D76: 0 | E76: 여 | G76: 13 | H76: 11 | I76: 10 | J76: 9 | K76: =SUM(F76,G76,H76,I76,J76) -> 43 | L76: ='1주차'!K76 -> 36 | M76: =SUM(K76,L76) -> 79 | N76: =RANK(K76,K$6:K$125) -> 27 | O76: =COUNTA(F76,G76,H76,I76,J76)/5 -> 0.8
B77: 682 | D77: 0 | E77: 여 | F77: 8 | G77: 14 | H77: 11 | I77: 12 | K77: =SUM(F77,G77,H77,I77,J77) -> 45 | L77: ='1주차'!K77 -> 41 | M77: =SUM(K77,L77) -> 86 | N77: =RANK(K77,K$6:K$125) -> 24 | O77: =COUNTA(F77,G77,H77,I77,J77)/5 -> 0.8
B78: 683 | C78: 0 | E78: 여 | F78: 6 | H78: 7 | K78: =SUM(F78,G78,H78,I78,J78) -> 13 | L78: ='1주차'!K78 -> 13 | M78: =SUM(K78,L78) -> 26 | N78: =RANK(K78,K$6:K$125) -> 77 | O78: =COUNTA(F78,G78,H78,I78,J78)/5 -> 0.4
B79: 684 | C79: 0 | E79: 여 | F79: 6 | G79: 5 | H79: 7 | I79: 3 | J79: 7 | K79: =SUM(F79,G79,H79,I79,J79) -> 28 | L79: ='1주차'!K79 -> 21 | M79: =SUM(K79,L79) -> 49 | N79: =RANK(K79,K$6:K$125) -> 52 | O79: =COUNTA(F79,G79,H79,I79,J79)/5 -> 1
B80: 685 | D80: 0 | E80: 남 | F80: 4 | G80: 5 | H80: 6 | I80: 2 | J80: 5 | K80: =SUM(F80,G80,H80,I80,J80) -> 22 | L80: ='1주차'!K80 -> 15 | M80: =SUM(K80,L80) -> 37 | N80: =RANK(K80,K$6:K$125) -> 63 | O80: =COUNTA(F80,G80,H80,I80,J80)/5 -> 1
B81: 686 | D81: 0 | E81: 남 | F81: 6 | G81: 10 | H81: 12 | I81: 11 | J81: 8 | K81: =SUM(F81,G81,H81,I81,J81) -> 47 | L81: ='1주차'!K81 -> 47 | M81: =SUM(K81,L81) -> 94 | N81: =RANK(K81,K$6:K$125) -> 18 | O81: =COUNTA(F81,G81,H81,I81,J81)/5 -> 1
B82: 687 | D82: 0 | E82: 남 | F82: 6 | G82: 11 | H82: 13 | I82: 10 | J82: 12 | K82: =SUM(F82,G82,H82,I82,J82) -> 52 | L82: ='1주차'!K82 -> 44 | M82: =SUM(K82,L82) -> 96 | N82: =RANK(K82,K$6:K$125) -> 9 | O82: =COUNTA(F82,G82,H82,I82,J82)/5 -> 1
B83: 688 | C83: 0 | E83: 남 | G83: 6 | H83: 6 | I83: 6 | K83: =SUM(F83,G83,H83,I83,J83) -> 18 | L83: ='1주차'!K83 -> 12 | M83: =SUM(K83,L83) -> 30 | N83: =RANK(K83,K$6:K$125) -> 72 | O83: =COUNTA(F83,G83,H83,I83,J83)/5 -> 0.6
B84: 689 | D84: 0 | E84: 남 | F84: 3 | G84: 1 | H84: 4 | K84: =SUM(F84,G84,H84,I84,J84) -> 8 | L84: ='1주차'!K84 -> 16 | M84: =SUM(K84,L84) -> 24 | N84: =RANK(K84,K$6:K$125) -> 83 | O84: =COUNTA(F84,G84,H84,I84,J84)/5 -> 0.6
B85: 690 | D85: 0 | E85: 남 | F85: 2 | G85: 10 | H85: 6 | J85: 2 | K85: =SUM(F85,G85,H85,I85,J85) -> 20 | L85: ='1주차'!K85 -> 24 | M85: =SUM(K85,L85) -> 44 | N85: =RANK(K85,K$6:K$125) -> 67 | O85: =COUNTA(F85,G85,H85,I85,J85)/5 -> 0.8
B86: 691 | D86: 0 | E86: 남 | F86: 8 | G86: 9 | H86: 13 | I86: 10 | J86: 9 | K86: =SUM(F86,G86,H86,I86,J86) -> 49 | L86: ='1주차'!K86 -> 46 | M86: =SUM(K86,L86) -> 95 | N86: =RANK(K86,K$6:K$125) -> 14 | O86: =COUNTA(F86,G86,H86,I86,J86)/5 -> 1
B87: 692 | C87: 0 | E87: 남 | F87: 8 | G87: 6 | H87: 6 | I87: 2 | J87: 5 | K87: =SUM(F87,G87,H87,I87,J87) -> 27 | L87: ='1주차'!K87 -> 43 | M87: =SUM(K87,L87) -> 70 | N87: =RANK(K87,K$6:K$125) -> 53 | O87: =COUNTA(F87,G87,H87,I87,J87)/5 -> 1
B88: 693 | D88: 0 | E88: 남 | H88: 4 | K88: =SUM(F88,G88,H88,I88,J88) -> 4 | L88: ='1주차'!K88 -> 6 | M88: =SUM(K88,L88) -> 10 | N88: =RANK(K88,K$6:K$125) -> 86 | O88: =COUNTA(F88,G88,H88,I88,J88)/5 -> 0.2
B89: 694 | D89: 0 | E89: 남 | F89: 3 | K89: =SUM(F89,G89,H89,I89,J89) -> 3 | L89: ='1주차'!K89 -> 33 | M89: =SUM(K89,L89) -> 36 | N89: =RANK(K89,K$6:K$125) -> 88 | O89: =COUNTA(F89,G89,H89,I89,J89)/5 -> 0.2
B90: 695 | D90: 0 | E90: 남 | G90: 13 | H90: 12 | I90: 9 | K90: =SUM(F90,G90,H90,I90,J90) -> 34 | L90: ='1주차'!K90 -> 24 | M90: =SUM(K90,L90) -> 58 | N90: =RANK(K90,K$6:K$125) -> 39 | O90: =COUNTA(F90,G90,H90,I90,J90)/5 -> 0.6
B91: 696 | C91: 0 | E91: 남 | F91: 6 | G91: 10 | H91: 6 | K91: =SUM(F91,G91,H91,I91,J91) -> 22 | L91: ='1주차'!K91 -> 25 | M91: =SUM(K91,L91) -> 47 | N91: =RANK(K91,K$6:K$125) -> 63 | O91: =COUNTA(F91,G91,H91,I91,J91)/5 -> 0.6
B92: 697 | C92: 0 | E92: 남 | F92: 6 | H92: 5 | K92: =SUM(F92,G92,H92,I92,J92) -> 11 | L92: ='1주차'!K92 -> 20 | M92: =SUM(K92,L92) -> 31 | N92: =RANK(K92,K$6:K$125) -> 80 | O92: =COUNTA(F92,G92,H92,I92,J92)/5 -> 0.4
B93: 698 | E93: 여 | G93: 2 | K93: =SUM(F93,G93,H93,I93,J93) -> 2 | L93: ='1주차'!K93 -> 0 | M93: =SUM(K93,L93) -> 2 | N93: =RANK(K93,K$6:K$125) -> 89 | O93: =COUNTA(F93,G93,H93,I93,J93)/5 -> 0.2
B94: 699 | C94: 0 | E94: 여 | F94: 8 | G94: 13 | H94: 10 | I94: 6 | J94: 9 | K94: =SUM(F94,G94,H94,I94,J94) -> 46 | L94: ='1주차'!K94 -> 48 | M94: =SUM(K94,L94) -> 94 | N94: =RANK(K94,K$6:K$125) -> 21 | O94: =COUNTA(F94,G94,H94,I94,J94)/5 -> 1
B95: 700 | C95: 0 | E95: 남 | F95: 7 | G95: 5 | H95: 4 | K95: =SUM(F95,G95,H95,I95,J95) -> 16 | L95: ='1주차'!K95 -> 7 | M95: =SUM(K95,L95) -> 23 | N95: =RANK(K95,K$6:K$125) -> 76 | O95: =COUNTA(F95,G95,H95,I95,J95)/5 -> 0.6
B96: 701 | C96: 0 | E96: 여 | F96: 10 | G96: 12 | I96: 4 | J96: 10 | K96: =SUM(F96,G96,H96,I96,J96) -> 36 | L96: ='1주차'!K96 -> 39 | M96: =SUM(K96,L96) -> 75 | N96: =RANK(K96,K$6:K$125) -> 34 | O96: =COUNTA(F96,G96,H96,I96,J96)/5 -> 0.8
B97: 702 | C97: 0 | E97: 남 | F97: 9 | G97: 10 | H97: 6 | I97: 5 | K97: =SUM(F97,G97,H97,I97,J97) -> 30 | L97: ='1주차'!K97 -> 21 | M97: =SUM(K97,L97) -> 51 | N97: =RANK(K97,K$6:K$125) -> 48 | O97: =COUNTA(F97,G97,H97,I97,J97)/5 -> 0.8
B98: 704 | C98: 0 | E98: 남 | F98: 5 | G98: 1 | K98: =SUM(F98,G98,H98,I98,J98) -> 6 | L98: ='1주차'!K98 -> 41 | M98: =SUM(K98,L98) -> 47 | N98: =RANK(K98,K$6:K$125) -> 84 | O98: =COUNTA(F98,G98,H98,I98,J98)/5 -> 0.4
B99: 705 | C99: 0 | E99: 남 | F99: 9 | G99: 15 | H99: 13 | I99: 6 | J99: 6 | K99: =SUM(F99,G99,H99,I99,J99) -> 49 | L99: ='1주차'!K99 -> 48 | M99: =SUM(K99,L99) -> 97 | N99: =RANK(K99,K$6:K$125) -> 14 | O99: =COUNTA(F99,G99,H99,I99,J99)/5 -> 1
B100: 706 | D100: 0 | E100: 여 | F100: 4 | G100: 13 | H100: 11 | I100: 8 | J100: 10 | K100: =SUM(F100,G100,H100,I100,J100) -> 46 | L100: ='1주차'!K100 -> 39 | M100: =SUM(K100,L100) -> 85 | N100: =RANK(K100,K$6:K$125) -> 21 | O100: =COUNTA(F100,G100,H100,I100,J100)/5 -> 1
B101: 707 | D101: 0 | E101: 남 | F101: 3 | G101: 11 | H101: 8 | I101: 8 | J101: 5 | K101: =SUM(F101,G101,H101,I101,J101) -> 35 | L101: ='1주차'!K101 -> 27 | M101: =SUM(K101,L101) -> 62 | N101: =RANK(K101,K$6:K$125) -> 37 | O101: =COUNTA(F101,G101,H101,I101,J101)/5 -> 1
...

Sheet 3주차
B2: 5~6월 아침 모의고사 성적현황
B3: 시험 3주차 : 5월 27일 ~ 31일
B4: 수험 | C4: 구분 | E4: 성별 | F4: 27 | G4: 28 | H4: 29 | I4: 30 | J4: 31 | K4: 주간성적 | N4: 등수 | O4: 모의고사 참여율 | P4: 비고
A5: 수험 번호 | B5: 번호 | C5: 입문 | D5: 심화 | F5: 한국사 형법 | G5: 형소법 한국사 | H5: 경찰학 형소법 | I5: 형법 경찰학 | J5: 영어 | K5: 주간 총점 | L5: 누적 총점 | M5: 전체 총점
B6: 501 | C6: 0 | E6: 남 | F6: 6 | G6: 9 | I6: 3 | K6: =SUM(F6,G6,H6,I6,J6) -> 18 | L6: ='2주차'!M7 -> 54 | M6: =SUM(K6,L6) -> 72 | N6: =RANK(M6,M$6:M$106) -> 58 | O6: =COUNTA(F6,G6,H6,I6,J6)/5 -> 0.6
B7: 503 | C7: 0 | E7: 남 | G7: 12 | H7: 11 | K7: =SUM(F7,G7,H7,I7,J7) -> 23 | L7: ='2주차'!M9 -> 24 | M7: =SUM(K7,L7) -> 47 | N7: =RANK(M7,M$6:M$106) -> 78 | O7: =COUNTA(F7,G7,H7,I7,J7)/5 -> 0.4
B8: 504 | C8: 0 | E8: 남 | F8: 5 | G8: 8 | H8: 4 | I8: 1 | J8: 3 | K8: =SUM(F8,G8,H8,I8,J8) -> 21 | L8: ='2주차'!M10 -> 45 | M8: =SUM(K8,L8) -> 66 | N8: =RANK(M8,M$6:M$106) -> 65 | O8: =COUNTA(F8,G8,H8,I8,J8)/5 -> 1
B9: 510 | C9: 0 | E9: 여 | G9: 11 | H9: 5 | I9: 7 | K9: =SUM(F9,G9,H9,I9,J9) -> 23 | L9: ='2주차'!M15 -> 69 | M9: =SUM(K9,L9) -> 92 | N9: =RANK(M9,M$6:M$106) -> 44 | O9: =COUNTA(F9,G9,H9,I9,J9)/5 -> 0.6
B10: 511 | C10: 0 | E10: 여 | F10: 11 | G10: 8 | H10: 6 | J10: 6 | K10: =SUM(F10,G10,H10,I10,J10) -> 31 | L10: ='2주차'!M16 -> 90 | M10: =SUM(K10,L10) -> 121 | N10: =RANK(M10,M$6:M$106) -> 26 | O10: =COUNTA(F10,G10,H10,I10,J10)/5 -> 0.8
B11: 512 | C11: 0 | E11: 여 | F11: 9 | G11: 11 | H11: 4 | J11: 5 | K11: =SUM(F11,G11,H11,I11,J11) -> 29 | L11: ='2주차'!M17 -> 84 | M11: =SUM(K11,L11) -> 113 | N11: =RANK(M11,M$6:M$106) -> 30 | O11: =COUNTA(F11,G11,H11,I11,J11)/5 -> 0.8
B12: 516 | C12: 0 | E12: 남 | F12: 6 | G12: 7 | J12: 7 | K12: =SUM(F12,G12,H12,I12,J12) -> 20 | L12: ='2주차'!M20 -> 45 | M12: =SUM(K12,L12) -> 65 | N12: =RANK(M12,M$6:M$106) -> 66 | O12: =COUNTA(F12,G12,H12,I12,J12)/5 -> 0.6
B13: 517 | C13: 0 | E13: 남 | K13: =SUM(F13,G13,H13,I13,J13) -> 0 | L13: ='2주차'!M21 -> 27 | M13: =SUM(K13,L13) -> 27 | N13: =RANK(M13,M$6:M$106) -> 88 | O13: =COUNTA(F13,G13,H13,I13,J13)/5 -> 0
B14: 518 | C14: 0 | E14: 여 | F14: 2 | G14: 5 | H14: 7 | I14: 3 | J14: 3 | K14: =SUM(F14,G14,H14,I14,J14) -> 20 | L14: ='2주차'!M22 -> 65 | M14: =SUM(K14,L14) -> 85 | N14: =RANK(M14,M$6:M$106) -> 51 | O14: =COUNTA(F14,G14,H14,I14,J14)/5 -> 1
B15: 519 | C15: 0 | E15: 여 | K15: =SUM(F15,G15,H15,I15,J15) -> 0 | L15: ='2주차'!M23 -> 8 | M15: =SUM(K15,L15) -> 8 | N15: =RANK(M15,M$6:M$106) -> 91 | O15: =COUNTA(F15,G15,H15,I15,J15)/5 -> 0
B16: 522 | C16: 0 | E16: 남 | K16: =SUM(F16,G16,H16,I16,J16) -> 0 | L16: ='2주차'!M26 -> 0 | M16: =SUM(K16,L16) -> 0 | N16: =RANK(M16,M$6:M$106) -> 97 | O16: =COUNTA(F16,G16,H16,I16,J16)/5 -> 0
B17: 523 | C17: 0 | E17: 남 | F17: 13 | G17: 6 | H17: 7 | I17: 2 | J17: 9 | K17: =SUM(F17,G17,H17,I17,J17) -> 37 | L17: ='2주차'!M27 -> 92 | M17: =SUM(K17,L17) -> 129 | N17: =RANK(M17,M$6:M$106) -> 21 | O17: =COUNTA(F17,G17,H17,I17,J17)/5 -> 1
B18: 524 | D18: 0 | E18: 남 | F18: 9 | G18: 12 | H18: 15 | I18: 10 | J18: 9 | K18: =SUM(F18,G18,H18,I18,J18) -> 55 | L18: ='2주차'!M28 -> 108 | M18: =SUM(K18,L18) -> 163 | N18: =RANK(M18,M$6:M$106) -> 5 | O18: =COUNTA(F18,G18,H18,I18,J18)/5 -> 1 | P18: 장학후보
B19: 527 | C19: 0 | E19: 남 | F19: 6 | G19: 6 | H19: 5 | K19: =SUM(F19,G19,H19,I19,J19) -> 17 | L19: ='2주차'!M31 -> 75 | M19: =SUM(K19,L19) -> 92 | N19: =RANK(M19,M$6:M$106) -> 44 | O19: =COUNTA(F19,G19,H19,I19,J19)/5 -> 0.6
B20: 528 | C20: 0 | E20: 남 | F20: 10 | G20: 8 | H20: 8 | I20: 4 | J20: 4 | K20: =SUM(F20,G20,H20,I20,J20) -> 34 | L20: ='2주차'!M32 -> 57 | M20: =SUM(K20,L20) -> 91 | N20: =RANK(M20,M$6:M$106) -> 46 | O20: =COUNTA(F20,G20,H20,I20,J20)/5 -> 1
B21: 530 | C21: 0 | E21: 남 | K21: =SUM(F21,G21,H21,I21,J21) -> 0 | L21: ='2주차'!M34 -> 2 | M21: =SUM(K21,L21) -> 2 | N21: =RANK(M21,M$6:M$106) -> 94 | O21: =COUNTA(F21,G21,H21,I21,J21)/5 -> 0
B22: 534 | C22: 0 | E22: 남 | F22: 14 | H22: 7 | I22: 6 | J22: 7 | K22: =SUM(F22,G22,H22,I22,J22) -> 34 | L22: ='2주차'!M38 -> 71 | M22: =SUM(K22,L22) -> 105 | N22: =RANK(M22,M$6:M$106) -> 36 | O22: =COUNTA(F22,G22,H22,I22,J22)/5 -> 0.8
B23: 535 | C23: 0 | E23: 남 | K23: =SUM(F23,G23,H23,I23,J23) -> 0 | L23: ='2주차'!M39 -> 0 | M23: =SUM(K23,L23) -> 0 | N23: =RANK(M23,M$6:M$106) -> 97 | O23: =COUNTA(F23,G23,H23,I23,J23)/5 -> 0
B24: 536 | C24: 0 | E24: 남 | F24: 8 | G24: 4 | H24: 9 | I24: 6 | J24: 6 | K24: =SUM(F24,G24,H24,I24,J24) -> 33 | L24: ='2주차'!M40 -> 83 | M24: =SUM(K24,L24) -> 116 | N24: =RANK(M24,M$6:M$106) -> 28 | O24: =COUNTA(F24,G24,H24,I24,J24)/5 -> 1
B25: 537 | C25: 0 | E25: 남 | F25: 10 | G25: 7 | H25: 8 | K25: =SUM(F25,G25,H25,I25,J25) -> 25 | L25: ='2주차'!M41 -> 73 | M25: =SUM(K25,L25) -> 98 | N25: =RANK(M25,M$6:M$106) -> 39 | O25: =COUNTA(F25,G25,H25,I25,J25)/5 -> 0.6
B26: 538 | C26: 0 | E26: 여 | F26: 5 | G26: 4 | H26: 8 | I26: 4 | K26: =SUM(F26,G26,H26,I26,J26) -> 21 | L26: ='2주차'!M42 -> 51 | M26: =SUM(K26,L26) -> 72 | N26: =RANK(M26,M$6:M$106) -> 58 | O26: =COUNTA(F26,G26,H26,I26,J26)/5 -> 0.8
B27: 540 | C27: 0 | E27: 남 | G27: 7 | K27: =SUM(F27,G27,H27,I27,J27) -> 7 | L27: ='2주차'!M43 -> 23 | M27: =SUM(K27,L27) -> 30 | N27: =RANK(M27,M$6:M$106) -> 84 | O27: =COUNTA(F27,G27,H27,I27,J27)/5 -> 0.2
B28: 541 | C28: 0 | E28: 남 | K28: =SUM(F28,G28,H28,I28,J28) -> 0 | L28: ='2주차'!M44 -> 0 | M28: =SUM(K28,L28) -> 0 | N28: =RANK(M28,M$6:M$106) -> 97 | O28: =COUNTA(F28,G28,H28,I28,J28)/5 -> 0
B29: 650 | C29: 0 | E29: 남 | K29: =SUM(F29,G29,H29,I29,J29) -> 0 | L29: ='2주차'!M45 -> 0 | M29: =SUM(K29,L29) -> 0 | N29: =RANK(M29,M$6:M$106) -> 97 | O29: =COUNTA(F29,G29,H29,I29,J29)/5 -> 0
B30: 651 | D30: 0 | E30: 여 | F30: 5 | G30: 10 | H30: 11 | I30: 11 | J30: 5 | K30: =SUM(F30,G30,H30,I30,J30) -> 42 | L30: ='2주차'!M46 -> 100 | M30: =SUM(K30,L30) -> 142 | N30: =RANK(M30,M$6:M$106) -> 14 | O30: =COUNTA(F30,G30,H30,I30,J30)/5 -> 1
B31: 652 | C31: 0 | E31: 여 | G31: 12 | K31: =SUM(F31,G31,H31,I31,J31) -> 12 | L31: ='2주차'!M47 -> 97 | M31: =SUM(K31,L31) -> 109 | N31: =RANK(M31,M$6:M$106) -> 33 | O31: =COUNTA(F31,G31,H31,I31,J31)/5 -> 0.2
B32: 653 | D32: 0 | E32: 여 | I32: 7 | K32: =SUM(F32,G32,H32,I32,J32) -> 7 | L32: ='2주차'!M48 -> 19 | M32: =SUM(K32,L32) -> 26 | N32: =RANK(M32,M$6:M$106) -> 89 | O32: =COUNTA(F32,G32,H32,I32,J32)/5 -> 0.2
B33: 654 | C33: 0 | E33: 여 | G33: 4 | K33: =SUM(F33,G33,H33,I33,J33) -> 4 | L33: ='2주차'!M49 -> 30 | M33: =SUM(K33,L33) -> 34 | N33: =RANK(M33,M$6:M$106) -> 83 | O33: =COUNTA(F33,G33,H33,I33,J33)/5 -> 0.2
B34: 655 | D34: 0 | E34: 여 | F34: 5 | G34: 7 | H34: 15 | I34: 9 | J34: 6 | K34: =SUM(F34,G34,H34,I34,J34) -> 42 | L34: ='2주차'!M50 -> 65 | M34: =SUM(K34,L34) -> 107 | N34: =RANK(M34,M$6:M$106) -> 35 | O34: =COUNTA(F34,G34,H34,I34,J34)/5 -> 1
B35: 656 | D35: 0 | E35: 여 | F35: 9 | G35: 10 | H35: 13 | I35: 14 | J35: 10 | K35: =SUM(F35,G35,H35,I35,J35) -> 56 | L35: ='2주차'!M51 -> 110 | M35: =SUM(K35,L35) -> 166 | N35: =RANK(M35,M$6:M$106) -> 3 | O35: =COUNTA(F35,G35,H35,I35,J35)/5 -> 1 | P35: 장학후보
B36: 657 | C36: 0 | E36: 여 | F36: 7 | G36: 10 | H36: 5 | I36: 5 | J36: 7 | K36: =SUM(F36,G36,H36,I36,J36) -> 34 | L36: ='2주차'!M52 -> 53 | M36: =SUM(K36,L36) -> 87 | N36: =RANK(M36,M$6:M$106) -> 50 | O36: =COUNTA(F36,G36,H36,I36,J36)/5 -> 1
B37: 658 | D37: 0 | E37: 남 | F37: 1 | G37: 8 | H37: 7 | I37: 3 | J37: 4 | K37: =SUM(F37,G37,H37,I37,J37) -> 23 | L37: ='2주차'!M53 -> 47 | M37: =SUM(K37,L37) -> 70 | N37: =RANK(M37,M$6:M$106) -> 60 | O37: =COUNTA(F37,G37,H37,I37,J37)/5 -> 1
B38: 659 | D38: 0 | E38: 남 | F38: 9 | G38: 11 | H38: 15 | I38: 15 | J38: 14 | K38: =SUM(F38,G38,H38,I38,J38) -> 64 | L38: ='2주차'!M54 -> 134 | M38: =SUM(K38,L38) -> 198 | N38: =RANK(M38,M$6:M$106) -> 1 | O38: =COUNTA(F38,G38,H38,I38,J38)/5 -> 1 | P38: 장학후보
B39: 660 | D39: 0 | E39: 여 | K39: =SUM(F39,G39,H39,I39,J39) -> 0 | L39: ='2주차'!M55 -> 50 | M39: =SUM(K39,L39) -> 50 | N39: =RANK(M39,M$6:M$106) -> 75 | O39: =COUNTA(F39,G39,H39,I39,J39)/5 -> 0
B40: 661 | D40: 0 | E40: 남 | F40: 6 | G40: 9 | H40: 14 | I40: 9 | J40: 5 | K40: =SUM(F40,G40,H40,I40,J40) -> 43 | L40: ='2주차'!M56 -> 80 | M40: =SUM(K40,L40) -> 123 | N40: =RANK(M40,M$6:M$106) -> 25 | O40: =COUNTA(F40,G40,H40,I40,J40)/5 -> 1
B41: 662 | D41: 0 | E41: 여 | F41: 6 | G41: 8 | H41: 8 | I41: 5 | J41: 8 | K41: =SUM(F41,G41,H41,I41,J41) -> 35 | L41: ='2주차'!M57 -> 61 | M41: =SUM(K41,L41) -> 96 | N41: =RANK(M41,M$6:M$106) -> 42 | O41: =COUNTA(F41,G41,H41,I41,J41)/5 -> 1
B42: 663 | D42: 0 | E42: 여 | F42: 5 | G42: 1 | H42: 8 | I42: 6 | J42: 7 | K42: =SUM(F42,G42,H42,I42,J42) -> 27 | L42: ='2주차'!M58 -> 43 | M42: =SUM(K42,L42) -> 70 | N42: =RANK(M42,M$6:M$106) -> 60 | O42: =COUNTA(F42,G42,H42,I42,J42)/5 -> 1
B43: 664 | D43: 0 | E43: 남 | K43: =SUM(F43,G43,H43,I43,J43) -> 0 | L43: ='2주차'!M59 -> 4 | M43: =SUM(K43,L43) -> 4 | N43: =RANK(M43,M$6:M$106) -> 93 | O43: =COUNTA(F43,G43,H43,I43,J43)/5 -> 0
B44: 665 | C44: 0 | E44: 남 | F44: 13 | G44: 15 | H44: 11 | I44: 7 | J44: 3 | K44: =SUM(F44,G44,H44,I44,J44) -> 49 | L44: ='2주차'!M60 -> 101 | M44: =SUM(K44,L44) -> 150 | N44: =RANK(M44,M$6:M$106) -> 10 | O44: =COUNTA(F44,G44,H44,I44,J44)/5 -> 1
B45: 666 | D45: 0 | E45: 여 | F45: 4 | G45: 9 | H45: 12 | I45: 6 | J45: 9 | K45: =SUM(F45,G45,H45,I45,J45) -> 40 | L45: ='2주차'!M61 -> 75 | M45: =SUM(K45,L45) -> 115 | N45: =RANK(M45,M$6:M$106) -> 29 | O45: =COUNTA(F45,G45,H45,I45,J45)/5 -> 1
B46: 667 | D46: 0 | E46: 남 | H46: 9 | I46: 9 | J46: 8 | K46: =SUM(F46,G46,H46,I46,J46) -> 26 | L46: ='2주차'!M62 -> 79 | M46: =SUM(K46,L46) -> 105 | N46: =RANK(M46,M$6:M$106) -> 36 | O46: =COUNTA(F46,G46,H46,I46,J46)/5 -> 0.6
B47: 668 | D47: 0 | E47: 남 | F47: 3 | G47: 7 | H47: 13 | I47: 8 | J47: 9 | K47: =SUM(F47,G47,H47,I47,J47) -> 40 | L47: ='2주차'!M63 -> 84 | M47: =SUM(K47,L47) -> 124 | N47: =RANK(M47,M$6:M$106) -> 23 | O47: =COUNTA(F47,G47,H47,I47,J47)/5 -> 1
B48: 669 | D48: 0 | E48: 여 | F48: 6 | G48: 10 | H48: 11 | I48: 10 | J48: 15 | K48: =SUM(F48,G48,H48,I48,J48) -> 52 | L48: ='2주차'!M64 -> 112 | M48: =SUM(K48,L48) -> 164 | N48: =RANK(M48,M$6:M$106) -> 4 | O48: =COUNTA(F48,G48,H48,I48,J48)/5 -> 1 | P48: 장학후보
B49: 670 | D49: 0 | E49: 남 | F49: 5 | G49: 12 | H49: 5 | I49: 9 | J49: 10 | K49: =SUM(F49,G49,H49,I49,J49) -> 41 | L49: ='2주차'!M65 -> 70 | M49: =SUM(K49,L49) -> 111 | N49: =RANK(M49,M$6:M$106) -> 32 | O49: =COUNTA(F49,G49,H49,I49,J49)/5 -> 1
B50: 671 | D50: 0 | E50: 남 | G50: 11 | H50: 13 | I50: 13 | J50: 13 | K50: =SUM(F50,G50,H50,I50,J50) -> 50 | L50: ='2주차'!M66 -> 104 | M50: =SUM(K50,L50) -> 154 | N50: =RANK(M50,M$6:M$106) -> 7 | O50: =COUNTA(F50,G50,H50,I50,J50)/5 -> 0.8
B51: 672 | D51: 0 | E51: 남 | F51: 7 | I51: 10 | K51: =SUM(F51,G51,H51,I51,J51) -> 17 | L51: ='2주차'!M67 -> 47 | M51: =SUM(K51,L51) -> 64 | N51: =RANK(M51,M$6:M$106) -> 68 | O51: =COUNTA(F51,G51,H51,I51,J51)/5 -> 0.4
B52: 673 | D52: 0 | E52: 남 | F52: 7 | I52: 14 | K52: =SUM(F52,G52,H52,I52,J52) -> 21 | L52: ='2주차'!M68 -> 97 | M52: =SUM(K52,L52) -> 118 | N52: =RANK(M52,M$6:M$106) -> 27 | O52: =COUNTA(F52,G52,H52,I52,J52)/5 -> 0.4
B53: 674 | D53: 0 | E53: 남 | F53: 6 | G53: 10 | H53: 15 | I53: 13 | J53: 9 | K53: =SUM(F53,G53,H53,I53,J53) -> 53 | L53: ='2주차'!M69 -> 100 | M53: =SUM(K53,L53) -> 153 | N53: =RANK(M53,M$6:M$106) -> 8 | O53: =COUNTA(F53,G53,H53,I53,J53)/5 -> 1
B54: 675 | C54: 0 | E54: 여 | F54: 11 | G54: 14 | H54: 10 | J54: 6 | K54: =SUM(F54,G54,H54,I54,J54) -> 41 | L54: ='2주차'!M70 -> 83 | M54: =SUM(K54,L54) -> 124 | N54: =RANK(M54,M$6:M$106) -> 23 | O54: =COUNTA(F54,G54,H54,I54,J54)/5 -> 0.8
B55: 676 | D55: 0 | E55: 남 | F55: 6 | H55: 12 | I55: 10 | J55: 7 | K55: =SUM(F55,G55,H55,I55,J55) -> 35 | L55: ='2주차'!M71 -> 73 | M55: =SUM(K55,L55) -> 108 | N55: =RANK(M55,M$6:M$106) -> 34 | O55: =COUNTA(F55,G55,H55,I55,J55)/5 -> 0.8
B56: 677 | C56: 0 | E56: 여 | F56: 6 | G56: 11 | H56: 11 | I56: 10 | J56: 9 | K56: =SUM(F56,G56,H56,I56,J56) -> 47 | L56: ='2주차'!M72 -> 100 | M56: =SUM(K56,L56) -> 147 | N56: =RANK(M56,M$6:M$106) -> 12 | O56: =COUNTA(F56,G56,H56,I56,J56)/5 -> 1
B57: 678 | D57: 0 | E57: 남 | F57: 6 | H57: 14 | K57: =SUM(F57,G57,H57,I57,J57) -> 20 | L57: ='2주차'!M73 -> 60 | M57: =SUM(K57,L57) -> 80 | N57: =RANK(M57,M$6:M$106) -> 54 | O57: =COUNTA(F57,G57,H57,I57,J57)/5 -> 0.4
B58: 679 | D58: 0 | E58: 남 | F58: 6 | G58: 9 | H58: 5 | I58: 4 | K58: =SUM(F58,G58,H58,I58,J58) -> 24 | L58: ='2주차'!M74 -> 32 | M58: =SUM(K58,L58) -> 56 | N58: =RANK(M58,M$6:M$106) -> 73 | O58: =COUNTA(F58,G58,H58,I58,J58)/5 -> 0.8
B59: 680 | C59: 0 | E59: 남 | F59: 12 | G59: 13 | H59: 8 | I59: 8 | J59: 6 | K59: =SUM(F59,G59,H59,I59,J59) -> 47 | L59: ='2주차'!M75 -> 124 | M59: =SUM(K59,L59) -> 171 | N59: =RANK(M59,M$6:M$106) -> 2 | O59: =COUNTA(F59,G59,H59,I59,J59)/5 -> 1 | P59: 장학후보
B60: 681 | D60: 0 | E60: 여 | F60: 6 | G60: 13 | H60: 7 | I60: 10 | J60: 12 | K60: =SUM(F60,G60,H60,I60,J60) -> 48 | L60: ='2주차'!M76 -> 79 | M60: =SUM(K60,L60) -> 127 | N60: =RANK(M60,M$6:M$106) -> 22 | O60: =COUNTA(F60,G60,H60,I60,J60)/5 -> 1
B61: 682 | D61: 0 | E61: 여 | F61: 6 | G61: 12 | H61: 13 | I61: 13 | J61: 7 | K61: =SUM(F61,G61,H61,I61,J61) -> 51 | L61: ='2주차'!M77 -> 86 | M61: =SUM(K61,L61) -> 137 | N61: =RANK(M61,M$6:M$106) -> 16 | O61: =COUNTA(F61,G61,H61,I61,J61)/5 -> 1
B62: 683 | C62: 0 | E62: 여 | K62: =SUM(F62,G62,H62,I62,J62) -> 0 | L62: ='2주차'!M78 -> 26 | M62: =SUM(K62,L62) -> 26 | N62: =RANK(M62,M$6:M$106) -> 89 | O62: =COUNTA(F62,G62,H62,I62,J62)/5 -> 0
B63: 684 | C63: 0 | E63: 여 | F63: 5 | G63: 6 | H63: 10 | I63: 2 | J63: 4 | K63: =SUM(F63,G63,H63,I63,J63) -> 27 | L63: ='2주차'!M79 -> 49 | M63: =SUM(K63,L63) -> 76 | N63: =RANK(M63,M$6:M$106) -> 56 | O63: =COUNTA(F63,G63,H63,I63,J63)/5 -> 1
B64: 685 | D64: 0 | E64: 남 | F64: 2 | G64: 5 | H64: 5 | I64: 3 | J64: 5 | K64: =SUM(F64,G64,H64,I64,J64) -> 20 | L64: ='2주차'!M80 -> 37 | M64: =SUM(K64,L64) -> 57 | N64: =RANK(M64,M$6:M$106) -> 71 | O64: =COUNTA(F64,G64,H64,I64,J64)/5 -> 1
B65: 686 | D65: 0 | E65: 남 | F65: 4 | G65: 8 | H65: 13 | I65: 15 | J65: 13 | K65: =SUM(F65,G65,H65,I65,J65) -> 53 | L65: ='2주차'!M81 -> 94 | M65: =SUM(K65,L65) -> 147 | N65: =RANK(M65,M$6:M$106) -> 12 | O65: =COUNTA(F65,G65,H65,I65,J65)/5 -> 1
B66: 687 | D66: 0 | E66: 남 | F66: 8 | G66: 9 | H66: 14 | I66: 12 | J66: 9 | K66: =SUM(F66,G66,H66,I66,J66) -> 52 | L66: ='2주차'!M82 -> 96 | M66: =SUM(K66,L66) -> 148 | N66: =RANK(M66,M$6:M$106) -> 11 | O66: =COUNTA(F66,G66,H66,I66,J66)/5 -> 1
B67: 688 | C67: 0 | E67: 남 | F67: 5 | G67: 11 | H67: 4 | I67: 6 | K67: =SUM(F67,G67,H67,I67,J67) -> 26 | L67: ='2주차'!M83 -> 30 | M67: =SUM(K67,L67) -> 56 | N67: =RANK(M67,M$6:M$106) -> 73 | O67: =COUNTA(F67,G67,H67,I67,J67)/5 -> 0.8
B68: 689 | D68: 0 | E68: 남 | F68: 3 | G68: 5 | H68: 4 | I68: 8 | K68: =SUM(F68,G68,H68,I68,J68) -> 20 | L68: ='2주차'!M84 -> 24 | M68: =SUM(K68,L68) -> 44 | N68: =RANK(M68,M$6:M$106) -> 79 | O68: =COUNTA(F68,G68,H68,I68,J68)/5 -> 0.8
B69: 690 | D69: 0 | E69: 남 | G69: 7 | H69: 8 | J69: 4 | K69: =SUM(F69,G69,H69,I69,J69) -> 19 | L69: ='2주차'!M85 -> 44 | M69: =SUM(K69,L69) -> 63 | N69: =RANK(M69,M$6:M$106) -> 70 | O69: =COUNTA(F69,G69,H69,I69,J69)/5 -> 0.6
B70: 691 | D70: 0 | E70: 남 | F70: 8 | G70: 9 | H70: 15 | I70: 13 | J70: 12 | K70: =SUM(F70,G70,H70,I70,J70) -> 57 | L70: ='2주차'!M86 -> 95 | M70: =SUM(K70,L70) -> 152 | N70: =RANK(M70,M$6:M$106) -> 9 | O70: =COUNTA(F70,G70,H70,I70,J70)/5 -> 1
B71: 692 | C71: 0 | E71: 남 | F71: 9 | G71: 7 | H71: 4 | I71: 6 | J71: 6 | K71: =SUM(F71,G71,H71,I71,J71) -> 32 | L71: ='2주차'!M87 -> 70 | M71: =SUM(K71,L71) -> 102 | N71: =RANK(M71,M$6:M$106) -> 38 | O71: =COUNTA(F71,G71,H71,I71,J71)/5 -> 1
B72: 693 | D72: 0 | E72: 남 | F72: 7 | G72: 2 | I72: 9 | K72: =SUM(F72,G72,H72,I72,J72) -> 18 | L72: ='2주차'!M88 -> 10 | M72: =SUM(K72,L72) -> 28 | N72: =RANK(M72,M$6:M$106) -> 86 | O72: =COUNTA(F72,G72,H72,I72,J72)/5 -> 0.6
B73: 694 | D73: 0 | E73: 남 | K73: =SUM(F73,G73,H73,I73,J73) -> 0 | L73: ='2주차'!M89 -> 36 | M73: =SUM(K73,L73) -> 36 | N73: =RANK(M73,M$6:M$106) -> 82 | O73: =COUNTA(F73,G73,H73,I73,J73)/5 -> 0
B74: 695 | D74: 0 | E74: 남 | G74: 13 | H74: 10 | I74: 10 | K74: =SUM(F74,G74,H74,I74,J74) -> 33 | L74: ='2주차'!M90 -> 58 | M74: =SUM(K74,L74) -> 91 | N74: =RANK(M74,M$6:M$106) -> 46 | O74: =COUNTA(F74,G74,H74,I74,J74)/5 -> 0.6
B75: 696 | C75: 0 | E75: 남 | F75: 5 | H75: 5 | K75: =SUM(F75,G75,H75,I75,J75) -> 10 | L75: ='2주차'!M91 -> 47 | M75: =SUM(K75,L75) -> 57 | N75: =RANK(M75,M$6:M$106) -> 71 | O75: =COUNTA(F75,G75,H75,I75,J75)/5 -> 0.4
B76: 697 | C76: 0 | E76: 남 | H76: 6 | K76: =SUM(F76,G76,H76,I76,J76) -> 6 | L76: ='2주차'!M92 -> 31 | M76: =SUM(K76,L76) -> 37 | N76: =RANK(M76,M$6:M$106) -> 80 | O76: =COUNTA(F76,G76,H76,I76,J76)/5 -> 0.2
B77: 698 | E77: 여 | K77: =SUM(F77,G77,H77,I77,J77) -> 0 | L77: ='2주차'!M93 -> 2 | M77: =SUM(K77,L77) -> 2 | N77: =RANK(M77,M$6:M$106) -> 94 | O77: =COUNTA(F77,G77,H77,I77,J77)/5 -> 0
B78: 699 | C78: 0 | E78: 여 | F78: 11 | G78: 9 | H78: 7 | I78: 6 | J78: 9 | K78: =SUM(F78,G78,H78,I78,J78) -> 42 | L78: ='2주차'!M94 -> 94 | M78: =SUM(K78,L78) -> 136 | N78: =RANK(M78,M$6:M$106) -> 17 | O78: =COUNTA(F78,G78,H78,I78,J78)/5 -> 1
B79: 700 | C79: 0 | E79: 남 | F79: 5 | K79: =SUM(F79,G79,H79,I79,J79) -> 5 | L79: ='2주차'!M95 -> 23 | M79: =SUM(K79,L79) -> 28 | N79: =RANK(M79,M$6:M$106) -> 86 | O79: =COUNTA(F79,G79,H79,I79,J79)/5 -> 0.2
B80: 701 | C80: 0 | E80: 여 | F80: 7 | G80: 12 | I80: 6 | J80: 13 | K80: =SUM(F80,G80,H80,I80,J80) -> 38 | L80: ='2주차'!M96 -> 75 | M80: =SUM(K80,L80) -> 113 | N80: =RANK(M80,M$6:M$106) -> 30 | O80: =COUNTA(F80,G80,H80,I80,J80)/5 -> 0.8
B81: 702 | C81: 0 | E81: 남 | F81: 7 | G81: 9 | H81: 3 | I81: 6 | K81: =SUM(F81,G81,H81,I81,J81) -> 25 | L81: ='2주차'!M97 -> 51 | M81: =SUM(K81,L81) -> 76 | N81: =RANK(M81,M$6:M$106) -> 56 | O81: =COUNTA(F81,G81,H81,I81,J81)/5 -> 0.8
B82: 704 | C82: 0 | E82: 남 | G82: 9 | H82: 8 | I82: 5 | J82: 10 | K82: =SUM(F82,G82,H82,I82,J82) -> 32 | L82: ='2주차'!M98 -> 47 | M82: =SUM(K82,L82) -> 79 | N82: =RANK(M82,M$6:M$106) -> 55 | O82: =COUNTA(F82,G82,H82,I82,J82)/5 -> 0.8
B83: 705 | C83: 0 | E83: 남 | F83: 11 | G83: 10 | H83: 7 | I83: 4 | J83: 3 | K83: =SUM(F83,G83,H83,I83,J83) -> 35 | L83: ='2주차'!M99 -> 97 | M83: =SUM(K83,L83) -> 132 | N83: =RANK(M83,M$6:M$106) -> 20 | O83: =COUNTA(F83,G83,H83,I83,J83)/5 -> 1
B84: 706 | D84: 0 | E84: 여 | F84: 5 | G84: 14 | H84: 13 | I84: 11 | J84: 7 | K84: =SUM(F84,G84,H84,I84,J84) -> 50 | L84: ='2주차'!M100 -> 85 | M84: =SUM(K84,L84) -> 135 | N84: =RANK(M84,M$6:M$106) -> 18 | O84: =COUNTA(F84,G84,H84,I84,J84)/5 -> 1
B85: 707 | D85: 0 | E85: 남 | F85: 5 | G85: 10 | H85: 8 | I85: 7 | J85: 5 | K85: =SUM(F85,G85,H85,I85,J85) -> 35 | L85: ='2주차'!M101 -> 62 | M85: =SUM(K85,L85) -> 97 | N85: =RANK(M85,M$6:M$106) -> 40 | O85: =COUNTA(F85,G85,H85,I85,J85)/5 -> 1
B86: 708 | D86: 0 | E86: 남 | F86: 5 | G86: 9 | H86: 11 | I86: 9 | J86: 7 | K86: =SUM(F86,G86,H86,I86,J86) -> 41 | L86: ='2주차'!M102 -> 94 | M86: =SUM(K86,L86) -> 135 | N86: =RANK(M86,M$6:M$106) -> 18 | O86: =COUNTA(F86,G86,H86,I86,J86)/5 -> 1
B87: 709 | D87: 0 | E87: 여 | K87: =SUM(F87,G87,H87,I87,J87) -> 0 | L87: ='2주차'!M103 -> 37 | M87: =SUM(K87,L87) -> 37 | N87: =RANK(M87,M$6:M$106) -> 80 | O87: =COUNTA(F87,G87,H87,I87,J87)/5 -> 0
B88: 710 | D88: 0 | E88: 남 | K88: =SUM(F88,G88,H88,I88,J88) -> 0 | L88: ='2주차'!M104 -> 5 | M88: =SUM(K88,L88) -> 5 | N88: =RANK(M88,M$6:M$106) -> 92 | O88: =COUNTA(F88,G88,H88,I88,J88)/5 -> 0
B89: 711 | C89: 0 | E89: 남 | F89: 3 | G89: 9 | H89: 7 | I89: 4 | J89: 3 | K89: =SUM(F89,G89,H89,I89,J89) -> 26 | L89: ='2주차'!M105 -> 55 | M89: =SUM(K89,L89) -> 81 | N89: =RANK(M89,M$6:M$106) -> 52 | O89: =COUNTA(F89,G89,H89,I89,J89)/5 -> 1
B90: 712 | C90: 0 | E90: 남 | H90: 7 | K90: =SUM(F90,G90,H90,I90,J90) -> 7 | L90: ='2주차'!M106 -> 61 | M90: =SUM(K90,L90) -> 68 | N90: =RANK(M90,M$6:M$106) -> 62 | O90: =COUNTA(F90,G90,H90,I90,J90)/5 -> 0.2
B91: 714 | C91: 0 | E91: 남 | F91: 13 | G91: 13 | H91: 10 | I91: 7 | J91: 10 | K91: =SUM(F91,G91,H91,I91,J91) -> 53 | L91: ='2주차'!M107 -> 108 | M91: =SUM(K91,L91) -> 161 | N91: =RANK(M91,M$6:M$106) -> 6 | O91: =COUNTA(F91,G91,H91,I91,J91)/5 -> 1
B92: 715 | D92: 0 | E92: 남 | K92: =SUM(F92,G92,H92,I92,J92) -> 0 | L92: ='2주차'!M108 -> 2 | M92: =SUM(K92,L92) -> 2 | N92: =RANK(M92,M$6:M$106) -> 94 | O92: =COUNTA(F92,G92,H92,I92,J92)/5 -> 0
B93: 716 | C93: 0 | E93: 남 | F93: 6 | H93: 6 | I93: 2 | K93: =SUM(F93,G93,H93,I93,J93) -> 14 | L93: ='2주차'!M109 -> 77 | M93: =SUM(K93,L93) -> 91 | N93: =RANK(M93,M$6:M$106) -> 46 | O93: =COUNTA(F93,G93,H93,I93,J93)/5 -> 0.6
B94: 717 | C94: 0 | E94: 여 | K94: =SUM(F94,G94,H94,I94,J94) -> 0 | L94: ='2주차'!M110 -> 0 | M94: =SUM(K94,L94) -> 0 | N94: =RANK(M94,M$6:M$106) -> 97 | O94: =COUNTA(F94,G94,H94,I94,J94)/5 -> 0
B95: 718 | D95: 0 | E95: 여 | F95: 4 | G95: 9 | H95: 13 | I95: 8 | J95: 11 | K95: =SUM(F95,G95,H95,I95,J95) -> 45 | L95: ='2주차'!M111 -> 94 | M95: =SUM(K95,L95) -> 139 | N95: =RANK(M95,M$6:M$106) -> 15 | O95: =COUNTA(F95,G95,H95,I95,J95)/5 -> 1
B96: 719 | C96: 0 | E96: 여 | F96: 7 | G96: 8 | H96: 5 | I96: 6 | J96: 4 | K96: =SUM(F96,G96,H96,I96,J96) -> 30 | L96: ='2주차'!M112 -> 65 | M96: =SUM(K96,L96) -> 95 | N96: =RANK(M96,M$6:M$106) -> 43 | O96: =COUNTA(F96,G96,H96,I96,J96)/5 -> 1
B97: 721 | C97: 0 | E97: 남 | F97: 5 | G97: 3 | H97: 5 | I97: 5 | J97: 2 | K97: =SUM(F97,G97,H97,I97,J97) -> 20 | L97: ='2주차'!M114 -> 44 | M97: =SUM(K97,L97) -> 64 | N97: =RANK(M97,M$6:M$106) -> 68 | O97: =COUNTA(F97,G97,H97,I97,J97)/5 -> 1
B98: 722 | D98: 0 | E98: 남 | F98: 4 | G98: 8 | H98: 6 | I98: 11 | K98: =SUM(F98,G98,H98,I98,J98) -> 29 | L98: ='2주차'!M115 -> 52 | M98: =SUM(K98,L98) -> 81 | N98: =RANK(M98,M$6:M$106) -> 52 | O98: =COUNTA(F98,G98,H98,I98,J98)/5 -> 0.8
B99: 723 | D99: 0 | E99: 남 | F99: 6 | H99: 15 | I99: 10 | J99: 10 | K99: =SUM(F99,G99,H99,I99,J99) -> 41 | L99: ='2주차'!M116 -> 50 | M99: =SUM(K99,L99) -> 91 | N99: =RANK(M99,M$6:M$106) -> 46 | O99: =COUNTA(F99,G99,H99,I99,J99)/5 -> 0.8
B100: 724 | C100: 0 | E100: 남 | F100: 2 | G100: 6 | H100: 6 | I100: 5 | J100: 5 | K100: =SUM(F100,G100,H100,I100,J100) -> 24 | L100: ='2주차'!M117 -> 24 | M100: =SUM(K100,L100) -> 48 | N100: =RANK(M100,M$6:M$106) -> 76 | O100: =COUNTA(F100,G100,H100,I100,J100)/5 -> 1
B101: 726 | C101: 0 | E101: 여 | F101: 9 | G101: 7 | H101: 8 | I101: 3 | J101: 5 | K101: =SUM(F101,G101,H101,I101,J101) -> 32 | L101: ='2주차'!M119 -> 33 | M101: =SUM(K101,L101) -> 65 | N101: =RANK(M101,M$6:M$106) -> 66 | O101: =COUNTA(F101,G101,H101,I101,J101)/5 -> 1
...

Sheet 4주차
B2: 5~6월 아침 모의고사 성적현황
B3: 시험 4주차 : 6월 3일 ~ 7일
B4: 수험 | C4: 구분 | E4: 성별 | F4: 3 | G4: 4 | H4: 5 | I4: 6 | J4: 7 | K4: 주간성적 | N4: 등수 | O4: 모의고사 참여율 | P4: 비 고
B5: 번호 | C5: 입문 | D5: 심화 | F5: 한국사 형법 | G5: 형소법 한국사 | H5: 경찰학 형소법 | I5: 형법 경찰학 | J5: 영어 | K5: 주간 총점 | L5: 누적 총점 | M5: 전체 총점
B6: 501 | C6: 0 | E6: 남 | K6: =SUM(F6,G6,H6,I6,J6) -> 0 | L6: ='[1]3주차'!P6 -> 72 | M6: =SUM(K6,L6) -> 72 | N6: =RANK(M6,M$6:M$107) -> 70 | O6: =COUNTA(F6,G6,H6,I6,J6)/5 -> 0
B7: 503 | D7: 0 | E7: 남 | F7: 6 | G7: 13 | I7: 9 | K7: =SUM(F7,G7,H7,I7,J7) -> 28 | L7: ='[1]3주차'!P7 -> 47 | M7: =SUM(K7,L7) -> 75 | N7: =RANK(M7,M$6:M$107) -> 66 | O7: =COUNTA(F7,G7,H7,I7,J7)/5 -> 0.6
B8: 504 | C8: 0 | E8: 남 | F8: 1 | I8: 4 | J8: 2 | K8: =SUM(F8,G8,H8,I8,J8) -> 7 | L8: ='[1]3주차'!P8 -> 66 | M8: =SUM(K8,L8) -> 73 | N8: =RANK(M8,M$6:M$107) -> 68 | O8: =COUNTA(F8,G8,H8,I8,J8)/5 -> 0.6
B9: 510 | C9: 0 | E9: 여 | G9: 13 | H9: 11 | I9: 6 | K9: =SUM(F9,G9,H9,I9,J9) -> 30 | L9: ='[1]3주차'!P9 -> 92 | M9: =SUM(K9,L9) -> 122 | N9: =RANK(M9,M$6:M$107) -> 41 | O9: =COUNTA(F9,G9,H9,I9,J9)/5 -> 0.6
B10: 511 | C10: 0 | E10: 여 | F10: 9 | G10: 12 | H10: 8 | I10: 3 | J10: 6 | K10: =SUM(F10,G10,H10,I10,J10) -> 38 | L10: ='[1]3주차'!P10 -> 121 | M10: =SUM(K10,L10) -> 159 | N10: =RANK(M10,M$6:M$107) -> 23 | O10: =COUNTA(F10,G10,H10,I10,J10)/5 -> 1
B11: 512 | C11: 0 | E11: 여 | F11: 6 | G11: 11 | H11: 9 | I11: 6 | J11: 9 | K11: =SUM(F11,G11,H11,I11,J11) -> 41 | L11: ='[1]3주차'!P11 -> 113 | M11: =SUM(K11,L11) -> 154 | N11: =RANK(M11,M$6:M$107) -> 26 | O11: =COUNTA(F11,G11,H11,I11,J11)/5 -> 1
B12: 516 | C12: 0 | E12: 남 | F12: 7 | H12: 5 | I12: 1 | K12: =SUM(F12,G12,H12,I12,J12) -> 13 | L12: ='[1]3주차'!P12 -> 65 | M12: =SUM(K12,L12) -> 78 | N12: =RANK(M12,M$6:M$107) -> 64 | O12: =COUNTA(F12,G12,H12,I12,J12)/5 -> 0.6
B13: 517 | C13: 0 | E13: 남 | K13: =SUM(F13,G13,H13,I13,J13) -> 0 | L13: ='[1]3주차'!P13 -> 27 | M13: =SUM(K13,L13) -> 27 | N13: =RANK(M13,M$6:M$107) -> 88 | O13: =COUNTA(F13,G13,H13,I13,J13)/5 -> 0
B14: 518 | C14: 0 | E14: 여 | F14: 4 | G14: 8 | H14: 7 | I14: 4 | K14: =SUM(F14,G14,H14,I14,J14) -> 23 | L14: ='[1]3주차'!P14 -> 85 | M14: =SUM(K14,L14) -> 108 | N14: =RANK(M14,M$6:M$107) -> 51 | O14: =COUNTA(F14,G14,H14,I14,J14)/5 -> 0.8
B15: 519 | C15: 0 | E15: 여 | K15: =SUM(F15,G15,H15,I15,J15) -> 0 | L15: ='[1]3주차'!P15 -> 8 | M15: =SUM(K15,L15) -> 8 | N15: =RANK(M15,M$6:M$107) -> 91 | O15: =COUNTA(F15,G15,H15,I15,J15)/5 -> 0
B16: 522 | C16: 0 | E16: 남 | K16: =SUM(F16,G16,H16,I16,J16) -> 0 | L16: ='[1]3주차'!P16 -> 0 | M16: =SUM(K16,L16) -> 0 | N16: =RANK(M16,M$6:M$107) -> 98 | O16: =COUNTA(F16,G16,H16,I16,J16)/5 -> 0
B17: 523 | C17: 0 | E17: 남 | F17: 11 | H17: 7 | I17: 4 | J17: 9 | K17: =SUM(F17,G17,H17,I17,J17) -> 31 | L17: ='[1]3주차'!P17 -> 129 | M17: =SUM(K17,L17) -> 160 | N17: =RANK(M17,M$6:M$107) -> 21 | O17: =COUNTA(F17,G17,H17,I17,J17)/5 -> 0.8
B18: 524 | D18: 0 | E18: 남 | F18: 6 | G18: 11 | H18: 14 | I18: 12 | J18: 8 | K18: =SUM(F18,G18,H18,I18,J18) -> 51 | L18: ='[1]3주차'!P18 -> 164 | M18: =SUM(K18,L18) -> 215 | N18: =RANK(M18,M$6:M$107) -> 5 | O18: =COUNTA(F18,G18,H18,I18,J18)/5 -> 1 | P18: 장학후보
B19: 527 | C19: 0 | E19: 남 | G19: 4 | H19: 7 | J19: 6 | K19: =SUM(F19,G19,H19,I19,J19) -> 17 | L19: ='[1]3주차'!P19 -> 92 | M19: =SUM(K19,L19) -> 109 | N19: =RANK(M19,M$6:M$107) -> 50 | O19: =COUNTA(F19,G19,H19,I19,J19)/5 -> 0.6
B20: 528 | C20: 0 | E20: 남 | F20: 8 | G20: 12 | H20: 10 | I20: 4 | J20: 5 | K20: =SUM(F20,G20,H20,I20,J20) -> 39 | L20: ='[1]3주차'!P20 -> 91 | M20: =SUM(K20,L20) -> 130 | N20: =RANK(M20,M$6:M$107) -> 37 | O20: =COUNTA(F20,G20,H20,I20,J20)/5 -> 1
B21: 530 | C21: 0 | E21: 남 | K21: =SUM(F21,G21,H21,I21,J21) -> 0 | L21: ='[1]3주차'!P21 -> 2 | M21: =SUM(K21,L21) -> 2 | N21: =RANK(M21,M$6:M$107) -> 95 | O21: =COUNTA(F21,G21,H21,I21,J21)/5 -> 0
B22: 534 | C22: 0 | E22: 남 | F22: 8 | G22: 6 | H22: 7 | J22: 7 | K22: =SUM(F22,G22,H22,I22,J22) -> 28 | L22: ='[1]3주차'!P22 -> 105 | M22: =SUM(K22,L22) -> 133 | N22: =RANK(M22,M$6:M$107) -> 35 | O22: =COUNTA(F22,G22,H22,I22,J22)/5 -> 0.8
B23: 535 | C23: 0 | E23: 남 | K23: =SUM(F23,G23,H23,I23,J23) -> 0 | L23: ='[1]3주차'!P23 -> 0 | M23: =SUM(K23,L23) -> 0 | N23: =RANK(M23,M$6:M$107) -> 98 | O23: =COUNTA(F23,G23,H23,I23,J23)/5 -> 0
B24: 536 | C24: 0 | E24: 남 | F24: 5 | G24: 11 | H24: 10 | I24: 3 | K24: =SUM(F24,G24,H24,I24,J24) -> 29 | L24: ='[1]3주차'!P24 -> 116 | M24: =SUM(K24,L24) -> 145 | N24: =RANK(M24,M$6:M$107) -> 31 | O24: =COUNTA(F24,G24,H24,I24,J24)/5 -> 0.8
B25: 537 | C25: 0 | E25: 남 | F25: 6 | G25: 11 | H25: 5 | I25: 2 | K25: =SUM(F25,G25,H25,I25,J25) -> 24 | L25: ='[1]3주차'!P25 -> 98 | M25: =SUM(K25,L25) -> 122 | N25: =RANK(M25,M$6:M$107) -> 41 | O25: =COUNTA(F25,G25,H25,I25,J25)/5 -> 0.8
B26: 538 | C26: 0 | E26: 여 | F26: 4 | H26: 9 | J26: 2 | K26: =SUM(F26,G26,H26,I26,J26) -> 15 | L26: ='[1]3주차'!P26 -> 72 | M26: =SUM(K26,L26) -> 87 | N26: =RANK(M26,M$6:M$107) -> 61 | O26: =COUNTA(F26,G26,H26,I26,J26)/5 -> 0.6
B27: 540 | C27: 0 | E27: 남 | G27: 10 | K27: =SUM(F27,G27,H27,I27,J27) -> 10 | L27: ='[1]3주차'!P27 -> 30 | M27: =SUM(K27,L27) -> 40 | N27: =RANK(M27,M$6:M$107) -> 81 | O27: =COUNTA(F27,G27,H27,I27,J27)/5 -> 0.2
B28: 541 | C28: 0 | E28: 남 | K28: =SUM(F28,G28,H28,I28,J28) -> 0 | L28: ='[1]3주차'!P28 -> 0 | M28: =SUM(K28,L28) -> 0 | N28: =RANK(M28,M$6:M$107) -> 98 | O28: =COUNTA(F28,G28,H28,I28,J28)/5 -> 0
B29: 543 | C29: 0 | E29: 여 | J29: 4 | K29: =SUM(F29,G29,H29,I29,J29) -> 4 | L29: ='[1]3주차'!P29 -> 0 | M29: =SUM(K29,L29) -> 4 | N29: =RANK(M29,M$6:M$107) -> 93 | O29: =COUNTA(F29,G29,H29,I29,J29)/5 -> 0.2
B30: 650 | C30: 0 | E30: 남 | K30: =SUM(F30,G30,H30,I30,J30) -> 0 | L30: ='[1]3주차'!P29 -> 0 | M30: =SUM(K30,L30) -> 0 | N30: =RANK(M30,M$6:M$107) -> 98 | O30: =COUNTA(F30,G30,H30,I30,J30)/5 -> 0
B31: 651 | D31: 0 | E31: 여 | F31: 8 | G31: 8 | H31: 12 | I31: 7 | J31: 7 | K31: =SUM(F31,G31,H31,I31,J31) -> 42 | L31: ='[1]3주차'!P30 -> 143 | M31: =SUM(K31,L31) -> 185 | N31: =RANK(M31,M$6:M$107) -> 13 | O31: =COUNTA(F31,G31,H31,I31,J31)/5 -> 1
B32: 652 | C32: 0 | E32: 여 | G32: 13 | H32: 8 | I32: 7 | J32: 5 | K32: =SUM(F32,G32,H32,I32,J32) -> 33 | L32: ='[1]3주차'!P31 -> 109 | M32: =SUM(K32,L32) -> 142 | N32: =RANK(M32,M$6:M$107) -> 32 | O32: =COUNTA(F32,G32,H32,I32,J32)/5 -> 0.8
B33: 653 | D33: 0 | E33: 여 | K33: =SUM(F33,G33,H33,I33,J33) -> 0 | L33: ='[1]3주차'!P32 -> 26 | M33: =SUM(K33,L33) -> 26 | N33: =RANK(M33,M$6:M$107) -> 89 | O33: =COUNTA(F33,G33,H33,I33,J33)/5 -> 0
B34: 654 | C34: 0 | E34: 여 | J34: 5 | K34: =SUM(F34,G34,H34,I34,J34) -> 5 | L34: ='[1]3주차'!P33 -> 34 | M34: =SUM(K34,L34) -> 39 | N34: =RANK(M34,M$6:M$107) -> 83 | O34: =COUNTA(F34,G34,H34,I34,J34)/5 -> 0.2
B35: 655 | D35: 0 | E35: 여 | F35: 7 | G35: 9 | H35: 11 | I35: 7 | J35: 7 | K35: =SUM(F35,G35,H35,I35,J35) -> 41 | L35: ='[1]3주차'!P34 -> 108 | M35: =SUM(K35,L35) -> 149 | N35: =RANK(M35,M$6:M$107) -> 29 | O35: =COUNTA(F35,G35,H35,I35,J35)/5 -> 1
B36: 656 | D36: 0 | E36: 여 | F36: 7 | G36: 12 | H36: 14 | I36: 14 | J36: 4 | K36: =SUM(F36,G36,H36,I36,J36) -> 51 | L36: ='[1]3주차'!P35 -> 166 | M36: =SUM(K36,L36) -> 217 | N36: =RANK(M36,M$6:M$107) -> 3 | O36: =COUNTA(F36,G36,H36,I36,J36)/5 -> 1 | P36: 장학후보
B37: 657 | C37: 0 | E37: 여 | F37: 5 | G37: 8 | H37: 3 | I37: 5 | J37: 5 | K37: =SUM(F37,G37,H37,I37,J37) -> 26 | L37: ='[1]3주차'!P36 -> 87 | M37: =SUM(K37,L37) -> 113 | N37: =RANK(M37,M$6:M$107) -> 48 | O37: =COUNTA(F37,G37,H37,I37,J37)/5 -> 1
B38: 658 | D38: 0 | E38: 남 | F38: 5 | G38: 9 | H38: 4 | I38: 4 | K38: =SUM(F38,G38,H38,I38,J38) -> 22 | L38: ='[1]3주차'!P37 -> 71 | M38: =SUM(K38,L38) -> 93 | N38: =RANK(M38,M$6:M$107) -> 58 | O38: =COUNTA(F38,G38,H38,I38,J38)/5 -> 0.8
B39: 659 | D39: 0 | E39: 남 | F39: 9 | G39: 13 | H39: 14 | J39: 12 | K39: =SUM(F39,G39,H39,I39,J39) -> 48 | L39: ='[1]3주차'!P38 -> 199 | M39: =SUM(K39,L39) -> 247 | N39: =RANK(M39,M$6:M$107) -> 1 | O39: =COUNTA(F39,G39,H39,I39,J39)/5 -> 0.8 | P39: 장학후보
B40: 660 | D40: 0 | E40: 여 | K40: =SUM(F40,G40,H40,I40,J40) -> 0 | L40: ='[1]3주차'!P39 -> 50 | M40: =SUM(K40,L40) -> 50 | N40: =RANK(M40,M$6:M$107) -> 79 | O40: =COUNTA(F40,G40,H40,I40,J40)/5 -> 0
B41: 661 | D41: 0 | E41: 남 | F41: 4 | G41: 6 | H41: 11 | I41: 8 | K41: =SUM(F41,G41,H41,I41,J41) -> 29 | L41: ='[1]3주차'!P40 -> 124 | M41: =SUM(K41,L41) -> 153 | N41: =RANK(M41,M$6:M$107) -> 27 | O41: =COUNTA(F41,G41,H41,I41,J41)/5 -> 0.8
B42: 662 | D42: 0 | E42: 여 | F42: 6 | G42: 9 | J42: 10 | K42: =SUM(F42,G42,H42,I42,J42) -> 25 | L42: ='[1]3주차'!P41 -> 97 | M42: =SUM(K42,L42) -> 122 | N42: =RANK(M42,M$6:M$107) -> 41 | O42: =COUNTA(F42,G42,H42,I42,J42)/5 -> 0.6
B43: 663 | D43: 0 | E43: 여 | F43: 6 | G43: 2 | H43: 11 | J43: 8 | K43: =SUM(F43,G43,H43,I43,J43) -> 27 | L43: ='[1]3주차'!P42 -> 70 | M43: =SUM(K43,L43) -> 97 | N43: =RANK(M43,M$6:M$107) -> 57 | O43: =COUNTA(F43,G43,H43,I43,J43)/5 -> 0.8
B44: 664 | D44: 0 | E44: 남 | K44: =SUM(F44,G44,H44,I44,J44) -> 0 | L44: ='[1]3주차'!P43 -> 4 | M44: =SUM(K44,L44) -> 4 | N44: =RANK(M44,M$6:M$107) -> 93 | O44: =COUNTA(F44,G44,H44,I44,J44)/5 -> 0
B45: 665 | C45: 0 | E45: 남 | F45: 15 | G45: 13 | H45: 13 | I45: 5 | J45: 4 | K45: =SUM(F45,G45,H45,I45,J45) -> 50 | L45: ='[1]3주차'!P44 -> 150 | M45: =SUM(K45,L45) -> 200 | N45: =RANK(M45,M$6:M$107) -> 8 | O45: =COUNTA(F45,G45,H45,I45,J45)/5 -> 1
B46: 666 | D46: 0 | E46: 여 | F46: 3 | G46: 8 | H46: 8 | I46: 11 | J46: 7 | K46: =SUM(F46,G46,H46,I46,J46) -> 37 | L46: ='[1]3주차'!P45 -> 116 | M46: =SUM(K46,L46) -> 153 | N46: =RANK(M46,M$6:M$107) -> 27 | O46: =COUNTA(F46,G46,H46,I46,J46)/5 -> 1
B47: 667 | D47: 0 | E47: 남 | J47: 6 | K47: =SUM(F47,G47,H47,I47,J47) -> 6 | L47: ='[1]3주차'!P46 -> 108 | M47: =SUM(K47,L47) -> 114 | N47: =RANK(M47,M$6:M$107) -> 47 | O47: =COUNTA(F47,G47,H47,I47,J47)/5 -> 0.2
B48: 668 | D48: 0 | E48: 남 | F48: 5 | G48: 6 | H48: 12 | I48: 6 | J48: 5 | K48: =SUM(F48,G48,H48,I48,J48) -> 34 | L48: ='[1]3주차'!P47 -> 125 | M48: =SUM(K48,L48) -> 159 | N48: =RANK(M48,M$6:M$107) -> 23 | O48: =COUNTA(F48,G48,H48,I48,J48)/5 -> 1
B49: 669 | D49: 0 | E49: 여 | F49: 6 | G49: 9 | H49: 14 | J49: 8 | K49: =SUM(F49,G49,H49,I49,J49) -> 37 | L49: ='[1]3주차'!P48 -> 165 | M49: =SUM(K49,L49) -> 202 | N49: =RANK(M49,M$6:M$107) -> 7 | O49: =COUNTA(F49,G49,H49,I49,J49)/5 -> 0.8
B50: 670 | D50: 0 | E50: 남 | F50: 6 | G50: 9 | H50: 11 | I50: 6 | J50: 4 | K50: =SUM(F50,G50,H50,I50,J50) -> 36 | L50: ='[1]3주차'!P49 -> 112 | M50: =SUM(K50,L50) -> 148 | N50: =RANK(M50,M$6:M$107) -> 30 | O50: =COUNTA(F50,G50,H50,I50,J50)/5 -> 1
B51: 671 | D51: 0 | E51: 남 | F51: 7 | G51: 8 | H51: 10 | J51: 10 | K51: =SUM(F51,G51,H51,I51,J51) -> 35 | L51: ='[1]3주차'!P50 -> 154 | M51: =SUM(K51,L51) -> 189 | N51: =RANK(M51,M$6:M$107) -> 12 | O51: =COUNTA(F51,G51,H51,I51,J51)/5 -> 0.8
B52: 672 | D52: 0 | E52: 남 | F52: 7 | K52: =SUM(F52,G52,H52,I52,J52) -> 7 | L52: ='[1]3주차'!P51 -> 65 | M52: =SUM(K52,L52) -> 72 | N52: =RANK(M52,M$6:M$107) -> 70 | O52: =COUNTA(F52,G52,H52,I52,J52)/5 -> 0.2
B53: 673 | D53: 0 | E53: 남 | F53: 10 | K53: =SUM(F53,G53,H53,I53,J53) -> 10 | L53: ='[1]3주차'!P52 -> 119 | M53: =SUM(K53,L53) -> 129 | N53: =RANK(M53,M$6:M$107) -> 38 | O53: =COUNTA(F53,G53,H53,I53,J53)/5 -> 0.2
B54: 674 | D54: 0 | E54: 남 | F54: 8 | G54: 7 | H54: 11 | I54: 10 | J54: 10 | K54: =SUM(F54,G54,H54,I54,J54) -> 46 | L54: ='[1]3주차'!P53 -> 154 | M54: =SUM(K54,L54) -> 200 | N54: =RANK(M54,M$6:M$107) -> 8 | O54: =COUNTA(F54,G54,H54,I54,J54)/5 -> 1
B55: 675 | C55: 0 | E55: 여 | F55: 7 | G55: 9 | H55: 8 | J55: 8 | K55: =SUM(F55,G55,H55,I55,J55) -> 32 | L55: ='[1]3주차'!P54 -> 124 | M55: =SUM(K55,L55) -> 156 | N55: =RANK(M55,M$6:M$107) -> 25 | O55: =COUNTA(F55,G55,H55,I55,J55)/5 -> 0.8
B56: 676 | D56: 0 | E56: 남 | F56: 5 | G56: 7 | H56: 9 | I56: 8 | K56: =SUM(F56,G56,H56,I56,J56) -> 29 | L56: ='[1]3주차'!P55 -> 109 | M56: =SUM(K56,L56) -> 138 | N56: =RANK(M56,M$6:M$107) -> 33 | O56: =COUNTA(F56,G56,H56,I56,J56)/5 -> 0.8
B57: 677 | C57: 0 | E57: 여 | F57: 7 | G57: 8 | H57: 13 | J57: 4 | K57: =SUM(F57,G57,H57,I57,J57) -> 32 | L57: ='[1]3주차'!P56 -> 148 | M57: =SUM(K57,L57) -> 180 | N57: =RANK(M57,M$6:M$107) -> 14 | O57: =COUNTA(F57,G57,H57,I57,J57)/5 -> 0.8
B58: 678 | D58: 0 | E58: 남 | F58: 5 | G58: 13 | H58: 15 | J58: 5 | K58: =SUM(F58,G58,H58,I58,J58) -> 38 | L58: ='[1]3주차'!P57 -> 81 | M58: =SUM(K58,L58) -> 119 | N58: =RANK(M58,M$6:M$107) -> 44 | O58: =COUNTA(F58,G58,H58,I58,J58)/5 -> 0.8
B59: 679 | D59: 0 | E59: 남 | F59: 5 | G59: 5 | H59: 7 | I59: 9 | K59: =SUM(F59,G59,H59,I59,J59) -> 26 | L59: ='[1]3주차'!P58 -> 56 | M59: =SUM(K59,L59) -> 82 | N59: =RANK(M59,M$6:M$107) -> 63 | O59: =COUNTA(F59,G59,H59,I59,J59)/5 -> 0.8
B60: 680 | C60: 0 | E60: 남 | F60: 12 | G60: 9 | H60: 12 | I60: 8 | J60: 10 | K60: =SUM(F60,G60,H60,I60,J60) -> 51 | L60: ='[1]3주차'!P59 -> 171 | M60: =SUM(K60,L60) -> 222 | N60: =RANK(M60,M$6:M$107) -> 2 | O60: =COUNTA(F60,G60,H60,I60,J60)/5 -> 1 | P60: 장학후보
B61: 681 | D61: 0 | E61: 여 | F61: 6 | G61: 8 | H61: 11 | J61: 7 | K61: =SUM(F61,G61,H61,I61,J61) -> 32 | L61: ='[1]3주차'!P60 -> 128 | M61: =SUM(K61,L61) -> 160 | N61: =RANK(M61,M$6:M$107) -> 21 | O61: =COUNTA(F61,G61,H61,I61,J61)/5 -> 0.8
B62: 682 | D62: 0 | E62: 여 | F62: 7 | G62: 12 | H62: 13 | J62: 2 | K62: =SUM(F62,G62,H62,I62,J62) -> 34 | L62: ='[1]3주차'!P61 -> 138 | M62: =SUM(K62,L62) -> 172 | N62: =RANK(M62,M$6:M$107) -> 18 | O62: =COUNTA(F62,G62,H62,I62,J62)/5 -> 0.8
B63: 683 | C63: 0 | E63: 여 | K63: =SUM(F63,G63,H63,I63,J63) -> 0 | L63: ='[1]3주차'!P62 -> 26 | M63: =SUM(K63,L63) -> 26 | N63: =RANK(M63,M$6:M$107) -> 89 | O63: =COUNTA(F63,G63,H63,I63,J63)/5 -> 0
B64: 684 | C64: 0 | E64: 여 | F64: 5 | G64: 10 | H64: 6 | I64: 2 | J64: 4 | K64: =SUM(F64,G64,H64,I64,J64) -> 27 | L64: ='[1]3주차'!P63 -> 76 | M64: =SUM(K64,L64) -> 103 | N64: =RANK(M64,M$6:M$107) -> 53 | O64: =COUNTA(F64,G64,H64,I64,J64)/5 -> 1
B65: 685 | D65: 0 | E65: 남 | G65: 5 | H65: 3 | I65: 5 | K65: =SUM(F65,G65,H65,I65,J65) -> 13 | L65: ='[1]3주차'!P64 -> 58 | M65: =SUM(K65,L65) -> 71 | N65: =RANK(M65,M$6:M$107) -> 73 | O65: =COUNTA(F65,G65,H65,I65,J65)/5 -> 0.6
B66: 686 | D66: 0 | E66: 남 | F66: 8 | G66: 11 | H66: 12 | I66: 14 | J66: 10 | K66: =SUM(F66,G66,H66,I66,J66) -> 55 | L66: ='[1]3주차'!P65 -> 148 | M66: =SUM(K66,L66) -> 203 | N66: =RANK(M66,M$6:M$107) -> 6 | O66: =COUNTA(F66,G66,H66,I66,J66)/5 -> 1
B67: 687 | D67: 0 | E67: 남 | F67: 8 | G67: 9 | H67: 15 | I67: 12 | J67: 8 | K67: =SUM(F67,G67,H67,I67,J67) -> 52 | L67: ='[1]3주차'!P66 -> 148 | M67: =SUM(K67,L67) -> 200 | N67: =RANK(M67,M$6:M$107) -> 8 | O67: =COUNTA(F67,G67,H67,I67,J67)/5 -> 1
B68: 688 | C68: 0 | E68: 남 | F68: 10 | G68: 14 | I68: 6 | K68: =SUM(F68,G68,H68,I68,J68) -> 30 | L68: ='[1]3주차'!P67 -> 56 | M68: =SUM(K68,L68) -> 86 | N68: =RANK(M68,M$6:M$107) -> 62 | O68: =COUNTA(F68,G68,H68,I68,J68)/5 -> 0.6
B69: 689 | D69: 0 | E69: 남 | F69: 3 | G69: 2 | H69: 6 | I69: 6 | J69: 2 | K69: =SUM(F69,G69,H69,I69,J69) -> 19 | L69: ='[1]3주차'!P68 -> 45 | M69: =SUM(K69,L69) -> 64 | N69: =RANK(M69,M$6:M$107) -> 76 | O69: =COUNTA(F69,G69,H69,I69,J69)/5 -> 1
B70: 690 | D70: 0 | E70: 남 | F70: 4 | G70: 7 | H70: 4 | K70: =SUM(F70,G70,H70,I70,J70) -> 15 | L70: ='[1]3주차'!P69 -> 63 | M70: =SUM(K70,L70) -> 78 | N70: =RANK(M70,M$6:M$107) -> 64 | O70: =COUNTA(F70,G70,H70,I70,J70)/5 -> 0.6
B71: 691 | D71: 0 | E71: 남 | F71: 6 | G71: 8 | H71: 14 | I71: 10 | J71: 8 | K71: =SUM(F71,G71,H71,I71,J71) -> 46 | L71: ='[1]3주차'!P70 -> 152 | M71: =SUM(K71,L71) -> 198 | N71: =RANK(M71,M$6:M$107) -> 11 | O71: =COUNTA(F71,G71,H71,I71,J71)/5 -> 1
B72: 692 | C72: 0 | E72: 남 | I72: 6 | K72: =SUM(F72,G72,H72,I72,J72) -> 6 | L72: ='[1]3주차'!P71 -> 102 | M72: =SUM(K72,L72) -> 108 | N72: =RANK(M72,M$6:M$107) -> 51 | O72: =COUNTA(F72,G72,H72,I72,J72)/5 -> 0.2
B73: 693 | D73: 0 | E73: 남 | F73: 6 | I73: 5 | K73: =SUM(F73,G73,H73,I73,J73) -> 11 | L73: ='[1]3주차'!P72 -> 29 | M73: =SUM(K73,L73) -> 40 | N73: =RANK(M73,M$6:M$107) -> 81 | O73: =COUNTA(F73,G73,H73,I73,J73)/5 -> 0.4
B74: 694 | D74: 0 | E74: 남 | K74: =SUM(F74,G74,H74,I74,J74) -> 0 | L74: ='[1]3주차'!P73 -> 36 | M74: =SUM(K74,L74) -> 36 | N74: =RANK(M74,M$6:M$107) -> 86 | O74: =COUNTA(F74,G74,H74,I74,J74)/5 -> 0
B75: 695 | D75: 0 | E75: 남 | G75: 13 | H75: 13 | K75: =SUM(F75,G75,H75,I75,J75) -> 26 | L75: ='[1]3주차'!P74 -> 91 | M75: =SUM(K75,L75) -> 117 | N75: =RANK(M75,M$6:M$107) -> 45 | O75: =COUNTA(F75,G75,H75,I75,J75)/5 -> 0.4
B76: 696 | C76: 0 | E76: 남 | F76: 4 | K76: =SUM(F76,G76,H76,I76,J76) -> 4 | L76: ='[1]3주차'!P75 -> 57 | M76: =SUM(K76,L76) -> 61 | N76: =RANK(M76,M$6:M$107) -> 78 | O76: =COUNTA(F76,G76,H76,I76,J76)/5 -> 0.2
B77: 697 | C77: 0 | E77: 남 | F77: 6 | K77: =SUM(F77,G77,H77,I77,J77) -> 6 | L77: ='[1]3주차'!P76 -> 37 | M77: =SUM(K77,L77) -> 43 | N77: =RANK(M77,M$6:M$107) -> 80 | O77: =COUNTA(F77,G77,H77,I77,J77)/5 -> 0.2
B78: 698 | E78: 여 | K78: =SUM(F78,G78,H78,I78,J78) -> 0 | L78: ='[1]3주차'!P77 -> 2 | M78: =SUM(K78,L78) -> 2 | N78: =RANK(M78,M$6:M$107) -> 95 | O78: =COUNTA(F78,G78,H78,I78,J78)/5 -> 0
B79: 699 | C79: 0 | E79: 여 | F79: 8 | G79: 11 | H79: 11 | I79: 6 | J79: 7 | K79: =SUM(F79,G79,H79,I79,J79) -> 43 | L79: ='[1]3주차'!P78 -> 136 | M79: =SUM(K79,L79) -> 179 | N79: =RANK(M79,M$6:M$107) -> 16 | O79: =COUNTA(F79,G79,H79,I79,J79)/5 -> 1
B80: 700 | C80: 0 | E80: 남 | K80: =SUM(F80,G80,H80,I80,J80) -> 0 | L80: ='[1]3주차'!P79 -> 28 | M80: =SUM(K80,L80) -> 28 | N80: =RANK(M80,M$6:M$107) -> 87 | O80: =COUNTA(F80,G80,H80,I80,J80)/5 -> 0
B81: 701 | C81: 0 | E81: 여 | G81: 7 | I81: 5 | J81: 11 | K81: =SUM(F81,G81,H81,I81,J81) -> 23 | L81: ='[1]3주차'!P80 -> 113 | M81: =SUM(K81,L81) -> 136 | N81: =RANK(M81,M$6:M$107) -> 34 | O81: =COUNTA(F81,G81,H81,I81,J81)/5 -> 0.6
B82: 702 | C82: 0 | E82: 남 | F82: 8 | G82: 11 | H82: 7 | K82: =SUM(F82,G82,H82,I82,J82) -> 26 | L82: ='[1]3주차'!P81 -> 76 | M82: =SUM(K82,L82) -> 102 | N82: =RANK(M82,M$6:M$107) -> 56 | O82: =COUNTA(F82,G82,H82,I82,J82)/5 -> 0.6
B83: 704 | C83: 0 | E83: 남 | I83: 3 | J83: 7 | K83: =SUM(F83,G83,H83,I83,J83) -> 10 | L83: ='[1]3주차'!P82 -> 79 | M83: =SUM(K83,L83) -> 89 | N83: =RANK(M83,M$6:M$107) -> 60 | O83: =COUNTA(F83,G83,H83,I83,J83)/5 -> 0.4
B84: 705 | C84: 0 | E84: 남 | F84: 9 | G84: 14 | H84: 10 | I84: 3 | K84: =SUM(F84,G84,H84,I84,J84) -> 36 | L84: ='[1]3주차'!P83 -> 132 | M84: =SUM(K84,L84) -> 168 | N84: =RANK(M84,M$6:M$107) -> 19 | O84: =COUNTA(F84,G84,H84,I84,J84)/5 -> 0.8
B85: 706 | D85: 0 | E85: 여 | G85: 13 | H85: 10 | I85: 7 | J85: 8 | K85: =SUM(F85,G85,H85,I85,J85) -> 38 | L85: ='[1]3주차'!P84 -> 135 | M85: =SUM(K85,L85) -> 173 | N85: =RANK(M85,M$6:M$107) -> 17 | O85: =COUNTA(F85,G85,H85,I85,J85)/5 -> 0.8
B86: 707 | D86: 0 | E86: 남 | F86: 7 | G86: 8 | H86: 5 | I86: 7 | J86: 6 | K86: =SUM(F86,G86,H86,I86,J86) -> 33 | L86: ='[1]3주차'!P85 -> 98 | M86: =SUM(K86,L86) -> 131 | N86: =RANK(M86,M$6:M$107) -> 36 | O86: =COUNTA(F86,G86,H86,I86,J86)/5 -> 1
B87: 708 | D87: 0 | E87: 남 | F87: 8 | G87: 13 | H87: 10 | I87: 13 | K87: =SUM(F87,G87,H87,I87,J87) -> 44 | L87: ='[1]3주차'!P86 -> 136 | M87: =SUM(K87,L87) -> 180 | N87: =RANK(M87,M$6:M$107) -> 14 | O87: =COUNTA(F87,G87,H87,I87,J87)/5 -> 0.8
B88: 709 | D88: 0 | E88: 여 | K88: =SUM(F88,G88,H88,I88,J88) -> 0 | L88: ='[1]3주차'!P87 -> 37 | M88: =SUM(K88,L88) -> 37 | N88: =RANK(M88,M$6:M$107) -> 85 | O88: =COUNTA(F88,G88,H88,I88,J88)/5 -> 0
B89: 710 | D89: 0 | E89: 남 | K89: =SUM(F89,G89,H89,I89,J89) -> 0 | L89: ='[1]3주차'!P88 -> 5 | M89: =SUM(K89,L89) -> 5 | N89: =RANK(M89,M$6:M$107) -> 92 | O89: =COUNTA(F89,G89,H89,I89,J89)/5 -> 0
B90: 711 | C90: 0 | E90: 남 | F90: 5 | G90: 12 | H90: 11 | I90: 3 | K90: =SUM(F90,G90,H90,I90,J90) -> 31 | L90: ='[1]3주차'!P89 -> 81 | M90: =SUM(K90,L90) -> 112 | N90: =RANK(M90,M$6:M$107) -> 49 | O90: =COUNTA(F90,G90,H90,I90,J90)/5 -> 0.8
B91: 712 | C91: 0 | E91: 남 | I91: 5 | K91: =SUM(F91,G91,H91,I91,J91) -> 5 | L91: ='[1]3주차'!P90 -> 68 | M91: =SUM(K91,L91) -> 73 | N91: =RANK(M91,M$6:M$107) -> 68 | O91: =COUNTA(F91,G91,H91,I91,J91)/5 -> 0.2
B92: 714 | C92: 0 | E92: 남 | F92: 15 | G92: 13 | H92: 12 | I92: 5 | J92: 10 | K92: =SUM(F92,G92,H92,I92,J92) -> 55 | L92: ='[1]3주차'!P91 -> 161 | M92: =SUM(K92,L92) -> 216 | N92: =RANK(M92,M$6:M$107) -> 4 | O92: =COUNTA(F92,G92,H92,I92,J92)/5 -> 1 | P92: 장학후보
B93: 715 | D93: 0 | E93: 남 | K93: =SUM(F93,G93,H93,I93,J93) -> 0 | L93: ='[1]3주차'!P92 -> 2 | M93: =SUM(K93,L93) -> 2 | N93: =RANK(M93,M$6:M$107) -> 95 | O93: =COUNTA(F93,G93,H93,I93,J93)/5 -> 0
B94: 716 | C94: 0 | E94: 남 | G94: 4 | H94: 6 | I94: 7 | J94: 7 | K94: =SUM(F94,G94,H94,I94,J94) -> 24 | L94: ='[1]3주차'!P93 -> 91 | M94: =SUM(K94,L94) -> 115 | N94: =RANK(M94,M$6:M$107) -> 46 | O94: =COUNTA(F94,G94,H94,I94,J94)/5 -> 0.8
B95: 717 | C95: 0 | E95: 여 | K95: =SUM(F95,G95,H95,I95,J95) -> 0 | L95: ='[1]3주차'!P94 -> 0 | M95: =SUM(K95,L95) -> 0 | N95: =RANK(M95,M$6:M$107) -> 98 | O95: =COUNTA(F95,G95,H95,I95,J95)/5 -> 0
B96: 718 | D96: 0 | E96: 여 | F96: 7 | G96: 8 | H96: 13 | K96: =SUM(F96,G96,H96,I96,J96) -> 28 | L96: ='[1]3주차'!P95 -> 140 | M96: =SUM(K96,L96) -> 168 | N96: =RANK(M96,M$6:M$107) -> 19 | O96: =COUNTA(F96,G96,H96,I96,J96)/5 -> 0.6
B97: 719 | C97: 0 | E97: 여 | F97: 5 | G97: 6 | H97: 5 | I97: 7 | J97: 5 | K97: =SUM(F97,G97,H97,I97,J97) -> 28 | L97: ='[1]3주차'!P96 -> 95 | M97: =SUM(K97,L97) -> 123 | N97: =RANK(M97,M$6:M$107) -> 40 | O97: =COUNTA(F97,G97,H97,I97,J97)/5 -> 1
B98: 721 | C98: 0 | E98: 남 | I98: 3 | K98: =SUM(F98,G98,H98,I98,J98) -> 3 | L98: ='[1]3주차'!P97 -> 64 | M98: =SUM(K98,L98) -> 67 | N98: =RANK(M98,M$6:M$107) -> 74 | O98: =COUNTA(F98,G98,H98,I98,J98)/5 -> 0.2
B99: 722 | D99: 0 | E99: 남 | F99: 2 | G99: 7 | H99: 7 | I99: 6 | K99: =SUM(F99,G99,H99,I99,J99) -> 22 | L99: ='[1]3주차'!P98 -> 81 | M99: =SUM(K99,L99) -> 103 | N99: =RANK(M99,M$6:M$107) -> 53 | O99: =COUNTA(F99,G99,H99,I99,J99)/5 -> 0.8
B100: 723 | D100: 0 | E100: 남 | K100: =SUM(F100,G100,H100,I100,J100) -> 0 | L100: ='[1]3주차'!P99 -> 92 | M100: =SUM(K100,L100) -> 92 | N100: =RANK(M100,M$6:M$107) -> 59 | O100: =COUNTA(F100,G100,H100,I100,J100)/5 -> 0
B101: 724 | C101: 0 | E101: 남 | F101: 4 | G101: 6 | H101: 4 | I101: 0 | K101: =SUM(F101,G101,H101,I101,J101) -> 14 | L101: ='[1]3주차'!P100 -> 48 | M101: =SUM(K101,L101) -> 62 | N101: =RANK(M101,M$6:M$107) -> 77 | O101: =COUNTA(F101,G101,H101,I101,J101)/5 -> 0.8
...

Sheet Sheet2
