Workbook

Sheet 1주차
B2: 5~6월 아침 모의고사 성적현황
B3: 시험 1주차 : 5월 13일 ~ 17일
B4: 수험 | C4: 구분 | E4: 성별 | F4: 13 | G4: 14 | H4: 15 | I4: 16 | J4: 17 | K4: 주간성적 | M4: 모의고사 참여율 | N4: 비고
A5: 수험 번호 | B5: 번호 | C5: 입문 | D5: 심화 | F5: 한국사 형법 | G5: 형소법 한국사 | H5: 경찰학 형소법 | I5: 형법 경찰학 | J5: 영어 | K5: 전체 총점 | L5: 등수
B6: 500 | C6: 0 | E6: 남 | K6: =SUM(F6,G6,H6,I6,J6) -> 0 | L6: =RANK(K6,K$6:K$126) -> 94 | M6: =COUNTA(F6,G6,H6,I6,J6)/5 -> 0
B7: 501 | C7: 0 | E7: 남 | F7: 10 | G7: 9 | I7: 4 | J7: 5 | K7: =SUM(F7,G7,H7,I7,J7) -> 28 | L7: =RANK(K7,K$6:K$126) -> 57 | M7: =COUNTA(F7,G7,H7,I7,J7)/5 -> 0.8
B8: 502 | C8: 0 | E8: 남 | K8: =SUM(F8,G8,H8,I8,J8) -> 0 | L8: =RANK(K8,K$6:K$126) -> 94 | M8: =COUNTA(F8,G8,H8,I8,J8)/5 -> 0
B9: 503 | C9: 0 | E9: 남 | K9: =SUM(F9,G9,H9,I9,J9) -> 0 | L9: =RANK(K9,K$6:K$126) -> 94 | M9: =COUNTA(F9,G9,H9,I9,J9)/5 -> 0
B10: 504 | C10: 0 | E10: 남 | F10: 8 | G10: 6 | H10: 9 | I10: 3 | K10: =SUM(F10,G10,H10,I10,J10) -> 26 | L10: =RANK(K10,K$6:K$126) -> 60 | M10: =COUNTA(F10,G10,H10,I10,J10)/5 -> 0.8
B11: 505 | C11: 0 | E11: 남 | K11: =SUM(F11,G11,H11,I11,J11) -> 0 | L11: =RANK(K11,K$6:K$126) -> 94 | M11: =COUNTA(F11,G11,H11,I11,J11)/5 -> 0
B12: 506 | C12: 0 | E12: 남 | K12: =SUM(F12,G12,H12,I12,J12) -> 0 | L12: =RANK(K12,K$6:K$126) -> 94 | M12: =COUNTA(F12,G12,H12,I12,J12)/5 -> 0
B13: 508 | C13: 0 | E13: 남 | K13: =SUM(F13,G13,H13,I13,J13) -> 0 | L13: =RANK(K13,K$6:K$126) -> 94 | M13: =COUNTA(F13,G13,H13,I13,J13)/5 -> 0
B14: 509 | C14: 0 | E14: 남 | K14: =SUM(F14,G14,H14,I14,J14) -> 0 | L14: =RANK(K14,K$6:K$126) -> 94 | M14: =COUNTA(F14,G14,H14,I14,J14)/5 -> 0
B15: 510 | C15: 0 | E15: 여 | F15: 10 | G15: 13 | H15: 10 | I15: 7 | K15: =SUM(F15,G15,H15,I15,J15) -> 40 | L15: =RANK(K15,K$6:K$126) -> 29 | M15: =COUNTA(F15,G15,H15,I15,J15)/5 -> 0.8
B16: 511 | C16: 0 | E16: 여 | F16: 8 | G16: 12 | H16: 11 | I16: 4 | J16: 11 | K16: =SUM(F16,G16,H16,I16,J16) -> 46 | L16: =RANK(K16,K$6:K$126) -> 19 | M16: =COUNTA(F16,G16,H16,I16,J16)/5 -> 1
B17: 512 | C17: 0 | E17: 여 | F17: 12 | G17: 11 | H17: 14 | I17: 6 | J17: 7 | K17: =SUM(F17,G17,H17,I17,J17) -> 50 | L17: =RANK(K17,K$6:K$126) -> 9 | M17: =COUNTA(F17,G17,H17,I17,J17)/5 -> 1
B18: 513 | C18: 0 | E18: 남 | K18: =SUM(F18,G18,H18,I18,J18) -> 0 | L18: =RANK(K18,K$6:K$126) -> 94 | M18: =COUNTA(F18,G18,H18,I18,J18)/5 -> 0
B19: 515 | C19: 0 | E19: 남 | K19: =SUM(F19,G19,H19,I19,J19) -> 0 | L19: =RANK(K19,K$6:K$126) -> 94 | M19: =COUNTA(F19,G19,H19,I19,J19)/5 -> 0
B20: 516 | C20: 0 | E20: 남 | F20: 6 | G20: 7 | I20: 4 | J20: 5 | K20: =SUM(F20,G20,H20,I20,J20) -> 22 | L20: =RANK(K20,K$6:K$126) -> 70 | M20: =COUNTA(F20,G20,H20,I20,J20)/5 -> 0.8
B21: 517 | C21: 0 | E21: 남 | F21: 10 | G21: 9 | H21: 8 | K21: =SUM(F21,G21,H21,I21,J21) -> 27 | L21: =RANK(K21,K$6:K$126) -> 58 | M21: =COUNTA(F21,G21,H21,I21,J21)/5 -> 0.6
B22: 518 | C22: 0 | E22: 여 | F22: 5 | G22: 11 | H22: 5 | I22: 5 | J22: 6 | K22: =SUM(F22,G22,H22,I22,J22) -> 32 | L22: =RANK(K22,K$6:K$126) -> 47 | M22: =COUNTA(F22,G22,H22,I22,J22)/5 -> 1
B23: 519 | C23: 0 | E23: 여 | F23: 8 | K23: =SUM(F23,G23,H23,I23,J23) -> 8 | L23: =RANK(K23,K$6:K$126) -> 86 | M23: =COUNTA(F23,G23,H23,I23,J23)/5 -> 0.2
B24: 520 | C24: 0 | E24: 여 | K24: =SUM(F24,G24,H24,I24,J24) -> 0 | L24: =RANK(K24,K$6:K$126) -> 94 | M24: =COUNTA(F24,G24,H24,I24,J24)/5 -> 0
B25: 521 | C25: 0 | E25: 남 | K25: =SUM(F25,G25,H25,I25,J25) -> 0 | L25: =RANK(K25,K$6:K$126) -> 94 | M25: =COUNTA(F25,G25,H25,I25,J25)/5 -> 0
B26: 522 | C26: 0 | E26: 남 | K26: =SUM(F26,G26,H26,I26,J26) -> 0 | L26: =RANK(K26,K$6:K$126) -> 94 | M26: =COUNTA(F26,G26,H26,I26,J26)/5 -> 0
B27: 523 | C27: 0 | E27: 남 | F27: 9 | G27: 11 | H27: 11 | I27: 7 | J27: 7 | K27: =SUM(F27,G27,H27,I27,J27) -> 45 | L27: =RANK(K27,K$6:K$126) -> 21 | M27: =COUNTA(F27,G27,H27,I27,J27)/5 -> 1
B28: 524 | D28: 0 | E28: 남 | F28: 11 | G28: 9 | H28: 13 | I28: 13 | J28: 8 | K28: =SUM(F28,G28,H28,I28,J28) -> 54 | L28: =RANK(K28,K$6:K$126) -> 4 | M28: =COUNTA(F28,G28,H28,I28,J28)/5 -> 1
B29: 525 | C29: 0 | E29: 남 | K29: =SUM(F29,G29,H29,I29,J29) -> 0 | L29: =RANK(K29,K$6:K$126) -> 94 | M29: =COUNTA(F29,G29,H29,I29,J29)/5 -> 0
B30: 526 | C30: 0 | E30: 남 | K30: =SUM(F30,G30,H30,I30,J30) -> 0 | L30: =RANK(K30,K$6:K$126) -> 94 | M30: =COUNTA(F30,G30,H30,I30,J30)/5 -> 0
B31: 527 | C31: 0 | E31: 남 | F31: 7 | G31: 12 | H31: 11 | I31: 4 | J31: 5 | K31: =SUM(F31,G31,H31,I31,J31) -> 39 | L31: =RANK(K31,K$6:K$126) -> 31 | M31: =COUNTA(F31,G31,H31,I31,J31)/5 -> 1
B32: 528 | C32: 0 | E32: 남 | F32: 7 | G32: 11 | H32: 14 | J32: 6 | K32: =SUM(F32,G32,H32,I32,J32) -> 38 | L32: =RANK(K32,K$6:K$126) -> 37 | M32: =COUNTA(F32,G32,H32,I32,J32)/5 -> 0.8
B33: 529 | C33: 0 | E33: 여 | K33: =SUM(F33,G33,H33,I33,J33) -> 0 | L33: =RANK(K33,K$6:K$126) -> 94 | M33: =COUNTA(F33,G33,H33,I33,J33)/5 -> 0
B34: 530 | C34: 0 | E34: 남 | I34: 2 | K34: =SUM(F34,G34,H34,I34,J34) -> 2 | L34: =RANK(K34,K$6:K$126) -> 92 | M34: =COUNTA(F34,G34,H34,I34,J34)/5 -> 0.2
B35: 531 | C35: 0 | E35: 남 | K35: =SUM(F35,G35,H35,I35,J35) -> 0 | L35: =RANK(K35,K$6:K$126) -> 94 | M35: =COUNTA(F35,G35,H35,I35,J35)/5 -> 0
B36: 532 | C36: 0 | E36: 여 | K36: =SUM(F36,G36,H36,I36,J36) -> 0 | L36: =RANK(K36,K$6:K$126) -> 94 | M36: =COUNTA(F36,G36,H36,I36,J36)/5 -> 0
B37: 533 | C37: 0 | E37: 여 | K37: =SUM(F37,G37,H37,I37,J37) -> 0 | L37: =RANK(K37,K$6:K$126) -> 94 | M37: =COUNTA(F37,G37,H37,I37,J37)/5 -> 0
B38: 534 | C38: 0 | E38: 남 | G38: 11 | H38: 9 | I38: 5 | J38: 5 | K38: =SUM(F38,G38,H38,I38,J38) -> 30 | L38: =RANK(K38,K$6:K$126) -> 53 | M38: =COUNTA(F38,G38,H38,I38,J38)/5 -> 0.8
B39: 535 | C39: 0 | E39: 남 | K39: =SUM(F39,G39,H39,I39,J39) -> 0 | L39: =RANK(K39,K$6:K$126) -> 94 | M39: =COUNTA(F39,G39,H39,I39,J39)/5 -> 0
B40: 536 | C40: 0 | E40: 남 | F40: 10 | G40: 12 | H40: 12 | I40: 8 | J40: 7 | K40: =SUM(F40,G40,H40,I40,J40) -> 49 | L40: =RANK(K40,K$6:K$126) -> 11 | M40: =COUNTA(F40,G40,H40,I40,J40)/5 -> 1
B41: 537 | C41: 0 | E41: 여 | F41: 6 | G41: 10 | H41: 10 | I41: 8 | J41: 4 | K41: =SUM(F41,G41,H41,I41,J41) -> 38 | L41: =RANK(K41,K$6:K$126) -> 37 | M41: =COUNTA(F41,G41,H41,I41,J41)/5 -> 1
...

Sheet 2주차
B2: 5~6월 아침 모의고사 성적현황
B3: 시험 2주차 : 5월 20일 ~ 24일
B4: 수험 | C4: 구분 | E4: 성별 | F4: 20 | G4: 21 | H4: 22 | I4: 23 | J4: 24 | K4: 주간성적 | N4: 등수 | O4: 모의고사 참여율 | P4: 비고
A5: 수험 번호 | B5: 번호 | C5: 입문 | D5: 심화 | F5: 한국사 형법 | G5: 형소법 한국사 | H5: 경찰학 형소법 | I5: 형법 경찰학 | J5: 영어 | K5: 주간 총점 | L5: 누적 총점 | M5: 전체 총점
B6: 500 | C6: 0 | E6: 남 | K6: =SUM(F6,G6,H6,I6,J6) -> 0 | L6: ='1주차'!K6 -> 0 | M6: =SUM(K6,L6) -> 0 | N6: =RANK(K6,K$6:K$125) -> 92 | O6: =COUNTA(F6,G6,H6,I6,J6)/5 -> 0
B7: 501 | C7: 0 | E7: 남 | F7: 5 | G7: 7 | I7: 6 | J7: 8 | K7: =SUM(F7,G7,H7,I7,J7) -> 26 | L7: ='1주차'!K7 -> 28 | M7: =SUM(K7,L7) -> 54 | N7: =RANK(K7,K$6:K$125) -> 54 | O7: =COUNTA(F7,G7,H7,I7,J7)/5 -> 0.8
B8: 502 | C8: 0 | E8: 남 | K8: =SUM(F8,G8,H8,I8,J8) -> 0 | L8: ='1주차'!K8 -> 0 | M8: =SUM(K8,L8) -> 0 | N8: =RANK(K8,K$6:K$125) -> 92 | O8: =COUNTA(F8,G8,H8,I8,J8)/5 -> 0
B9: 503 | C9: 0 | E9: 남 | G9: 9 | H9: 8 | I9: 7 | K9: =SUM(F9,G9,H9,I9,J9) -> 24 | L9: ='1주차'!K9 -> 0 | M9: =SUM(K9,L9) -> 24 | N9: =RANK(K9,K$6:K$125) -> 59 | O9: =COUNTA(F9,G9,H9,I9,J9)/5 -> 0.6
B10: 504 | C10: 0 | E10: 남 | F10: 5 | G10: 5 | H10: 4 | I10: 1 | J10: 4 | K10: =SUM(F10,G10,H10,I10,J10) -> 19 | L10: ='1주차'!K10 -> 26 | M10: =SUM(K10,L10) -> 45 | N10: =RANK(K10,K$6:K$125) -> 69 | O10: =COUNTA(F10,G10,H10,I10,J10)/5 -> 1
B11: 505 | C11: 0 | E11: 남 | K11: =SUM(F11,G11,H11,I11,J11) -> 0 | L11: ='1주차'!K11 -> 0 | M11: =SUM(K11,L11) -> 0 | N11: =RANK(K11,K$6:K$125) -> 92 | O11: =COUNTA(F11,G11,H11,I11,J11)/5 -> 0
B12: 506 | C12: 0 | E12: 남 | K12: =SUM(F12,G12,H12,I12,J12) -> 0 | L12: ='1주차'!K12 -> 0 | M12: =SUM(K12,L12) -> 0 | N12: =RANK(K12,K$6:K$125) -> 92 | O12: =COUNTA(F12,G12,H12,I12,J12)/5 -> 0
B13: 508 | C13: 0 | E13: 남 | K13: =SUM(F13,G13,H13,I13,J13) -> 0 | L13: ='1주차'!K13 -> 0 | M13: =SUM(K13,L13) -> 0 | N13: =RANK(K13,K$6:K$125) -> 92 | O13: =COUNTA(F13,G13,H13,I13,J13)/5 -> 0
B14: 509 | C14: 0 | E14: 남 | K14: =SUM(F14,G14,H14,I14,J14) -> 0 | L14: ='1주차'!K14 -> 0 | M14: =SUM(K14,L14) -> 0 | N14: =RANK(K14,K$6:K$125) -> 92 | O14: =COUNTA(F14,G14,H14,I14,J14)/5 -> 0
B15: 510 | C15: 0 | E15: 여 | G15: 13 | H15: 11 | I15: 5 | K15: =SUM(F15,G15,H15,I15,J15) -> 29 | L15: ='1주차'!K15 -> 40 | M15: =SUM(K15,L15) -> 69 | N15: =RANK(K15,K$6:K$125) -> 51 | O15: =COUNTA(F15,G15,H15,I15,J15)/5 -> 0.6
B16: 511 | C16: 0 | E16: 여 | F16: 9 | G16: 11 | H16: 11 | I16: 5 | J16: 8 | K16: =SUM(F16,G16,H16,I16,J16) -> 44 | L16: ='1주차'!K16 -> 46 | M16: =SUM(K16,L16) -> 90 | N16: =RANK(K16,K$6:K$125) -> 25 | O16: =COUNTA(F16,G16,H16,I16,J16)/5 -> 1
B17: 512 | C17: 0 | E17: 여 | F17: 6 | G17: 13 | I17: 5 | J17: 10 | K17: =SUM(F17,G17,H17,I17,J17) -> 34 | L17: ='1주차'!K17 -> 50 | M17: =SUM(K17,L17) -> 84 | N17: =RANK(K17,K$6:K$125) -> 39 | O17: =COUNTA(F17,G17,H17,I17,J17)/5 -> 0.8
B18: 513 | C18: 0 | E18: 남 | K18: =SUM(F18,G18,H18,I18,J18) -> 0 | L18: ='1주차'!K18 -> 0 | M18: =SUM(K18,L18) -> 0 | N18: =RANK(K18,K$6:K$125) -> 92 | O18: =COUNTA(F18,G18,H18,I18,J18)/5 -> 0
B19: 515 | C19: 0 | E19: 남 | K19: =SUM(F19,G19,H19,I19,J19) -> 0 | L19: ='1주차'!K19 -> 0 | M19: =SUM(K19,L19) -> 0 | N19: =RANK(K19,K$6:K$125) -> 92 | O19: =COUNTA(F19,G19,H19,I19,J19)/5 -> 0
B20: 516 | C20: 0 | E20: 남 | F20: 7 | G20: 5 | H20: 5 | I20: 1 | J20: 5 | K20: =SUM(F20,G20,H20,I20,J20) -> 23 | L20: ='1주차'!K20 -> 22 | M20: =SUM(K20,L20) -> 45 | N20: =RANK(K20,K$6:K$125) -> 60 | O20: =COUNTA(F20,G20,H20,I20,J20)/5 -> 1
B21: 517 | C21: 0 | E21: 남 | K21: =SUM(F21,G21,H21,I21,J21) -> 0 | L21: ='1주차'!K21 -> 27 | M21: =SUM(K21,L21) -> 27 | N21: =RANK(K21,K$6:K$125) -> 92 | O21: =COUNTA(F21,G21,H21,I21,J21)/5 -> 0
B22: 518 | C22: 0 | E22: 여 | F22: 3 | G22: 9 | H22: 9 | I22: 6 | J22: 6 | K22: =SUM(F22,G22,H22,I22,J22) -> 33 | L22: ='1주차'!K22 -> 32 | M22: =SUM(K22,L22) -> 65 | N22: =RANK(K22,K$6:K$125) -> 45 | O22: =COUNTA(F22,G22,H22,I22,J22)/5 -> 1
B23: 519 | C23: 0 | E23: 여 | K23: =SUM(F23,G23,H23,I23,J23) -> 0 | L23: ='1주차'!K23 -> 8 | M23: =SUM(K23,L23) -> 8 | N23: =RANK(K23,K$6:K$125) -> 92 | O23: =COUNTA(F23,G23,H23,I23,J23)/5 -> 0
B24: 520 | C24: 0 | E24: 여 | K24: =SUM(F24,G24,H24,I24,J24) -> 0 | L24: ='1주차'!K24 -> 0 | M24: =SUM(K24,L24) -> 0 | N24: =RANK(K24,K$6:K$125) -> 92 | O24: =COUNTA(F24,G24,H24,I24,J24)/5 -> 0
B25: 521 | C25: 0 | E25: 남 | K25: =SUM(F25,G25,H25,I25,J25) -> 0 | L25: ='1주차'!K25 -> 0 | M25: =SUM(K25,L25) -> 0 | N25: =RANK(K25,K$6:K$125) -> 92 | O25: =COUNTA(F25,G25,H25,I25,J25)/5 -> 0
B26: 522 | C26: 0 | E26: 남 | K26: =SUM(F26,G26,H26,I26,J26) -> 0 | L26: ='1주차'!K26 -> 0 | M26: =SUM(K26,L26) -> 0 | N26: =RANK(K26,K$6:K$125) -> 92 | O26: =COUNTA(F26,G26,H26,I26,J26)/5 -> 0
B27: 523 | C27: 0 | E27: 남 | F27: 12 | G27: 10 | H27: 8 | I27: 4 | J27: 13 | K27: =SUM(F27,G27,H27,I27,J27) -> 47 | L27: ='1주차'!K27 -> 45 | M27: =SUM(K27,L27) -> 92 | N27: =RANK(K27,K$6:K$125) -> 18 | O27: =COUNTA(F27,G27,H27,I27,J27)/5 -> 1
B28: 524 | D28: 0 | E28: 남 | F28: 9 | G28: 12 | H28: 14 | I28: 10 | J28: 9 | K28: =SUM(F28,G28,H28,I28,J28) -> 54 | L28: ='1주차'!K28 -> 54 | M28: =SUM(K28,L28) -> 108 | N28: =RANK(K28,K$6:K$125) -> 6 | O28: =COUNTA(F28,G28,H28,I28,J28)/5 -> 1
B29: 525 | C29: 0 | E29: 남 | K29: =SUM(F29,G29,H29,I29,J29) -> 0 | L29: ='1주차'!K29 -> 0 | M29: =SUM(K29,L29) -> 0 | N29: =RANK(K29,K$6:K$125) -> 92 | O29: =COUNTA(F29,G29,H29,I29,J29)/5 -> 0
B30: 526 | C30: 0 | E30: 남 | K30: =SUM(F30,G30,H30,I30,J30) -> 0 | L30: ='1주차'!K30 -> 0 | M30: =SUM(K30,L30) -> 0 | N30: =RANK(K30,K$6:K$125) -> 92 | O30: =COUNTA(F30,G30,H30,I30,J30)/5 -> 0
B31: 527 | C31: 0 | E31: 남 | F31: 3 | G31: 8 | H31: 11 | I31: 4 | J31: 10 | K31: =SUM(F31,G31,H31,I31,J31) -> 36 | L31: ='1주차'!K31 -> 39 | M31: =SUM(K31,L31) -> 75 | N31: =RANK(K31,K$6:K$125) -> 34 | O31: =COUNTA(F31,G31,H31,I31,J31)/5 -> 1
B32: 528 | C32: 0 | E32: 남 | G32: 8 | H32: 8 | J32: 3 | K32: =SUM(F32,G32,H32,I32,J32) -> 19 | L32: ='1주차'!K32 -> 38 | M32: =SUM(K32,L32) -> 57 | N32: =RANK(K32,K$6:K$125) -> 69 | O32: =COUNTA(F32,G32,H32,I32,J32)/5 -> 0.6
B33: 529 | C33: 0 | E33: 여 | K33: =SUM(F33,G33,H33,I33,J33) -> 0 | L33: ='1주차'!K33 -> 0 | M33: =SUM(K33,L33) -> 0 | N33: =RANK(K33,K$6:K$125) -> 92 | O33: =COUNTA(F33,G33,H33,I33,J33)/5 -> 0
B34: 530 | C34: 0 | E34: 남 | K34: =SUM(F34,G34,H34,I34,J34) -> 0 | L34: ='1주차'!K34 -> 2 | M34: =SUM(K34,L34) -> 2 | N34: =RANK(K34,K$6:K$125) -> 92 | O34: =COUNTA(F34,G34,H34,I34,J34)/5 -> 0
B35: 531 | C35: 0 | E35: 남 | K35: =SUM(F35,G35,H35,I35,J35) -> 0 | L35: ='1주차'!K35 -> 0 | M35: =SUM(K35,L35) -> 0 | N35: =RANK(K35,K$6:K$125) -> 92 | O35: =COUNTA(F35,G35,H35,I35,J35)/5 -> 0
B36: 532 | C36: 0 | E36: 여 | K36: =SUM(F36,G36,H36,I36,J36) -> 0 | L36: ='1주차'!K36 -> 0 | M36: =SUM(K36,L36) -> 0 | N36: =RANK(K36,K$6:K$125) -> 92 | O36: =COUNTA(F36,G36,H36,I36,J36)/5 -> 0
B37: 533 | C37: 0 | E37: 여 | K37: =SUM(F37,G37,H37,I37,J37) -> 0 | L37: ='1주차'!K37 -> 0 | M37: =SUM(K37,L37) -> 0 | N37: =RANK(K37,K$6:K$125) -> 92 | O37: =COUNTA(F37,G37,H37,I37,J37)/5 -> 0
B38: 534 | C38: 0 | E38: 남 | F38: 9 | G38: 9 | H38: 11 | I38: 5 | J38: 7 | K38: =SUM(F38,G38,H38,I38,J38) -> 41 | L38: ='1주차'!K38 -> 30 | M38: =SUM(K38,L38) -> 71 | N38: =RANK(K38,K$6:K$125) -> 30 | O38: =COUNTA(F38,G38,H38,I38,J38)/5 -> 1
B39: 535 | C39: 0 | E39: 남 | K39: =SUM(F39,G39,H39,I39,J39) -> 0 | L39: ='1주차'!K39 -> 0 | M39: =SUM(K39,L39) -> 0 | N39: =RANK(K39,K$6:K$125) -> 92 | O39: =COUNTA(F39,G39,H39,I39,J39)/5 -> 0
B40: 536 | C40: 0 | E40: 남 | F40: 6 | G40: 6 | H40: 10 | I40: 4 | J40: 8 | K40: =SUM(F40,G40,H40,I40,J40) -> 34 | L40: ='1주차'!K40 -> 49 | M40: =SUM(K40,L40) -> 83 | N40: =RANK(K40,K$6:K$125) -> 39 | O40: =COUNTA(F40,G40,H40,I40,J40)/5 -> 1
B41: 537 | C41: 0 | E41: 남 | F41: 7 | G41: 8 | H41: 7 | I41: 8 | J41: 5 | K41: =SUM(F41,G41,H41,I41,J41) -> 35 | L41: ='1주차'!K41 -> 38 | M41: =SUM(K41,L41) -> 73 | N41: =RANK(K41,K$6:K$125) -> 37 | O41: =COUNTA(F41,G41,H41,I41,J41)/5 -> 1
...

Sheet 3주차
B2: 5~6월 아침 모의고사 성적현황
B3: 시험 3주차 : 5월 27일 ~ 31일
B4: 수험 | C4: 구분 | E4: 성별 | F4: 27 | G4: 28 | H4: 29 | I4: 30 | J4: 31 | K4: 주간성적 | N4: 등수 | O4: 모의고사 참여율 | P4: 비고
A5: 수험 번호 | B5: 번호 | C5: 입문 | D5: 심화 | F5: 한국사 형법 | G5: 형소법 한국사 | H5: 경찰학 형소법 | I5: 형법 경찰학 | J5: 영어 | K5: 주간 총점 | L5: 누적 총점 | M5: 전체 총점
B6: 501 | C6: 0 | E6: 남 | F6: 6 | G6: 9 | I6: 3 | K6: =SUM(F6,G6,H6,I6,J6) -> 18 | L6: ='2주차'!M7 -> 54 | M6: =SUM(K6,L6) -> 72 | N6: =RANK(M6,M$6:M$106) -> 58 | O6: =COUNTA(F6,G6,H6,I6,J6)/5 -> 0.6
B7: 503 | C7: 0 | E7: 남 | G7: 12 | H7: 11 | K7: =SUM(F7,G7,H7,I7,J7) -> 23 | L7: ='2주차'!M9 -> 24 | M7: =SUM(K7,L7) -> 47 | N7: =RANK(M7,M$6:M$106) -> 78 | O7: =COUNTA(F7,G7,H7,I7,J7)/5 -> 0.4
B8: 504 | C8: 0 | E8: 남 | F8: 5 | G8: 8 | H8: 4 | I8: 1 | J8: 3 | K8: =SUM(F8,G8,H8,I8,J8) -> 21 | L8: ='2주차'!M10 -> 45 | M8: =SUM(K8,L8) -> 66 | N8: =RANK(M8,M$6:M$106) -> 65 | O8: =COUNTA(F8,G8,H8,I8,J8)/5 -> 1
B9: 510 | C9: 0 | E9: 여 | G9: 11 | H9: 5 | I9: 7 | K9: =SUM(F9,G9,H9,I9,J9) -> 23 | L9: ='2주차'!M15 -> 69 | M9: =SUM(K9,L9) -> 92 | N9: =RANK(M9,M$6:M$106) -> 44 | O9: =COUNTA(F9,G9,H9,I9,J9)/5 -> 0.6
B10: 511 | C10: 0 | E10: 여 | F10: 11 | G10: 8 | H10: 6 | J10: 6 | K10: =SUM(F10,G10,H10,I10,J10) -> 31 | L10: ='2주차'!M16 -> 90 | M10: =SUM(K10,L10) -> 121 | N10: =RANK(M10,M$6:M$106) -> 26 | O10: =COUNTA(F10,G10,H10,I10,J10)/5 -> 0.8
B11: 512 | C11: 0 | E11: 여 | F11: 9 | G11: 11 | H11: 4 | J11: 5 | K11: =SUM(F11,G11,H11,I11,J11) -> 29 | L11: ='2주차'!M17 -> 84 | M11: =SUM(K11,L11) -> 113 | N11: =RANK(M11,M$6:M$106) -> 30 | O11: =COUNTA(F11,G11,H11,I11,J11)/5 -> 0.8
B12: 516 | C12: 0 | E12: 남 | F12: 6 | G12: 7 | J12: 7 | K12: =SUM(F12,G12,H12,I12,J12) -> 20 | L12: ='2주차'!M20 -> 45 | M12: =SUM(K12,L12) -> 65 | N12: =RANK(M12,M$6:M$106) -> 66 | O12: =COUNTA(F12,G12,H12,I12,J12)/5 -> 0.6
B13: 517 | C13: 0 | E13: 남 | K13: =SUM(F13,G13,H13,I13,J13) -> 0 | L13: ='2주차'!M21 -> 27 | M13: =SUM(K13,L13) -> 27 | N13: =RANK(M13,M$6:M$106) -> 88 | O13: =COUNTA(F13,G13,H13,I13,J13)/5 -> 0
B14: 518 | C14: 0 | E14: 여 | F14: 2 | G14: 5 | H14: 7 | I14: 3 | J14: 3 | K14: =SUM(F14,G14,H14,I14,J14) -> 20 | L14: ='2주차'!M22 -> 65 | M14: =SUM(K14,L14) -> 85 | N14: =RANK(M14,M$6:M$106) -> 51 | O14: =COUNTA(F14,G14,H14,I14,J14)/5 -> 1
B15: 519 | C15: 0 | E15: 여 | K15: =SUM(F15,G15,H15,I15,J15) -> 0 | L15: ='2주차'!M23 -> 8 | M15: =SUM(K15,L15) -> 8 | N15: =RANK(M15,M$6:M$106) -> 91 | O15: =COUNTA(F15,G15,H15,I15,J15)/5 -> 0
B16: 522 | C16: 0 | E16: 남 | K16: =SUM(F16,G16,H16,I16,J16) -> 0 | L16: ='2주차'!M26 -> 0 | M16: =SUM(K16,L16) -> 0 | N16: =RANK(M16,M$6:M$106) -> 97 | O16: =COUNTA(F16,G16,H16,I16,J16)/5 -> 0
B17: 523 | C17: 0 | E17: 남 | F17: 13 | G17: 6 | H17: 7 | I17: 2 | J17: 9 | K17: =SUM(F17,G17,H17,I17,J17) -> 37 | L17: ='2주차'!M27 -> 92 | M17: =SUM(K17,L17) -> 129 | N17: =RANK(M17,M$6:M$106) -> 21 | O17: =COUNTA(F17,G17,H17,I17,J17)/5 -> 1
B18: 524 | D18: 0 | E18: 남 | F18: 9 | G18: 12 | H18: 15 | I18: 10 | J18: 9 | K18: =SUM(F18,G18,H18,I18,J18) -> 55 | L18: ='2주차'!M28 -> 108 | M18: =SUM(K18,L18) -> 163 | N18: =RANK(M18,M$6:M$106) -> 5 | O18: =COUNTA(F18,G18,H18,I18,J18)/5 -> 1 | P18: 장학후보
B19: 527 | C19: 0 | E19: 남 | F19: 6 | G19: 6 | H19: 5 | K19: =SUM(F19,G19,H19,I19,J19) -> 17 | L19: ='2주차'!M31 -> 75 | M19: =SUM(K19,L19) -> 92 | N19: =RANK(M19,M$6:M$106) -> 44 | O19: =COUNTA(F19,G19,H19,I19,J19)/5 -> 0.6
B20: 528 | C20: 0 | E20: 남 | F20: 10 | G20: 8 | H20: 8 | I20: 4 | J20: 4 | K20: =SUM(F20,G20,H20,I20,J20) -> 34 | L20: ='2주차'!M32 -> 57 | M20: =SUM(K20,L20) -> 91 | N20: =RANK(M20,M$6:M$106) -> 46 | O20: =COUNTA(F20,G20,H20,I20,J20)/5 -> 1
B21: 530 | C21: 0 | E21: 남 | K21: =SUM(F21,G21,H21,I21,J21) -> 0 | L21: ='2주차'!M34 -> 2 | M21: =SUM(K21,L21) -> 2 | N21: =RANK(M21,M$6:M$106) -> 94 | O21: =COUNTA(F21,G21,H21,I21,J21)/5 -> 0
B22: 534 | C22: 0 | E22: 남 | F22: 14 | H22: 7 | I22: 6 | J22: 7 | K22: =SUM(F22,G22,H22,I22,J22) -> 34 | L22: ='2주차'!M38 -> 71 | M22: =SUM(K22,L22) -> 105 | N22: =RANK(M22,M$6:M$106) -> 36 | O22: =COUNTA(F22,G22,H22,I22,J22)/5 -> 0.8
B23: 535 | C23: 0 | E23: 남 | K23: =SUM(F23,G23,H23,I23,J23) -> 0 | L23: ='2주차'!M39 -> 0 | M23: =SUM(K23,L23) -> 0 | N23: =RANK(M23,M$6:M$106) -> 97 | O23: =COUNTA(F23,G23,H23,I23,J23)/5 -> 0
B24: 536 | C24: 0 | E24: 남 | F24: 8 | G24: 4 | H24: 9 | I24: 6 | J24: 6 | K24: =SUM(F24,G24,H24,I24,J24) -> 33 | L24: ='2주차'!M40 -> 83 | M24: =SUM(K24,L24) -> 116 | N24: =RANK(M24,M$6:M$106) -> 28 | O24: =COUNTA(F24,G24,H24,I24,J24)/5 -> 1
B25: 537 | C25: 0 | E25: 남 | F25: 10 | G25: 7 | H25: 8 | K25: =SUM(F25,G25,H25,I25,J25) -> 25 | L25: ='2주차'!M41 -> 73 | M25: =SUM(K25,L25) -> 98 | N25: =RANK(M25,M$6:M$106) -> 39 | O25: =COUNTA(F25,G25,H25,I25,J25)/5 -> 0.6
B26: 538 | C26: 0 | E26: 여 | F26: 5 | G26: 4 | H26: 8 | I26: 4 | K26: =SUM(F26,G26,H26,I26,J26) -> 21 | L26: ='2주차'!M42 -> 51 | M26: =SUM(K26,L26) -> 72 | N26: =RANK(M26,M$6:M$106) -> 58 | O26: =COUNTA(F26,G26,H26,I26,J26)/5 -> 0.8
B27: 540 | C27: 0 | E27: 남 | G27: 7 | K27: =SUM(F27,G27,H27,I27,J27) -> 7 | L27: ='2주차'!M43 -> 23 | M27: =SUM(K27,L27) -> 30 | N27: =RANK(M27,M$6:M$106) -> 84 | O27: =COUNTA(F27,G27,H27,I27,J27)/5 -> 0.2
B28: 541 | C28: 0 | E28: 남 | K28: =SUM(F28,G28,H28,I28,J28) -> 0 | L28: ='2주차'!M44 -> 0 | M28: =SUM(K28,L28) -> 0 | N28: =RANK(M28,M$6:M$106) -> 97 | O28: =COUNTA(F28,G28,H28,I28,J28)/5 -> 0
B29: 650 | C29: 0 | E29: 남 | K29: =SUM(F29,G29,H29,I29,J29) -> 0 | L29: ='2주차'!M45 -> 0 | M29: =SUM(K29,L29) -> 0 | N29: =RANK(M29,M$6:M$106) -> 97 | O29: =COUNTA(F29,G29,H29,I29,J29)/5 -> 0
B30: 651 | D30: 0 | E30: 여 | F30: 5 | G30: 10 | H30: 11 | I30: 11 | J30: 5 | K30: =SUM(F30,G30,H30,I30,J30) -> 42 | L30: ='2주차'!M46 -> 100 | M30: =SUM(K30,L30) -> 142 | N30: =RANK(M30,M$6:M$106) -> 14 | O30: =COUNTA(F30,G30,H30,I30,J30)/5 -> 1
B31: 652 | C31: 0 | E31: 여 | G31: 12 | K31: =SUM(F31,G31,H31,I31,J31) -> 12 | L31: ='2주차'!M47 -> 97 | M31: =SUM(K31,L31) -> 109 | N31: =RANK(M31,M$6:M$106) -> 33 | O31: =COUNTA(F31,G31,H31,I31,J31)/5 -> 0.2
B32: 653 | D32: 0 | E32: 여 | I32: 7 | K32: =SUM(F32,G32,H32,I32,J32) -> 7 | L32: ='2주차'!M48 -> 19 | M32: =SUM(K32,L32) -> 26 | N32: =RANK(M32,M$6:M$106) -> 89 | O32: =COUNTA(F32,G32,H32,I32,J32)/5 -> 0.2
B33: 654 | C33: 0 | E33: 여 | G33: 4 | K33: =SUM(F33,G33,H33,I33,J33) -> 4 | L33: ='2주차'!M49 -> 30 | M33: =SUM(K33,L33) -> 34 | N33: =RANK(M33,M$6:M$106) -> 83 | O33: =COUNTA(F33,G33,H33,I33,J33)/5 -> 0.2
B34: 655 | D34: 0 | E34: 여 | F34: 5 | G34: 7 | H34: 15 | I34: 9 | J34: 6 | K34: =SUM(F34,G34,H34,I34,J34) -> 42 | L34: ='2주차'!M50 -> 65 | M34: =SUM(K34,L34) -> 107 | N34: =RANK(M34,M$6:M$106) -> 35 | O34: =COUNTA(F34,G34,H34,I34,J34)/5 -> 1
B35: 656 | D35: 0 | E35: 여 | F35: 9 | G35: 10 | H35: 13 | I35: 14 | J35: 10 | K35: =SUM(F35,G35,H35,I35,J35) -> 56 | L35: ='2주차'!M51 -> 110 | M35: =SUM(K35,L35) -> 166 | N35: =RANK(M35,M$6:M$106) -> 3 | O35: =COUNTA(F35,G35,H35,I35,J35)/5 -> 1 | P35: 장학후보
B36: 657 | C36: 0 | E36: 여 | F36: 7 | G36: 10 | H36: 5 | I36: 5 | J36: 7 | K36: =SUM(F36,G36,H36,I36,J36) -> 34 | L36: ='2주차'!M52 -> 53 | M36: =SUM(K36,L36) -> 87 | N36: =RANK(M36,M$6:M$106) -> 50 | O36: =COUNTA(F36,G36,H36,I36,J36)/5 -> 1
B37: 658 | D37: 0 | E37: 남 | F37: 1 | G37: 8 | H37: 7 | I37: 3 | J37: 4 | K37: =SUM(F37,G37,H37,I37,J37) -> 23 | L37: ='2주차'!M53 -> 47 | M37: =SUM(K37,L37) -> 70 | N37: =RANK(M37,M$6:M$106) -> 60 | O37: =COUNTA(F37,G37,H37,I37,J37)/5 -> 1
B38: 659 | D38: 0 | E38: 남 | F38: 9 | G38: 11 | H38: 15 | I38: 15 | J38: 14 | K38: =SUM(F38,G38,H38,I38,J38) -> 64 | L38: ='2주차'!M54 -> 134 | M38: =SUM(K38,L38) -> 198 | N38: =RANK(M38,M$6:M$106) -> 1 | O38: =COUNTA(F38,G38,H38,I38,J38)/5 -> 1 | P38: 장학후보
B39: 660 | D39: 0 | E39: 여 | K39: =SUM(F39,G39,H39,I39,J39) -> 0 | L39: ='2주차'!M55 -> 50 | M39: =SUM(K39,L39) -> 50 | N39: =RANK(M39,M$6:M$106) -> 75 | O39: =COUNTA(F39,G39,H39,I39,J39)/5 -> 0
B40: 661 | D40: 0 | E40: 남 | F40: 6 | G40: 9 | H40: 14 | I40: 9 | J40: 5 | K40: =SUM(F40,G40,H40,I40,J40) -> 43 | L40: ='2주차'!M56 -> 80 | M40: =SUM(K40,L40) -> 123 | N40: =RANK(M40,M$6:M$106) -> 25 | O40: =COUNTA(F40,G40,H40,I40,J40)/5 -> 1
B41: 662 | D41: 0 | E41: 여 | F41: 6 | G41: 8 | H41: 8 | I41: 5 | J41: 8 | K41: =SUM(F41,G41,H41,I41,J41) -> 35 | L41: ='2주차'!M57 -> 61 | M41: =SUM(K41,L41) -> 96 | N41: =RANK(M41,M$6:M$106) -> 42 | O41: =COUNTA(F41,G41,H41,I41,J41)/5 -> 1
...

Sheet 4주차
B2: 5~6월 아침 모의고사 성적현황
B3: 시험 4주차 : 6월 3일 ~ 7일
B4: 수험 | C4: 구분 | E4: 성별 | F4: 3 | G4: 4 | H4: 5 | I4: 6 | J4: 7 | K4: 주간성적 | N4: 등수 | O4: 모의고사 참여율 | P4: 비 고
B5: 번호 | C5: 입문 | D5: 심화 | F5: 한국사 형법 | G5: 형소법 한국사 | H5: 경찰학 형소법 | I5: 형법 경찰학 | J5: 영어 | K5: 주간 총점 | L5: 누적 총점 | M5: 전체 총점
B6: 501 | C6: 0 | E6: 남 | K6: =SUM(F6,G6,H6,I6,J6) -> 0 | L6: ='[1]3주차'!P6 -> 72 | M6: =SUM(K6,L6) -> 72 | N6: =RANK(M6,M$6:M$107) -> 70 | O6: =COUNTA(F6,G6,H6,I6,J6)/5 -> 0
B7: 503 | D7: 0 | E7: 남 | F7: 6 | G7: 13 | I7: 9 | K7: =SUM(F7,G7,H7,I7,J7) -> 28 | L7: ='[1]3주차'!P7 -> 47 | M7: =SUM(K7,L7) -> 75 | N7: =RANK(M7,M$6:M$107) -> 66 | O7: =COUNTA(F7,G7,H7,I7,J7)/5 -> 0.6
B8: 504 | C8: 0 | E8: 남 | F8: 1 | I8: 4 | J8: 2 | K8: =SUM(F8,G8,H8,I8,J8) -> 7 | L8: ='[1]3주차'!P8 -> 66 | M8: =SUM(K8,L8) -> 73 | N8: =RANK(M8,M$6:M$107) -> 68 | O8: =COUNTA(F8,G8,H8,I8,J8)/5 -> 0.6
B9: 510 | C9: 0 | E9: 여 | G9: 13 | H9: 11 | I9: 6 | K9: =SUM(F9,G9,H9,I9,J9) -> 30 | L9: ='[1]3주차'!P9 -> 92 | M9: =SUM(K9,L9) -> 122 | N9: =RANK(M9,M$6:M$107) -> 41 | O9: =COUNTA(F9,G9,H9,I9,J9)/5 -> 0.6
B10: 511 | C10: 0 | E10: 여 | F10: 9 | G10: 12 | H10: 8 | I10: 3 | J10: 6 | K10: =SUM(F10,G10,H10,I10,J10) -> 38 | L10: ='[1]3주차'!P10 -> 121 | M10: =SUM(K10,L10) -> 159 | N10: =RANK(M10,M$6:M$107) -> 23 | O10: =COUNTA(F10,G10,H10,I10,J10)/5 -> 1
B11: 512 | C11: 0 | E11: 여 | F11: 6 | G11: 11 | H11: 9 | I11: 6 | J11: 9 | K11: =SUM(F11,G11,H11,I11,J11) -> 41 | L11: ='[1]3주차'!P11 -> 113 | M11: =SUM(K11,L11) -> 154 | N11: =RANK(M11,M$6:M$107) -> 26 | O11: =COUNTA(F11,G11,H11,I11,J11)/5 -> 1
B12: 516 | C12: 0 | E12: 남 | F12: 7 | H12: 5 | I12: 1 | K12: =SUM(F12,G12,H12,I12,J12) -> 13 | L12: ='[1]3주차'!P12 -> 65 | M12: =SUM(K12,L12) -> 78 | N12: =RANK(M12,M$6:M$107) -> 64 | O12: =COUNTA(F12,G12,H12,I12,J12)/5 -> 0.6
B13: 517 | C13: 0 | E13: 남 | K13: =SUM(F13,G13,H13,I13,J13) -> 0 | L13: ='[1]3주차'!P13 -> 27 | M13: =SUM(K13,L13) -> 27 | N13: =RANK(M13,M$6:M$107) -> 88 | O13: =COUNTA(F13,G13,H13,I13,J13)/5 -> 0
B14: 518 | C14: 0 | E14: 여 | F14: 4 | G14: 8 | H14: 7 | I14: 4 | K14: =SUM(F14,G14,H14,I14,J14) -> 23 | L14: ='[1]3주차'!P14 -> 85 | M14: =SUM(K14,L14) -> 108 | N14: =RANK(M14,M$6:M$107) -> 51 | O14: =COUNTA(F14,G14,H14,I14,J14)/5 -> 0.8
B15: 519 | C15: 0 | E15: 여 | K15: =SUM(F15,G15,H15,I15,J15) -> 0 | L15: ='[1]3주차'!P15 -> 8 | M15: =SUM(K15,L15) -> 8 | N15: =RANK(M15,M$6:M$107) -> 91 | O15: =COUNTA(F15,G15,H15,I15,J15)/5 -> 0
B16: 522 | C16: 0 | E16: 남 | K16: =SUM(F16,G16,H16,I16,J16) -> 0 | L16: ='[1]3주차'!P16 -> 0 | M16: =SUM(K16,L16) -> 0 | N16: =RANK(M16,M$6:M$107) -> 98 | O16: =COUNTA(F16,G16,H16,I16,J16)/5 -> 0
B17: 523 | C17: 0 | E17: 남 | F17: 11 | H17: 7 | I17: 4 | J17: 9 | K17: =SUM(F17,G17,H17,I17,J17) -> 31 | L17: ='[1]3주차'!P17 -> 129 | M17: =SUM(K17,L17) -> 160 | N17: =RANK(M17,M$6:M$107) -> 21 | O17: =COUNTA(F17,G17,H17,I17,J17)/5 -> 0.8
B18: 524 | D18: 0 | E18: 남 | F18: 6 | G18: 11 | H18: 14 | I18: 12 | J18: 8 | K18: =SUM(F18,G18,H18,I18,J18) -> 51 | L18: ='[1]3주차'!P18 -> 164 | M18: =SUM(K18,L18) -> 215 | N18: =RANK(M18,M$6:M$107) -> 5 | O18: =COUNTA(F18,G18,H18,I18,J18)/5 -> 1 | P18: 장학후보
B19: 527 | C19: 0 | E19: 남 | G19: 4 | H19: 7 | J19: 6 | K19: =SUM(F19,G19,H19,I19,J19) -> 17 | L19: ='[1]3주차'!P19 -> 92 | M19: =SUM(K19,L19) -> 109 | N19: =RANK(M19,M$6:M$107) -> 50 | O19: =COUNTA(F19,G19,H19,I19,J19)/5 -> 0.6
B20: 528 | C20: 0 | E20: 남 | F20: 8 | G20: 12 | H20: 10 | I20: 4 | J20: 5 | K20: =SUM(F20,G20,H20,I20,J20) -> 39 | L20: ='[1]3주차'!P20 -> 91 | M20: =SUM(K20,L20) -> 130 | N20: =RANK(M20,M$6:M$107) -> 37 | O20: =COUNTA(F20,G20,H20,I20,J20)/5 -> 1
B21: 530 | C21: 0 | E21: 남 | K21: =SUM(F21,G21,H21,I21,J21) -> 0 | L21: ='[1]3주차'!P21 -> 2 | M21: =SUM(K21,L21) -> 2 | N21: =RANK(M21,M$6:M$107) -> 95 | O21: =COUNTA(F21,G21,H21,I21,J21)/5 -> 0
B22: 534 | C22: 0 | E22: 남 | F22: 8 | G22: 6 | H22: 7 | J22: 7 | K22: =SUM(F22,G22,H22,I22,J22) -> 28 | L22: ='[1]3주차'!P22 -> 105 | M22: =SUM(K22,L22) -> 133 | N22: =RANK(M22,M$6:M$107) -> 35 | O22: =COUNTA(F22,G22,H22,I22,J22)/5 -> 0.8
B23: 535 | C23: 0 | E23: 남 | K23: =SUM(F23,G23,H23,I23,J23) -> 0 | L23: ='[1]3주차'!P23 -> 0 | M23: =SUM(K23,L23) -> 0 | N23: =RANK(M23,M$6:M$107) -> 98 | O23: =COUNTA(F23,G23,H23,I23,J23)/5 -> 0
B24: 536 | C24: 0 | E24: 남 | F24: 5 | G24: 11 | H24: 10 | I24: 3 | K24: =SUM(F24,G24,H24,I24,J24) -> 29 | L24: ='[1]3주차'!P24 -> 116 | M24: =SUM(K24,L24) -> 145 | N24: =RANK(M24,M$6:M$107) -> 31 | O24: =COUNTA(F24,G24,H24,I24,J24)/5 -> 0.8
B25: 537 | C25: 0 | E25: 남 | F25: 6 | G25: 11 | H25: 5 | I25: 2 | K25: =SUM(F25,G25,H25,I25,J25) -> 24 | L25: ='[1]3주차'!P25 -> 98 | M25: =SUM(K25,L25) -> 122 | N25: =RANK(M25,M$6:M$107) -> 41 | O25: =COUNTA(F25,G25,H25,I25,J25)/5 -> 0.8
B26: 538 | C26: 0 | E26: 여 | F26: 4 | H26: 9 | J26: 2 | K26: =SUM(F26,G26,H26,I26,J26) -> 15 | L26: ='[1]3주차'!P26 -> 72 | M26: =SUM(K26,L26) -> 87 | N26: =RANK(M26,M$6:M$107) -> 61 | O26: =COUNTA(F26,G26,H26,I26,J26)/5 -> 0.6
B27: 540 | C27: 0 | E27: 남 | G27: 10 | K27: =SUM(F27,G27,H27,I27,J27) -> 10 | L27: ='[1]3주차'!P27 -> 30 | M27: =SUM(K27,L27) -> 40 | N27: =RANK(M27,M$6:M$107) -> 81 | O27: =COUNTA(F27,G27,H27,I27,J27)/5 -> 0.2
B28: 541 | C28: 0 | E28: 남 | K28: =SUM(F28,G28,H28,I28,J28) -> 0 | L28: ='[1]3주차'!P28 -> 0 | M28: =SUM(K28,L28) -> 0 | N28: =RANK(M28,M$6:M$107) -> 98 | O28: =COUNTA(F28,G28,H28,I28,J28)/5 -> 0
B29: 543 | C29: 0 | E29: 여 | J29: 4 | K29: =SUM(F29,G29,H29,I29,J29) -> 4 | L29: ='[1]3주차'!P29 -> 0 | M29: =SUM(K29,L29) -> 4 | N29: =RANK(M29,M$6:M$107) -> 93 | O29: =COUNTA(F29,G29,H29,I29,J29)/5 -> 0.2
B30: 650 | C30: 0 | E30: 남 | K30: =SUM(F30,G30,H30,I30,J30) -> 0 | L30: ='[1]3주차'!P29 -> 0 | M30: =SUM(K30,L30) -> 0 | N30: =RANK(M30,M$6:M$107) -> 98 | O30: =COUNTA(F30,G30,H30,I30,J30)/5 -> 0
B31: 651 | D31: 0 | E31: 여 | F31: 8 | G31: 8 | H31: 12 | I31: 7 | J31: 7 | K31: =SUM(F31,G31,H31,I31,J31) -> 42 | L31: ='[1]3주차'!P30 -> 143 | M31: =SUM(K31,L31) -> 185 | N31: =RANK(M31,M$6:M$107) -> 13 | O31: =COUNTA(F31,G31,H31,I31,J31)/5 -> 1
B32: 652 | C32: 0 | E32: 여 | G32: 13 | H32: 8 | I32: 7 | J32: 5 | K32: =SUM(F32,G32,H32,I32,J32) -> 33 | L32: ='[1]3주차'!P31 -> 109 | M32: =SUM(K32,L32) -> 142 | N32: =RANK(M32,M$6:M$107) -> 32 | O32: =COUNTA(F32,G32,H32,I32,J32)/5 -> 0.8
B33: 653 | D33: 0 | E33: 여 | K33: =SUM(F33,G33,H33,I33,J33) -> 0 | L33: ='[1]3주차'!P32 -> 26 | M33: =SUM(K33,L33) -> 26 | N33: =RANK(M33,M$6:M$107) -> 89 | O33: =COUNTA(F33,G33,H33,I33,J33)/5 -> 0
B34: 654 | C34: 0 | E34: 여 | J34: 5 | K34: =SUM(F34,G34,H34,I34,J34) -> 5 | L34: ='[1]3주차'!P33 -> 34 | M34: =SUM(K34,L34) -> 39 | N34: =RANK(M34,M$6:M$107) -> 83 | O34: =COUNTA(F34,G34,H34,I34,J34)/5 -> 0.2
B35: 655 | D35: 0 | E35: 여 | F35: 7 | G35: 9 | H35: 11 | I35: 7 | J35: 7 | K35: =SUM(F35,G35,H35,I35,J35) -> 41 | L35: ='[1]3주차'!P34 -> 108 | M35: =SUM(K35,L35) -> 149 | N35: =RANK(M35,M$6:M$107) -> 29 | O35: =COUNTA(F35,G35,H35,I35,J35)/5 -> 1
B36: 656 | D36: 0 | E36: 여 | F36: 7 | G36: 12 | H36: 14 | I36: 14 | J36: 4 | K36: =SUM(F36,G36,H36,I36,J36) -> 51 | L36: ='[1]3주차'!P35 -> 166 | M36: =SUM(K36,L36) -> 217 | N36: =RANK(M36,M$6:M$107) -> 3 | O36: =COUNTA(F36,G36,H36,I36,J36)/5 -> 1 | P36: 장학후보
B37: 657 | C37: 0 | E37: 여 | F37: 5 | G37: 8 | H37: 3 | I37: 5 | J37: 5 | K37: =SUM(F37,G37,H37,I37,J37) -> 26 | L37: ='[1]3주차'!P36 -> 87 | M37: =SUM(K37,L37) -> 113 | N37: =RANK(M37,M$6:M$107) -> 48 | O37: =COUNTA(F37,G37,H37,I37,J37)/5 -> 1
B38: 658 | D38: 0 | E38: 남 | F38: 5 | G38: 9 | H38: 4 | I38: 4 | K38: =SUM(F38,G38,H38,I38,J38) -> 22 | L38: ='[1]3주차'!P37 -> 71 | M38: =SUM(K38,L38) -> 93 | N38: =RANK(M38,M$6:M$107) -> 58 | O38: =COUNTA(F38,G38,H38,I38,J38)/5 -> 0.8
B39: 659 | D39: 0 | E39: 남 | F39: 9 | G39: 13 | H39: 14 | J39: 12 | K39: =SUM(F39,G39,H39,I39,J39) -> 48 | L39: ='[1]3주차'!P38 -> 199 | M39: =SUM(K39,L39) -> 247 | N39: =RANK(M39,M$6:M$107) -> 1 | O39: =COUNTA(F39,G39,H39,I39,J39)/5 -> 0.8 | P39: 장학후보
B40: 660 | D40: 0 | E40: 여 | K40: =SUM(F40,G40,H40,I40,J40) -> 0 | L40: ='[1]3주차'!P39 -> 50 | M40: =SUM(K40,L40) -> 50 | N40: =RANK(M40,M$6:M$107) -> 79 | O40: =COUNTA(F40,G40,H40,I40,J40)/5 -> 0
B41: 661 | D41: 0 | E41: 남 | F41: 4 | G41: 6 | H41: 11 | I41: 8 | K41: =SUM(F41,G41,H41,I41,J41) -> 29 | L41: ='[1]3주차'!P40 -> 124 | M41: =SUM(K41,L41) -> 153 | N41: =RANK(M41,M$6:M$107) -> 27 | O41: =COUNTA(F41,G41,H41,I41,J41)/5 -> 0.8
...

Sheet Sheet2
