Workbook

Sheet 1주차
B2: 3~4월 아침 모의고사 성적현황
B3: 시험 1주차 : 3월 11일 ~ 18일
D4: 11 | E4: 12 | F4: 13 | G4: 14 | H4: 15 | I4: 주간성적 | K4: 모의고사 참여율 | L4: 비고
A5: 수험 번호 | B5: 수험 번호 | C5: 성별 | D5: 형법 | E5: 한국사 | F5: 형소법 | G5: 경찰학 | H5: 영어 | I5: 전체 총점 | J5: 등수
B6: 100 | C6: 남 | D6: 5 | E6: 9 | F6: 4 | H6: 8 | I6: =SUM(D6,E6,F6,G6,H6) -> 26 | J6: =RANK(I6,I$6:I$127) -> 63 | K6: =COUNTA(D6,E6,F6,G6,H6)/5 -> 0.8
B7: 101 | C7: 남 | I7: =SUM(D7,E7,F7,G7,H7) -> 0 | J7: =RANK(I7,I$6:I$127) -> 99 | K7: =COUNTA(D7,E7,F7,G7,H7)/5 -> 0
B8: 102 | C8: 남 | I8: =SUM(D8,E8,F8,G8,H8) -> 0 | J8: =RANK(I8,I$6:I$127) -> 99 | K8: =COUNTA(D8,E8,F8,G8,H8)/5 -> 0
B9: 103 | C9: 남 | D9: 5 | E9: 11 | F9: 11 | G9: 4 | I9: =SUM(D9,E9,F9,G9,H9) -> 31 | J9: =RANK(I9,I$6:I$127) -> 54 | K9: =COUNTA(D9,E9,F9,G9,H9)/5 -> 0.8
B10: 105 | C10: 여 | I10: =SUM(D10,E10,F10,G10,H10) -> 0 | J10: =RANK(I10,I$6:I$127) -> 99 | K10: =COUNTA(D10,E10,F10,G10,H10)/5 -> 0
B11: 106 | C11: 여 | I11: =SUM(D11,E11,F11,G11,H11) -> 0 | J11: =RANK(I11,I$6:I$127) -> 99 | K11: =COUNTA(D11,E11,F11,G11,H11)/5 -> 0
B12: 107 | C12: 여 | D12: 4 | E12: 10 | F12: 9 | G12: 4 | H12: 5 | I12: =SUM(D12,E12,F12,G12,H12) -> 32 | J12: =RANK(I12,I$6:I$127) -> 52 | K12: =COUNTA(D12,E12,F12,G12,H12)/5 -> 1
B13: 108 | C13: 남 | I13: =SUM(D13,E13,F13,G13,H13) -> 0 | J13: =RANK(I13,I$6:I$127) -> 99 | K13: =COUNTA(D13,E13,F13,G13,H13)/5 -> 0
B14: 109 | C14: 남 | I14: =SUM(D14,E14,F14,G14,H14) -> 0 | J14: =RANK(I14,I$6:I$127) -> 99 | K14: =COUNTA(D14,E14,F14,G14,H14)/5 -> 0
B15: 110 | C15: 여 | I15: =SUM(D15,E15,F15,G15,H15) -> 0 | J15: =RANK(I15,I$6:I$127) -> 99 | K15: =COUNTA(D15,E15,F15,G15,H15)/5 -> 0
B16: 111 | C16: 여 | D16: 9 | E16: 15 | F16: 12 | G16: 12 | H16: 9 | I16: =SUM(D16,E16,F16,G16,H16) -> 57 | J16: =RANK(I16,I$6:I$127) -> 5 | K16: =COUNTA(D16,E16,F16,G16,H16)/5 -> 1
B17: 112 | C17: 남 | D17: 5 | E17: 7 | F17: 7 | I17: =SUM(D17,E17,F17,G17,H17) -> 19 | J17: =RANK(I17,I$6:I$127) -> 75 | K17: =COUNTA(D17,E17,F17,G17,H17)/5 -> 0.6
B18: 113 | C18: 남 | D18: 7 | E18: 14 | F18: 12 | G18: 11 | H18: 7 | I18: =SUM(D18,E18,F18,G18,H18) -> 51 | J18: =RANK(I18,I$6:I$127) -> 10 | K18: =COUNTA(D18,E18,F18,G18,H18)/5 -> 1
B19: 114 | C19: 남 | D19: 1 | E19: 11 | F19: 4 | H19: 6 | I19: =SUM(D19,E19,F19,G19,H19) -> 22 | J19: =RANK(I19,I$6:I$127) -> 71 | K19: =COUNTA(D19,E19,F19,G19,H19)/5 -> 0.8
B20: 115 | C20: 여 | I20: =SUM(D20,E20,F20,G20,H20) -> 0 | J20: =RANK(I20,I$6:I$127) -> 99 | K20: =COUNTA(D20,E20,F20,G20,H20)/5 -> 0
B21: 116 | C21: 남 | D21: 4 | E21: 12 | F21: 7 | G21: 4 | H21: 6 | I21: =SUM(D21,E21,F21,G21,H21) -> 33 | J21: =RANK(I21,I$6:I$127) -> 48 | K21: =COUNTA(D21,E21,F21,G21,H21)/5 -> 1
B22: 117 | C22: 남 | D22: 5 | E22: 14 | F22: 13 | G22: 8 | H22: 3 | I22: =SUM(D22,E22,F22,G22,H22) -> 43 | J22: =RANK(I22,I$6:I$127) -> 24 | K22: =COUNTA(D22,E22,F22,G22,H22)/5 -> 1
B23: 118 | C23: 여 | D23: 4 | E23: 10 | F23: 9 | G23: 9 | H23: 10 | I23: =SUM(D23,E23,F23,G23,H23) -> 42 | J23: =RANK(I23,I$6:I$127) -> 26 | K23: =COUNTA(D23,E23,F23,G23,H23)/5 -> 1
B24: 119 | C24: 남 | D24: 4 | E24: 13 | F24: 10 | G24: 13 | H24: 8 | I24: =SUM(D24,E24,F24,G24,H24) -> 48 | J24: =RANK(I24,I$6:I$127) -> 17 | K24: =COUNTA(D24,E24,F24,G24,H24)/5 -> 1
B25: 120 | C25: 남 | D25: 2 | E25: 14 | F25: 6 | G25: 11 | H25: 5 | I25: =SUM(D25,E25,F25,G25,H25) -> 38 | J25: =RANK(I25,I$6:I$127) -> 35 | K25: =COUNTA(D25,E25,F25,G25,H25)/5 -> 1
B26: 121 | C26: 남 | D26: 7 | F26: 11 | G26: 11 | H26: 9 | I26: =SUM(D26,E26,F26,G26,H26) -> 38 | J26: =RANK(I26,I$6:I$127) -> 35 | K26: =COUNTA(D26,E26,F26,G26,H26)/5 -> 0.8
B27: 122 | C27: 남 | D27: 3 | E27: 15 | F27: 11 | G27: 10 | H27: 12 | I27: =SUM(D27,E27,F27,G27,H27) -> 51 | J27: =RANK(I27,I$6:I$127) -> 10 | K27: =COUNTA(D27,E27,F27,G27,H27)/5 -> 1
B28: 123 | C28: 남 | D28: 4 | F28: 9 | G28: 5 | H28: 7 | I28: =SUM(D28,E28,F28,G28,H28) -> 25 | J28: =RANK(I28,I$6:I$127) -> 64 | K28: =COUNTA(D28,E28,F28,G28,H28)/5 -> 0.8
B29: 124 | C29: 남 | D29: 2 | E29: 8 | F29: 6 | G29: 8 | I29: =SUM(D29,E29,F29,G29,H29) -> 24 | J29: =RANK(I29,I$6:I$127) -> 67 | K29: =COUNTA(D29,E29,F29,G29,H29)/5 -> 0.8
B30: 125 | C30: 여 | D30: 5 | E30: 13 | I30: =SUM(D30,E30,F30,G30,H30) -> 18 | J30: =RANK(I30,I$6:I$127) -> 78 | K30: =COUNTA(D30,E30,F30,G30,H30)/5 -> 0.4
B31: 126 | C31: 남 | D31: 5 | E31: 13 | F31: 7 | G31: 5 | H31: 6 | I31: =SUM(D31,E31,F31,G31,H31) -> 36 | J31: =RANK(I31,I$6:I$127) -> 43 | K31: =COUNTA(D31,E31,F31,G31,H31)/5 -> 1
B32: 127 | C32: 남 | D32: 6 | E32: 15 | F32: 11 | H32: 5 | I32: =SUM(D32,E32,F32,G32,H32) -> 37 | J32: =RANK(I32,I$6:I$127) -> 39 | K32: =COUNTA(D32,E32,F32,G32,H32)/5 -> 0.8
B33: 128 | C33: 여 | I33: =SUM(D33,E33,F33,G33,H33) -> 0 | J33: =RANK(I33,I$6:I$127) -> 99 | K33: =COUNTA(D33,E33,F33,G33,H33)/5 -> 0
B34: 129 | C34: 남 | D34: 8 | E34: 15 | F34: 13 | G34: 15 | H34: 14 | I34: =SUM(D34,E34,F34,G34,H34) -> 65 | J34: =RANK(I34,I$6:I$127) -> 1 | K34: =COUNTA(D34,E34,F34,G34,H34)/5 -> 1
B35: 130 | C35: 여 | D35: 5 | E35: 13 | F35: 12 | G35: 11 | H35: 9 | I35: =SUM(D35,E35,F35,G35,H35) -> 50 | J35: =RANK(I35,I$6:I$127) -> 14 | K35: =COUNTA(D35,E35,F35,G35,H35)/5 -> 1
B36: 131 | C36: 남 | D36: 3 | E36: 8 | F36: 6 | G36: 4 | H36: 3 | I36: =SUM(D36,E36,F36,G36,H36) -> 24 | J36: =RANK(I36,I$6:I$127) -> 67 | K36: =COUNTA(D36,E36,F36,G36,H36)/5 -> 1
B37: 132 | C37: 남 | D37: 4 | G37: 11 | I37: =SUM(D37,E37,F37,G37,H37) -> 15 | J37: =RANK(I37,I$6:I$127) -> 85 | K37: =COUNTA(D37,E37,F37,G37,H37)/5 -> 0.4
B38: 133 | C38: 남 | D38: 4 | E38: 12 | F38: 9 | G38: 6 | H38: 6 | I38: =SUM(D38,E38,F38,G38,H38) -> 37 | J38: =RANK(I38,I$6:I$127) -> 39 | K38: =COUNTA(D38,E38,F38,G38,H38)/5 -> 1
B39: 134 | C39: 여 | D39: 6 | E39: 15 | F39: 14 | G39: 11 | H39: 11 | I39: =SUM(D39,E39,F39,G39,H39) -> 57 | J39: =RANK(I39,I$6:I$127) -> 5 | K39: =COUNTA(D39,E39,F39,G39,H39)/5 -> 1
B40: 135 | C40: 남 | I40: =SUM(D40,E40,F40,G40,H40) -> 0 | J40: =RANK(I40,I$6:I$127) -> 99 | K40: =COUNTA(D40,E40,F40,G40,H40)/5 -> 0
B41: 136 | C41: 남 | F41: 2 | I41: =SUM(D41,E41,F41,G41,H41) -> 2 | J41: =RANK(I41,I$6:I$127) -> 98 | K41: =COUNTA(D41,E41,F41,G41,H41)/5 -> 0.2
B42: 137 | C42: 남 | D42: 5 | E42: 15 | H42: 7 | I42: =SUM(D42,E42,F42,G42,H42) -> 27 | J42: =RANK(I42,I$6:I$127) -> 59 | K42: =COUNTA(D42,E42,F42,G42,H42)/5 -> 0.6
B43: 138 | C43: 남 | I43: =SUM(D43,E43,F43,G43,H43) -> 0 | J43: =RANK(I43,I$6:I$127) -> 99 | K43: =COUNTA(D43,E43,F43,G43,H43)/5 -> 0
B44: 139 | C44: 남 | D44: 5 | E44: 11 | F44: 12 | G44: 9 | H44: 11 | I44: =SUM(D44,E44,F44,G44,H44) -> 48 | J44: =RANK(I44,I$6:I$127) -> 17 | K44: =COUNTA(D44,E44,F44,G44,H44)/5 -> 1
B45: 140 | C45: 남 | D45: 4 | E45: 10 | F45: 7 | G45: 5 | H45: 6 | I45: =SUM(D45,E45,F45,G45,H45) -> 32 | J45: =RANK(I45,I$6:I$127) -> 52 | K45: =COUNTA(D45,E45,F45,G45,H45)/5 -> 1
B46: 141 | C46: 남 | D46: 3 | E46: 14 | F46: 11 | G46: 8 | I46: =SUM(D46,E46,F46,G46,H46) -> 36 | J46: =RANK(I46,I$6:I$127) -> 43 | K46: =COUNTA(D46,E46,F46,G46,H46)/5 -> 0.8
B47: 142 | C47: 남 | I47: =SUM(D47,E47,F47,G47,H47) -> 0 | J47: =RANK(I47,I$6:I$127) -> 99 | K47: =COUNTA(D47,E47,F47,G47,H47)/5 -> 0
B48: 143 | C48: 여 | I48: =SUM(D48,E48,F48,G48,H48) -> 0 | J48: =RANK(I48,I$6:I$127) -> 99 | K48: =COUNTA(D48,E48,F48,G48,H48)/5 -> 0
B49: 144 | C49: 남 | D49: 5 | E49: 11 | I49: =SUM(D49,E49,F49,G49,H49) -> 16 | J49: =RANK(I49,I$6:I$127) -> 83 | K49: =COUNTA(D49,E49,F49,G49,H49)/5 -> 0.4
B50: 145 | C50: 여 | D50: 4 | E50: 12 | F50: 9 | G50: 6 | H50: 11 | I50: =SUM(D50,E50,F50,G50,H50) -> 42 | J50: =RANK(I50,I$6:I$127) -> 26 | K50: =COUNTA(D50,E50,F50,G50,H50)/5 -> 1
B51: 146 | C51: 남 | I51: =SUM(D51,E51,F51,G51,H51) -> 0 | J51: =RANK(I51,I$6:I$127) -> 99 | K51: =COUNTA(D51,E51,F51,G51,H51)/5 -> 0
B52: 147 | C52: 남 | D52: 3 | E52: 11 | F52: 8 | G52: 5 | I52: =SUM(D52,E52,F52,G52,H52) -> 27 | J52: =RANK(I52,I$6:I$127) -> 59 | K52: =COUNTA(D52,E52,F52,G52,H52)/5 -> 0.8
B53: 148 | C53: 남 | E53: 10 | F53: 11 | G53: 10 | H53: 9 | I53: =SUM(D53,E53,F53,G53,H53) -> 40 | J53: =RANK(I53,I$6:I$127) -> 29 | K53: =COUNTA(D53,E53,F53,G53,H53)/5 -> 0.8
B54: 149 | C54: 남 | E54: 14 | G54: 11 | I54: =SUM(D54,E54,F54,G54,H54) -> 25 | J54: =RANK(I54,I$6:I$127) -> 64 | K54: =COUNTA(D54,E54,F54,G54,H54)/5 -> 0.4
B55: 150 | C55: 남 | D55: 4 | E55: 4 | F55: 7 | G55: 5 | H55: 7 | I55: =SUM(D55,E55,F55,G55,H55) -> 27 | J55: =RANK(I55,I$6:I$127) -> 59 | K55: =COUNTA(D55,E55,F55,G55,H55)/5 -> 1
B56: 151 | C56: 남 | D56: 5 | E56: 9 | F56: 8 | H56: 8 | I56: =SUM(D56,E56,F56,G56,H56) -> 30 | J56: =RANK(I56,I$6:I$127) -> 56 | K56: =COUNTA(D56,E56,F56,G56,H56)/5 -> 0.8
B57: 152 | C57: 남 | D57: 3 | E57: 14 | F57: 4 | G57: 5 | H57: 10 | I57: =SUM(D57,E57,F57,G57,H57) -> 36 | J57: =RANK(I57,I$6:I$127) -> 43 | K57: =COUNTA(D57,E57,F57,G57,H57)/5 -> 1
B58: 153 | C58: 남 | D58: 4 | E58: 14 | I58: =SUM(D58,E58,F58,G58,H58) -> 18 | J58: =RANK(I58,I$6:I$127) -> 78 | K58: =COUNTA(D58,E58,F58,G58,H58)/5 -> 0.4
B59: 154 | C59: 남 | F59: 9 | G59: 1 | H59: 4 | I59: =SUM(D59,E59,F59,G59,H59) -> 14 | J59: =RANK(I59,I$6:I$127) -> 87 | K59: =COUNTA(D59,E59,F59,G59,H59)/5 -> 0.6
B60: 155 | C60: 남 | I60: =SUM(D60,E60,F60,G60,H60) -> 0 | J60: =RANK(I60,I$6:I$127) -> 99 | K60: =COUNTA(D60,E60,F60,G60,H60)/5 -> 0
B61: 156 | C61: 남 | E61: 9 | H61: 5 | I61: =SUM(D61,E61,F61,G61,H61) -> 14 | J61: =RANK(I61,I$6:I$127) -> 87 | K61: =COUNTA(D61,E61,F61,G61,H61)/5 -> 0.4
B62: 157 | C62: 여 | D62: 6 | E62: 15 | F62: 14 | G62: 8 | H62: 9 | I62: =SUM(D62,E62,F62,G62,H62) -> 52 | J62: =RANK(I62,I$6:I$127) -> 9 | K62: =COUNTA(D62,E62,F62,G62,H62)/5 -> 1
B63: 158 | C63: 여 | D63: 7 | E63: 13 | F63: 10 | G63: 4 | H63: 6 | I63: =SUM(D63,E63,F63,G63,H63) -> 40 | J63: =RANK(I63,I$6:I$127) -> 29 | K63: =COUNTA(D63,E63,F63,G63,H63)/5 -> 1
B64: 159 | C64: 여 | D64: 7 | E64: 12 | G64: 10 | H64: 8 | I64: =SUM(D64,E64,F64,G64,H64) -> 37 | J64: =RANK(I64,I$6:I$127) -> 39 | K64: =COUNTA(D64,E64,F64,G64,H64)/5 -> 0.8
B65: 160 | C65: 남 | D65: 4 | E65: 10 | F65: 8 | G65: 10 | H65: 5 | I65: =SUM(D65,E65,F65,G65,H65) -> 37 | J65: =RANK(I65,I$6:I$127) -> 39 | K65: =COUNTA(D65,E65,F65,G65,H65)/5 -> 1
B66: 161 | C66: 남 | D66: 5 | E66: 14 | F66: 13 | G66: 9 | H66: 9 | I66: =SUM(D66,E66,F66,G66,H66) -> 50 | J66: =RANK(I66,I$6:I$127) -> 14 | K66: =COUNTA(D66,E66,F66,G66,H66)/5 -> 1
B67: 162 | C67: 남 | D67: 5 | E67: 13 | I67: =SUM(D67,E67,F67,G67,H67) -> 18 | J67: =RANK(I67,I$6:I$127) -> 78 | K67: =COUNTA(D67,E67,F67,G67,H67)/5 -> 0.4
B68: 163 | C68: 여 | D68: 4 | E68: 9 | F68: 6 | G68: 7 | H68: 7 | I68: =SUM(D68,E68,F68,G68,H68) -> 33 | J68: =RANK(I68,I$6:I$127) -> 48 | K68: =COUNTA(D68,E68,F68,G68,H68)/5 -> 1
B69: 164 | C69: 남 | D69: 3 | E69: 14 | F69: 10 | G69: 7 | H69: 6 | I69: =SUM(D69,E69,F69,G69,H69) -> 40 | J69: =RANK(I69,I$6:I$127) -> 29 | K69: =COUNTA(D69,E69,F69,G69,H69)/5 -> 1
B70: 165 | C70: 남 | D70: 7 | E70: 15 | F70: 14 | G70: 9 | H70: 10 | I70: =SUM(D70,E70,F70,G70,H70) -> 55 | J70: =RANK(I70,I$6:I$127) -> 7 | K70: =COUNTA(D70,E70,F70,G70,H70)/5 -> 1
B71: 166 | C71: 여 | D71: 6 | E71: 13 | F71: 8 | G71: 8 | H71: 11 | I71: =SUM(D71,E71,F71,G71,H71) -> 46 | J71: =RANK(I71,I$6:I$127) -> 21 | K71: =COUNTA(D71,E71,F71,G71,H71)/5 -> 1
B72: 167 | C72: 남 | D72: 6 | E72: 13 | F72: 7 | G72: 5 | H72: 2 | I72: =SUM(D72,E72,F72,G72,H72) -> 33 | J72: =RANK(I72,I$6:I$127) -> 48 | K72: =COUNTA(D72,E72,F72,G72,H72)/5 -> 1
B73: 200 | C73: 여 | I73: =SUM(D73,E73,F73,G73,H73) -> 0 | J73: =RANK(I73,I$6:I$127) -> 99 | K73: =COUNTA(D73,E73,F73,G73,H73)/5 -> 0
B74: 201 | C74: 남 | D74: 5 | E74: 14 | F74: 9 | G74: 9 | H74: 8 | I74: =SUM(D74,E74,F74,G74,H74) -> 45 | J74: =RANK(I74,I$6:I$127) -> 23 | K74: =COUNTA(D74,E74,F74,G74,H74)/5 -> 1
B75: 202 | C75: 남 | D75: 4 | I75: =SUM(D75,E75,F75,G75,H75) -> 4 | J75: =RANK(I75,I$6:I$127) -> 97 | K75: =COUNTA(D75,E75,F75,G75,H75)/5 -> 0.2
B76: 206 | C76: 여 | D76: 9 | E76: 14 | F76: 12 | G76: 12 | I76: =SUM(D76,E76,F76,G76,H76) -> 47 | J76: =RANK(I76,I$6:I$127) -> 20 | K76: =COUNTA(D76,E76,F76,G76,H76)/5 -> 0.8
B77: 207 | C77: 여 | D77: 3 | E77: 11 | F77: 4 | H77: 5 | I77: =SUM(D77,E77,F77,G77,H77) -> 23 | J77: =RANK(I77,I$6:I$127) -> 70 | K77: =COUNTA(D77,E77,F77,G77,H77)/5 -> 0.8
B78: 208 | C78: 여 | I78: =SUM(D78,E78,F78,G78,H78) -> 0 | J78: =RANK(I78,I$6:I$127) -> 99 | K78: =COUNTA(D78,E78,F78,G78,H78)/5 -> 0
B79: 209 | C79: 여 | E79: 7 | F79: 8 | G79: 6 | H79: 3 | I79: =SUM(D79,E79,F79,G79,H79) -> 24 | J79: =RANK(I79,I$6:I$127) -> 67 | K79: =COUNTA(D79,E79,F79,G79,H79)/5 -> 0.8
B80: 210 | C80: 남 | F80: 10 | G80: 9 | H80: 6 | I80: =SUM(D80,E80,F80,G80,H80) -> 25 | J80: =RANK(I80,I$6:I$127) -> 64 | K80: =COUNTA(D80,E80,F80,G80,H80)/5 -> 0.6
B81: 211 | C81: 남 | I81: =SUM(D81,E81,F81,G81,H81) -> 0 | J81: =RANK(I81,I$6:I$127) -> 99 | K81: =COUNTA(D81,E81,F81,G81,H81)/5 -> 0
B82: 212 | C82: 남 | D82: 2 | E82: 5 | F82: 7 | G82: 5 | I82: =SUM(D82,E82,F82,G82,H82) -> 19 | J82: =RANK(I82,I$6:I$127) -> 75 | K82: =COUNTA(D82,E82,F82,G82,H82)/5 -> 0.8
B83: 215 | C83: 여 | D83: 4 | E83: 15 | F83: 14 | G83: 14 | H83: 7 | I83: =SUM(D83,E83,F83,G83,H83) -> 54 | J83: =RANK(I83,I$6:I$127) -> 8 | K83: =COUNTA(D83,E83,F83,G83,H83)/5 -> 1
B84: 216 | C84: 남 | F84: 7 | G84: 8 | I84: =SUM(D84,E84,F84,G84,H84) -> 15 | J84: =RANK(I84,I$6:I$127) -> 85 | K84: =COUNTA(D84,E84,F84,G84,H84)/5 -> 0.4
B85: 217 | C85: 여 | D85: 3 | E85: 15 | F85: 13 | G85: 14 | H85: 6 | I85: =SUM(D85,E85,F85,G85,H85) -> 51 | J85: =RANK(I85,I$6:I$127) -> 10 | K85: =COUNTA(D85,E85,F85,G85,H85)/5 -> 1
B86: 218 | C86: 남 | I86: =SUM(D86,E86,F86,G86,H86) -> 0 | J86: =RANK(I86,I$6:I$127) -> 99 | K86: =COUNTA(D86,E86,F86,G86,H86)/5 -> 0
B87: 219 | C87: 남 | I87: =SUM(D87,E87,F87,G87,H87) -> 0 | J87: =RANK(I87,I$6:I$127) -> 99 | K87: =COUNTA(D87,E87,F87,G87,H87)/5 -> 0
B88: 220 | C88: 여 | D88: 5 | E88: 12 | I88: =SUM(D88,E88,F88,G88,H88) -> 17 | J88: =RANK(I88,I$6:I$127) -> 82 | K88: =COUNTA(D88,E88,F88,G88,H88)/5 -> 0.4
B89: 221 | C89: 남 | D89: 4 | E89: 11 | F89: 6 | G89: 7 | H89: 6 | I89: =SUM(D89,E89,F89,G89,H89) -> 34 | J89: =RANK(I89,I$6:I$127) -> 47 | K89: =COUNTA(D89,E89,F89,G89,H89)/5 -> 1
B90: 222 | C90: 남 | D90: 6 | E90: 13 | F90: 9 | G90: 7 | H90: 4 | I90: =SUM(D90,E90,F90,G90,H90) -> 39 | J90: =RANK(I90,I$6:I$127) -> 33 | K90: =COUNTA(D90,E90,F90,G90,H90)/5 -> 1
B91: 223 | C91: 남 | D91: 1 | G91: 6 | H91: 5 | I91: =SUM(D91,E91,F91,G91,H91) -> 12 | J91: =RANK(I91,I$6:I$127) -> 91 | K91: =COUNTA(D91,E91,F91,G91,H91)/5 -> 0.6
B92: 224 | C92: 남 | I92: =SUM(D92,E92,F92,G92,H92) -> 0 | J92: =RANK(I92,I$6:I$127) -> 99 | K92: =COUNTA(D92,E92,F92,G92,H92)/5 -> 0
B93: 225 | C93: 남 | D93: 3 | E93: 12 | F93: 7 | G93: 7 | I93: =SUM(D93,E93,F93,G93,H93) -> 29 | J93: =RANK(I93,I$6:I$127) -> 58 | K93: =COUNTA(D93,E93,F93,G93,H93)/5 -> 0.8
B94: 226 | C94: 남 | D94: 2 | E94: 4 | H94: 3 | I94: =SUM(D94,E94,F94,G94,H94) -> 9 | J94: =RANK(I94,I$6:I$127) -> 93 | K94: =COUNTA(D94,E94,F94,G94,H94)/5 -> 0.6
B95: 227 | C95: 남 | I95: =SUM(D95,E95,F95,G95,H95) -> 0 | J95: =RANK(I95,I$6:I$127) -> 99 | K95: =COUNTA(D95,E95,F95,G95,H95)/5 -> 0
B96: 228 | C96: 남 | D96: 5 | E96: 14 | F96: 7 | G96: 8 | H96: 7 | I96: =SUM(D96,E96,F96,G96,H96) -> 41 | J96: =RANK(I96,I$6:I$127) -> 28 | K96: =COUNTA(D96,E96,F96,G96,H96)/5 -> 1
B97: 229 | C97: 남 | D97: 6 | E97: 14 | F97: 12 | H97: 7 | I97: =SUM(D97,E97,F97,G97,H97) -> 39 | J97: =RANK(I97,I$6:I$127) -> 33 | K97: =COUNTA(D97,E97,F97,G97,H97)/5 -> 0.8
B98: 230 | C98: 남 | D98: 5 | E98: 8 | F98: 8 | G98: 8 | H98: 4 | I98: =SUM(D98,E98,F98,G98,H98) -> 33 | J98: =RANK(I98,I$6:I$127) -> 48 | K98: =COUNTA(D98,E98,F98,G98,H98)/5 -> 1
B99: 231 | C99: 여 | D99: 6 | I99: =SUM(D99,E99,F99,G99,H99) -> 6 | J99: =RANK(I99,I$6:I$127) -> 96 | K99: =COUNTA(D99,E99,F99,G99,H99)/5 -> 0.2
B100: 232 | C100: 여 | D100: 4 | E100: 12 | F100: 11 | G100: 10 | H100: 12 | I100: =SUM(D100,E100,F100,G100,H100) -> 49 | J100: =RANK(I100,I$6:I$127) -> 16 | K100: =COUNTA(D100,E100,F100,G100,H100)/5 -> 1
B101: 233 | C101: 남 | D101: 9 | E101: 14 | F101: 14 | G101: 12 | H101: 9 | I101: =SUM(D101,E101,F101,G101,H101) -> 58 | J101: =RANK(I101,I$6:I$127) -> 4 | K101: =COUNTA(D101,E101,F101,G101,H101)/5 -> 1
...

Sheet 2주차
B2: 3~4월 아침 모의고사 성적현황
B3: 시험 1주차 : 3월 11일 ~ 18일
D4: 18 | E4: 19 | F4: 20 | G4: 21 | H4: 22 | K4: 주간성적 | M4: 모의고사 참여율 | N4: 비고
A5: 수험 번호 | B5: 수험 번호 | C5: 성별 | D5: 형법 | E5: 한국사 | F5: 형소법 | G5: 경찰학 | H5: 영어 | I5: 이번주 총점 | J5: 저번주 총점 | K5: 전체 총점 | L5: 등수
B6: 100 | C6: 남 | I6: =SUM(D6,E6,F6,G6:H6) -> 0 | J6: ='1주차'!I6 -> 26 | K6: =SUM(I6,J6) -> 26 | L6: =RANK(K6,K$6:K$124) -> 88 | M6: =COUNTA(D6,E6,F6,G6,H6)/5 -> 0
B7: 103 | C7: 남 | D7: 2 | E7: 6 | G7: 6 | I7: =SUM(D7,E7,F7,G7:H7) -> 14 | J7: ='1주차'!I9 -> 31 | K7: =SUM(I7,J7) -> 45 | L7: =RANK(K7,K$6:K$124) -> 65 | M7: =COUNTA(D7,E7,F7,G7,H7)/5 -> 0.6
B8: 107 | C8: 여 | D8: 6 | E8: 5 | F8: 5 | G8: 9 | H8: 6 | I8: =SUM(D8,E8,F8,G8:H8) -> 31 | J8: ='1주차'!I12 -> 32 | K8: =SUM(I8,J8) -> 63 | L8: =RANK(K8,K$6:K$124) -> 47 | M8: =COUNTA(D8,E8,F8,G8,H8)/5 -> 1
B9: 111 | C9: 남 | D9: 5 | E9: 10 | F9: 12 | G9: 11 | H9: 9 | I9: =SUM(D9,E9,F9,G9:H9) -> 47 | J9: ='1주차'!I16 -> 57 | K9: =SUM(I9,J9) -> 104 | L9: =RANK(K9,K$6:K$124) -> 8 | M9: =COUNTA(D9,E9,F9,G9,H9)/5 -> 1
B10: 112 | C10: 남 | E10: 5 | F10: 6 | G10: 4 | I10: =SUM(D10,E10,F10,G10:H10) -> 15 | J10: ='1주차'!I17 -> 19 | K10: =SUM(I10,J10) -> 34 | L10: =RANK(K10,K$6:K$124) -> 80 | M10: =COUNTA(D10,E10,F10,G10,H10)/5 -> 0.6
B11: 113 | C11: 남 | D11: 6 | E11: 7 | F11: 11 | G11: 10 | H11: 9 | I11: =SUM(D11,E11,F11,G11:H11) -> 43 | J11: ='1주차'!I18 -> 51 | K11: =SUM(I11,J11) -> 94 | L11: =RANK(K11,K$6:K$124) -> 15 | M11: =COUNTA(D11,E11,F11,G11,H11)/5 -> 1
B12: 114 | C12: 남 | D12: 1 | E12: 5 | F12: 6 | H12: 4 | I12: =SUM(D12,E12,F12,G12:H12) -> 16 | J12: ='1주차'!I19 -> 22 | K12: =SUM(I12,J12) -> 38 | L12: =RANK(K12,K$6:K$124) -> 76 | M12: =COUNTA(D12,E12,F12,G12,H12)/5 -> 0.8
B13: 115 | C13: 여 | I13: =SUM(D13,E13,F13,G13:H13) -> 0 | J13: ='1주차'!I20 -> 0 | K13: =SUM(I13,J13) -> 0 | L13: =RANK(K13,K$6:K$124) -> 107 | M13: =COUNTA(D13,E13,F13,G13,H13)/5 -> 0
B14: 116 | C14: 남 | D14: 3 | E14: 8 | F14: 11 | G14: 8 | H14: 4 | I14: =SUM(D14,E14,F14,G14:H14) -> 34 | J14: ='1주차'!I21 -> 33 | K14: =SUM(I14,J14) -> 67 | L14: =RANK(K14,K$6:K$124) -> 40 | M14: =COUNTA(D14,E14,F14,G14,H14)/5 -> 1
B15: 117 | C15: 남 | D15: 4 | E15: 11 | F15: 9 | G15: 10 | H15: 10 | I15: =SUM(D15,E15,F15,G15:H15) -> 44 | J15: ='1주차'!I22 -> 43 | K15: =SUM(I15,J15) -> 87 | L15: =RANK(K15,K$6:K$124) -> 19 | M15: =COUNTA(D15,E15,F15,G15,H15)/5 -> 1
B16: 118 | C16: 여 | D16: 3 | E16: 9 | F16: 11 | G16: 6 | H16: 8 | I16: =SUM(D16,E16,F16,G16:H16) -> 37 | J16: ='1주차'!I23 -> 42 | K16: =SUM(I16,J16) -> 79 | L16: =RANK(K16,K$6:K$124) -> 27 | M16: =COUNTA(D16,E16,F16,G16,H16)/5 -> 1
B17: 119 | C17: 남 | D17: 4 | E17: 9 | F17: 11 | G17: 10 | H17: 7 | I17: =SUM(D17,E17,F17,G17:H17) -> 41 | J17: ='1주차'!I24 -> 48 | K17: =SUM(I17,J17) -> 89 | L17: =RANK(K17,K$6:K$124) -> 18 | M17: =COUNTA(D17,E17,F17,G17,H17)/5 -> 1
B18: 120 | C18: 남 | E18: 6 | F18: 11 | G18: 13 | H18: 4 | I18: =SUM(D18,E18,F18,G18:H18) -> 34 | J18: ='1주차'!I25 -> 38 | K18: =SUM(I18,J18) -> 72 | L18: =RANK(K18,K$6:K$124) -> 34 | M18: =COUNTA(D18,E18,F18,G18,H18)/5 -> 0.8
B19: 121 | C19: 남 | D19: 6 | E19: 10 | F19: 12 | G19: 10 | H19: 10 | I19: =SUM(D19,E19,F19,G19:H19) -> 48 | J19: ='1주차'!I26 -> 38 | K19: =SUM(I19,J19) -> 86 | L19: =RANK(K19,K$6:K$124) -> 20 | M19: =COUNTA(D19,E19,F19,G19,H19)/5 -> 1
B20: 122 | C20: 남 | D20: 5 | E20: 9 | F20: 10 | G20: 12 | H20: 9 | I20: =SUM(D20,E20,F20,G20:H20) -> 45 | J20: ='1주차'!I27 -> 51 | K20: =SUM(I20,J20) -> 96 | L20: =RANK(K20,K$6:K$124) -> 14 | M20: =COUNTA(D20,E20,F20,G20,H20)/5 -> 1
B21: 123 | C21: 남 | D21: 6 | F21: 7 | G21: 9 | H21: 10 | I21: =SUM(D21,E21,F21,G21:H21) -> 32 | J21: ='1주차'!I28 -> 25 | K21: =SUM(I21,J21) -> 57 | L21: =RANK(K21,K$6:K$124) -> 53 | M21: =COUNTA(D21,E21,F21,G21,H21)/5 -> 0.8
B22: 124 | C22: 남 | D22: 2 | E22: 7 | F22: 9 | G22: 2 | I22: =SUM(D22,E22,F22,G22:H22) -> 20 | J22: ='1주차'!I29 -> 24 | K22: =SUM(I22,J22) -> 44 | L22: =RANK(K22,K$6:K$124) -> 68 | M22: =COUNTA(D22,E22,F22,G22,H22)/5 -> 0.8
B23: 125 | C23: 여 | I23: =SUM(D23,E23,F23,G23:H23) -> 0 | J23: ='1주차'!I30 -> 18 | K23: =SUM(I23,J23) -> 18 | L23: =RANK(K23,K$6:K$124) -> 95 | M23: =COUNTA(D23,E23,F23,G23,H23)/5 -> 0
B24: 126 | C24: 남 | D24: 3 | E24: 4 | F24: 7 | G24: 8 | H24: 3 | I24: =SUM(D24,E24,F24,G24:H24) -> 25 | J24: ='1주차'!I31 -> 36 | K24: =SUM(I24,J24) -> 61 | L24: =RANK(K24,K$6:K$124) -> 50 | M24: =COUNTA(D24,E24,F24,G24,H24)/5 -> 1
B25: 127 | C25: 남 | D25: 3 | E25: 10 | F25: 13 | H25: 9 | I25: =SUM(D25,E25,F25,G25:H25) -> 35 | J25: ='1주차'!I32 -> 37 | K25: =SUM(I25,J25) -> 72 | L25: =RANK(K25,K$6:K$124) -> 34 | M25: =COUNTA(D25,E25,F25,G25,H25)/5 -> 0.8
B26: 128 | C26: 여 | I26: =SUM(D26,E26,F26,G26:H26) -> 0 | J26: ='1주차'!I33 -> 0 | K26: =SUM(I26,J26) -> 0 | L26: =RANK(K26,K$6:K$124) -> 107 | M26: =COUNTA(D26,E26,F26,G26,H26)/5 -> 0
B27: 129 | C27: 남 | D27: 9 | E27: 13 | F27: 14 | G27: 15 | H27: 13 | I27: =SUM(D27,E27,F27,G27:H27) -> 64 | J27: ='1주차'!I34 -> 65 | K27: =SUM(I27,J27) -> 129 | L27: =RANK(K27,K$6:K$124) -> 1 | M27: =COUNTA(D27,E27,F27,G27,H27)/5 -> 1
B28: 130 | C28: 여 | D28: 3 | E28: 3 | F28: 15 | G28: 11 | H28: 9 | I28: =SUM(D28,E28,F28,G28:H28) -> 41 | J28: ='1주차'!I35 -> 50 | K28: =SUM(I28,J28) -> 91 | L28: =RANK(K28,K$6:K$124) -> 17 | M28: =COUNTA(D28,E28,F28,G28,H28)/5 -> 1
B29: 131 | C29: 남 | G29: 1 | H29: 4 | I29: =SUM(D29,E29,F29,G29:H29) -> 5 | J29: ='1주차'!I36 -> 24 | K29: =SUM(I29,J29) -> 29 | L29: =RANK(K29,K$6:K$124) -> 84 | M29: =COUNTA(D29,E29,F29,G29,H29)/5 -> 0.4
B30: 132 | C30: 남 | D30: 2 | F30: 8 | H30: 11 | I30: =SUM(D30,E30,F30,G30:H30) -> 21 | J30: ='1주차'!I37 -> 15 | K30: =SUM(I30,J30) -> 36 | L30: =RANK(K30,K$6:K$124) -> 79 | M30: =COUNTA(D30,E30,F30,G30,H30)/5 -> 0.6
B31: 133 | C31: 남 | D31: 5 | E31: 7 | F31: 9 | G31: 11 | H31: 8 | I31: =SUM(D31,E31,F31,G31:H31) -> 40 | J31: ='1주차'!I38 -> 37 | K31: =SUM(I31,J31) -> 77 | L31: =RANK(K31,K$6:K$124) -> 28 | M31: =COUNTA(D31,E31,F31,G31,H31)/5 -> 1
B32: 134 | C32: 여 | D32: 5 | E32: 10 | F32: 14 | G32: 11 | H32: 10 | I32: =SUM(D32,E32,F32,G32:H32) -> 50 | J32: ='1주차'!I39 -> 57 | K32: =SUM(I32,J32) -> 107 | L32: =RANK(K32,K$6:K$124) -> 6 | M32: =COUNTA(D32,E32,F32,G32,H32)/5 -> 1
B33: 135 | C33: 남 | I33: =SUM(D33,E33,F33,G33:H33) -> 0 | J33: ='1주차'!I40 -> 0 | K33: =SUM(I33,J33) -> 0 | L33: =RANK(K33,K$6:K$124) -> 107 | M33: =COUNTA(D33,E33,F33,G33,H33)/5 -> 0
B34: 136 | C34: 남 | I34: =SUM(D34,E34,F34,G34:H34) -> 0 | J34: ='1주차'!I41 -> 2 | K34: =SUM(I34,J34) -> 2 | L34: =RANK(K34,K$6:K$124) -> 106 | M34: =COUNTA(D34,E34,F34,G34,H34)/5 -> 0
B35: 137 | C35: 남 | E35: 10 | H35: 5 | I35: =SUM(D35,E35,F35,G35:H35) -> 15 | J35: ='1주차'!I42 -> 27 | K35: =SUM(I35,J35) -> 42 | L35: =RANK(K35,K$6:K$124) -> 71 | M35: =COUNTA(D35,E35,F35,G35,H35)/5 -> 0.4
B36: 138 | C36: 남 | I36: =SUM(D36,E36,F36,G36:H36) -> 0 | J36: ='1주차'!I43 -> 0 | K36: =SUM(I36,J36) -> 0 | L36: =RANK(K36,K$6:K$124) -> 107 | M36: =COUNTA(D36,E36,F36,G36,H36)/5 -> 0
B37: 139 | C37: 남 | D37: 8 | E37: 9 | F37: 13 | G37: 13 | H37: 8 | I37: =SUM(D37,E37,F37,G37:H37) -> 51 | J37: ='1주차'!I44 -> 48 | K37: =SUM(I37,J37) -> 99 | L37: =RANK(K37,K$6:K$124) -> 11 | M37: =COUNTA(D37,E37,F37,G37,H37)/5 -> 1
B38: 140 | C38: 남 | D38: 3 | E38: 8 | F38: 3 | G38: 6 | H38: 6 | I38: =SUM(D38,E38,F38,G38:H38) -> 26 | J38: ='1주차'!I45 -> 32 | K38: =SUM(I38,J38) -> 58 | L38: =RANK(K38,K$6:K$124) -> 51 | M38: =COUNTA(D38,E38,F38,G38,H38)/5 -> 1
B39: 141 | C39: 남 | D39: 2 | E39: 7 | F39: 10 | I39: =SUM(D39,E39,F39,G39:H39) -> 19 | J39: ='1주차'!I46 -> 36 | K39: =SUM(I39,J39) -> 55 | L39: =RANK(K39,K$6:K$124) -> 55 | M39: =COUNTA(D39,E39,F39,G39,H39)/5 -> 0.6
B40: 142 | C40: 남 | I40: =SUM(D40,E40,F40,G40:H40) -> 0 | J40: ='1주차'!I47 -> 0 | K40: =SUM(I40,J40) -> 0 | L40: =RANK(K40,K$6:K$124) -> 107 | M40: =COUNTA(D40,E40,F40,G40,H40)/5 -> 0
B41: 143 | C41: 여 | I41: =SUM(D41,E41,F41,G41:H41) -> 0 | J41: ='1주차'!I48 -> 0 | K41: =SUM(I41,J41) -> 0 | L41: =RANK(K41,K$6:K$124) -> 107 | M41: =COUNTA(D41,E41,F41,G41,H41)/5 -> 0
B42: 144 | C42: 남 | I42: =SUM(D42,E42,F42,G42:H42) -> 0 | J42: ='1주차'!I49 -> 16 | K42: =SUM(I42,J42) -> 16 | L42: =RANK(K42,K$6:K$124) -> 98 | M42: =COUNTA(D42,E42,F42,G42,H42)/5 -> 0
B43: 145 | C43: 여 | G43: 8 | I43: =SUM(D43,E43,F43,G43:H43) -> 8 | J43: ='1주차'!I50 -> 42 | K43: =SUM(I43,J43) -> 50 | L43: =RANK(K43,K$6:K$124) -> 59 | M43: =COUNTA(D43,E43,F43,G43,H43)/5 -> 0.2
B44: 147 | C44: 남 | I44: =SUM(D44,E44,F44,G44:H44) -> 0 | J44: ='1주차'!I52 -> 27 | K44: =SUM(I44,J44) -> 27 | L44: =RANK(K44,K$6:K$124) -> 85 | M44: =COUNTA(D44,E44,F44,G44,H44)/5 -> 0
B45: 148 | C45: 남 | D45: 3 | E45: 6 | F45: 8 | G45: 5 | H45: 5 | I45: =SUM(D45,E45,F45,G45:H45) -> 27 | J45: ='1주차'!I53 -> 40 | K45: =SUM(I45,J45) -> 67 | L45: =RANK(K45,K$6:K$124) -> 40 | M45: =COUNTA(D45,E45,F45,G45,H45)/5 -> 1
B46: 149 | C46: 남 | E46: 4 | G46: 9 | I46: =SUM(D46,E46,F46,G46:H46) -> 13 | J46: ='1주차'!I54 -> 25 | K46: =SUM(I46,J46) -> 38 | L46: =RANK(K46,K$6:K$124) -> 76 | M46: =COUNTA(D46,E46,F46,G46,H46)/5 -> 0.4
B47: 150 | C47: 남 | E47: 5 | F47: 3 | H47: 8 | I47: =SUM(D47,E47,F47,G47:H47) -> 16 | J47: ='1주차'!I55 -> 27 | K47: =SUM(I47,J47) -> 43 | L47: =RANK(K47,K$6:K$124) -> 69 | M47: =COUNTA(D47,E47,F47,G47,H47)/5 -> 0.6
B48: 151 | C48: 남 | D48: 4 | E48: 5 | F48: 6 | G48: 3 | I48: =SUM(D48,E48,F48,G48:H48) -> 18 | J48: ='1주차'!I56 -> 30 | K48: =SUM(I48,J48) -> 48 | L48: =RANK(K48,K$6:K$124) -> 60 | M48: =COUNTA(D48,E48,F48,G48,H48)/5 -> 0.8
B49: 152 | C49: 남 | D49: 2 | E49: 5 | F49: 5 | G49: 4 | H49: 10 | I49: =SUM(D49,E49,F49,G49:H49) -> 26 | J49: ='1주차'!I57 -> 36 | K49: =SUM(I49,J49) -> 62 | L49: =RANK(K49,K$6:K$124) -> 49 | M49: =COUNTA(D49,E49,F49,G49,H49)/5 -> 1
B50: 153 | C50: 남 | I50: =SUM(D50,E50,F50,G50:H50) -> 0 | J50: ='1주차'!I58 -> 18 | K50: =SUM(I50,J50) -> 18 | L50: =RANK(K50,K$6:K$124) -> 95 | M50: =COUNTA(D50,E50,F50,G50,H50)/5 -> 0
B51: 154 | C51: 남 | F51: 5 | I51: =SUM(D51,E51,F51,G51:H51) -> 5 | J51: ='1주차'!I59 -> 14 | K51: =SUM(I51,J51) -> 19 | L51: =RANK(K51,K$6:K$124) -> 93 | M51: =COUNTA(D51,E51,F51,G51,H51)/5 -> 0.2
B52: 156 | C52: 남 | F52: 3 | G52: 4 | H52: 4 | I52: =SUM(D52,E52,F52,G52:H52) -> 11 | J52: ='1주차'!I61 -> 14 | K52: =SUM(I52,J52) -> 25 | L52: =RANK(K52,K$6:K$124) -> 89 | M52: =COUNTA(D52,E52,F52,G52,H52)/5 -> 0.6
B53: 157 | C53: 여 | D53: 6 | E53: 13 | F53: 13 | G53: 13 | H53: 10 | I53: =SUM(D53,E53,F53,G53:H53) -> 55 | J53: ='1주차'!I62 -> 52 | K53: =SUM(I53,J53) -> 107 | L53: =RANK(K53,K$6:K$124) -> 6 | M53: =COUNTA(D53,E53,F53,G53,H53)/5 -> 1
B54: 158 | C54: 여 | D54: 3 | E54: 6 | G54: 8 | H54: 9 | I54: =SUM(D54,E54,F54,G54:H54) -> 26 | J54: ='1주차'!I63 -> 40 | K54: =SUM(I54,J54) -> 66 | L54: =RANK(K54,K$6:K$124) -> 42 | M54: =COUNTA(D54,E54,F54,G54,H54)/5 -> 0.8
B55: 159 | C55: 여 | D55: 4 | F55: 6 | G55: 8 | H55: 10 | I55: =SUM(D55,E55,F55,G55:H55) -> 28 | J55: ='1주차'!I64 -> 37 | K55: =SUM(I55,J55) -> 65 | L55: =RANK(K55,K$6:K$124) -> 45 | M55: =COUNTA(D55,E55,F55,G55,H55)/5 -> 0.8
B56: 160 | C56: 남 | D56: 1 | E56: 7 | F56: 7 | G56: 8 | H56: 8 | I56: =SUM(D56,E56,F56,G56:H56) -> 31 | J56: ='1주차'!I65 -> 37 | K56: =SUM(I56,J56) -> 68 | L56: =RANK(K56,K$6:K$124) -> 39 | M56: =COUNTA(D56,E56,F56,G56,H56)/5 -> 1
B57: 161 | C57: 남 | D57: 4 | E57: 12 | F57: 13 | G57: 14 | H57: 10 | I57: =SUM(D57,E57,F57,G57:H57) -> 53 | J57: ='1주차'!I66 -> 50 | K57: =SUM(I57,J57) -> 103 | L57: =RANK(K57,K$6:K$124) -> 10 | M57: =COUNTA(D57,E57,F57,G57,H57)/5 -> 1
B58: 162 | C58: 남 | H58: 7 | I58: =SUM(D58,E58,F58,G58:H58) -> 7 | J58: ='1주차'!I67 -> 18 | K58: =SUM(I58,J58) -> 25 | L58: =RANK(K58,K$6:K$124) -> 89 | M58: =COUNTA(D58,E58,F58,G58,H58)/5 -> 0.2
B59: 163 | C59: 여 | D59: 6 | E59: 7 | F59: 8 | G59: 8 | H59: 4 | I59: =SUM(D59,E59,F59,G59:H59) -> 33 | J59: ='1주차'!I68 -> 33 | K59: =SUM(I59,J59) -> 66 | L59: =RANK(K59,K$6:K$124) -> 42 | M59: =COUNTA(D59,E59,F59,G59,H59)/5 -> 1
B60: 164 | C60: 남 | D60: 3 | E60: 8 | F60: 6 | G60: 6 | H60: 6 | I60: =SUM(D60,E60,F60,G60:H60) -> 29 | J60: ='1주차'!I69 -> 40 | K60: =SUM(I60,J60) -> 69 | L60: =RANK(K60,K$6:K$124) -> 37 | M60: =COUNTA(D60,E60,F60,G60,H60)/5 -> 1
B61: 165 | C61: 남 | D61: 6 | E61: 13 | F61: 13 | G61: 14 | H61: 8 | I61: =SUM(D61,E61,F61,G61:H61) -> 54 | J61: ='1주차'!I70 -> 55 | K61: =SUM(I61,J61) -> 109 | L61: =RANK(K61,K$6:K$124) -> 5 | M61: =COUNTA(D61,E61,F61,G61,H61)/5 -> 1
B62: 166 | C62: 여 | D62: 5 | E62: 8 | F62: 6 | G62: 9 | H62: 10 | I62: =SUM(D62,E62,F62,G62:H62) -> 38 | J62: ='1주차'!I71 -> 46 | K62: =SUM(I62,J62) -> 84 | L62: =RANK(K62,K$6:K$124) -> 22 | M62: =COUNTA(D62,E62,F62,G62,H62)/5 -> 1
B63: 167 | C63: 남 | D63: 1 | E63: 6 | F63: 7 | G63: 7 | H63: 1 | I63: =SUM(D63,E63,F63,G63:H63) -> 22 | J63: ='1주차'!I72 -> 33 | K63: =SUM(I63,J63) -> 55 | L63: =RANK(K63,K$6:K$124) -> 55 | M63: =COUNTA(D63,E63,F63,G63,H63)/5 -> 1
B64: 200 | C64: 여 | I64: =SUM(D64,E64,F64,G64:H64) -> 0 | J64: ='1주차'!I73 -> 0 | K64: =SUM(I64,J64) -> 0 | L64: =RANK(K64,K$6:K$124) -> 107 | M64: =COUNTA(D64,E64,F64,G64,H64)/5 -> 0
B65: 201 | C65: 남 | D65: 4 | E65: 9 | F65: 8 | G65: 8 | H65: 6 | I65: =SUM(D65,E65,F65,G65:H65) -> 35 | J65: ='1주차'!I74 -> 45 | K65: =SUM(I65,J65) -> 80 | L65: =RANK(K65,K$6:K$124) -> 26 | M65: =COUNTA(D65,E65,F65,G65,H65)/5 -> 1
B66: 202 | C66: 남 | H66: 6 | I66: =SUM(D66,E66,F66,G66:H66) -> 6 | J66: ='1주차'!I75 -> 4 | K66: =SUM(I66,J66) -> 10 | L66: =RANK(K66,K$6:K$124) -> 101 | M66: =COUNTA(D66,E66,F66,G66,H66)/5 -> 0.2
B67: 206 | C67: 여 | E67: 5 | F67: 11 | G67: 12 | H67: 10 | I67: =SUM(D67,E67,F67,G67:H67) -> 38 | J67: ='1주차'!I76 -> 47 | K67: =SUM(I67,J67) -> 85 | L67: =RANK(K67,K$6:K$124) -> 21 | M67: =COUNTA(D67,E67,F67,G67,H67)/5 -> 0.8
B68: 207 | C68: 여 | D68: 3 | F68: 10 | G68: 5 | H68: 7 | I68: =SUM(D68,E68,F68,G68:H68) -> 25 | J68: ='1주차'!I77 -> 23 | K68: =SUM(I68,J68) -> 48 | L68: =RANK(K68,K$6:K$124) -> 60 | M68: =COUNTA(D68,E68,F68,G68,H68)/5 -> 0.8
B69: 208 | C69: 여 | I69: =SUM(D69,E69,F69,G69:H69) -> 0 | J69: ='1주차'!I78 -> 0 | K69: =SUM(I69,J69) -> 0 | L69: =RANK(K69,K$6:K$124) -> 107 | M69: =COUNTA(D69,E69,F69,G69,H69)/5 -> 0
B70: 209 | C70: 여 | D70: 4 | E70: 5 | F70: 1 | G70: 7 | H70: 6 | I70: =SUM(D70,E70,F70,G70:H70) -> 23 | J70: ='1주차'!I79 -> 24 | K70: =SUM(I70,J70) -> 47 | L70: =RANK(K70,K$6:K$124) -> 62 | M70: =COUNTA(D70,E70,F70,G70,H70)/5 -> 1
B71: 210 | C71: 남 | E71: 5 | H71: 7 | I71: =SUM(D71,E71,F71,G71:H71) -> 12 | J71: ='1주차'!I80 -> 25 | K71: =SUM(I71,J71) -> 37 | L71: =RANK(K71,K$6:K$124) -> 78 | M71: =COUNTA(D71,E71,F71,G71,H71)/5 -> 0.4
B72: 211 | C72: 남 | I72: =SUM(D72,E72,F72,G72:H72) -> 0 | J72: ='1주차'!I81 -> 0 | K72: =SUM(I72,J72) -> 0 | L72: =RANK(K72,K$6:K$124) -> 107 | M72: =COUNTA(D72,E72,F72,G72,H72)/5 -> 0
B73: 212 | C73: 남 | D73: 5 | E73: 4 | F73: 10 | G73: 7 | I73: =SUM(D73,E73,F73,G73:H73) -> 26 | J73: ='1주차'!I82 -> 19 | K73: =SUM(I73,J73) -> 45 | L73: =RANK(K73,K$6:K$124) -> 65 | M73: =COUNTA(D73,E73,F73,G73,H73)/5 -> 0.8
B74: 215 | C74: 여 | D74: 5 | E74: 13 | F74: 13 | G74: 12 | H74: 7 | I74: =SUM(D74,E74,F74,G74:H74) -> 50 | J74: ='1주차'!I83 -> 54 | K74: =SUM(I74,J74) -> 104 | L74: =RANK(K74,K$6:K$124) -> 8 | M74: =COUNTA(D74,E74,F74,G74,H74)/5 -> 1
B75: 216 | C75: 남 | D75: 4 | E75: 2 | F75: 8 | G75: 11 | I75: =SUM(D75,E75,F75,G75:H75) -> 25 | J75: ='1주차'!I84 -> 15 | K75: =SUM(I75,J75) -> 40 | L75: =RANK(K75,K$6:K$124) -> 72 | M75: =COUNTA(D75,E75,F75,G75,H75)/5 -> 0.8
B76: 217 | C76: 여 | D76: 4 | E76: 10 | F76: 13 | G76: 10 | H76: 9 | I76: =SUM(D76,E76,F76,G76:H76) -> 46 | J76: ='1주차'!I85 -> 51 | K76: =SUM(I76,J76) -> 97 | L76: =RANK(K76,K$6:K$124) -> 12 | M76: =COUNTA(D76,E76,F76,G76,H76)/5 -> 1
B77: 218 | C77: 남 | E77: 3 | I77: =SUM(D77,E77,F77,G77:H77) -> 3 | J77: ='1주차'!I86 -> 0 | K77: =SUM(I77,J77) -> 3 | L77: =RANK(K77,K$6:K$124) -> 105 | M77: =COUNTA(D77,E77,F77,G77,H77)/5 -> 0.2
B78: 219 | C78: 남 | F78: 10 | I78: =SUM(D78,E78,F78,G78:H78) -> 10 | J78: ='1주차'!I87 -> 0 | K78: =SUM(I78,J78) -> 10 | L78: =RANK(K78,K$6:K$124) -> 101 | M78: =COUNTA(D78,E78,F78,G78,H78)/5 -> 0.2
B79: 220 | C79: 여 | I79: =SUM(D79,E79,F79,G79:H79) -> 0 | J79: ='1주차'!I88 -> 17 | K79: =SUM(I79,J79) -> 17 | L79: =RANK(K79,K$6:K$124) -> 97 | M79: =COUNTA(D79,E79,F79,G79,H79)/5 -> 0
B80: 221 | C80: 남 | D80: 2 | E80: 9 | F80: 8 | H80: 5 | I80: =SUM(D80,E80,F80,G80:H80) -> 24 | J80: ='1주차'!I89 -> 34 | K80: =SUM(I80,J80) -> 58 | L80: =RANK(K80,K$6:K$124) -> 51 | M80: =COUNTA(D80,E80,F80,G80,H80)/5 -> 0.8
B81: 222 | C81: 남 | D81: 5 | E81: 9 | F81: 12 | G81: 7 | H81: 3 | I81: =SUM(D81,E81,F81,G81:H81) -> 36 | J81: ='1주차'!I90 -> 39 | K81: =SUM(I81,J81) -> 75 | L81: =RANK(K81,K$6:K$124) -> 30 | M81: =COUNTA(D81,E81,F81,G81,H81)/5 -> 1
B82: 223 | C82: 남 | I82: =SUM(D82,E82,F82,G82:H82) -> 0 | J82: ='1주차'!I91 -> 12 | K82: =SUM(I82,J82) -> 12 | L82: =RANK(K82,K$6:K$124) -> 100 | M82: =COUNTA(D82,E82,F82,G82,H82)/5 -> 0
B83: 224 | C83: 남 | I83: =SUM(D83,E83,F83,G83:H83) -> 0 | J83: ='1주차'!I92 -> 0 | K83: =SUM(I83,J83) -> 0 | L83: =RANK(K83,K$6:K$124) -> 107 | M83: =COUNTA(D83,E83,F83,G83,H83)/5 -> 0
B84: 225 | C84: 남 | D84: 3 | E84: 5 | G84: 4 | H84: 5 | I84: =SUM(D84,E84,F84,G84:H84) -> 17 | J84: ='1주차'!I93 -> 29 | K84: =SUM(I84,J84) -> 46 | L84: =RANK(K84,K$6:K$124) -> 63 | M84: =COUNTA(D84,E84,F84,G84,H84)/5 -> 0.8
B85: 226 | C85: 남 | D85: 5 | E85: 5 | F85: 5 | G85: 3 | I85: =SUM(D85,E85,F85,G85:H85) -> 18 | J85: ='1주차'!I94 -> 9 | K85: =SUM(I85,J85) -> 27 | L85: =RANK(K85,K$6:K$124) -> 85 | M85: =COUNTA(D85,E85,F85,G85,H85)/5 -> 0.8
B86: 227 | C86: 남 | I86: =SUM(D86,E86,F86,G86:H86) -> 0 | J86: ='1주차'!I95 -> 0 | K86: =SUM(I86,J86) -> 0 | L86: =RANK(K86,K$6:K$124) -> 107 | M86: =COUNTA(D86,E86,F86,G86,H86)/5 -> 0
B87: 228 | C87: 남 | E87: 9 | F87: 8 | G87: 7 | I87: =SUM(D87,E87,F87,G87:H87) -> 24 | J87: ='1주차'!I96 -> 41 | K87: =SUM(I87,J87) -> 65 | L87: =RANK(K87,K$6:K$124) -> 45 | M87: =COUNTA(D87,E87,F87,G87,H87)/5 -> 0.6
B88: 229 | C88: 남 | E88: 5 | F88: 8 | G88: 8 | H88: 9 | I88: =SUM(D88,E88,F88,G88:H88) -> 30 | J88: ='1주차'!I97 -> 39 | K88: =SUM(I88,J88) -> 69 | L88: =RANK(K88,K$6:K$124) -> 37 | M88: =COUNTA(D88,E88,F88,G88,H88)/5 -> 0.8
B89: 230 | C89: 남 | D89: 5 | E89: 6 | F89: 10 | G89: 5 | H89: 4 | I89: =SUM(D89,E89,F89,G89:H89) -> 30 | J89: ='1주차'!I98 -> 33 | K89: =SUM(I89,J89) -> 63 | L89: =RANK(K89,K$6:K$124) -> 47 | M89: =COUNTA(D89,E89,F89,G89,H89)/5 -> 1
B90: 231 | C90: 여 | H90: 8 | I90: =SUM(D90,E90,F90,G90:H90) -> 8 | J90: ='1주차'!I99 -> 6 | K90: =SUM(I90,J90) -> 14 | L90: =RANK(K90,K$6:K$124) -> 99 | M90: =COUNTA(D90,E90,F90,G90,H90)/5 -> 0.2
B91: 232 | C91: 여 | D91: 3 | E91: 3 | F91: 8 | G91: 10 | H91: 9 | I91: =SUM(D91,E91,F91,G91:H91) -> 33 | J91: ='1주차'!I100 -> 49 | K91: =SUM(I91,J91) -> 82 | L91: =RANK(K91,K$6:K$124) -> 24 | M91: =COUNTA(D91,E91,F91,G91,H91)/5 -> 1
B92: 233 | C92: 남 | D92: 8 | E92: 14 | F92: 14 | G92: 12 | H92: 8 | I92: =SUM(D92,E92,F92,G92:H92) -> 56 | J92: ='1주차'!I101 -> 58 | K92: =SUM(I92,J92) -> 114 | L92: =RANK(K92,K$6:K$124) -> 3 | M92: =COUNTA(D92,E92,F92,G92,H92)/5 -> 1
B93: 234 | C93: 여 | D93: 6 | E93: 8 | F93: 11 | G93: 7 | I93: =SUM(D93,E93,F93,G93:H93) -> 32 | J93: ='1주차'!I102 -> 21 | K93: =SUM(I93,J93) -> 53 | L93: =RANK(K93,K$6:K$124) -> 58 | M93: =COUNTA(D93,E93,F93,G93,H93)/5 -> 0.8
B94: 235 | C94: 남 | I94: =SUM(D94,E94,F94,G94:H94) -> 0 | J94: ='1주차'!I103 -> 8 | K94: =SUM(I94,J94) -> 8 | L94: =RANK(K94,K$6:K$124) -> 103 | M94: =COUNTA(D94,E94,F94,G94,H94)/5 -> 0
B95: 236 | C95: 여 | D95: 5 | E95: 4 | F95: 12 | G95: 9 | H95: 5 | I95: =SUM(D95,E95,F95,G95:H95) -> 35 | J95: ='1주차'!I104 -> 46 | K95: =SUM(I95,J95) -> 81 | L95: =RANK(K95,K$6:K$124) -> 25 | M95: =COUNTA(D95,E95,F95,G95,H95)/5 -> 1
B96: 237 | C96: 여 | I96: =SUM(D96,E96,F96,G96:H96) -> 0 | J96: ='1주차'!I105 -> 0 | K96: =SUM(I96,J96) -> 0 | L96: =RANK(K96,K$6:K$124) -> 107 | M96: =COUNTA(D96,E96,F96,G96,H96)/5 -> 0
B97: 238 | C97: 여 | D97: 5 | E97: 12 | F97: 13 | G97: 14 | H97: 10 | I97: =SUM(D97,E97,F97,G97:H97) -> 54 | J97: ='1주차'!I106 -> 59 | K97: =SUM(I97,J97) -> 113 | L97: =RANK(K97,K$6:K$124) -> 4 | M97: =COUNTA(D97,E97,F97,G97,H97)/5 -> 1
B98: 239 | C98: 여 | D98: 6 | F98: 15 | G98: 14 | I98: =SUM(D98,E98,F98,G98:H98) -> 35 | J98: ='1주차'!I107 -> 31 | K98: =SUM(I98,J98) -> 66 | L98: =RANK(K98,K$6:K$124) -> 42 | M98: =COUNTA(D98,E98,F98,G98,H98)/5 -> 0.6
B99: 240 | C99: 여 | D99: 2 | E99: 4 | F99: 7 | G99: 5 | H99: 6 | I99: =SUM(D99,E99,F99,G99:H99) -> 24 | J99: ='1주차'!I108 -> 30 | K99: =SUM(I99,J99) -> 54 | L99: =RANK(K99,K$6:K$124) -> 57 | M99: =COUNTA(D99,E99,F99,G99,H99)/5 -> 1
B100: 241 | C100: 남 | D100: 3 | E100: 7 | F100: 8 | G100: 10 | H100: 6 | I100: =SUM(D100,E100,F100,G100:H100) -> 34 | J100: ='1주차'!I109 -> 38 | K100: =SUM(I100,J100) -> 72 | L100: =RANK(K100,K$6:K$124) -> 34 | M100: =COUNTA(D100,E100,F100,G100,H100)/5 -> 1
B101: 242 | C101: 남 | I101: =SUM(D101,E101,F101,G101:H101) -> 0 | J101: ='1주차'!I110 -> 0 | K101: =SUM(I101,J101) -> 0 | L101: =RANK(K101,K$6:K$124) -> 107 | M101: =COUNTA(D101,E101,F101,G101,H101)/5 -> 0
...

Sheet 3주차
B2: 3~4월 아침 모의고사 성적현황
B3: 시험 3주차 : 3월 25일 ~ 29일
D4: 25 | E4: 26 | F4: 27 | G4: 28 | H4: 29 | K4: 주간성적 | M4: 모의고사 참여율 | N4: 비고
A5: 수험 번호 | B5: 수험 번호 | C5: 성별 | D5: 형법 | E5: 한국사 | F5: 형소법 | G5: 경찰학 | H5: 영어 | I5: 이번주 총점 | J5: 저번주 총점 | K5: 전체 총점 | L5: 등수
B6: 100 | C6: 남 | I6: =SUM(D6,E6,F6,G6:H6) -> 0 | J6: ='2주차'!K6 -> 26 | K6: =SUM(I6,J6) -> 26 | L6: =RANK(K6,K$6:K$110) -> 91 | M6: =COUNTA(D6,E6,F6,G6,H6)/5 -> 0
B7: 103 | C7: 남 | D7: 7 | E7: 6 | F7: 6 | I7: =SUM(D7,E7,F7,G7:H7) -> 19 | J7: ='2주차'!K7 -> 45 | K7: =SUM(I7,J7) -> 64 | L7: =RANK(K7,K$6:K$110) -> 70 | M7: =COUNTA(D7,E7,F7,G7,H7)/5 -> 0.6
B8: 107 | C8: 남 | D8: 4 | E8: 5 | G8: 6 | H8: 7 | I8: =SUM(D8,E8,F8,G8:H8) -> 22 | J8: ='2주차'!K8 -> 63 | K8: =SUM(I8,J8) -> 85 | L8: =RANK(K8,K$6:K$110) -> 54 | M8: =COUNTA(D8,E8,F8,G8,H8)/5 -> 0.8
B9: 111 | C9: 남 | D9: 6 | E9: 10 | F9: 14 | G9: 10 | H9: 9 | I9: =SUM(D9,E9,F9,G9:H9) -> 49 | J9: ='2주차'!K9 -> 104 | K9: =SUM(I9,J9) -> 153 | L9: =RANK(K9,K$6:K$110) -> 9 | M9: =COUNTA(D9,E9,F9,G9,H9)/5 -> 1
B10: 112 | C10: 남 | D10: 5 | E10: 5 | F10: 10 | G10: 3 | H10: 5 | I10: =SUM(D10,E10,F10,G10:H10) -> 28 | J10: ='2주차'!K10 -> 34 | K10: =SUM(I10,J10) -> 62 | L10: =RANK(K10,K$6:K$110) -> 73 | M10: =COUNTA(D10,E10,F10,G10,H10)/5 -> 1
B11: 113 | C11: 남 | D11: 5 | E11: 13 | F11: 12 | G11: 9 | H11: 8 | I11: =SUM(D11,E11,F11,G11:H11) -> 47 | J11: ='2주차'!K11 -> 94 | K11: =SUM(I11,J11) -> 141 | L11: =RANK(K11,K$6:K$110) -> 13 | M11: =COUNTA(D11,E11,F11,G11,H11)/5 -> 1
B12: 114 | C12: 남 | D12: 7 | E12: 7 | F12: 6 | H12: 8 | I12: =SUM(D12,E12,F12,G12:H12) -> 28 | J12: ='2주차'!K12 -> 38 | K12: =SUM(I12,J12) -> 66 | L12: =RANK(K12,K$6:K$110) -> 68 | M12: =COUNTA(D12,E12,F12,G12,H12)/5 -> 0.8
B13: 116 | C13: 남 | D13: 4 | E13: 6 | F13: 9 | G13: 8 | I13: =SUM(D13,E13,F13,G13:H13) -> 27 | J13: ='2주차'!K14 -> 67 | K13: =SUM(I13,J13) -> 94 | L13: =RANK(K13,K$6:K$110) -> 43 | M13: =COUNTA(D13,E13,F13,G13,H13)/5 -> 0.8
B14: 117 | C14: 남 | E14: 11 | F14: 9 | G14: 10 | H14: 14 | I14: =SUM(D14,E14,F14,G14:H14) -> 44 | J14: ='2주차'!K15 -> 87 | K14: =SUM(I14,J14) -> 131 | L14: =RANK(K14,K$6:K$110) -> 20 | M14: =COUNTA(D14,E14,F14,G14,H14)/5 -> 0.8
B15: 118 | C15: 여 | D15: 5 | E15: 8 | F15: 8 | G15: 9 | H15: 15 | I15: =SUM(D15,E15,F15,G15:H15) -> 45 | J15: ='2주차'!K16 -> 79 | K15: =SUM(I15,J15) -> 124 | L15: =RANK(K15,K$6:K$110) -> 27 | M15: =COUNTA(D15,E15,F15,G15,H15)/5 -> 1
B16: 119 | C16: 남 | D16: 5 | E16: 13 | F16: 8 | G16: 7 | H16: 7 | I16: =SUM(D16,E16,F16,G16:H16) -> 40 | J16: ='2주차'!K17 -> 89 | K16: =SUM(I16,J16) -> 129 | L16: =RANK(K16,K$6:K$110) -> 24 | M16: =COUNTA(D16,E16,F16,G16,H16)/5 -> 1
B17: 120 | C17: 남 | E17: 11 | F17: 10 | G17: 8 | I17: =SUM(D17,E17,F17,G17:H17) -> 29 | J17: ='2주차'!K18 -> 72 | K17: =SUM(I17,J17) -> 101 | L17: =RANK(K17,K$6:K$110) -> 38 | M17: =COUNTA(D17,E17,F17,G17,H17)/5 -> 0.6
B18: 121 | C18: 남 | D18: 3 | E18: 12 | F18: 10 | G18: 11 | H18: 13 | I18: =SUM(D18,E18,F18,G18:H18) -> 49 | J18: ='2주차'!K19 -> 86 | K18: =SUM(I18,J18) -> 135 | L18: =RANK(K18,K$6:K$110) -> 16 | M18: =COUNTA(D18,E18,F18,G18,H18)/5 -> 1
B19: 122 | C19: 남 | D19: 2 | F19: 9 | G19: 11 | H19: 16 | I19: =SUM(D19,E19,F19,G19:H19) -> 38 | J19: ='2주차'!K20 -> 96 | K19: =SUM(I19,J19) -> 134 | L19: =RANK(K19,K$6:K$110) -> 18 | M19: =COUNTA(D19,E19,F19,G19,H19)/5 -> 0.8
B20: 123 | C20: 남 | D20: 5 | E20: 6 | F20: 6 | G20: 9 | I20: =SUM(D20,E20,F20,G20:H20) -> 26 | J20: ='2주차'!K21 -> 57 | K20: =SUM(I20,J20) -> 83 | L20: =RANK(K20,K$6:K$110) -> 56 | M20: =COUNTA(D20,E20,F20,G20,H20)/5 -> 0.8
B21: 124 | C21: 남 | I21: =SUM(D21,E21,F21,G21:H21) -> 0 | J21: ='2주차'!K22 -> 44 | K21: =SUM(I21,J21) -> 44 | L21: =RANK(K21,K$6:K$110) -> 83 | M21: =COUNTA(D21,E21,F21,G21,H21)/5 -> 0
B22: 125 | C22: 여 | I22: =SUM(D22,E22,F22,G22:H22) -> 0 | J22: ='2주차'!K23 -> 18 | K22: =SUM(I22,J22) -> 18 | L22: =RANK(K22,K$6:K$110) -> 96 | M22: =COUNTA(D22,E22,F22,G22,H22)/5 -> 0
B23: 126 | C23: 남 | D23: 5 | E23: 5 | F23: 7 | G23: 6 | H23: 5 | I23: =SUM(D23,E23,F23,G23:H23) -> 28 | J23: ='2주차'!K24 -> 61 | K23: =SUM(I23,J23) -> 89 | L23: =RANK(K23,K$6:K$110) -> 48 | M23: =COUNTA(D23,E23,F23,G23,H23)/5 -> 1
B24: 127 | C24: 남 | E24: 13 | F24: 8 | H24: 14 | I24: =SUM(D24,E24,F24,G24:H24) -> 35 | J24: ='2주차'!K25 -> 72 | K24: =SUM(I24,J24) -> 107 | L24: =RANK(K24,K$6:K$110) -> 33 | M24: =COUNTA(D24,E24,F24,G24,H24)/5 -> 0.6
B25: 129 | C25: 남 | D25: 9 | E25: 15 | F25: 14 | G25: 10 | H25: 20 | I25: =SUM(D25,E25,F25,G25:H25) -> 68 | J25: ='2주차'!K27 -> 129 | K25: =SUM(I25,J25) -> 197 | L25: =RANK(K25,K$6:K$110) -> 1 | M25: =COUNTA(D25,E25,F25,G25,H25)/5 -> 1
B26: 130 | C26: 여 | D26: 6 | E26: 7 | F26: 10 | G26: 11 | H26: 14 | I26: =SUM(D26,E26,F26,G26:H26) -> 48 | J26: ='2주차'!K28 -> 91 | K26: =SUM(I26,J26) -> 139 | L26: =RANK(K26,K$6:K$110) -> 14 | M26: =COUNTA(D26,E26,F26,G26,H26)/5 -> 1
B27: 131 | C27: 남 | D27: 3 | F27: 7 | G27: 4 | I27: =SUM(D27,E27,F27,G27:H27) -> 14 | J27: ='2주차'!K29 -> 29 | K27: =SUM(I27,J27) -> 43 | L27: =RANK(K27,K$6:K$110) -> 84 | M27: =COUNTA(D27,E27,F27,G27,H27)/5 -> 0.6
B28: 132 | C28: 남 | D28: 4 | F28: 9 | G28: 5 | I28: =SUM(D28,E28,F28,G28:H28) -> 18 | J28: ='2주차'!K30 -> 36 | K28: =SUM(I28,J28) -> 54 | L28: =RANK(K28,K$6:K$110) -> 77 | M28: =COUNTA(D28,E28,F28,G28,H28)/5 -> 0.6
B29: 133 | C29: 남 | D29: 4 | E29: 9 | F29: 7 | G29: 10 | H29: 9 | I29: =SUM(D29,E29,F29,G29:H29) -> 39 | J29: ='2주차'!K31 -> 77 | K29: =SUM(I29,J29) -> 116 | L29: =RANK(K29,K$6:K$110) -> 31 | M29: =COUNTA(D29,E29,F29,G29,H29)/5 -> 1
B30: 134 | C30: 여 | D30: 4 | E30: 12 | F30: 11 | G30: 6 | H30: 12 | I30: =SUM(D30,E30,F30,G30:H30) -> 45 | J30: ='2주차'!K32 -> 107 | K30: =SUM(I30,J30) -> 152 | L30: =RANK(K30,K$6:K$110) -> 10 | M30: =COUNTA(D30,E30,F30,G30,H30)/5 -> 1
B31: 137 | C31: 남 | I31: =SUM(D31,E31,F31,G31:H31) -> 0 | J31: ='2주차'!K35 -> 42 | K31: =SUM(I31,J31) -> 42 | L31: =RANK(K31,K$6:K$110) -> 85 | M31: =COUNTA(D31,E31,F31,G31,H31)/5 -> 0
B32: 139 | C32: 남 | D32: 6 | E32: 9 | F32: 11 | G32: 11 | I32: =SUM(D32,E32,F32,G32:H32) -> 37 | J32: ='2주차'!K37 -> 99 | K32: =SUM(I32,J32) -> 136 | L32: =RANK(K32,K$6:K$110) -> 15 | M32: =COUNTA(D32,E32,F32,G32,H32)/5 -> 0.8
B33: 140 | C33: 남 | D33: 7 | E33: 7 | F33: 5 | G33: 6 | H33: 6 | I33: =SUM(D33,E33,F33,G33:H33) -> 31 | J33: ='2주차'!K38 -> 58 | K33: =SUM(I33,J33) -> 89 | L33: =RANK(K33,K$6:K$110) -> 48 | M33: =COUNTA(D33,E33,F33,G33,H33)/5 -> 1
B34: 141 | C34: 남 | D34: 3 | E34: 10 | F34: 11 | G34: 10 | I34: =SUM(D34,E34,F34,G34:H34) -> 34 | J34: ='2주차'!K39 -> 55 | K34: =SUM(I34,J34) -> 89 | L34: =RANK(K34,K$6:K$110) -> 48 | M34: =COUNTA(D34,E34,F34,G34,H34)/5 -> 0.8
B35: 144 | C35: 남 | I35: =SUM(D35,E35,F35,G35:H35) -> 0 | J35: ='2주차'!K42 -> 16 | K35: =SUM(I35,J35) -> 16 | L35: =RANK(K35,K$6:K$110) -> 99 | M35: =COUNTA(D35,E35,F35,G35,H35)/5 -> 0
B36: 145 | C36: 여 | I36: =SUM(D36,E36,F36,G36:H36) -> 0 | J36: ='2주차'!K43 -> 50 | K36: =SUM(I36,J36) -> 50 | L36: =RANK(K36,K$6:K$110) -> 81 | M36: =COUNTA(D36,E36,F36,G36,H36)/5 -> 0
B37: 147 | C37: 남 | I37: =SUM(D37,E37,F37,G37:H37) -> 0 | J37: ='2주차'!K44 -> 27 | K37: =SUM(I37,J37) -> 27 | L37: =RANK(K37,K$6:K$110) -> 90 | M37: =COUNTA(D37,E37,F37,G37,H37)/5 -> 0
B38: 148 | C38: 남 | D38: 2 | E38: 5 | F38: 10 | G38: 6 | H38: 8 | I38: =SUM(D38,E38,F38,G38:H38) -> 31 | J38: ='2주차'!K45 -> 67 | K38: =SUM(I38,J38) -> 98 | L38: =RANK(K38,K$6:K$110) -> 40 | M38: =COUNTA(D38,E38,F38,G38,H38)/5 -> 1
B39: 149 | C39: 남 | D39: 3 | E39: 8 | F39: 4 | I39: =SUM(D39,E39,F39,G39:H39) -> 15 | J39: ='2주차'!K46 -> 38 | K39: =SUM(I39,J39) -> 53 | L39: =RANK(K39,K$6:K$110) -> 79 | M39: =COUNTA(D39,E39,F39,G39,H39)/5 -> 0.6
B40: 150 | C40: 남 | D40: 5 | E40: 3 | F40: 7 | H40: 6 | I40: =SUM(D40,E40,F40,G40:H40) -> 21 | J40: ='2주차'!K47 -> 43 | K40: =SUM(I40,J40) -> 64 | L40: =RANK(K40,K$6:K$110) -> 70 | M40: =COUNTA(D40,E40,F40,G40,H40)/5 -> 0.8
B41: 151 | C41: 남 | D41: 4 | E41: 6 | F41: 6 | H41: 8 | I41: =SUM(D41,E41,F41,G41:H41) -> 24 | J41: ='2주차'!K48 -> 48 | K41: =SUM(I41,J41) -> 72 | L41: =RANK(K41,K$6:K$110) -> 62 | M41: =COUNTA(D41,E41,F41,G41,H41)/5 -> 0.8
B42: 152 | C42: 남 | D42: 6 | E42: 7 | F42: 4 | G42: 7 | I42: =SUM(D42,E42,F42,G42:H42) -> 24 | J42: ='2주차'!K49 -> 62 | K42: =SUM(I42,J42) -> 86 | L42: =RANK(K42,K$6:K$110) -> 53 | M42: =COUNTA(D42,E42,F42,G42,H42)/5 -> 0.8
B43: 153 | C43: 남 | I43: =SUM(D43,E43,F43,G43:H43) -> 0 | J43: ='2주차'!K50 -> 18 | K43: =SUM(I43,J43) -> 18 | L43: =RANK(K43,K$6:K$110) -> 96 | M43: =COUNTA(D43,E43,F43,G43,H43)/5 -> 0
B44: 154 | C44: 남 | I44: =SUM(D44,E44,F44,G44:H44) -> 0 | J44: ='2주차'!K51 -> 19 | K44: =SUM(I44,J44) -> 19 | L44: =RANK(K44,K$6:K$110) -> 95 | M44: =COUNTA(D44,E44,F44,G44,H44)/5 -> 0
B45: 156 | C45: 남 | D45: 2 | E45: 5 | I45: =SUM(D45,E45,F45,G45:H45) -> 7 | J45: ='2주차'!K52 -> 25 | K45: =SUM(I45,J45) -> 32 | L45: =RANK(K45,K$6:K$110) -> 88 | M45: =COUNTA(D45,E45,F45,G45,H45)/5 -> 0.4
B46: 157 | C46: 여 | D46: 6 | E46: 8 | F46: 14 | G46: 10 | H46: 15 | I46: =SUM(D46,E46,F46,G46:H46) -> 53 | J46: ='2주차'!K53 -> 107 | K46: =SUM(I46,J46) -> 160 | L46: =RANK(K46,K$6:K$110) -> 4 | M46: =COUNTA(D46,E46,F46,G46,H46)/5 -> 1
B47: 158 | C47: 여 | D47: 3 | E47: 10 | F47: 7 | G47: 5 | H47: 11 | I47: =SUM(D47,E47,F47,G47:H47) -> 36 | J47: ='2주차'!K54 -> 66 | K47: =SUM(I47,J47) -> 102 | L47: =RANK(K47,K$6:K$110) -> 35 | M47: =COUNTA(D47,E47,F47,G47,H47)/5 -> 1
B48: 159 | C48: 여 | H48: 8 | I48: =SUM(D48,E48,F48,G48:H48) -> 8 | J48: ='2주차'!K55 -> 65 | K48: =SUM(I48,J48) -> 73 | L48: =RANK(K48,K$6:K$110) -> 61 | M48: =COUNTA(D48,E48,F48,G48,H48)/5 -> 0.2
B49: 160 | C49: 남 | D49: 7 | E49: 10 | F49: 8 | G49: 3 | H49: 6 | I49: =SUM(D49,E49,F49,G49:H49) -> 34 | J49: ='2주차'!K56 -> 68 | K49: =SUM(I49,J49) -> 102 | L49: =RANK(K49,K$6:K$110) -> 35 | M49: =COUNTA(D49,E49,F49,G49,H49)/5 -> 1
B50: 161 | C50: 남 | D50: 7 | E50: 13 | F50: 11 | G50: 11 | H50: 11 | I50: =SUM(D50,E50,F50,G50:H50) -> 53 | J50: ='2주차'!K57 -> 103 | K50: =SUM(I50,J50) -> 156 | L50: =RANK(K50,K$6:K$110) -> 7 | M50: =COUNTA(D50,E50,F50,G50,H50)/5 -> 1
B51: 162 | C51: 남 | I51: =SUM(D51,E51,F51,G51:H51) -> 0 | J51: ='2주차'!K58 -> 25 | K51: =SUM(I51,J51) -> 25 | L51: =RANK(K51,K$6:K$110) -> 92 | M51: =COUNTA(D51,E51,F51,G51,H51)/5 -> 0
B52: 163 | C52: 여 | D52: 7 | E52: 5 | G52: 5 | H52: 4 | I52: =SUM(D52,E52,F52,G52:H52) -> 21 | J52: ='2주차'!K59 -> 66 | K52: =SUM(I52,J52) -> 87 | L52: =RANK(K52,K$6:K$110) -> 52 | M52: =COUNTA(D52,E52,F52,G52,H52)/5 -> 0.8
B53: 164 | C53: 남 | D53: 5 | E53: 8 | G53: 6 | H53: 5 | I53: =SUM(D53,E53,F53,G53:H53) -> 24 | J53: ='2주차'!K60 -> 69 | K53: =SUM(I53,J53) -> 93 | L53: =RANK(K53,K$6:K$110) -> 45 | M53: =COUNTA(D53,E53,F53,G53,H53)/5 -> 0.8
B54: 165 | C54: 남 | D54: 7 | E54: 13 | F54: 13 | G54: 7 | H54: 11 | I54: =SUM(D54,E54,F54,G54:H54) -> 51 | J54: ='2주차'!K61 -> 109 | K54: =SUM(I54,J54) -> 160 | L54: =RANK(K54,K$6:K$110) -> 4 | M54: =COUNTA(D54,E54,F54,G54,H54)/5 -> 1
B55: 166 | C55: 여 | D55: 4 | E55: 9 | F55: 12 | G55: 9 | H55: 12 | I55: =SUM(D55,E55,F55,G55:H55) -> 46 | J55: ='2주차'!K62 -> 84 | K55: =SUM(I55,J55) -> 130 | L55: =RANK(K55,K$6:K$110) -> 22 | M55: =COUNTA(D55,E55,F55,G55,H55)/5 -> 1
B56: 167 | C56: 남 | D56: 3 | E56: 6 | F56: 9 | G56: 8 | H56: 3 | I56: =SUM(D56,E56,F56,G56:H56) -> 29 | J56: ='2주차'!K63 -> 55 | K56: =SUM(I56,J56) -> 84 | L56: =RANK(K56,K$6:K$110) -> 55 | M56: =COUNTA(D56,E56,F56,G56,H56)/5 -> 1
B57: 201 | C57: 남 | D57: 7 | E57: 8 | F57: 11 | G57: 8 | H57: 7 | I57: =SUM(D57,E57,F57,G57:H57) -> 41 | J57: ='2주차'!K65 -> 80 | K57: =SUM(I57,J57) -> 121 | L57: =RANK(K57,K$6:K$110) -> 30 | M57: =COUNTA(D57,E57,F57,G57,H57)/5 -> 1
B58: 202 | C58: 남 | I58: =SUM(D58,E58,F58,G58:H58) -> 0 | J58: ='2주차'!K66 -> 10 | K58: =SUM(I58,J58) -> 10 | L58: =RANK(K58,K$6:K$110) -> 102 | M58: =COUNTA(D58,E58,F58,G58,H58)/5 -> 0
B59: 206 | C59: 여 | D59: 8 | E59: 6 | F59: 10 | G59: 10 | H59: 12 | I59: =SUM(D59,E59,F59,G59:H59) -> 46 | J59: ='2주차'!K67 -> 85 | K59: =SUM(I59,J59) -> 131 | L59: =RANK(K59,K$6:K$110) -> 20 | M59: =COUNTA(D59,E59,F59,G59,H59)/5 -> 1
B60: 207 | C60: 여 | D60: 3 | E60: 6 | F60: 6 | G60: 6 | I60: =SUM(D60,E60,F60,G60:H60) -> 21 | J60: ='2주차'!K68 -> 48 | K60: =SUM(I60,J60) -> 69 | L60: =RANK(K60,K$6:K$110) -> 65 | M60: =COUNTA(D60,E60,F60,G60,H60)/5 -> 0.8
B61: 209 | C61: 여 | D61: 1 | E61: 5 | G61: 6 | H61: 10 | I61: =SUM(D61,E61,F61,G61:H61) -> 22 | J61: ='2주차'!K70 -> 47 | K61: =SUM(I61,J61) -> 69 | L61: =RANK(K61,K$6:K$110) -> 65 | M61: =COUNTA(D61,E61,F61,G61,H61)/5 -> 0.8
B62: 210 | C62: 남 | E62: 4 | G62: 11 | H62: 15 | I62: =SUM(D62,E62,F62,G62:H62) -> 30 | J62: ='2주차'!K71 -> 37 | K62: =SUM(I62,J62) -> 67 | L62: =RANK(K62,K$6:K$110) -> 67 | M62: =COUNTA(D62,E62,F62,G62,H62)/5 -> 0.6
B63: 212 | C63: 남 | F63: 11 | I63: =SUM(D63,E63,F63,G63:H63) -> 11 | J63: ='2주차'!K73 -> 45 | K63: =SUM(I63,J63) -> 56 | L63: =RANK(K63,K$6:K$110) -> 75 | M63: =COUNTA(D63,E63,F63,G63,H63)/5 -> 0.2
B64: 215 | C64: 여 | D64: 4 | E64: 13 | F64: 11 | G64: 11 | H64: 14 | I64: =SUM(D64,E64,F64,G64:H64) -> 53 | J64: ='2주차'!K74 -> 104 | K64: =SUM(I64,J64) -> 157 | L64: =RANK(K64,K$6:K$110) -> 6 | M64: =COUNTA(D64,E64,F64,G64,H64)/5 -> 1
B65: 216 | C65: 남 | D65: 7 | E65: 4 | F65: 11 | G65: 9 | I65: =SUM(D65,E65,F65,G65:H65) -> 31 | J65: ='2주차'!K75 -> 40 | K65: =SUM(I65,J65) -> 71 | L65: =RANK(K65,K$6:K$110) -> 63 | M65: =COUNTA(D65,E65,F65,G65,H65)/5 -> 0.8
B66: 217 | C66: 여 | D66: 5 | E66: 13 | F66: 13 | G66: 13 | H66: 9 | I66: =SUM(D66,E66,F66,G66:H66) -> 53 | J66: ='2주차'!K76 -> 97 | K66: =SUM(I66,J66) -> 150 | L66: =RANK(K66,K$6:K$110) -> 11 | M66: =COUNTA(D66,E66,F66,G66,H66)/5 -> 1
B67: 218 | C67: 남 | D67: 3 | E67: 1 | I67: =SUM(D67,E67,F67,G67:H67) -> 4 | J67: ='2주차'!K77 -> 3 | K67: =SUM(I67,J67) -> 7 | L67: =RANK(K67,K$6:K$110) -> 105 | M67: =COUNTA(D67,E67,F67,G67,H67)/5 -> 0.4
B68: 219 | C68: 남 | I68: =SUM(D68,E68,F68,G68:H68) -> 0 | J68: ='2주차'!K78 -> 10 | K68: =SUM(I68,J68) -> 10 | L68: =RANK(K68,K$6:K$110) -> 102 | M68: =COUNTA(D68,E68,F68,G68,H68)/5 -> 0
B69: 220 | C69: 여 | I69: =SUM(D69,E69,F69,G69:H69) -> 0 | J69: ='2주차'!K79 -> 17 | K69: =SUM(I69,J69) -> 17 | L69: =RANK(K69,K$6:K$110) -> 98 | M69: =COUNTA(D69,E69,F69,G69,H69)/5 -> 0
B70: 221 | C70: 남 | D70: 4 | E70: 9 | F70: 8 | G70: 7 | H70: 8 | I70: =SUM(D70,E70,F70,G70:H70) -> 36 | J70: ='2주차'!K80 -> 58 | K70: =SUM(I70,J70) -> 94 | L70: =RANK(K70,K$6:K$110) -> 43 | M70: =COUNTA(D70,E70,F70,G70,H70)/5 -> 1
B71: 222 | C71: 남 | D71: 9 | E71: 9 | F71: 11 | G71: 9 | H71: 10 | I71: =SUM(D71,E71,F71,G71:H71) -> 48 | J71: ='2주차'!K81 -> 75 | K71: =SUM(I71,J71) -> 123 | L71: =RANK(K71,K$6:K$110) -> 28 | M71: =COUNTA(D71,E71,F71,G71,H71)/5 -> 1
B72: 223 | C72: 남 | G72: 4 | I72: =SUM(D72,E72,F72,G72:H72) -> 4 | J72: ='2주차'!K82 -> 12 | K72: =SUM(I72,J72) -> 16 | L72: =RANK(K72,K$6:K$110) -> 99 | M72: =COUNTA(D72,E72,F72,G72,H72)/5 -> 0.2
B73: 225 | C73: 남 | E73: 4 | F73: 4 | G73: 1 | I73: =SUM(D73,E73,F73,G73:H73) -> 9 | J73: ='2주차'!K84 -> 46 | K73: =SUM(I73,J73) -> 55 | L73: =RANK(K73,K$6:K$110) -> 76 | M73: =COUNTA(D73,E73,F73,G73,H73)/5 -> 0.6
B74: 226 | C74: 남 | D74: 4 | E74: 5 | F74: 5 | G74: 6 | I74: =SUM(D74,E74,F74,G74:H74) -> 20 | J74: ='2주차'!K85 -> 27 | K74: =SUM(I74,J74) -> 47 | L74: =RANK(K74,K$6:K$110) -> 82 | M74: =COUNTA(D74,E74,F74,G74,H74)/5 -> 0.8
B75: 228 | C75: 남 | D75: 4 | E75: 7 | F75: 8 | G75: 7 | H75: 11 | I75: =SUM(D75,E75,F75,G75:H75) -> 37 | J75: ='2주차'!K87 -> 65 | K75: =SUM(I75,J75) -> 102 | L75: =RANK(K75,K$6:K$110) -> 35 | M75: =COUNTA(D75,E75,F75,G75,H75)/5 -> 1
B76: 229 | C76: 남 | D76: 4 | E76: 8 | F76: 6 | G76: 5 | H76: 7 | I76: =SUM(D76,E76,F76,G76:H76) -> 30 | J76: ='2주차'!K88 -> 69 | K76: =SUM(I76,J76) -> 99 | L76: =RANK(K76,K$6:K$110) -> 39 | M76: =COUNTA(D76,E76,F76,G76,H76)/5 -> 1
B77: 230 | C77: 남 | D77: 4 | E77: 6 | F77: 8 | G77: 9 | H77: 8 | I77: =SUM(D77,E77,F77,G77:H77) -> 35 | J77: ='2주차'!K89 -> 63 | K77: =SUM(I77,J77) -> 98 | L77: =RANK(K77,K$6:K$110) -> 40 | M77: =COUNTA(D77,E77,F77,G77,H77)/5 -> 1
B78: 231 | C78: 여 | I78: =SUM(D78,E78,F78,G78:H78) -> 0 | J78: ='2주차'!K90 -> 14 | K78: =SUM(I78,J78) -> 14 | L78: =RANK(K78,K$6:K$110) -> 101 | M78: =COUNTA(D78,E78,F78,G78,H78)/5 -> 0
B79: 232 | C79: 여 | D79: 6 | E79: 10 | F79: 12 | G79: 6 | H79: 14 | I79: =SUM(D79,E79,F79,G79:H79) -> 48 | J79: ='2주차'!K91 -> 82 | K79: =SUM(I79,J79) -> 130 | L79: =RANK(K79,K$6:K$110) -> 22 | M79: =COUNTA(D79,E79,F79,G79,H79)/5 -> 1
B80: 233 | C80: 남 | D80: 6 | E80: 11 | F80: 13 | G80: 9 | H80: 13 | I80: =SUM(D80,E80,F80,G80:H80) -> 52 | J80: ='2주차'!K92 -> 114 | K80: =SUM(I80,J80) -> 166 | L80: =RANK(K80,K$6:K$110) -> 3 | M80: =COUNTA(D80,E80,F80,G80,H80)/5 -> 1
B81: 234 | C81: 여 | E81: 8 | I81: =SUM(D81,E81,F81,G81:H81) -> 8 | J81: ='2주차'!K93 -> 53 | K81: =SUM(I81,J81) -> 61 | L81: =RANK(K81,K$6:K$110) -> 74 | M81: =COUNTA(D81,E81,F81,G81,H81)/5 -> 0.2
B82: 235 | C82: 남 | I82: =SUM(D82,E82,F82,G82:H82) -> 0 | J82: ='2주차'!K94 -> 8 | K82: =SUM(I82,J82) -> 8 | L82: =RANK(K82,K$6:K$110) -> 104 | M82: =COUNTA(D82,E82,F82,G82,H82)/5 -> 0
B83: 236 | C83: 여 | D83: 5 | E83: 6 | F83: 14 | G83: 10 | H83: 13 | I83: =SUM(D83,E83,F83,G83:H83) -> 48 | J83: ='2주차'!K95 -> 81 | K83: =SUM(I83,J83) -> 129 | L83: =RANK(K83,K$6:K$110) -> 24 | M83: =COUNTA(D83,E83,F83,G83,H83)/5 -> 1
B84: 238 | C84: 여 | D84: 6 | E84: 14 | F84: 13 | G84: 12 | H84: 14 | I84: =SUM(D84,E84,F84,G84:H84) -> 59 | J84: ='2주차'!K97 -> 113 | K84: =SUM(I84,J84) -> 172 | L84: =RANK(K84,K$6:K$110) -> 2 | M84: =COUNTA(D84,E84,F84,G84,H84)/5 -> 1
B85: 239 | C85: 여 | D85: 9 | F85: 13 | G85: 10 | I85: =SUM(D85,E85,F85,G85:H85) -> 32 | J85: ='2주차'!K98 -> 66 | K85: =SUM(I85,J85) -> 98 | L85: =RANK(K85,K$6:K$110) -> 40 | M85: =COUNTA(D85,E85,F85,G85,H85)/5 -> 0.6
B86: 240 | C86: 여 | D86: 3 | E86: 3 | F86: 2 | G86: 4 | H86: 10 | I86: =SUM(D86,E86,F86,G86:H86) -> 22 | J86: ='2주차'!K99 -> 54 | K86: =SUM(I86,J86) -> 76 | L86: =RANK(K86,K$6:K$110) -> 58 | M86: =COUNTA(D86,E86,F86,G86,H86)/5 -> 1
B87: 241 | C87: 남 | D87: 4 | E87: 8 | F87: 4 | G87: 8 | H87: 8 | I87: =SUM(D87,E87,F87,G87:H87) -> 32 | J87: ='2주차'!K100 -> 72 | K87: =SUM(I87,J87) -> 104 | L87: =RANK(K87,K$6:K$110) -> 34 | M87: =COUNTA(D87,E87,F87,G87,H87)/5 -> 1
B88: 243 | C88: 남 | D88: 2 | F88: 6 | I88: =SUM(D88,E88,F88,G88:H88) -> 8 | J88: ='2주차'!K102 -> 27 | K88: =SUM(I88,J88) -> 35 | L88: =RANK(K88,K$6:K$110) -> 87 | M88: =COUNTA(D88,E88,F88,G88,H88)/5 -> 0.4
B89: 244 | C89: 남 | D89: 3 | E89: 6 | G89: 6 | H89: 9 | I89: =SUM(D89,E89,F89,G89:H89) -> 24 | J89: ='2주차'!K103 -> 39 | K89: =SUM(I89,J89) -> 63 | L89: =RANK(K89,K$6:K$110) -> 72 | M89: =COUNTA(D89,E89,F89,G89,H89)/5 -> 0.8
B90: 245 | C90: 여 | D90: 7 | E90: 5 | F90: 13 | G90: 9 | H90: 12 | I90: =SUM(D90,E90,F90,G90:H90) -> 46 | J90: ='2주차'!K104 -> 97 | K90: =SUM(I90,J90) -> 143 | L90: =RANK(K90,K$6:K$110) -> 12 | M90: =COUNTA(D90,E90,F90,G90,H90)/5 -> 1
B91: 246 | C91: 남 | D91: 2 | E91: 8 | F91: 11 | G91: 6 | H91: 13 | I91: =SUM(D91,E91,F91,G91:H91) -> 40 | J91: ='2주차'!K105 -> 94 | K91: =SUM(I91,J91) -> 134 | L91: =RANK(K91,K$6:K$110) -> 18 | M91: =COUNTA(D91,E91,F91,G91,H91)/5 -> 1
B92: 248 | C92: 남 | D92: 6 | F92: 9 | G92: 8 | H92: 16 | I92: =SUM(D92,E92,F92,G92:H92) -> 39 | J92: ='2주차'!K106 -> 115 | K92: =SUM(I92,J92) -> 154 | L92: =RANK(K92,K$6:K$110) -> 8 | M92: =COUNTA(D92,E92,F92,G92,H92)/5 -> 0.8
B93: 249 | C93: 남 | F93: 8 | H93: 6 | I93: =SUM(D93,E93,F93,G93:H93) -> 14 | J93: ='2주차'!K107 -> 74 | K93: =SUM(I93,J93) -> 88 | L93: =RANK(K93,K$6:K$110) -> 51 | M93: =COUNTA(D93,E93,F93,G93,H93)/5 -> 0.4
B94: 250 | C94: 남 | D94: 5 | E94: 10 | F94: 10 | G94: 11 | H94: 9 | I94: =SUM(D94,E94,F94,G94:H94) -> 45 | J94: ='2주차'!K108 -> 84 | K94: =SUM(I94,J94) -> 129 | L94: =RANK(K94,K$6:K$110) -> 24 | M94: =COUNTA(D94,E94,F94,G94,H94)/5 -> 1
B95: 251 | C95: 남 | I95: =SUM(D95,E95,F95,G95:H95) -> 0 | J95: ='2주차'!K109 -> 31 | K95: =SUM(I95,J95) -> 31 | L95: =RANK(K95,K$6:K$110) -> 89 | M95: =COUNTA(D95,E95,F95,G95,H95)/5 -> 0
B96: 252 | C96: 여 | F96: 10 | G96: 5 | I96: =SUM(D96,E96,F96,G96:H96) -> 15 | J96: ='2주차'!K110 -> 39 | K96: =SUM(I96,J96) -> 54 | L96: =RANK(K96,K$6:K$110) -> 77 | M96: =COUNTA(D96,E96,F96,G96,H96)/5 -> 0.4
B97: 253 | C97: 남 | D97: 6 | E97: 10 | F97: 5 | G97: 8 | H97: 13 | I97: =SUM(D97,E97,F97,G97:H97) -> 42 | J97: ='2주차'!K111 -> 74 | K97: =SUM(I97,J97) -> 116 | L97: =RANK(K97,K$6:K$110) -> 31 | M97: =COUNTA(D97,E97,F97,G97,H97)/5 -> 1
B98: 254 | C98: 남 | D98: 7 | E98: 9 | F98: 11 | G98: 11 | H98: 8 | I98: =SUM(D98,E98,F98,G98:H98) -> 46 | J98: ='2주차'!K112 -> 76 | K98: =SUM(I98,J98) -> 122 | L98: =RANK(K98,K$6:K$110) -> 29 | M98: =COUNTA(D98,E98,F98,G98,H98)/5 -> 1
B99: 255 | C99: 남 | D99: 2 | E99: 8 | F99: 9 | G99: 7 | H99: 7 | I99: =SUM(D99,E99,F99,G99:H99) -> 33 | J99: ='2주차'!K113 -> 57 | K99: =SUM(I99,J99) -> 90 | L99: =RANK(K99,K$6:K$110) -> 47 | M99: =COUNTA(D99,E99,F99,G99,H99)/5 -> 1
B100: 256 | C100: 남 | D100: 5 | E100: 4 | F100: 8 | G100: 4 | H100: 7 | I100: =SUM(D100,E100,F100,G100:H100) -> 28 | J100: ='2주차'!K114 -> 43 | K100: =SUM(I100,J100) -> 71 | L100: =RANK(K100,K$6:K$110) -> 63 | M100: =COUNTA(D100,E100,F100,G100,H100)/5 -> 1
B101: 257 | C101: 여 | E101: 6 | I101: =SUM(D101,E101,F101,G101:H101) -> 6 | J101: ='2주차'!K115 -> 30 | K101: =SUM(I101,J101) -> 36 | L101: =RANK(K101,K$6:K$110) -> 86 | M101: =COUNTA(D101,E101,F101,G101,H101)/5 -> 0.2
...

Sheet 4주차
B2: 3~4월 아침 모의고사 성적현황
B3: 시험 4주차 : 4월 1일 ~ 5일
D4: 1 | E4: 2 | F4: 3 | G4: 4 | H4: 5 | K4: 주간성적 | M4: 모의고사 참여율 | N4: 비고
A5: 수험 번호 | B5: 수험 번호 | C5: 성별 | D5: 형법 | E5: 한국사 | F5: 형소법 | G5: 경찰학 | H5: 영어 | I5: 이번주 총점 | J5: 저번주 총점 | K5: 전체 총점 | L5: 등수
B6: 103 | C6: 남 | I6: =SUM(D6,E6,F6,G6:H6) -> 0 | J6: ='3주차'!K7 -> 64 | K6: =SUM(I6,J6) -> 64 | L6: =RANK(K6,K$6:K$95) -> 77 | M6: =COUNTA(D6,E6,F6,G6,H6)/5 -> 0
B7: 107 | C7: 남 | E7: 4 | F7: 6 | G7: 5 | H7: 4 | I7: =SUM(D7,E7,F7,G7:H7) -> 19 | J7: ='3주차'!K8 -> 85 | K7: =SUM(I7,J7) -> 104 | L7: =RANK(K7,K$6:K$95) -> 58 | M7: =COUNTA(D7,E7,F7,G7,H7)/5 -> 0.8
B8: 111 | C8: 남 | D8: 7 | E8: 6 | F8: 12 | G8: 7 | H8: 7 | I8: =SUM(D8,E8,F8,G8:H8) -> 39 | J8: ='3주차'!K9 -> 153 | K8: =SUM(I8,J8) -> 192 | L8: =RANK(K8,K$6:K$95) -> 10 | M8: =COUNTA(D8,E8,F8,G8,H8)/5 -> 1
B9: 112 | C9: 남 | D9: 5 | E9: 3 | F9: 6 | G9: 6 | H9: 6 | I9: =SUM(D9,E9,F9,G9:H9) -> 26 | J9: ='3주차'!K10 -> 62 | K9: =SUM(I9,J9) -> 88 | L9: =RANK(K9,K$6:K$95) -> 65 | M9: =COUNTA(D9,E9,F9,G9,H9)/5 -> 1
B10: 113 | C10: 남 | E10: 6 | F10: 12 | G10: 6 | H10: 7 | I10: =SUM(D10,E10,F10,G10:H10) -> 31 | J10: ='3주차'!K11 -> 141 | K10: =SUM(I10,J10) -> 172 | L10: =RANK(K10,K$6:K$95) -> 18 | M10: =COUNTA(D10,E10,F10,G10,H10)/5 -> 0.8
B11: 114 | C11: 남 | D11: 6 | E11: 3 | F11: 3 | H11: 8 | I11: =SUM(D11,E11,F11,G11:H11) -> 20 | J11: ='3주차'!K12 -> 66 | K11: =SUM(I11,J11) -> 86 | L11: =RANK(K11,K$6:K$95) -> 67 | M11: =COUNTA(D11,E11,F11,G11,H11)/5 -> 0.8
B12: 116 | C12: 남 | D12: 6 | E12: 5 | F12: 5 | G12: 6 | H12: 5 | I12: =SUM(D12,E12,F12,G12:H12) -> 27 | J12: ='3주차'!K13 -> 94 | K12: =SUM(I12,J12) -> 121 | L12: =RANK(K12,K$6:K$95) -> 46 | M12: =COUNTA(D12,E12,F12,G12,H12)/5 -> 1
B13: 117 | C13: 남 | E13: 4 | F13: 11 | G13: 7 | H13: 8 | I13: =SUM(D13,E13,F13,G13:H13) -> 30 | J13: ='3주차'!K14 -> 131 | K13: =SUM(I13,J13) -> 161 | L13: =RANK(K13,K$6:K$95) -> 22 | M13: =COUNTA(D13,E13,F13,G13,H13)/5 -> 0.8
B14: 118 | C14: 여 | D14: 7 | E14: 6 | F14: 8 | G14: 7 | H14: 6 | I14: =SUM(D14,E14,F14,G14:H14) -> 34 | J14: ='3주차'!K15 -> 124 | K14: =SUM(I14,J14) -> 158 | L14: =RANK(K14,K$6:K$95) -> 26 | M14: =COUNTA(D14,E14,F14,G14,H14)/5 -> 1
B15: 119 | C15: 남 | D15: 9 | E15: 6 | F15: 8 | G15: 9 | I15: =SUM(D15,E15,F15,G15:H15) -> 32 | J15: ='3주차'!K16 -> 129 | K15: =SUM(I15,J15) -> 161 | L15: =RANK(K15,K$6:K$95) -> 22 | M15: =COUNTA(D15,E15,F15,G15,H15)/5 -> 0.8
B16: 120 | C16: 남 | E16: 5 | F16: 11 | G16: 6 | H16: 6 | I16: =SUM(D16,E16,F16,G16:H16) -> 28 | J16: ='3주차'!K17 -> 101 | K16: =SUM(I16,J16) -> 129 | L16: =RANK(K16,K$6:K$95) -> 38 | M16: =COUNTA(D16,E16,F16,G16,H16)/5 -> 0.8
B17: 121 | C17: 남 | D17: 7 | E17: 8 | F17: 12 | G17: 11 | H17: 8 | I17: =SUM(D17,E17,F17,G17:H17) -> 46 | J17: ='3주차'!K18 -> 135 | K17: =SUM(I17,J17) -> 181 | L17: =RANK(K17,K$6:K$95) -> 14 | M17: =COUNTA(D17,E17,F17,G17,H17)/5 -> 1
B18: 122 | C18: 남 | D18: 2 | F18: 12 | G18: 7 | I18: =SUM(D18,E18,F18,G18:H18) -> 21 | J18: ='3주차'!K19 -> 134 | K18: =SUM(I18,J18) -> 155 | L18: =RANK(K18,K$6:K$95) -> 28 | M18: =COUNTA(D18,E18,F18,G18,H18)/5 -> 0.6
B19: 123 | C19: 남 | D19: 6 | E19: 6 | F19: 5 | G19: 5 | H19: 7 | I19: =SUM(D19,E19,F19,G19:H19) -> 29 | J19: ='3주차'!K20 -> 83 | K19: =SUM(I19,J19) -> 112 | L19: =RANK(K19,K$6:K$95) -> 53 | M19: =COUNTA(D19,E19,F19,G19,H19)/5 -> 1
B20: 126 | C20: 남 | D20: 3 | E20: 7 | F20: 7 | G20: 5 | H20: 2 | I20: =SUM(D20,E20,F20,G20:H20) -> 24 | J20: ='3주차'!K23 -> 89 | K20: =SUM(I20,J20) -> 113 | L20: =RANK(K20,K$6:K$95) -> 52 | M20: =COUNTA(D20,E20,F20,G20,H20)/5 -> 1
B21: 127 | C21: 남 | D21: 6 | E21: 7 | F21: 12 | H21: 6 | I21: =SUM(D21,E21,F21,G21:H21) -> 31 | J21: ='3주차'!K24 -> 107 | K21: =SUM(I21,J21) -> 138 | L21: =RANK(K21,K$6:K$95) -> 34 | M21: =COUNTA(D21,E21,F21,G21,H21)/5 -> 0.8
B22: 129 | C22: 남 | D22: 10 | E22: 12 | F22: 14 | G22: 14 | H22: 15 | I22: =SUM(D22,E22,F22,G22:H22) -> 65 | J22: ='3주차'!K25 -> 197 | K22: =SUM(I22,J22) -> 262 | L22: =RANK(K22,K$6:K$95) -> 1 | M22: =COUNTA(D22,E22,F22,G22,H22)/5 -> 1
B23: 130 | C23: 여 | D23: 9 | E23: 7 | F23: 11 | G23: 9 | I23: =SUM(D23,E23,F23,G23:H23) -> 36 | J23: ='3주차'!K26 -> 139 | K23: =SUM(I23,J23) -> 175 | L23: =RANK(K23,K$6:K$95) -> 16 | M23: =COUNTA(D23,E23,F23,G23,H23)/5 -> 0.8
B24: 131 | C24: 남 | G24: 5 | H24: 5 | I24: =SUM(D24,E24,F24,G24:H24) -> 10 | J24: ='3주차'!K27 -> 43 | K24: =SUM(I24,J24) -> 53 | L24: =RANK(K24,K$6:K$95) -> 79 | M24: =COUNTA(D24,E24,F24,G24,H24)/5 -> 0.4
B25: 132 | C25: 남 | D25: 6 | F25: 9 | I25: =SUM(D25,E25,F25,G25:H25) -> 15 | J25: ='3주차'!K28 -> 54 | K25: =SUM(I25,J25) -> 69 | L25: =RANK(K25,K$6:K$95) -> 73 | M25: =COUNTA(D25,E25,F25,G25,H25)/5 -> 0.4
B26: 133 | C26: 남 | D26: 8 | E26: 6 | F26: 8 | G26: 12 | H26: 4 | I26: =SUM(D26,E26,F26,G26:H26) -> 38 | J26: ='3주차'!K29 -> 116 | K26: =SUM(I26,J26) -> 154 | L26: =RANK(K26,K$6:K$95) -> 29 | M26: =COUNTA(D26,E26,F26,G26,H26)/5 -> 1
B27: 134 | C27: 여 | D27: 3 | E27: 6 | F27: 7 | I27: =SUM(D27,E27,F27,G27:H27) -> 16 | J27: ='3주차'!K30 -> 152 | K27: =SUM(I27,J27) -> 168 | L27: =RANK(K27,K$6:K$95) -> 19 | M27: =COUNTA(D27,E27,F27,G27,H27)/5 -> 0.6
B28: 139 | C28: 남 | D28: 8 | E28: 6 | F28: 12 | G28: 11 | H28: 13 | I28: =SUM(D28,E28,F28,G28:H28) -> 50 | J28: ='3주차'!K32 -> 136 | K28: =SUM(I28,J28) -> 186 | L28: =RANK(K28,K$6:K$95) -> 11 | M28: =COUNTA(D28,E28,F28,G28,H28)/5 -> 1
B29: 140 | C29: 남 | D29: 3 | E29: 1 | F29: 6 | G29: 5 | H29: 7 | I29: =SUM(D29,E29,F29,G29:H29) -> 22 | J29: ='3주차'!K33 -> 89 | K29: =SUM(I29,J29) -> 111 | L29: =RANK(K29,K$6:K$95) -> 54 | M29: =COUNTA(D29,E29,F29,G29,H29)/5 -> 1
B30: 141 | C30: 남 | D30: 2 | E30: 8 | F30: 9 | G30: 7 | I30: =SUM(D30,E30,F30,G30:H30) -> 26 | J30: ='3주차'!K34 -> 89 | K30: =SUM(I30,J30) -> 115 | L30: =RANK(K30,K$6:K$95) -> 50 | M30: =COUNTA(D30,E30,F30,G30,H30)/5 -> 0.8
B31: 148 | C31: 남 | D31: 5 | E31: 4 | F31: 5 | G31: 3 | H31: 8 | I31: =SUM(D31,E31,F31,G31:H31) -> 25 | J31: ='3주차'!K38 -> 98 | K31: =SUM(I31,J31) -> 123 | L31: =RANK(K31,K$6:K$95) -> 43 | M31: =COUNTA(D31,E31,F31,G31,H31)/5 -> 1
B32: 149 | C32: 남 | I32: =SUM(D32,E32,F32,G32:H32) -> 0 | J32: ='3주차'!K39 -> 53 | K32: =SUM(I32,J32) -> 53 | L32: =RANK(K32,K$6:K$95) -> 79 | M32: =COUNTA(D32,E32,F32,G32,H32)/5 -> 0
B33: 150 | C33: 남 | H33: 4 | I33: =SUM(D33,E33,F33,G33:H33) -> 4 | J33: ='3주차'!K40 -> 64 | K33: =SUM(I33,J33) -> 68 | L33: =RANK(K33,K$6:K$95) -> 75 | M33: =COUNTA(D33,E33,F33,G33,H33)/5 -> 0.2
B34: 151 | C34: 남 | D34: 5 | E34: 5 | F34: 6 | G34: 2 | H34: 8 | I34: =SUM(D34,E34,F34,G34:H34) -> 26 | J34: ='3주차'!K41 -> 72 | K34: =SUM(I34,J34) -> 98 | L34: =RANK(K34,K$6:K$95) -> 62 | M34: =COUNTA(D34,E34,F34,G34,H34)/5 -> 1
B35: 152 | C35: 남 | D35: 6 | E35: 9 | F35: 7 | G35: 8 | H35: 12 | I35: =SUM(D35,E35,F35,G35:H35) -> 42 | J35: ='3주차'!K42 -> 86 | K35: =SUM(I35,J35) -> 128 | L35: =RANK(K35,K$6:K$95) -> 40 | M35: =COUNTA(D35,E35,F35,G35,H35)/5 -> 1
B36: 156 | C36: 남 | D36: 6 | E36: 2 | F36: 8 | G36: 4 | I36: =SUM(D36,E36,F36,G36:H36) -> 20 | J36: ='3주차'!K45 -> 32 | K36: =SUM(I36,J36) -> 52 | L36: =RANK(K36,K$6:K$95) -> 81 | M36: =COUNTA(D36,E36,F36,G36,H36)/5 -> 0.8
B37: 157 | C37: 여 | D37: 5 | E37: 8 | F37: 10 | G37: 6 | H37: 13 | I37: =SUM(D37,E37,F37,G37:H37) -> 42 | J37: ='3주차'!K46 -> 160 | K37: =SUM(I37,J37) -> 202 | L37: =RANK(K37,K$6:K$95) -> 6 | M37: =COUNTA(D37,E37,F37,G37,H37)/5 -> 1
B38: 158 | C38: 여 | D38: 6 | E38: 4 | F38: 6 | G38: 7 | H38: 8 | I38: =SUM(D38,E38,F38,G38:H38) -> 31 | J38: ='3주차'!K47 -> 102 | K38: =SUM(I38,J38) -> 133 | L38: =RANK(K38,K$6:K$95) -> 36 | M38: =COUNTA(D38,E38,F38,G38,H38)/5 -> 1
B39: 160 | C39: 남 | D39: 4 | E39: 5 | F39: 7 | G39: 7 | H39: 5 | I39: =SUM(D39,E39,F39,G39:H39) -> 28 | J39: ='3주차'!K49 -> 102 | K39: =SUM(I39,J39) -> 130 | L39: =RANK(K39,K$6:K$95) -> 37 | M39: =COUNTA(D39,E39,F39,G39,H39)/5 -> 1
B40: 161 | C40: 남 | D40: 9 | E40: 9 | F40: 7 | G40: 10 | H40: 8 | I40: =SUM(D40,E40,F40,G40:H40) -> 43 | J40: ='3주차'!K50 -> 156 | K40: =SUM(I40,J40) -> 199 | L40: =RANK(K40,K$6:K$95) -> 7 | M40: =COUNTA(D40,E40,F40,G40,H40)/5 -> 1
B41: 163 | C41: 여 | D41: 5 | E41: 3 | F41: 5 | G41: 7 | I41: =SUM(D41,E41,F41,G41:H41) -> 20 | J41: ='3주차'!K52 -> 87 | K41: =SUM(I41,J41) -> 107 | L41: =RANK(K41,K$6:K$95) -> 56 | M41: =COUNTA(D41,E41,F41,G41,H41)/5 -> 0.8
B42: 164 | C42: 남 | D42: 4 | E42: 3 | F42: 6 | G42: 6 | H42: 9 | I42: =SUM(D42,E42,F42,G42:H42) -> 28 | J42: ='3주차'!K53 -> 93 | K42: =SUM(I42,J42) -> 121 | L42: =RANK(K42,K$6:K$95) -> 46 | M42: =COUNTA(D42,E42,F42,G42,H42)/5 -> 1
B43: 165 | C43: 남 | D43: 7 | E43: 8 | F43: 10 | G43: 9 | H43: 9 | I43: =SUM(D43,E43,F43,G43:H43) -> 43 | J43: ='3주차'!K54 -> 160 | K43: =SUM(I43,J43) -> 203 | L43: =RANK(K43,K$6:K$95) -> 5 | M43: =COUNTA(D43,E43,F43,G43,H43)/5 -> 1
B44: 166 | C44: 여 | D44: 5 | E44: 5 | F44: 10 | G44: 8 | H44: 8 | I44: =SUM(D44,E44,F44,G44:H44) -> 36 | J44: ='3주차'!K55 -> 130 | K44: =SUM(I44,J44) -> 166 | L44: =RANK(K44,K$6:K$95) -> 21 | M44: =COUNTA(D44,E44,F44,G44,H44)/5 -> 1
B45: 167 | C45: 남 | D45: 4 | E45: 6 | F45: 8 | G45: 5 | I45: =SUM(D45,E45,F45,G45:H45) -> 23 | J45: ='3주차'!K56 -> 84 | K45: =SUM(I45,J45) -> 107 | L45: =RANK(K45,K$6:K$95) -> 56 | M45: =COUNTA(D45,E45,F45,G45,H45)/5 -> 0.8
B46: 201 | C46: 남 | D46: 6 | E46: 8 | F46: 9 | G46: 8 | H46: 9 | I46: =SUM(D46,E46,F46,G46:H46) -> 40 | J46: ='3주차'!K57 -> 121 | K46: =SUM(I46,J46) -> 161 | L46: =RANK(K46,K$6:K$95) -> 22 | M46: =COUNTA(D46,E46,F46,G46,H46)/5 -> 1
B47: 206 | C47: 여 | D47: 7 | E47: 11 | F47: 12 | G47: 10 | H47: 10 | I47: =SUM(D47,E47,F47,G47:H47) -> 50 | J47: ='3주차'!K59 -> 131 | K47: =SUM(I47,J47) -> 181 | L47: =RANK(K47,K$6:K$95) -> 14 | M47: =COUNTA(D47,E47,F47,G47,H47)/5 -> 1
B48: 207 | C48: 여 | D48: 5 | E48: 5 | F48: 4 | G48: 5 | I48: =SUM(D48,E48,F48,G48:H48) -> 19 | J48: ='3주차'!K60 -> 69 | K48: =SUM(I48,J48) -> 88 | L48: =RANK(K48,K$6:K$95) -> 65 | M48: =COUNTA(D48,E48,F48,G48,H48)/5 -> 0.8
B49: 209 | C49: 여 | D49: 4 | H49: 9 | I49: =SUM(D49,E49,F49,G49:H49) -> 13 | J49: ='3주차'!K61 -> 69 | K49: =SUM(I49,J49) -> 82 | L49: =RANK(K49,K$6:K$95) -> 68 | M49: =COUNTA(D49,E49,F49,G49,H49)/5 -> 0.4
B50: 210 | C50: 남 | H50: 10 | I50: =SUM(D50,E50,F50,G50:H50) -> 10 | J50: ='3주차'!K62 -> 67 | K50: =SUM(I50,J50) -> 77 | L50: =RANK(K50,K$6:K$95) -> 70 | M50: =COUNTA(D50,E50,F50,G50,H50)/5 -> 0.2
B51: 212 | C51: 남 | D51: 5 | F51: 8 | I51: =SUM(D51,E51,F51,G51:H51) -> 13 | J51: ='3주차'!K63 -> 56 | K51: =SUM(I51,J51) -> 69 | L51: =RANK(K51,K$6:K$95) -> 73 | M51: =COUNTA(D51,E51,F51,G51,H51)/5 -> 0.4
B52: 215 | C52: 여 | D52: 5 | E52: 4 | F52: 10 | G52: 12 | H52: 9 | I52: =SUM(D52,E52,F52,G52:H52) -> 40 | J52: ='3주차'!K64 -> 157 | K52: =SUM(I52,J52) -> 197 | L52: =RANK(K52,K$6:K$95) -> 8 | M52: =COUNTA(D52,E52,F52,G52,H52)/5 -> 1
B53: 216 | C53: 남 | D53: 6 | E53: 4 | F53: 6 | G53: 4 | I53: =SUM(D53,E53,F53,G53:H53) -> 20 | J53: ='3주차'!K65 -> 71 | K53: =SUM(I53,J53) -> 91 | L53: =RANK(K53,K$6:K$95) -> 64 | M53: =COUNTA(D53,E53,F53,G53,H53)/5 -> 0.8
B54: 217 | C54: 여 | D54: 7 | E54: 8 | F54: 8 | G54: 11 | H54: 11 | I54: =SUM(D54,E54,F54,G54:H54) -> 45 | J54: ='3주차'!K66 -> 150 | K54: =SUM(I54,J54) -> 195 | L54: =RANK(K54,K$6:K$95) -> 9 | M54: =COUNTA(D54,E54,F54,G54,H54)/5 -> 1
B55: 218 | C55: 남 | I55: =SUM(D55,E55,F55,G55:H55) -> 0 | J55: ='3주차'!K67 -> 7 | K55: =SUM(I55,J55) -> 7 | L55: =RANK(K55,K$6:K$95) -> 90 | M55: =COUNTA(D55,E55,F55,G55,H55)/5 -> 0
B56: 220 | C56: 여 | E56: 4 | I56: =SUM(D56,E56,F56,G56:H56) -> 4 | J56: ='3주차'!K69 -> 17 | K56: =SUM(I56,J56) -> 21 | L56: =RANK(K56,K$6:K$95) -> 87 | M56: =COUNTA(D56,E56,F56,G56,H56)/5 -> 0.2
B57: 221 | C57: 남 | D57: 5 | E57: 6 | F57: 7 | G57: 6 | H57: 5 | I57: =SUM(D57,E57,F57,G57:H57) -> 29 | J57: ='3주차'!K70 -> 94 | K57: =SUM(I57,J57) -> 123 | L57: =RANK(K57,K$6:K$95) -> 43 | M57: =COUNTA(D57,E57,F57,G57,H57)/5 -> 1
B58: 222 | C58: 남 | D58: 6 | E58: 3 | F58: 11 | G58: 8 | H58: 8 | I58: =SUM(D58,E58,F58,G58:H58) -> 36 | J58: ='3주차'!K71 -> 123 | K58: =SUM(I58,J58) -> 159 | L58: =RANK(K58,K$6:K$95) -> 25 | M58: =COUNTA(D58,E58,F58,G58,H58)/5 -> 1
B59: 223 | C59: 남 | D59: 6 | E59: 5 | F59: 7 | G59: 7 | I59: =SUM(D59,E59,F59,G59:H59) -> 25 | J59: ='3주차'!K72 -> 16 | K59: =SUM(I59,J59) -> 41 | L59: =RANK(K59,K$6:K$95) -> 84 | M59: =COUNTA(D59,E59,F59,G59,H59)/5 -> 0.8
B60: 225 | C60: 남 | D60: 5 | E60: 5 | G60: 2 | I60: =SUM(D60,E60,F60,G60:H60) -> 12 | J60: ='3주차'!K73 -> 55 | K60: =SUM(I60,J60) -> 67 | L60: =RANK(K60,K$6:K$95) -> 76 | M60: =COUNTA(D60,E60,F60,G60,H60)/5 -> 0.6
B61: 226 | C61: 남 | F61: 3 | I61: =SUM(D61,E61,F61,G61:H61) -> 3 | J61: ='3주차'!K74 -> 47 | K61: =SUM(I61,J61) -> 50 | L61: =RANK(K61,K$6:K$95) -> 82 | M61: =COUNTA(D61,E61,F61,G61,H61)/5 -> 0.2
B62: 228 | C62: 남 | D62: 6 | E62: 6 | F62: 8 | G62: 7 | I62: =SUM(D62,E62,F62,G62:H62) -> 27 | J62: ='3주차'!K75 -> 102 | K62: =SUM(I62,J62) -> 129 | L62: =RANK(K62,K$6:K$95) -> 38 | M62: =COUNTA(D62,E62,F62,G62,H62)/5 -> 0.8
B63: 229 | C63: 남 | D63: 6 | F63: 3 | I63: =SUM(D63,E63,F63,G63:H63) -> 9 | J63: ='3주차'!K76 -> 99 | K63: =SUM(I63,J63) -> 108 | L63: =RANK(K63,K$6:K$95) -> 55 | M63: =COUNTA(D63,E63,F63,G63,H63)/5 -> 0.4
B64: 230 | C64: 남 | D64: 4 | E64: 5 | F64: 6 | G64: 5 | H64: 6 | I64: =SUM(D64,E64,F64,G64:H64) -> 26 | J64: ='3주차'!K77 -> 98 | K64: =SUM(I64,J64) -> 124 | L64: =RANK(K64,K$6:K$95) -> 42 | M64: =COUNTA(D64,E64,F64,G64,H64)/5 -> 1
B65: 231 | C65: 여 | I65: =SUM(D65,E65,F65,G65:H65) -> 0 | J65: ='3주차'!K78 -> 14 | K65: =SUM(I65,J65) -> 14 | L65: =RANK(K65,K$6:K$95) -> 88 | M65: =COUNTA(D65,E65,F65,G65,H65)/5 -> 0
B66: 232 | C66: 여 | D66: 10 | E66: 3 | F66: 9 | I66: =SUM(D66,E66,F66,G66:H66) -> 22 | J66: ='3주차'!K79 -> 130 | K66: =SUM(I66,J66) -> 152 | L66: =RANK(K66,K$6:K$95) -> 31 | M66: =COUNTA(D66,E66,F66,G66,H66)/5 -> 0.6
B67: 233 | C67: 남 | D67: 9 | E67: 6 | F67: 12 | G67: 10 | H67: 11 | I67: =SUM(D67,E67,F67,G67:H67) -> 48 | J67: ='3주차'!K80 -> 166 | K67: =SUM(I67,J67) -> 214 | L67: =RANK(K67,K$6:K$95) -> 3 | M67: =COUNTA(D67,E67,F67,G67,H67)/5 -> 1
B68: 234 | C68: 여 | F68: 10 | G68: 7 | I68: =SUM(D68,E68,F68,G68:H68) -> 17 | J68: ='3주차'!K81 -> 61 | K68: =SUM(I68,J68) -> 78 | L68: =RANK(K68,K$6:K$95) -> 69 | M68: =COUNTA(D68,E68,F68,G68,H68)/5 -> 0.4
B69: 235 | C69: 남 | I69: =SUM(D69,E69,F69,G69:H69) -> 0 | J69: ='3주차'!K82 -> 8 | K69: =SUM(I69,J69) -> 8 | L69: =RANK(K69,K$6:K$95) -> 89 | M69: =COUNTA(D69,E69,F69,G69,H69)/5 -> 0
B70: 236 | C70: 여 | D70: 7 | E70: 5 | F70: 13 | G70: 7 | H70: 6 | I70: =SUM(D70,E70,F70,G70:H70) -> 38 | J70: ='3주차'!K83 -> 129 | K70: =SUM(I70,J70) -> 167 | L70: =RANK(K70,K$6:K$95) -> 20 | M70: =COUNTA(D70,E70,F70,G70,H70)/5 -> 1
B71: 238 | C71: 여 | D71: 10 | E71: 7 | F71: 11 | G71: 9 | H71: 8 | I71: =SUM(D71,E71,F71,G71:H71) -> 45 | J71: ='3주차'!K84 -> 172 | K71: =SUM(I71,J71) -> 217 | L71: =RANK(K71,K$6:K$95) -> 2 | M71: =COUNTA(D71,E71,F71,G71,H71)/5 -> 1
B72: 239 | C72: 여 | F72: 12 | G72: 9 | I72: =SUM(D72,E72,F72,G72:H72) -> 21 | J72: ='3주차'!K85 -> 98 | K72: =SUM(I72,J72) -> 119 | L72: =RANK(K72,K$6:K$95) -> 49 | M72: =COUNTA(D72,E72,F72,G72,H72)/5 -> 0.4
B73: 240 | C73: 여 | D73: 2 | E73: 7 | F73: 3 | G73: 7 | H73: 8 | I73: =SUM(D73,E73,F73,G73:H73) -> 27 | J73: ='3주차'!K86 -> 76 | K73: =SUM(I73,J73) -> 103 | L73: =RANK(K73,K$6:K$95) -> 60 | M73: =COUNTA(D73,E73,F73,G73,H73)/5 -> 1
B74: 241 | C74: 남 | D74: 6 | E74: 6 | F74: 9 | G74: 6 | H74: 10 | I74: =SUM(D74,E74,F74,G74:H74) -> 37 | J74: ='3주차'!K87 -> 104 | K74: =SUM(I74,J74) -> 141 | L74: =RANK(K74,K$6:K$95) -> 33 | M74: =COUNTA(D74,E74,F74,G74,H74)/5 -> 1
B75: 243 | C75: 남 | I75: =SUM(D75,E75,F75,G75:H75) -> 0 | J75: ='3주차'!K88 -> 35 | K75: =SUM(I75,J75) -> 35 | L75: =RANK(K75,K$6:K$95) -> 86 | M75: =COUNTA(D75,E75,F75,G75,H75)/5 -> 0
B76: 244 | C76: 남 | D76: 3 | G76: 3 | H76: 8 | I76: =SUM(D76,E76,F76,G76:H76) -> 14 | J76: ='3주차'!K89 -> 63 | K76: =SUM(I76,J76) -> 77 | L76: =RANK(K76,K$6:K$95) -> 70 | M76: =COUNTA(D76,E76,F76,G76,H76)/5 -> 0.6
B77: 245 | C77: 여 | D77: 6 | E77: 4 | F77: 9 | G77: 5 | H77: 15 | I77: =SUM(D77,E77,F77,G77:H77) -> 39 | J77: ='3주차'!K90 -> 143 | K77: =SUM(I77,J77) -> 182 | L77: =RANK(K77,K$6:K$95) -> 13 | M77: =COUNTA(D77,E77,F77,G77,H77)/5 -> 1
B78: 246 | C78: 남 | D78: 7 | E78: 2 | F78: 8 | G78: 3 | I78: =SUM(D78,E78,F78,G78:H78) -> 20 | J78: ='3주차'!K91 -> 134 | K78: =SUM(I78,J78) -> 154 | L78: =RANK(K78,K$6:K$95) -> 29 | M78: =COUNTA(D78,E78,F78,G78,H78)/5 -> 0.8
B79: 248 | C79: 남 | D79: 9 | E79: 9 | F79: 11 | G79: 10 | H79: 13 | I79: =SUM(D79,E79,F79,G79:H79) -> 52 | J79: ='3주차'!K92 -> 154 | K79: =SUM(I79,J79) -> 206 | L79: =RANK(K79,K$6:K$95) -> 4 | M79: =COUNTA(D79,E79,F79,G79,H79)/5 -> 1
B80: 249 | C80: 남 | F80: 6 | G80: 10 | I80: =SUM(D80,E80,F80,G80:H80) -> 16 | J80: ='3주차'!K93 -> 88 | K80: =SUM(I80,J80) -> 104 | L80: =RANK(K80,K$6:K$95) -> 58 | M80: =COUNTA(D80,E80,F80,G80,H80)/5 -> 0.4
B81: 250 | C81: 남 | D81: 8 | E81: 9 | F81: 8 | G81: 8 | H81: 11 | I81: =SUM(D81,E81,F81,G81:H81) -> 44 | J81: ='3주차'!K94 -> 129 | K81: =SUM(I81,J81) -> 173 | L81: =RANK(K81,K$6:K$95) -> 17 | M81: =COUNTA(D81,E81,F81,G81,H81)/5 -> 1
B82: 251 | C82: 남 | D82: 5 | E82: 1 | I82: =SUM(D82,E82,F82,G82:H82) -> 6 | J82: ='3주차'!K95 -> 31 | K82: =SUM(I82,J82) -> 37 | L82: =RANK(K82,K$6:K$95) -> 85 | M82: =COUNTA(D82,E82,F82,G82,H82)/5 -> 0.4
B83: 252 | C83: 여 | F83: 4 | I83: =SUM(D83,E83,F83,G83:H83) -> 4 | J83: ='3주차'!K96 -> 54 | K83: =SUM(I83,J83) -> 58 | L83: =RANK(K83,K$6:K$95) -> 78 | M83: =COUNTA(D83,E83,F83,G83,H83)/5 -> 0.2
B84: 253 | C84: 남 | D84: 6 | E84: 3 | F84: 8 | G84: 7 | H84: 9 | I84: =SUM(D84,E84,F84,G84:H84) -> 33 | J84: ='3주차'!K97 -> 116 | K84: =SUM(I84,J84) -> 149 | L84: =RANK(K84,K$6:K$95) -> 32 | M84: =COUNTA(D84,E84,F84,G84,H84)/5 -> 1
B85: 254 | C85: 남 | D85: 8 | E85: 4 | F85: 14 | G85: 8 | I85: =SUM(D85,E85,F85,G85:H85) -> 34 | J85: ='3주차'!K98 -> 122 | K85: =SUM(I85,J85) -> 156 | L85: =RANK(K85,K$6:K$95) -> 27 | M85: =COUNTA(D85,E85,F85,G85,H85)/5 -> 0.8
B86: 255 | C86: 남 | D86: 6 | E86: 3 | F86: 8 | G86: 6 | H86: 7 | I86: =SUM(D86,E86,F86,G86:H86) -> 30 | J86: ='3주차'!K99 -> 90 | K86: =SUM(I86,J86) -> 120 | L86: =RANK(K86,K$6:K$95) -> 48 | M86: =COUNTA(D86,E86,F86,G86,H86)/5 -> 1
B87: 256 | C87: 남 | D87: 4 | E87: 6 | F87: 6 | G87: 4 | H87: 2 | I87: =SUM(D87,E87,F87,G87:H87) -> 22 | J87: ='3주차'!K100 -> 71 | K87: =SUM(I87,J87) -> 93 | L87: =RANK(K87,K$6:K$95) -> 63 | M87: =COUNTA(D87,E87,F87,G87,H87)/5 -> 1
B88: 257 | C88: 여 | D88: 5 | F88: 1 | G88: 5 | I88: =SUM(D88,E88,F88,G88:H88) -> 11 | J88: ='3주차'!K101 -> 36 | K88: =SUM(I88,J88) -> 47 | L88: =RANK(K88,K$6:K$95) -> 83 | M88: =COUNTA(D88,E88,F88,G88,H88)/5 -> 0.6
B89: 258 | C89: 남 | D89: 5 | E89: 6 | F89: 6 | H89: 7 | I89: =SUM(D89,E89,F89,G89:H89) -> 24 | J89: ='3주차'!K102 -> 75 | K89: =SUM(I89,J89) -> 99 | L89: =RANK(K89,K$6:K$95) -> 61 | M89: =COUNTA(D89,E89,F89,G89,H89)/5 -> 0.8
B90: 260 | C90: 여 | D90: 6 | E90: 5 | F90: 13 | G90: 10 | H90: 15 | I90: =SUM(D90,E90,F90,G90:H90) -> 49 | J90: ='3주차'!K104 -> 135 | K90: =SUM(I90,J90) -> 184 | L90: =RANK(K90,K$6:K$95) -> 12 | M90: =COUNTA(D90,E90,F90,G90,H90)/5 -> 1
B91: 263 | C91: 남 | D91: 6 | E91: 4 | F91: 7 | G91: 10 | H91: 11 | I91: =SUM(D91,E91,F91,G91:H91) -> 38 | J91: ='3주차'!K106 -> 76 | K91: =SUM(I91,J91) -> 114 | L91: =RANK(K91,K$6:K$95) -> 51 | M91: =COUNTA(D91,E91,F91,G91,H91)/5 -> 1
B92: 264 | C92: 남 | D92: 7 | E92: 7 | F92: 11 | G92: 6 | H92: 15 | I92: =SUM(D92,E92,F92,G92:H92) -> 46 | J92: ='3주차'!K107 -> 92 | K92: =SUM(I92,J92) -> 138 | L92: =RANK(K92,K$6:K$95) -> 34 | M92: =COUNTA(D92,E92,F92,G92,H92)/5 -> 1
B93: 265 | C93: 남 | D93: 5 | E93: 9 | F93: 12 | G93: 9 | H93: 11 | I93: =SUM(D93,E93,F93,G93:H93) -> 46 | J93: ='3주차'!K108 -> 77 | K93: =SUM(I93,J93) -> 123 | L93: =RANK(K93,K$6:K$95) -> 43 | M93: =COUNTA(D93,E93,F93,G93,H93)/5 -> 1
B94: 266 | C94: 남 | D94: 5 | E94: 6 | F94: 7 | G94: 3 | H94: 2 | I94: =SUM(D94,E94,F94,G94:H94) -> 23 | J94: ='3주차'!K109 -> 52 | K94: =SUM(I94,J94) -> 75 | L94: =RANK(K94,K$6:K$95) -> 72 | M94: =COUNTA(D94,E94,F94,G94,H94)/5 -> 1
B95: 268 | C95: 남 | D95: 9 | E95: 14 | F95: 14 | G95: 12 | H95: 12 | I95: =SUM(D95,E95,F95,G95:H95) -> 61 | J95: ='3주차'!K110 -> 66 | K95: =SUM(I95,J95) -> 127 | L95: =RANK(K95,K$6:K$95) -> 41 | M95: =COUNTA(D95,E95,F95,G95,H95)/5 -> 1
B96: * 이상이 있으신 분은 1층 사무실로 오시길 바랍니다.
B97: 최고의 장학생을 선발합니다. ^^ 누적점수 1위가 바로 장학생 입니다.^^
B99: 시험지는 시험시간 외 제공되지 않습니다.

Sheet 5주차
B2: 3~4월 아침 모의고사 성적현황
B3: 시험 5주차 : 4월 8일 ~ 12일
D4: 8 | E4: 9 | F4: 10 | G4: 11 | H4: 12 | I4: 성 적 | M4: 모의고사 참여율 | N4: 비고
A5: 수험 번호 | B5: 수험 번호 | C5: 성별 | D5: 형법 | E5: 한국사 | F5: 형소법 | G5: 경찰학 | H5: 영어 | I5: 이번주 총점 | J5: 저번주 총점 | K5: 전체 총점 | L5: 등수
B6: 107 | C6: 남 | D6: 2 | E6: 9 | F6: 7 | G6: 8 | I6: =SUM(D6,E6,F6,G6:H6) -> 26 | J6: ='4주차'!K7 -> 104 | K6: =SUM(I6,J6) -> 130 | L6: =RANK(K6,K$6:K$90) -> 54 | M6: =COUNTA(D6,E6,F6,G6,H6)/5 -> 0.8
B7: 111 | C7: 남 | E7: 6 | F7: 12 | G7: 10 | H7: 5 | I7: =SUM(D7,E7,F7,G7:H7) -> 33 | J7: ='4주차'!K8 -> 192 | K7: =SUM(I7,J7) -> 225 | L7: =RANK(K7,K$6:K$90) -> 13 | M7: =COUNTA(D7,E7,F7,G7,H7)/5 -> 0.8
B8: 112 | C8: 남 | D8: 3 | E8: 4 | F8: 2 | G8: 7 | H8: 3 | I8: =SUM(D8,E8,F8,G8:H8) -> 19 | J8: ='4주차'!K9 -> 88 | K8: =SUM(I8,J8) -> 107 | L8: =RANK(K8,K$6:K$90) -> 64 | M8: =COUNTA(D8,E8,F8,G8,H8)/5 -> 1
B9: 113 | C9: 남 | D9: 3 | E9: 9 | F9: 12 | G9: 12 | H9: 3 | I9: =SUM(D9,E9,F9,G9:H9) -> 39 | J9: ='4주차'!K10 -> 172 | K9: =SUM(I9,J9) -> 211 | L9: =RANK(K9,K$6:K$90) -> 18 | M9: =COUNTA(D9,E9,F9,G9,H9)/5 -> 1
B10: 114 | C10: 남 | D10: 3 | E10: 5 | H10: 5 | I10: =SUM(D10,E10,F10,G10:H10) -> 13 | J10: ='4주차'!K11 -> 86 | K10: =SUM(I10,J10) -> 99 | L10: =RANK(K10,K$6:K$90) -> 67 | M10: =COUNTA(D10,E10,F10,G10,H10)/5 -> 0.6
B11: 116 | C11: 남 | D11: 3 | F11: 10 | G11: 8 | I11: =SUM(D11,E11,F11,G11:H11) -> 21 | J11: ='4주차'!K12 -> 121 | K11: =SUM(I11,J11) -> 142 | L11: =RANK(K11,K$6:K$90) -> 50 | M11: =COUNTA(D11,E11,F11,G11,H11)/5 -> 0.6
B12: 117 | C12: 남 | E12: 5 | F12: 13 | I12: =SUM(D12,E12,F12,G12:H12) -> 18 | J12: ='4주차'!K13 -> 161 | K12: =SUM(I12,J12) -> 179 | L12: =RANK(K12,K$6:K$90) -> 31 | M12: =COUNTA(D12,E12,F12,G12,H12)/5 -> 0.4
B13: 118 | C13: 여 | D13: 2 | E13: 5 | F13: 11 | G13: 11 | H13: 7 | I13: =SUM(D13,E13,F13,G13:H13) -> 36 | J13: ='4주차'!K14 -> 158 | K13: =SUM(I13,J13) -> 194 | L13: =RANK(K13,K$6:K$90) -> 23 | M13: =COUNTA(D13,E13,F13,G13,H13)/5 -> 1
B14: 119 | C14: 남 | D14: 5 | E14: 6 | F14: 9 | G14: 13 | I14: =SUM(D14,E14,F14,G14:H14) -> 33 | J14: ='4주차'!K15 -> 161 | K14: =SUM(I14,J14) -> 194 | L14: =RANK(K14,K$6:K$90) -> 23 | M14: =COUNTA(D14,E14,F14,G14,H14)/5 -> 0.8
B15: 120 | C15: 남 | E15: 4 | F15: 12 | G15: 9 | H15: 4 | I15: =SUM(D15,E15,F15,G15:H15) -> 29 | J15: ='4주차'!K16 -> 129 | K15: =SUM(I15,J15) -> 158 | L15: =RANK(K15,K$6:K$90) -> 38 | M15: =COUNTA(D15,E15,F15,G15,H15)/5 -> 0.8
B16: 121 | C16: 남 | D16: 4 | E16: 8 | F16: 9 | G16: 13 | H16: 12 | I16: =SUM(D16,E16,F16,G16:H16) -> 46 | J16: ='4주차'!K17 -> 181 | K16: =SUM(I16,J16) -> 227 | L16: =RANK(K16,K$6:K$90) -> 12 | M16: =COUNTA(D16,E16,F16,G16,H16)/5 -> 1
B17: 122 | C17: 남 | I17: =SUM(D17,E17,F17,G17:H17) -> 0 | J17: ='4주차'!K18 -> 155 | K17: =SUM(I17,J17) -> 155 | L17: =RANK(K17,K$6:K$90) -> 42 | M17: =COUNTA(D17,E17,F17,G17,H17)/5 -> 0 | N17: 경고
B18: 123 | C18: 남 | F18: 6 | H18: 5 | I18: =SUM(D18,E18,F18,G18:H18) -> 11 | J18: ='4주차'!K19 -> 112 | K18: =SUM(I18,J18) -> 123 | L18: =RANK(K18,K$6:K$90) -> 58 | M18: =COUNTA(D18,E18,F18,G18,H18)/5 -> 0.4
B19: 126 | C19: 남 | D19: 2 | E19: 5 | F19: 7 | G19: 5 | H19: 3 | I19: =SUM(D19,E19,F19,G19:H19) -> 22 | J19: ='4주차'!K20 -> 113 | K19: =SUM(I19,J19) -> 135 | L19: =RANK(K19,K$6:K$90) -> 53 | M19: =COUNTA(D19,E19,F19,G19,H19)/5 -> 1
B20: 127 | C20: 남 | D20: 6 | E20: 8 | F20: 15 | I20: =SUM(D20,E20,F20,G20:H20) -> 29 | J20: ='4주차'!K21 -> 138 | K20: =SUM(I20,J20) -> 167 | L20: =RANK(K20,K$6:K$90) -> 35 | M20: =COUNTA(D20,E20,F20,G20,H20)/5 -> 0.6
B21: 129 | C21: 남 | D21: 9 | E21: 11 | F21: 15 | G21: 12 | H21: 12 | I21: =SUM(D21,E21,F21,G21:H21) -> 59 | J21: ='4주차'!K22 -> 262 | K21: =SUM(I21,J21) -> 321 | L21: =RANK(K21,K$6:K$90) -> 1 | M21: =COUNTA(D21,E21,F21,G21,H21)/5 -> 1
B22: 130 | C22: 여 | D22: 6 | E22: 7 | F22: 13 | G22: 15 | I22: =SUM(D22,E22,F22,G22:H22) -> 41 | J22: ='4주차'!K23 -> 175 | K22: =SUM(I22,J22) -> 216 | L22: =RANK(K22,K$6:K$90) -> 16 | M22: =COUNTA(D22,E22,F22,G22,H22)/5 -> 0.8
B23: 131 | C23: 남 | G23: 6 | I23: =SUM(D23,E23,F23,G23:H23) -> 6 | J23: ='4주차'!K24 -> 53 | K23: =SUM(I23,J23) -> 59 | L23: =RANK(K23,K$6:K$90) -> 82 | M23: =COUNTA(D23,E23,F23,G23,H23)/5 -> 0.2
B24: 132 | C24: 남 | I24: =SUM(D24,E24,F24,G24:H24) -> 0 | J24: ='4주차'!K25 -> 69 | K24: =SUM(I24,J24) -> 69 | L24: =RANK(K24,K$6:K$90) -> 80 | M24: =COUNTA(D24,E24,F24,G24,H24)/5 -> 0 | N24: 경고
B25: 133 | C25: 남 | D25: 4 | E25: 7 | F25: 10 | G25: 8 | H25: 3 | I25: =SUM(D25,E25,F25,G25:H25) -> 32 | J25: ='4주차'!K26 -> 154 | K25: =SUM(I25,J25) -> 186 | L25: =RANK(K25,K$6:K$90) -> 28 | M25: =COUNTA(D25,E25,F25,G25,H25)/5 -> 1
B26: 134 | C26: 여 | D26: 6 | E26: 7 | F26: 13 | G26: 7 | I26: =SUM(D26,E26,F26,G26:H26) -> 33 | J26: ='4주차'!K27 -> 168 | K26: =SUM(I26,J26) -> 201 | L26: =RANK(K26,K$6:K$90) -> 21 | M26: =COUNTA(D26,E26,F26,G26,H26)/5 -> 0.8
B27: 139 | C27: 남 | D27: 5 | E27: 5 | F27: 13 | G27: 14 | H27: 10 | I27: =SUM(D27,E27,F27,G27:H27) -> 47 | J27: ='4주차'!K28 -> 186 | K27: =SUM(I27,J27) -> 233 | L27: =RANK(K27,K$6:K$90) -> 8 | M27: =COUNTA(D27,E27,F27,G27,H27)/5 -> 1
B28: 140 | C28: 남 | D28: 4 | E28: 3 | F28: 12 | G28: 7 | H28: 10 | I28: =SUM(D28,E28,F28,G28:H28) -> 36 | J28: ='4주차'!K29 -> 111 | K28: =SUM(I28,J28) -> 147 | L28: =RANK(K28,K$6:K$90) -> 47 | M28: =COUNTA(D28,E28,F28,G28,H28)/5 -> 1
B29: 141 | C29: 남 | D29: 2 | E29: 9 | F29: 12 | G29: 10 | I29: =SUM(D29,E29,F29,G29:H29) -> 33 | J29: ='4주차'!K30 -> 115 | K29: =SUM(I29,J29) -> 148 | L29: =RANK(K29,K$6:K$90) -> 46 | M29: =COUNTA(D29,E29,F29,G29,H29)/5 -> 0.8
B30: 148 | C30: 남 | D30: 1 | E30: 2 | F30: 6 | G30: 5 | H30: 3 | I30: =SUM(D30,E30,F30,G30:H30) -> 17 | J30: ='4주차'!K31 -> 123 | K30: =SUM(I30,J30) -> 140 | L30: =RANK(K30,K$6:K$90) -> 51 | M30: =COUNTA(D30,E30,F30,G30,H30)/5 -> 1
B31: 149 | C31: 남 | F31: 8 | G31: 10 | I31: =SUM(D31,E31,F31,G31:H31) -> 18 | J31: ='4주차'!K32 -> 53 | K31: =SUM(I31,J31) -> 71 | L31: =RANK(K31,K$6:K$90) -> 77 | M31: =COUNTA(D31,E31,F31,G31,H31)/5 -> 0.4
B32: 150 | C32: 남 | E32: 2 | F32: 6 | H32: 4 | I32: =SUM(D32,E32,F32,G32:H32) -> 12 | J32: ='4주차'!K33 -> 68 | K32: =SUM(I32,J32) -> 80 | L32: =RANK(K32,K$6:K$90) -> 74 | M32: =COUNTA(D32,E32,F32,G32,H32)/5 -> 0.6
B33: 151 | C33: 남 | D33: 4 | F33: 5 | I33: =SUM(D33,E33,F33,G33:H33) -> 9 | J33: ='4주차'!K34 -> 98 | K33: =SUM(I33,J33) -> 107 | L33: =RANK(K33,K$6:K$90) -> 64 | M33: =COUNTA(D33,E33,F33,G33,H33)/5 -> 0.4
B34: 152 | C34: 남 | D34: 4 | E34: 6 | F34: 5 | G34: 6 | H34: 8 | I34: =SUM(D34,E34,F34,G34:H34) -> 29 | J34: ='4주차'!K35 -> 128 | K34: =SUM(I34,J34) -> 157 | L34: =RANK(K34,K$6:K$90) -> 39 | M34: =COUNTA(D34,E34,F34,G34,H34)/5 -> 1
B35: 156 | C35: 남 | D35: 2 | E35: 5 | F35: 8 | G35: 9 | H35: 6 | I35: =SUM(D35,E35,F35,G35:H35) -> 30 | J35: ='4주차'!K36 -> 52 | K35: =SUM(I35,J35) -> 82 | L35: =RANK(K35,K$6:K$90) -> 72 | M35: =COUNTA(D35,E35,F35,G35,H35)/5 -> 1
B36: 157 | C36: 여 | D36: 3 | E36: 11 | F36: 11 | G36: 10 | H36: 7 | I36: =SUM(D36,E36,F36,G36:H36) -> 42 | J36: ='4주차'!K37 -> 202 | K36: =SUM(I36,J36) -> 244 | L36: =RANK(K36,K$6:K$90) -> 6 | M36: =COUNTA(D36,E36,F36,G36,H36)/5 -> 1
B37: 158 | C37: 여 | D37: 3 | E37: 6 | F37: 10 | G37: 8 | H37: 1 | I37: =SUM(D37,E37,F37,G37:H37) -> 28 | J37: ='4주차'!K38 -> 133 | K37: =SUM(I37,J37) -> 161 | L37: =RANK(K37,K$6:K$90) -> 37 | M37: =COUNTA(D37,E37,F37,G37,H37)/5 -> 1
B38: 160 | C38: 남 | D38: 2 | E38: 8 | F38: 8 | G38: 5 | H38: 3 | I38: =SUM(D38,E38,F38,G38:H38) -> 26 | J38: ='4주차'!K39 -> 130 | K38: =SUM(I38,J38) -> 156 | L38: =RANK(K38,K$6:K$90) -> 40 | M38: =COUNTA(D38,E38,F38,G38,H38)/5 -> 1
B39: 161 | C39: 남 | D39: 5 | E39: 7 | F39: 11 | G39: 9 | I39: =SUM(D39,E39,F39,G39:H39) -> 32 | J39: ='4주차'!K40 -> 199 | K39: =SUM(I39,J39) -> 231 | L39: =RANK(K39,K$6:K$90) -> 10 | M39: =COUNTA(D39,E39,F39,G39,H39)/5 -> 0.8
B40: 163 | C40: 여 | D40: 1 | E40: 8 | F40: 9 | G40: 7 | H40: 5 | I40: =SUM(D40,E40,F40,G40:H40) -> 30 | J40: ='4주차'!K41 -> 107 | K40: =SUM(I40,J40) -> 137 | L40: =RANK(K40,K$6:K$90) -> 52 | M40: =COUNTA(D40,E40,F40,G40,H40)/5 -> 1
B41: 164 | C41: 남 | D41: 2 | E41: 6 | F41: 10 | G41: 8 | I41: =SUM(D41,E41,F41,G41:H41) -> 26 | J41: ='4주차'!K42 -> 121 | K41: =SUM(I41,J41) -> 147 | L41: =RANK(K41,K$6:K$90) -> 47 | M41: =COUNTA(D41,E41,F41,G41,H41)/5 -> 0.8
B42: 165 | C42: 남 | D42: 5 | E42: 10 | F42: 14 | G42: 10 | H42: 3 | I42: =SUM(D42,E42,F42,G42:H42) -> 42 | J42: ='4주차'!K43 -> 203 | K42: =SUM(I42,J42) -> 245 | L42: =RANK(K42,K$6:K$90) -> 5 | M42: =COUNTA(D42,E42,F42,G42,H42)/5 -> 1
B43: 166 | C43: 여 | D43: 5 | E43: 4 | F43: 13 | G43: 12 | H43: 8 | I43: =SUM(D43,E43,F43,G43:H43) -> 42 | J43: ='4주차'!K44 -> 166 | K43: =SUM(I43,J43) -> 208 | L43: =RANK(K43,K$6:K$90) -> 19 | M43: =COUNTA(D43,E43,F43,G43,H43)/5 -> 1
B44: 167 | C44: 남 | D44: 2 | E44: 5 | F44: 7 | G44: 6 | I44: =SUM(D44,E44,F44,G44:H44) -> 20 | J44: ='4주차'!K45 -> 107 | K44: =SUM(I44,J44) -> 127 | L44: =RANK(K44,K$6:K$90) -> 56 | M44: =COUNTA(D44,E44,F44,G44,H44)/5 -> 0.8
B45: 201 | C45: 남 | D45: 2 | E45: 7 | F45: 10 | G45: 9 | H45: 4 | I45: =SUM(D45,E45,F45,G45:H45) -> 32 | J45: ='4주차'!K46 -> 161 | K45: =SUM(I45,J45) -> 193 | L45: =RANK(K45,K$6:K$90) -> 26 | M45: =COUNTA(D45,E45,F45,G45,H45)/5 -> 1
B46: 206 | C46: 여 | D46: 5 | F46: 12 | G46: 12 | H46: 5 | I46: =SUM(D46,E46,F46,G46:H46) -> 34 | J46: ='4주차'!K47 -> 181 | K46: =SUM(I46,J46) -> 215 | L46: =RANK(K46,K$6:K$90) -> 17 | M46: =COUNTA(D46,E46,F46,G46,H46)/5 -> 0.8
B47: 207 | C47: 여 | D47: 4 | E47: 3 | F47: 9 | I47: =SUM(D47,E47,F47,G47:H47) -> 16 | J47: ='4주차'!K48 -> 88 | K47: =SUM(I47,J47) -> 104 | L47: =RANK(K47,K$6:K$90) -> 66 | M47: =COUNTA(D47,E47,F47,G47,H47)/5 -> 0.6
B48: 209 | C48: 여 | D48: 4 | F48: 7 | I48: =SUM(D48,E48,F48,G48:H48) -> 11 | J48: ='4주차'!K49 -> 82 | K48: =SUM(I48,J48) -> 93 | L48: =RANK(K48,K$6:K$90) -> 70 | M48: =COUNTA(D48,E48,F48,G48,H48)/5 -> 0.4
B49: 210 | C49: 남 | I49: =SUM(D49,E49,F49,G49:H49) -> 0 | J49: ='4주차'!K50 -> 77 | K49: =SUM(I49,J49) -> 77 | L49: =RANK(K49,K$6:K$90) -> 75 | M49: =COUNTA(D49,E49,F49,G49,H49)/5 -> 0 | N49: 경고
B50: 212 | C50: 남 | D50: 1 | F50: 11 | I50: =SUM(D50,E50,F50,G50:H50) -> 12 | J50: ='4주차'!K51 -> 69 | K50: =SUM(I50,J50) -> 81 | L50: =RANK(K50,K$6:K$90) -> 73 | M50: =COUNTA(D50,E50,F50,G50,H50)/5 -> 0.4
B51: 215 | C51: 여 | D51: 6 | E51: 9 | F51: 14 | G51: 14 | H51: 4 | I51: =SUM(D51,E51,F51,G51:H51) -> 47 | J51: ='4주차'!K52 -> 197 | K51: =SUM(I51,J51) -> 244 | L51: =RANK(K51,K$6:K$90) -> 6 | M51: =COUNTA(D51,E51,F51,G51,H51)/5 -> 1
B52: 216 | C52: 남 | D52: 3 | F52: 11 | G52: 9 | I52: =SUM(D52,E52,F52,G52:H52) -> 23 | J52: ='4주차'!K53 -> 91 | K52: =SUM(I52,J52) -> 114 | L52: =RANK(K52,K$6:K$90) -> 61 | M52: =COUNTA(D52,E52,F52,G52,H52)/5 -> 0.6
B53: 217 | C53: 여 | D53: 4 | F53: 12 | G53: 12 | H53: 7 | I53: =SUM(D53,E53,F53,G53:H53) -> 35 | J53: ='4주차'!K54 -> 195 | K53: =SUM(I53,J53) -> 230 | L53: =RANK(K53,K$6:K$90) -> 11 | M53: =COUNTA(D53,E53,F53,G53,H53)/5 -> 0.8
B54: 220 | C54: 여 | E54: 4 | I54: =SUM(D54,E54,F54,G54:H54) -> 4 | J54: ='4주차'!K56 -> 21 | K54: =SUM(I54,J54) -> 25 | L54: =RANK(K54,K$6:K$90) -> 85 | M54: =COUNTA(D54,E54,F54,G54,H54)/5 -> 0.2
B55: 221 | C55: 남 | D55: 4 | E55: 4 | F55: 10 | G55: 10 | H55: 3 | I55: =SUM(D55,E55,F55,G55:H55) -> 31 | J55: ='4주차'!K57 -> 123 | K55: =SUM(I55,J55) -> 154 | L55: =RANK(K55,K$6:K$90) -> 43 | M55: =COUNTA(D55,E55,F55,G55,H55)/5 -> 1
B56: 222 | C56: 남 | D56: 5 | E56: 6 | F56: 11 | G56: 10 | H56: 3 | I56: =SUM(D56,E56,F56,G56:H56) -> 35 | J56: ='4주차'!K58 -> 159 | K56: =SUM(I56,J56) -> 194 | L56: =RANK(K56,K$6:K$90) -> 23 | M56: =COUNTA(D56,E56,F56,G56,H56)/5 -> 1
B57: 223 | C57: 남 | D57: 2 | E57: 5 | F57: 7 | I57: =SUM(D57,E57,F57,G57:H57) -> 14 | J57: ='4주차'!K59 -> 41 | K57: =SUM(I57,J57) -> 55 | L57: =RANK(K57,K$6:K$90) -> 83 | M57: =COUNTA(D57,E57,F57,G57,H57)/5 -> 0.6
B58: 225 | C58: 남 | D58: 4 | I58: =SUM(D58,E58,F58,G58:H58) -> 4 | J58: ='4주차'!K60 -> 67 | K58: =SUM(I58,J58) -> 71 | L58: =RANK(K58,K$6:K$90) -> 77 | M58: =COUNTA(D58,E58,F58,G58,H58)/5 -> 0.2
B59: 226 | C59: 남 | E59: 4 | F59: 6 | G59: 4 | I59: =SUM(D59,E59,F59,G59:H59) -> 14 | J59: ='4주차'!K61 -> 50 | K59: =SUM(I59,J59) -> 64 | L59: =RANK(K59,K$6:K$90) -> 81 | M59: =COUNTA(D59,E59,F59,G59,H59)/5 -> 0.6
B60: 228 | C60: 남 | D60: 4 | E60: 6 | F60: 10 | G60: 7 | I60: =SUM(D60,E60,F60,G60:H60) -> 27 | J60: ='4주차'!K62 -> 129 | K60: =SUM(I60,J60) -> 156 | L60: =RANK(K60,K$6:K$90) -> 40 | M60: =COUNTA(D60,E60,F60,G60,H60)/5 -> 0.8
B61: 229 | C61: 남 | D61: 4 | I61: =SUM(D61,E61,F61,G61:H61) -> 4 | J61: ='4주차'!K63 -> 108 | K61: =SUM(I61,J61) -> 112 | L61: =RANK(K61,K$6:K$90) -> 63 | M61: =COUNTA(D61,E61,F61,G61,H61)/5 -> 0.2
B62: 230 | C62: 남 | D62: 3 | H62: 3 | I62: =SUM(D62,E62,F62,G62:H62) -> 6 | J62: ='4주차'!K64 -> 124 | K62: =SUM(I62,J62) -> 130 | L62: =RANK(K62,K$6:K$90) -> 54 | M62: =COUNTA(D62,E62,F62,G62,H62)/5 -> 0.4
B63: 232 | C63: 여 | E63: 4 | F63: 10 | I63: =SUM(D63,E63,F63,G63:H63) -> 14 | J63: ='4주차'!K66 -> 152 | K63: =SUM(I63,J63) -> 166 | L63: =RANK(K63,K$6:K$90) -> 36 | M63: =COUNTA(D63,E63,F63,G63,H63)/5 -> 0.4
B64: 233 | C64: 남 | D64: 6 | E64: 9 | F64: 13 | G64: 13 | I64: =SUM(D64,E64,F64,G64:H64) -> 41 | J64: ='4주차'!K67 -> 214 | K64: =SUM(I64,J64) -> 255 | L64: =RANK(K64,K$6:K$90) -> 4 | M64: =COUNTA(D64,E64,F64,G64,H64)/5 -> 0.8
B65: 234 | C65: 여 | F65: 10 | I65: =SUM(D65,E65,F65,G65:H65) -> 10 | J65: ='4주차'!K68 -> 78 | K65: =SUM(I65,J65) -> 88 | L65: =RANK(K65,K$6:K$90) -> 71 | M65: =COUNTA(D65,E65,F65,G65,H65)/5 -> 0.2
B66: 236 | C66: 여 | D66: 6 | E66: 8 | F66: 14 | G66: 10 | I66: =SUM(D66,E66,F66,G66:H66) -> 38 | J66: ='4주차'!K70 -> 167 | K66: =SUM(I66,J66) -> 205 | L66: =RANK(K66,K$6:K$90) -> 20 | M66: =COUNTA(D66,E66,F66,G66,H66)/5 -> 0.8
B67: 238 | C67: 여 | D67: 6 | E67: 10 | F67: 15 | G67: 12 | H67: 9 | I67: =SUM(D67,E67,F67,G67:H67) -> 52 | J67: ='4주차'!K71 -> 217 | K67: =SUM(I67,J67) -> 269 | L67: =RANK(K67,K$6:K$90) -> 2 | M67: =COUNTA(D67,E67,F67,G67,H67)/5 -> 1
B68: 239 | C68: 여 | D68: 8 | F68: 13 | G68: 13 | I68: =SUM(D68,E68,F68,G68:H68) -> 34 | J68: ='4주차'!K72 -> 119 | K68: =SUM(I68,J68) -> 153 | L68: =RANK(K68,K$6:K$90) -> 44 | M68: =COUNTA(D68,E68,F68,G68,H68)/5 -> 0.6
B69: 240 | C69: 여 | D69: 4 | E69: 4 | F69: 4 | H69: 7 | I69: =SUM(D69,E69,F69,G69:H69) -> 19 | J69: ='4주차'!K73 -> 103 | K69: =SUM(I69,J69) -> 122 | L69: =RANK(K69,K$6:K$90) -> 59 | M69: =COUNTA(D69,E69,F69,G69,H69)/5 -> 0.8
B70: 241 | C70: 남 | D70: 4 | E70: 5 | F70: 9 | G70: 9 | H70: 11 | I70: =SUM(D70,E70,F70,G70:H70) -> 38 | J70: ='4주차'!K74 -> 141 | K70: =SUM(I70,J70) -> 179 | L70: =RANK(K70,K$6:K$90) -> 31 | M70: =COUNTA(D70,E70,F70,G70,H70)/5 -> 1
B71: 244 | C71: 남 | D71: 5 | F71: 9 | G71: 6 | I71: =SUM(D71,E71,F71,G71:H71) -> 20 | J71: ='4주차'!K76 -> 77 | K71: =SUM(I71,J71) -> 97 | L71: =RANK(K71,K$6:K$90) -> 69 | M71: =COUNTA(D71,E71,F71,G71,H71)/5 -> 0.6
B72: 245 | C72: 여 | D72: 4 | E72: 4 | F72: 8 | G72: 13 | H72: 8 | I72: =SUM(D72,E72,F72,G72:H72) -> 37 | J72: ='4주차'!K77 -> 182 | K72: =SUM(I72,J72) -> 219 | L72: =RANK(K72,K$6:K$90) -> 14 | M72: =COUNTA(D72,E72,F72,G72,H72)/5 -> 1
B73: 246 | C73: 남 | D73: 4 | E73: 5 | F73: 10 | G73: 10 | H73: 4 | I73: =SUM(D73,E73,F73,G73:H73) -> 33 | J73: ='4주차'!K78 -> 154 | K73: =SUM(I73,J73) -> 187 | L73: =RANK(K73,K$6:K$90) -> 27 | M73: =COUNTA(D73,E73,F73,G73,H73)/5 -> 1
B74: 248 | C74: 남 | D74: 9 | E74: 8 | F74: 10 | G74: 13 | H74: 10 | I74: =SUM(D74,E74,F74,G74:H74) -> 50 | J74: ='4주차'!K79 -> 206 | K74: =SUM(I74,J74) -> 256 | L74: =RANK(K74,K$6:K$90) -> 3 | M74: =COUNTA(D74,E74,F74,G74,H74)/5 -> 1
B75: 249 | C75: 남 | F75: 10 | I75: =SUM(D75,E75,F75,G75:H75) -> 10 | J75: ='4주차'!K80 -> 104 | K75: =SUM(I75,J75) -> 114 | L75: =RANK(K75,K$6:K$90) -> 61 | M75: =COUNTA(D75,E75,F75,G75,H75)/5 -> 0.2
B76: 250 | C76: 남 | D76: 7 | E76: 8 | F76: 11 | G76: 12 | H76: 8 | I76: =SUM(D76,E76,F76,G76:H76) -> 46 | J76: ='4주차'!K81 -> 173 | K76: =SUM(I76,J76) -> 219 | L76: =RANK(K76,K$6:K$90) -> 14 | M76: =COUNTA(D76,E76,F76,G76,H76)/5 -> 1
B77: 251 | C77: 남 | D77: 3 | E77: 4 | H77: 3 | I77: =SUM(D77,E77,F77,G77:H77) -> 10 | J77: ='4주차'!K82 -> 37 | K77: =SUM(I77,J77) -> 47 | L77: =RANK(K77,K$6:K$90) -> 84 | M77: =COUNTA(D77,E77,F77,G77,H77)/5 -> 0.6
B78: 252 | C78: 여 | F78: 12 | I78: =SUM(D78,E78,F78,G78:H78) -> 12 | J78: ='4주차'!K83 -> 58 | K78: =SUM(I78,J78) -> 70 | L78: =RANK(K78,K$6:K$90) -> 79 | M78: =COUNTA(D78,E78,F78,G78,H78)/5 -> 0.2
B79: 253 | C79: 남 | D79: 5 | E79: 6 | F79: 11 | G79: 10 | H79: 5 | I79: =SUM(D79,E79,F79,G79:H79) -> 37 | J79: ='4주차'!K84 -> 149 | K79: =SUM(I79,J79) -> 186 | L79: =RANK(K79,K$6:K$90) -> 28 | M79: =COUNTA(D79,E79,F79,G79,H79)/5 -> 1
B80: 254 | C80: 남 | D80: 6 | E80: 9 | F80: 12 | G80: 12 | I80: =SUM(D80,E80,F80,G80:H80) -> 39 | J80: ='4주차'!K85 -> 156 | K80: =SUM(I80,J80) -> 195 | L80: =RANK(K80,K$6:K$90) -> 22 | M80: =COUNTA(D80,E80,F80,G80,H80)/5 -> 0.8
B81: 255 | C81: 남 | D81: 7 | E81: 7 | F81: 8 | H81: 4 | I81: =SUM(D81,E81,F81,G81:H81) -> 26 | J81: ='4주차'!K86 -> 120 | K81: =SUM(I81,J81) -> 146 | L81: =RANK(K81,K$6:K$90) -> 49 | M81: =COUNTA(D81,E81,F81,G81,H81)/5 -> 0.8
B82: 256 | C82: 남 | D82: 2 | E82: 5 | F82: 7 | G82: 5 | H82: 4 | I82: =SUM(D82,E82,F82,G82:H82) -> 23 | J82: ='4주차'!K87 -> 93 | K82: =SUM(I82,J82) -> 116 | L82: =RANK(K82,K$6:K$90) -> 60 | M82: =COUNTA(D82,E82,F82,G82,H82)/5 -> 1
B83: 257 | C83: 여 | D83: 1 | E83: 6 | F83: 10 | G83: 9 | I83: =SUM(D83,E83,F83,G83:H83) -> 26 | J83: ='4주차'!K88 -> 47 | K83: =SUM(I83,J83) -> 73 | L83: =RANK(K83,K$6:K$90) -> 76 | M83: =COUNTA(D83,E83,F83,G83,H83)/5 -> 0.8
B84: 258 | C84: 남 | D84: 3 | F84: 11 | G84: 7 | H84: 7 | I84: =SUM(D84,E84,F84,G84:H84) -> 28 | J84: ='4주차'!K89 -> 99 | K84: =SUM(I84,J84) -> 127 | L84: =RANK(K84,K$6:K$90) -> 56 | M84: =COUNTA(D84,E84,F84,G84,H84)/5 -> 0.8
B85: 260 | C85: 여 | D85: 7 | E85: 7 | F85: 14 | G85: 14 | H85: 7 | I85: =SUM(D85,E85,F85,G85:H85) -> 49 | J85: ='4주차'!K90 -> 184 | K85: =SUM(I85,J85) -> 233 | L85: =RANK(K85,K$6:K$90) -> 8 | M85: =COUNTA(D85,E85,F85,G85,H85)/5 -> 1
B86: 263 | C86: 남 | D86: 7 | E86: 5 | F86: 12 | G86: 8 | H86: 4 | I86: =SUM(D86,E86,F86,G86:H86) -> 36 | J86: ='4주차'!K91 -> 114 | K86: =SUM(I86,J86) -> 150 | L86: =RANK(K86,K$6:K$90) -> 45 | M86: =COUNTA(D86,E86,F86,G86,H86)/5 -> 1
B87: 264 | C87: 남 | D87: 5 | E87: 9 | F87: 11 | G87: 11 | H87: 7 | I87: =SUM(D87,E87,F87,G87:H87) -> 43 | J87: ='4주차'!K92 -> 138 | K87: =SUM(I87,J87) -> 181 | L87: =RANK(K87,K$6:K$90) -> 30 | M87: =COUNTA(D87,E87,F87,G87,H87)/5 -> 1
B88: 265 | C88: 남 | D88: 9 | E88: 8 | F88: 14 | G88: 13 | H88: 9 | I88: =SUM(D88,E88,F88,G88:H88) -> 53 | J88: ='4주차'!K93 -> 123 | K88: =SUM(I88,J88) -> 176 | L88: =RANK(K88,K$6:K$90) -> 34 | M88: =COUNTA(D88,E88,F88,G88,H88)/5 -> 1
B89: 266 | C89: 남 | D89: 3 | E89: 4 | F89: 8 | G89: 5 | H89: 3 | I89: =SUM(D89,E89,F89,G89:H89) -> 23 | J89: ='4주차'!K94 -> 75 | K89: =SUM(I89,J89) -> 98 | L89: =RANK(K89,K$6:K$90) -> 68 | M89: =COUNTA(D89,E89,F89,G89,H89)/5 -> 1
B90: 268 | C90: 남 | D90: 7 | E90: 11 | F90: 13 | G90: 12 | H90: 7 | I90: =SUM(D90,E90,F90,G90:H90) -> 50 | J90: ='4주차'!K95 -> 127 | K90: =SUM(I90,J90) -> 177 | L90: =RANK(K90,K$6:K$90) -> 33 | M90: =COUNTA(D90,E90,F90,G90,H90)/5 -> 1
B91: * 이상이 있으신 분은 1층 사무실로 오시길 바랍니다.
B92: 최고의 장학생을 선발합니다. ^^ 누적점수 1~5위가 바로 장학생 입니다.^^
B93: 시험지는 시험시간 외 제공되지 않습니다.

Sheet Sheet2
