Workbook

Sheet 1주차
B2: 3~4월 아침 모의고사 성적현황
B3: 시험 1주차 : 3월 11일 ~ 18일
D4: 11 | E4: 12 | F4: 13 | G4: 14 | H4: 15 | I4: 주간성적 | K4: 모의고사 참여율 | L4: 비고
A5: 수험 번호 | B5: 수험 번호 | C5: 성별 | D5: 형법 | E5: 한국사 | F5: 형소법 | G5: 경찰학 | H5: 영어 | I5: 전체 총점 | J5: 등수
B6: 100 | C6: 남 | D6: 5 | E6: 9 | F6: 4 | H6: 8 | I6: =SUM(D6,E6,F6,G6,H6) -> 26 | J6: =RANK(I6,I$6:I$127) -> 63 | K6: =COUNTA(D6,E6,F6,G6,H6)/5 -> 0.8
B7: 101 | C7: 남 | I7: =SUM(D7,E7,F7,G7,H7) -> 0 | J7: =RANK(I7,I$6:I$127) -> 99 | K7: =COUNTA(D7,E7,F7,G7,H7)/5 -> 0
B8: 102 | C8: 남 | I8: =SUM(D8,E8,F8,G8,H8) -> 0 | J8: =RANK(I8,I$6:I$127) -> 99 | K8: =COUNTA(D8,E8,F8,G8,H8)/5 -> 0
B9: 103 | C9: 남 | D9: 5 | E9: 11 | F9: 11 | G9: 4 | I9: =SUM(D9,E9,F9,G9,H9) -> 31 | J9: =RANK(I9,I$6:I$127) -> 54 | K9: =COUNTA(D9,E9,F9,G9,H9)/5 -> 0.8
B10: 105 | C10: 여 | I10: =SUM(D10,E10,F10,G10,H10) -> 0 | J10: =RANK(I10,I$6:I$127) -> 99 | K10: =COUNTA(D10,E10,F10,G10,H10)/5 -> 0
B11: 106 | C11: 여 | I11: =SUM(D11,E11,F11,G11,H11) -> 0 | J11: =RANK(I11,I$6:I$127) -> 99 | K11: =COUNTA(D11,E11,F11,G11,H11)/5 -> 0
B12: 107 | C12: 여 | D12: 4 | E12: 10 | F12: 9 | G12: 4 | H12: 5 | I12: =SUM(D12,E12,F12,G12,H12) -> 32 | J12: =RANK(I12,I$6:I$127) -> 52 | K12: =COUNTA(D12,E12,F12,G12,H12)/5 -> 1
B13: 108 | C13: 남 | I13: =SUM(D13,E13,F13,G13,H13) -> 0 | J13: =RANK(I13,I$6:I$127) -> 99 | K13: =COUNTA(D13,E13,F13,G13,H13)/5 -> 0
B14: 109 | C14: 남 | I14: =SUM(D14,E14,F14,G14,H14) -> 0 | J14: =RANK(I14,I$6:I$127) -> 99 | K14: =COUNTA(D14,E14,F14,G14,H14)/5 -> 0
B15: 110 | C15: 여 | I15: =SUM(D15,E15,F15,G15,H15) -> 0 | J15: =RANK(I15,I$6:I$127) -> 99 | K15: =COUNTA(D15,E15,F15,G15,H15)/5 -> 0
B16: 111 | C16: 여 | D16: 9 | E16: 15 | F16: 12 | G16: 12 | H16: 9 | I16: =SUM(D16,E16,F16,G16,H16) -> 57 | J16: =RANK(I16,I$6:I$127) -> 5 | K16: =COUNTA(D16,E16,F16,G16,H16)/5 -> 1
B17: 112 | C17: 남 | D17: 5 | E17: 7 | F17: 7 | I17: =SUM(D17,E17,F17,G17,H17) -> 19 | J17: =RANK(I17,I$6:I$127) -> 75 | K17: =COUNTA(D17,E17,F17,G17,H17)/5 -> 0.6
B18: 113 | C18: 남 | D18: 7 | E18: 14 | F18: 12 | G18: 11 | H18: 7 | I18: =SUM(D18,E18,F18,G18,H18) -> 51 | J18: =RANK(I18,I$6:I$127) -> 10 | K18: =COUNTA(D18,E18,F18,G18,H18)/5 -> 1
B19: 114 | C19: 남 | D19: 1 | E19: 11 | F19: 4 | H19: 6 | I19: =SUM(D19,E19,F19,G19,H19) -> 22 | J19: =RANK(I19,I$6:I$127) -> 71 | K19: =COUNTA(D19,E19,F19,G19,H19)/5 -> 0.8
B20: 115 | C20: 여 | I20: =SUM(D20,E20,F20,G20,H20) -> 0 | J20: =RANK(I20,I$6:I$127) -> 99 | K20: =COUNTA(D20,E20,F20,G20,H20)/5 -> 0
B21: 116 | C21: 남 | D21: 4 | E21: 12 | F21: 7 | G21: 4 | H21: 6 | I21: =SUM(D21,E21,F21,G21,H21) -> 33 | J21: =RANK(I21,I$6:I$127) -> 48 | K21: =COUNTA(D21,E21,F21,G21,H21)/5 -> 1
B22: 117 | C22: 남 | D22: 5 | E22: 14 | F22: 13 | G22: 8 | H22: 3 | I22: =SUM(D22,E22,F22,G22,H22) -> 43 | J22: =RANK(I22,I$6:I$127) -> 24 | K22: =COUNTA(D22,E22,F22,G22,H22)/5 -> 1
B23: 118 | C23: 여 | D23: 4 | E23: 10 | F23: 9 | G23: 9 | H23: 10 | I23: =SUM(D23,E23,F23,G23,H23) -> 42 | J23: =RANK(I23,I$6:I$127) -> 26 | K23: =COUNTA(D23,E23,F23,G23,H23)/5 -> 1
B24: 119 | C24: 남 | D24: 4 | E24: 13 | F24: 10 | G24: 13 | H24: 8 | I24: =SUM(D24,E24,F24,G24,H24) -> 48 | J24: =RANK(I24,I$6:I$127) -> 17 | K24: =COUNTA(D24,E24,F24,G24,H24)/5 -> 1
B25: 120 | C25: 남 | D25: 2 | E25: 14 | F25: 6 | G25: 11 | H25: 5 | I25: =SUM(D25,E25,F25,G25,H25) -> 38 | J25: =RANK(I25,I$6:I$127) -> 35 | K25: =COUNTA(D25,E25,F25,G25,H25)/5 -> 1
B26: 121 | C26: 남 | D26: 7 | F26: 11 | G26: 11 | H26: 9 | I26: =SUM(D26,E26,F26,G26,H26) -> 38 | J26: =RANK(I26,I$6:I$127) -> 35 | K26: =COUNTA(D26,E26,F26,G26,H26)/5 -> 0.8
B27: 122 | C27: 남 | D27: 3 | E27: 15 | F27: 11 | G27: 10 | H27: 12 | I27: =SUM(D27,E27,F27,G27,H27) -> 51 | J27: =RANK(I27,I$6:I$127) -> 10 | K27: =COUNTA(D27,E27,F27,G27,H27)/5 -> 1
B28: 123 | C28: 남 | D28: 4 | F28: 9 | G28: 5 | H28: 7 | I28: =SUM(D28,E28,F28,G28,H28) -> 25 | J28: =RANK(I28,I$6:I$127) -> 64 | K28: =COUNTA(D28,E28,F28,G28,H28)/5 -> 0.8
B29: 124 | C29: 남 | D29: 2 | E29: 8 | F29: 6 | G29: 8 | I29: =SUM(D29,E29,F29,G29,H29) -> 24 | J29: =RANK(I29,I$6:I$127) -> 67 | K29: =COUNTA(D29,E29,F29,G29,H29)/5 -> 0.8
B30: 125 | C30: 여 | D30: 5 | E30: 13 | I30: =SUM(D30,E30,F30,G30,H30) -> 18 | J30: =RANK(I30,I$6:I$127) -> 78 | K30: =COUNTA(D30,E30,F30,G30,H30)/5 -> 0.4
B31: 126 | C31: 남 | D31: 5 | E31: 13 | F31: 7 | G31: 5 | H31: 6 | I31: =SUM(D31,E31,F31,G31,H31) -> 36 | J31: =RANK(I31,I$6:I$127) -> 43 | K31: =COUNTA(D31,E31,F31,G31,H31)/5 -> 1
B32: 127 | C32: 남 | D32: 6 | E32: 15 | F32: 11 | H32: 5 | I32: =SUM(D32,E32,F32,G32,H32) -> 37 | J32: =RANK(I32,I$6:I$127) -> 39 | K32: =COUNTA(D32,E32,F32,G32,H32)/5 -> 0.8
B33: 128 | C33: 여 | I33: =SUM(D33,E33,F33,G33,H33) -> 0 | J33: =RANK(I33,I$6:I$127) -> 99 | K33: =COUNTA(D33,E33,F33,G33,H33)/5 -> 0
B34: 129 | C34: 남 | D34: 8 | E34: 15 | F34: 13 | G34: 15 | H34: 14 | I34: =SUM(D34,E34,F34,G34,H34) -> 65 | J34: =RANK(I34,I$6:I$127) -> 1 | K34: =COUNTA(D34,E34,F34,G34,H34)/5 -> 1
B35: 130 | C35: 여 | D35: 5 | E35: 13 | F35: 12 | G35: 11 | H35: 9 | I35: =SUM(D35,E35,F35,G35,H35) -> 50 | J35: =RANK(I35,I$6:I$127) -> 14 | K35: =COUNTA(D35,E35,F35,G35,H35)/5 -> 1
B36: 131 | C36: 남 | D36: 3 | E36: 8 | F36: 6 | G36: 4 | H36: 3 | I36: =SUM(D36,E36,F36,G36,H36) -> 24 | J36: =RANK(I36,I$6:I$127) -> 67 | K36: =COUNTA(D36,E36,F36,G36,H36)/5 -> 1
B37: 132 | C37: 남 | D37: 4 | G37: 11 | I37: =SUM(D37,E37,F37,G37,H37) -> 15 | J37: =RANK(I37,I$6:I$127) -> 85 | K37: =COUNTA(D37,E37,F37,G37,H37)/5 -> 0.4
B38: 133 | C38: 남 | D38: 4 | E38: 12 | F38: 9 | G38: 6 | H38: 6 | I38: =SUM(D38,E38,F38,G38,H38) -> 37 | J38: =RANK(I38,I$6:I$127) -> 39 | K38: =COUNTA(D38,E38,F38,G38,H38)/5 -> 1
B39: 134 | C39: 여 | D39: 6 | E39: 15 | F39: 14 | G39: 11 | H39: 11 | I39: =SUM(D39,E39,F39,G39,H39) -> 57 | J39: =RANK(I39,I$6:I$127) -> 5 | K39: =COUNTA(D39,E39,F39,G39,H39)/5 -> 1
B40: 135 | C40: 남 | I40: =SUM(D40,E40,F40,G40,H40) -> 0 | J40: =RANK(I40,I$6:I$127) -> 99 | K40: =COUNTA(D40,E40,F40,G40,H40)/5 -> 0
B41: 136 | C41: 남 | F41: 2 | I41: =SUM(D41,E41,F41,G41,H41) -> 2 | J41: =RANK(I41,I$6:I$127) -> 98 | K41: =COUNTA(D41,E41,F41,G41,H41)/5 -> 0.2
...

Sheet 2주차
B2: 3~4월 아침 모의고사 성적현황
B3: 시험 1주차 : 3월 11일 ~ 18일
D4: 18 | E4: 19 | F4: 20 | G4: 21 | H4: 22 | K4: 주간성적 | M4: 모의고사 참여율 | N4: 비고
A5: 수험 번호 | B5: 수험 번호 | C5: 성별 | D5: 형법 | E5: 한국사 | F5: 형소법 | G5: 경찰학 | H5: 영어 | I5: 이번주 총점 | J5: 저번주 총점 | K5: 전체 총점 | L5: 등수
B6: 100 | C6: 남 | I6: =SUM(D6,E6,F6,G6:H6) -> 0 | J6: ='1주차'!I6 -> 26 | K6: =SUM(I6,J6) -> 26 | L6: =RANK(K6,K$6:K$124) -> 88 | M6: =COUNTA(D6,E6,F6,G6,H6)/5 -> 0
B7: 103 | C7: 남 | D7: 2 | E7: 6 | G7: 6 | I7: =SUM(D7,E7,F7,G7:H7) -> 14 | J7: ='1주차'!I9 -> 31 | K7: =SUM(I7,J7) -> 45 | L7: =RANK(K7,K$6:K$124) -> 65 | M7: =COUNTA(D7,E7,F7,G7,H7)/5 -> 0.6
B8: 107 | C8: 여 | D8: 6 | E8: 5 | F8: 5 | G8: 9 | H8: 6 | I8: =SUM(D8,E8,F8,G8:H8) -> 31 | J8: ='1주차'!I12 -> 32 | K8: =SUM(I8,J8) -> 63 | L8: =RANK(K8,K$6:K$124) -> 47 | M8: =COUNTA(D8,E8,F8,G8,H8)/5 -> 1
B9: 111 | C9: 남 | D9: 5 | E9: 10 | F9: 12 | G9: 11 | H9: 9 | I9: =SUM(D9,E9,F9,G9:H9) -> 47 | J9: ='1주차'!I16 -> 57 | K9: =SUM(I9,J9) -> 104 | L9: =RANK(K9,K$6:K$124) -> 8 | M9: =COUNTA(D9,E9,F9,G9,H9)/5 -> 1
B10: 112 | C10: 남 | E10: 5 | F10: 6 | G10: 4 | I10: =SUM(D10,E10,F10,G10:H10) -> 15 | J10: ='1주차'!I17 -> 19 | K10: =SUM(I10,J10) -> 34 | L10: =RANK(K10,K$6:K$124) -> 80 | M10: =COUNTA(D10,E10,F10,G10,H10)/5 -> 0.6
B11: 113 | C11: 남 | D11: 6 | E11: 7 | F11: 11 | G11: 10 | H11: 9 | I11: =SUM(D11,E11,F11,G11:H11) -> 43 | J11: ='1주차'!I18 -> 51 | K11: =SUM(I11,J11) -> 94 | L11: =RANK(K11,K$6:K$124) -> 15 | M11: =COUNTA(D11,E11,F11,G11,H11)/5 -> 1
B12: 114 | C12: 남 | D12: 1 | E12: 5 | F12: 6 | H12: 4 | I12: =SUM(D12,E12,F12,G12:H12) -> 16 | J12: ='1주차'!I19 -> 22 | K12: =SUM(I12,J12) -> 38 | L12: =RANK(K12,K$6:K$124) -> 76 | M12: =COUNTA(D12,E12,F12,G12,H12)/5 -> 0.8
B13: 115 | C13: 여 | I13: =SUM(D13,E13,F13,G13:H13) -> 0 | J13: ='1주차'!I20 -> 0 | K13: =SUM(I13,J13) -> 0 | L13: =RANK(K13,K$6:K$124) -> 107 | M13: =COUNTA(D13,E13,F13,G13,H13)/5 -> 0
B14: 116 | C14: 남 | D14: 3 | E14: 8 | F14: 11 | G14: 8 | H14: 4 | I14: =SUM(D14,E14,F14,G14:H14) -> 34 | J14: ='1주차'!I21 -> 33 | K14: =SUM(I14,J14) -> 67 | L14: =RANK(K14,K$6:K$124) -> 40 | M14: =COUNTA(D14,E14,F14,G14,H14)/5 -> 1
B15: 117 | C15: 남 | D15: 4 | E15: 11 | F15: 9 | G15: 10 | H15: 10 | I15: =SUM(D15,E15,F15,G15:H15) -> 44 | J15: ='1주차'!I22 -> 43 | K15: =SUM(I15,J15) -> 87 | L15: =RANK(K15,K$6:K$124) -> 19 | M15: =COUNTA(D15,E15,F15,G15,H15)/5 -> 1
B16: 118 | C16: 여 | D16: 3 | E16: 9 | F16: 11 | G16: 6 | H16: 8 | I16: =SUM(D16,E16,F16,G16:H16) -> 37 | J16: ='1주차'!I23 -> 42 | K16: =SUM(I16,J16) -> 79 | L16: =RANK(K16,K$6:K$124) -> 27 | M16: =COUNTA(D16,E16,F16,G16,H16)/5 -> 1
B17: 119 | C17: 남 | D17: 4 | E17: 9 | F17: 11 | G17: 10 | H17: 7 | I17: =SUM(D17,E17,F17,G17:H17) -> 41 | J17: ='1주차'!I24 -> 48 | K17: =SUM(I17,J17) -> 89 | L17: =RANK(K17,K$6:K$124) -> 18 | M17: =COUNTA(D17,E17,F17,G17,H17)/5 -> 1
B18: 120 | C18: 남 | E18: 6 | F18: 11 | G18: 13 | H18: 4 | I18: =SUM(D18,E18,F18,G18:H18) -> 34 | J18: ='1주차'!I25 -> 38 | K18: =SUM(I18,J18) -> 72 | L18: =RANK(K18,K$6:K$124) -> 34 | M18: =COUNTA(D18,E18,F18,G18,H18)/5 -> 0.8
B19: 121 | C19: 남 | D19: 6 | E19: 10 | F19: 12 | G19: 10 | H19: 10 | I19: =SUM(D19,E19,F19,G19:H19) -> 48 | J19: ='1주차'!I26 -> 38 | K19: =SUM(I19,J19) -> 86 | L19: =RANK(K19,K$6:K$124) -> 20 | M19: =COUNTA(D19,E19,F19,G19,H19)/5 -> 1
B20: 122 | C20: 남 | D20: 5 | E20: 9 | F20: 10 | G20: 12 | H20: 9 | I20: =SUM(D20,E20,F20,G20:H20) -> 45 | J20: ='1주차'!I27 -> 51 | K20: =SUM(I20,J20) -> 96 | L20: =RANK(K20,K$6:K$124) -> 14 | M20: =COUNTA(D20,E20,F20,G20,H20)/5 -> 1
B21: 123 | C21: 남 | D21: 6 | F21: 7 | G21: 9 | H21: 10 | I21: =SUM(D21,E21,F21,G21:H21) -> 32 | J21: ='1주차'!I28 -> 25 | K21: =SUM(I21,J21) -> 57 | L21: =RANK(K21,K$6:K$124) -> 53 | M21: =COUNTA(D21,E21,F21,G21,H21)/5 -> 0.8
B22: 124 | C22: 남 | D22: 2 | E22: 7 | F22: 9 | G22: 2 | I22: =SUM(D22,E22,F22,G22:H22) -> 20 | J22: ='1주차'!I29 -> 24 | K22: =SUM(I22,J22) -> 44 | L22: =RANK(K22,K$6:K$124) -> 68 | M22: =COUNTA(D22,E22,F22,G22,H22)/5 -> 0.8
B23: 125 | C23: 여 | I23: =SUM(D23,E23,F23,G23:H23) -> 0 | J23: ='1주차'!I30 -> 18 | K23: =SUM(I23,J23) -> 18 | L23: =RANK(K23,K$6:K$124) -> 95 | M23: =COUNTA(D23,E23,F23,G23,H23)/5 -> 0
B24: 126 | C24: 남 | D24: 3 | E24: 4 | F24: 7 | G24: 8 | H24: 3 | I24: =SUM(D24,E24,F24,G24:H24) -> 25 | J24: ='1주차'!I31 -> 36 | K24: =SUM(I24,J24) -> 61 | L24: =RANK(K24,K$6:K$124) -> 50 | M24: =COUNTA(D24,E24,F24,G24,H24)/5 -> 1
B25: 127 | C25: 남 | D25: 3 | E25: 10 | F25: 13 | H25: 9 | I25: =SUM(D25,E25,F25,G25:H25) -> 35 | J25: ='1주차'!I32 -> 37 | K25: =SUM(I25,J25) -> 72 | L25: =RANK(K25,K$6:K$124) -> 34 | M25: =COUNTA(D25,E25,F25,G25,H25)/5 -> 0.8
B26: 128 | C26: 여 | I26: =SUM(D26,E26,F26,G26:H26) -> 0 | J26: ='1주차'!I33 -> 0 | K26: =SUM(I26,J26) -> 0 | L26: =RANK(K26,K$6:K$124) -> 107 | M26: =COUNTA(D26,E26,F26,G26,H26)/5 -> 0
B27: 129 | C27: 남 | D27: 9 | E27: 13 | F27: 14 | G27: 15 | H27: 13 | I27: =SUM(D27,E27,F27,G27:H27) -> 64 | J27: ='1주차'!I34 -> 65 | K27: =SUM(I27,J27) -> 129 | L27: =RANK(K27,K$6:K$124) -> 1 | M27: =COUNTA(D27,E27,F27,G27,H27)/5 -> 1
B28: 130 | C28: 여 | D28: 3 | E28: 3 | F28: 15 | G28: 11 | H28: 9 | I28: =SUM(D28,E28,F28,G28:H28) -> 41 | J28: ='1주차'!I35 -> 50 | K28: =SUM(I28,J28) -> 91 | L28: =RANK(K28,K$6:K$124) -> 17 | M28: =COUNTA(D28,E28,F28,G28,H28)/5 -> 1
B29: 131 | C29: 남 | G29: 1 | H29: 4 | I29: =SUM(D29,E29,F29,G29:H29) -> 5 | J29: ='1주차'!I36 -> 24 | K29: =SUM(I29,J29) -> 29 | L29: =RANK(K29,K$6:K$124) -> 84 | M29: =COUNTA(D29,E29,F29,G29,H29)/5 -> 0.4
B30: 132 | C30: 남 | D30: 2 | F30: 8 | H30: 11 | I30: =SUM(D30,E30,F30,G30:H30) -> 21 | J30: ='1주차'!I37 -> 15 | K30: =SUM(I30,J30) -> 36 | L30: =RANK(K30,K$6:K$124) -> 79 | M30: =COUNTA(D30,E30,F30,G30,H30)/5 -> 0.6
B31: 133 | C31: 남 | D31: 5 | E31: 7 | F31: 9 | G31: 11 | H31: 8 | I31: =SUM(D31,E31,F31,G31:H31) -> 40 | J31: ='1주차'!I38 -> 37 | K31: =SUM(I31,J31) -> 77 | L31: =RANK(K31,K$6:K$124) -> 28 | M31: =COUNTA(D31,E31,F31,G31,H31)/5 -> 1
B32: 134 | C32: 여 | D32: 5 | E32: 10 | F32: 14 | G32: 11 | H32: 10 | I32: =SUM(D32,E32,F32,G32:H32) -> 50 | J32: ='1주차'!I39 -> 57 | K32: =SUM(I32,J32) -> 107 | L32: =RANK(K32,K$6:K$124) -> 6 | M32: =COUNTA(D32,E32,F32,G32,H32)/5 -> 1
B33: 135 | C33: 남 | I33: =SUM(D33,E33,F33,G33:H33) -> 0 | J33: ='1주차'!I40 -> 0 | K33: =SUM(I33,J33) -> 0 | L33: =RANK(K33,K$6:K$124) -> 107 | M33: =COUNTA(D33,E33,F33,G33,H33)/5 -> 0
B34: 136 | C34: 남 | I34: =SUM(D34,E34,F34,G34:H34) -> 0 | J34: ='1주차'!I41 -> 2 | K34: =SUM(I34,J34) -> 2 | L34: =RANK(K34,K$6:K$124) -> 106 | M34: =COUNTA(D34,E34,F34,G34,H34)/5 -> 0
B35: 137 | C35: 남 | E35: 10 | H35: 5 | I35: =SUM(D35,E35,F35,G35:H35) -> 15 | J35: ='1주차'!I42 -> 27 | K35: =SUM(I35,J35) -> 42 | L35: =RANK(K35,K$6:K$124) -> 71 | M35: =COUNTA(D35,E35,F35,G35,H35)/5 -> 0.4
B36: 138 | C36: 남 | I36: =SUM(D36,E36,F36,G36:H36) -> 0 | J36: ='1주차'!I43 -> 0 | K36: =SUM(I36,J36) -> 0 | L36: =RANK(K36,K$6:K$124) -> 107 | M36: =COUNTA(D36,E36,F36,G36,H36)/5 -> 0
B37: 139 | C37: 남 | D37: 8 | E37: 9 | F37: 13 | G37: 13 | H37: 8 | I37: =SUM(D37,E37,F37,G37:H37) -> 51 | J37: ='1주차'!I44 -> 48 | K37: =SUM(I37,J37) -> 99 | L37: =RANK(K37,K$6:K$124) -> 11 | M37: =COUNTA(D37,E37,F37,G37,H37)/5 -> 1
B38: 140 | C38: 남 | D38: 3 | E38: 8 | F38: 3 | G38: 6 | H38: 6 | I38: =SUM(D38,E38,F38,G38:H38) -> 26 | J38: ='1주차'!I45 -> 32 | K38: =SUM(I38,J38) -> 58 | L38: =RANK(K38,K$6:K$124) -> 51 | M38: =COUNTA(D38,E38,F38,G38,H38)/5 -> 1
B39: 141 | C39: 남 | D39: 2 | E39: 7 | F39: 10 | I39: =SUM(D39,E39,F39,G39:H39) -> 19 | J39: ='1주차'!I46 -> 36 | K39: =SUM(I39,J39) -> 55 | L39: =RANK(K39,K$6:K$124) -> 55 | M39: =COUNTA(D39,E39,F39,G39,H39)/5 -> 0.6
B40: 142 | C40: 남 | I40: =SUM(D40,E40,F40,G40:H40) -> 0 | J40: ='1주차'!I47 -> 0 | K40: =SUM(I40,J40) -> 0 | L40: =RANK(K40,K$6:K$124) -> 107 | M40: =COUNTA(D40,E40,F40,G40,H40)/5 -> 0
B41: 143 | C41: 여 | I41: =SUM(D41,E41,F41,G41:H41) -> 0 | J41: ='1주차'!I48 -> 0 | K41: =SUM(I41,J41) -> 0 | L41: =RANK(K41,K$6:K$124) -> 107 | M41: =COUNTA(D41,E41,F41,G41,H41)/5 -> 0
...

Sheet 3주차
B2: 3~4월 아침 모의고사 성적현황
B3: 시험 3주차 : 3월 25일 ~ 29일
D4: 25 | E4: 26 | F4: 27 | G4: 28 | H4: 29 | K4: 주간성적 | M4: 모의고사 참여율 | N4: 비고
A5: 수험 번호 | B5: 수험 번호 | C5: 성별 | D5: 형법 | E5: 한국사 | F5: 형소법 | G5: 경찰학 | H5: 영어 | I5: 이번주 총점 | J5: 저번주 총점 | K5: 전체 총점 | L5: 등수
B6: 100 | C6: 남 | I6: =SUM(D6,E6,F6,G6:H6) -> 0 | J6: ='2주차'!K6 -> 26 | K6: =SUM(I6,J6) -> 26 | L6: =RANK(K6,K$6:K$110) -> 91 | M6: =COUNTA(D6,E6,F6,G6,H6)/5 -> 0
B7: 103 | C7: 남 | D7: 7 | E7: 6 | F7: 6 | I7: =SUM(D7,E7,F7,G7:H7) -> 19 | J7: ='2주차'!K7 -> 45 | K7: =SUM(I7,J7) -> 64 | L7: =RANK(K7,K$6:K$110) -> 70 | M7: =COUNTA(D7,E7,F7,G7,H7)/5 -> 0.6
B8: 107 | C8: 남 | D8: 4 | E8: 5 | G8: 6 | H8: 7 | I8: =SUM(D8,E8,F8,G8:H8) -> 22 | J8: ='2주차'!K8 -> 63 | K8: =SUM(I8,J8) -> 85 | L8: =RANK(K8,K$6:K$110) -> 54 | M8: =COUNTA(D8,E8,F8,G8,H8)/5 -> 0.8
B9: 111 | C9: 남 | D9: 6 | E9: 10 | F9: 14 | G9: 10 | H9: 9 | I9: =SUM(D9,E9,F9,G9:H9) -> 49 | J9: ='2주차'!K9 -> 104 | K9: =SUM(I9,J9) -> 153 | L9: =RANK(K9,K$6:K$110) -> 9 | M9: =COUNTA(D9,E9,F9,G9,H9)/5 -> 1
B10: 112 | C10: 남 | D10: 5 | E10: 5 | F10: 10 | G10: 3 | H10: 5 | I10: =SUM(D10,E10,F10,G10:H10) -> 28 | J10: ='2주차'!K10 -> 34 | K10: =SUM(I10,J10) -> 62 | L10: =RANK(K10,K$6:K$110) -> 73 | M10: =COUNTA(D10,E10,F10,G10,H10)/5 -> 1
B11: 113 | C11: 남 | D11: 5 | E11: 13 | F11: 12 | G11: 9 | H11: 8 | I11: =SUM(D11,E11,F11,G11:H11) -> 47 | J11: ='2주차'!K11 -> 94 | K11: =SUM(I11,J11) -> 141 | L11: =RANK(K11,K$6:K$110) -> 13 | M11: =COUNTA(D11,E11,F11,G11,H11)/5 -> 1
B12: 114 | C12: 남 | D12: 7 | E12: 7 | F12: 6 | H12: 8 | I12: =SUM(D12,E12,F12,G12:H12) -> 28 | J12: ='2주차'!K12 -> 38 | K12: =SUM(I12,J12) -> 66 | L12: =RANK(K12,K$6:K$110) -> 68 | M12: =COUNTA(D12,E12,F12,G12,H12)/5 -> 0.8
B13: 116 | C13: 남 | D13: 4 | E13: 6 | F13: 9 | G13: 8 | I13: =SUM(D13,E13,F13,G13:H13) -> 27 | J13: ='2주차'!K14 -> 67 | K13: =SUM(I13,J13) -> 94 | L13: =RANK(K13,K$6:K$110) -> 43 | M13: =COUNTA(D13,E13,F13,G13,H13)/5 -> 0.8
B14: 117 | C14: 남 | E14: 11 | F14: 9 | G14: 10 | H14: 14 | I14: =SUM(D14,E14,F14,G14:H14) -> 44 | J14: ='2주차'!K15 -> 87 | K14: =SUM(I14,J14) -> 131 | L14: =RANK(K14,K$6:K$110) -> 20 | M14: =COUNTA(D14,E14,F14,G14,H14)/5 -> 0.8
B15: 118 | C15: 여 | D15: 5 | E15: 8 | F15: 8 | G15: 9 | H15: 15 | I15: =SUM(D15,E15,F15,G15:H15) -> 45 | J15: ='2주차'!K16 -> 79 | K15: =SUM(I15,J15) -> 124 | L15: =RANK(K15,K$6:K$110) -> 27 | M15: =COUNTA(D15,E15,F15,G15,H15)/5 -> 1
B16: 119 | C16: 남 | D16: 5 | E16: 13 | F16: 8 | G16: 7 | H16: 7 | I16: =SUM(D16,E16,F16,G16:H16) -> 40 | J16: ='2주차'!K17 -> 89 | K16: =SUM(I16,J16) -> 129 | L16: =RANK(K16,K$6:K$110) -> 24 | M16: =COUNTA(D16,E16,F16,G16,H16)/5 -> 1
B17: 120 | C17: 남 | E17: 11 | F17: 10 | G17: 8 | I17: =SUM(D17,E17,F17,G17:H17) -> 29 | J17: ='2주차'!K18 -> 72 | K17: =SUM(I17,J17) -> 101 | L17: =RANK(K17,K$6:K$110) -> 38 | M17: =COUNTA(D17,E17,F17,G17,H17)/5 -> 0.6
B18: 121 | C18: 남 | D18: 3 | E18: 12 | F18: 10 | G18: 11 | H18: 13 | I18: =SUM(D18,E18,F18,G18:H18) -> 49 | J18: ='2주차'!K19 -> 86 | K18: =SUM(I18,J18) -> 135 | L18: =RANK(K18,K$6:K$110) -> 16 | M18: =COUNTA(D18,E18,F18,G18,H18)/5 -> 1
B19: 122 | C19: 남 | D19: 2 | F19: 9 | G19: 11 | H19: 16 | I19: =SUM(D19,E19,F19,G19:H19) -> 38 | J19: ='2주차'!K20 -> 96 | K19: =SUM(I19,J19) -> 134 | L19: =RANK(K19,K$6:K$110) -> 18 | M19: =COUNTA(D19,E19,F19,G19,H19)/5 -> 0.8
B20: 123 | C20: 남 | D20: 5 | E20: 6 | F20: 6 | G20: 9 | I20: =SUM(D20,E20,F20,G20:H20) -> 26 | J20: ='2주차'!K21 -> 57 | K20: =SUM(I20,J20) -> 83 | L20: =RANK(K20,K$6:K$110) -> 56 | M20: =COUNTA(D20,E20,F20,G20,H20)/5 -> 0.8
B21: 124 | C21: 남 | I21: =SUM(D21,E21,F21,G21:H21) -> 0 | J21: ='2주차'!K22 -> 44 | K21: =SUM(I21,J21) -> 44 | L21: =RANK(K21,K$6:K$110) -> 83 | M21: =COUNTA(D21,E21,F21,G21,H21)/5 -> 0
B22: 125 | C22: 여 | I22: =SUM(D22,E22,F22,G22:H22) -> 0 | J22: ='2주차'!K23 -> 18 | K22: =SUM(I22,J22) -> 18 | L22: =RANK(K22,K$6:K$110) -> 96 | M22: =COUNTA(D22,E22,F22,G22,H22)/5 -> 0
B23: 126 | C23: 남 | D23: 5 | E23: 5 | F23: 7 | G23: 6 | H23: 5 | I23: =SUM(D23,E23,F23,G23:H23) -> 28 | J23: ='2주차'!K24 -> 61 | K23: =SUM(I23,J23) -> 89 | L23: =RANK(K23,K$6:K$110) -> 48 | M23: =COUNTA(D23,E23,F23,G23,H23)/5 -> 1
B24: 127 | C24: 남 | E24: 13 | F24: 8 | H24: 14 | I24: =SUM(D24,E24,F24,G24:H24) -> 35 | J24: ='2주차'!K25 -> 72 | K24: =SUM(I24,J24) -> 107 | L24: =RANK(K24,K$6:K$110) -> 33 | M24: =COUNTA(D24,E24,F24,G24,H24)/5 -> 0.6
B25: 129 | C25: 남 | D25: 9 | E25: 15 | F25: 14 | G25: 10 | H25: 20 | I25: =SUM(D25,E25,F25,G25:H25) -> 68 | J25: ='2주차'!K27 -> 129 | K25: =SUM(I25,J25) -> 197 | L25: =RANK(K25,K$6:K$110) -> 1 | M25: =COUNTA(D25,E25,F25,G25,H25)/5 -> 1
B26: 130 | C26: 여 | D26: 6 | E26: 7 | F26: 10 | G26: 11 | H26: 14 | I26: =SUM(D26,E26,F26,G26:H26) -> 48 | J26: ='2주차'!K28 -> 91 | K26: =SUM(I26,J26) -> 139 | L26: =RANK(K26,K$6:K$110) -> 14 | M26: =COUNTA(D26,E26,F26,G26,H26)/5 -> 1
B27: 131 | C27: 남 | D27: 3 | F27: 7 | G27: 4 | I27: =SUM(D27,E27,F27,G27:H27) -> 14 | J27: ='2주차'!K29 -> 29 | K27: =SUM(I27,J27) -> 43 | L27: =RANK(K27,K$6:K$110) -> 84 | M27: =COUNTA(D27,E27,F27,G27,H27)/5 -> 0.6
B28: 132 | C28: 남 | D28: 4 | F28: 9 | G28: 5 | I28: =SUM(D28,E28,F28,G28:H28) -> 18 | J28: ='2주차'!K30 -> 36 | K28: =SUM(I28,J28) -> 54 | L28: =RANK(K28,K$6:K$110) -> 77 | M28: =COUNTA(D28,E28,F28,G28,H28)/5 -> 0.6
B29: 133 | C29: 남 | D29: 4 | E29: 9 | F29: 7 | G29: 10 | H29: 9 | I29: =SUM(D29,E29,F29,G29:H29) -> 39 | J29: ='2주차'!K31 -> 77 | K29: =SUM(I29,J29) -> 116 | L29: =RANK(K29,K$6:K$110) -> 31 | M29: =COUNTA(D29,E29,F29,G29,H29)/5 -> 1
B30: 134 | C30: 여 | D30: 4 | E30: 12 | F30: 11 | G30: 6 | H30: 12 | I30: =SUM(D30,E30,F30,G30:H30) -> 45 | J30: ='2주차'!K32 -> 107 | K30: =SUM(I30,J30) -> 152 | L30: =RANK(K30,K$6:K$110) -> 10 | M30: =COUNTA(D30,E30,F30,G30,H30)/5 -> 1
B31: 137 | C31: 남 | I31: =SUM(D31,E31,F31,G31:H31) -> 0 | J31: ='2주차'!K35 -> 42 | K31: =SUM(I31,J31) -> 42 | L31: =RANK(K31,K$6:K$110) -> 85 | M31: =COUNTA(D31,E31,F31,G31,H31)/5 -> 0
B32: 139 | C32: 남 | D32: 6 | E32: 9 | F32: 11 | G32: 11 | I32: =SUM(D32,E32,F32,G32:H32) -> 37 | J32: ='2주차'!K37 -> 99 | K32: =SUM(I32,J32) -> 136 | L32: =RANK(K32,K$6:K$110) -> 15 | M32: =COUNTA(D32,E32,F32,G32,H32)/5 -> 0.8
B33: 140 | C33: 남 | D33: 7 | E33: 7 | F33: 5 | G33: 6 | H33: 6 | I33: =SUM(D33,E33,F33,G33:H33) -> 31 | J33: ='2주차'!K38 -> 58 | K33: =SUM(I33,J33) -> 89 | L33: =RANK(K33,K$6:K$110) -> 48 | M33: =COUNTA(D33,E33,F33,G33,H33)/5 -> 1
B34: 141 | C34: 남 | D34: 3 | E34: 10 | F34: 11 | G34: 10 | I34: =SUM(D34,E34,F34,G34:H34) -> 34 | J34: ='2주차'!K39 -> 55 | K34: =SUM(I34,J34) -> 89 | L34: =RANK(K34,K$6:K$110) -> 48 | M34: =COUNTA(D34,E34,F34,G34,H34)/5 -> 0.8
B35: 144 | C35: 남 | I35: =SUM(D35,E35,F35,G35:H35) -> 0 | J35: ='2주차'!K42 -> 16 | K35: =SUM(I35,J35) -> 16 | L35: =RANK(K35,K$6:K$110) -> 99 | M35: =COUNTA(D35,E35,F35,G35,H35)/5 -> 0
B36: 145 | C36: 여 | I36: =SUM(D36,E36,F36,G36:H36) -> 0 | J36: ='2주차'!K43 -> 50 | K36: =SUM(I36,J36) -> 50 | L36: =RANK(K36,K$6:K$110) -> 81 | M36: =COUNTA(D36,E36,F36,G36,H36)/5 -> 0
B37: 147 | C37: 남 | I37: =SUM(D37,E37,F37,G37:H37) -> 0 | J37: ='2주차'!K44 -> 27 | K37: =SUM(I37,J37) -> 27 | L37: =RANK(K37,K$6:K$110) -> 90 | M37: =COUNTA(D37,E37,F37,G37,H37)/5 -> 0
B38: 148 | C38: 남 | D38: 2 | E38: 5 | F38: 10 | G38: 6 | H38: 8 | I38: =SUM(D38,E38,F38,G38:H38) -> 31 | J38: ='2주차'!K45 -> 67 | K38: =SUM(I38,J38) -> 98 | L38: =RANK(K38,K$6:K$110) -> 40 | M38: =COUNTA(D38,E38,F38,G38,H38)/5 -> 1
B39: 149 | C39: 남 | D39: 3 | E39: 8 | F39: 4 | I39: =SUM(D39,E39,F39,G39:H39) -> 15 | J39: ='2주차'!K46 -> 38 | K39: =SUM(I39,J39) -> 53 | L39: =RANK(K39,K$6:K$110) -> 79 | M39: =COUNTA(D39,E39,F39,G39,H39)/5 -> 0.6
B40: 150 | C40: 남 | D40: 5 | E40: 3 | F40: 7 | H40: 6 | I40: =SUM(D40,E40,F40,G40:H40) -> 21 | J40: ='2주차'!K47 -> 43 | K40: =SUM(I40,J40) -> 64 | L40: =RANK(K40,K$6:K$110) -> 70 | M40: =COUNTA(D40,E40,F40,G40,H40)/5 -> 0.8
B41: 151 | C41: 남 | D41: 4 | E41: 6 | F41: 6 | H41: 8 | I41: =SUM(D41,E41,F41,G41:H41) -> 24 | J41: ='2주차'!K48 -> 48 | K41: =SUM(I41,J41) -> 72 | L41: =RANK(K41,K$6:K$110) -> 62 | M41: =COUNTA(D41,E41,F41,G41,H41)/5 -> 0.8
...

Sheet 4주차
B2: 3~4월 아침 모의고사 성적현황
B3: 시험 4주차 : 4월 1일 ~ 5일
D4: 1 | E4: 2 | F4: 3 | G4: 4 | H4: 5 | K4: 주간성적 | M4: 모의고사 참여율 | N4: 비고
A5: 수험 번호 | B5: 수험 번호 | C5: 성별 | D5: 형법 | E5: 한국사 | F5: 형소법 | G5: 경찰학 | H5: 영어 | I5: 이번주 총점 | J5: 저번주 총점 | K5: 전체 총점 | L5: 등수
B6: 103 | C6: 남 | I6: =SUM(D6,E6,F6,G6:H6) -> 0 | J6: ='3주차'!K7 -> 64 | K6: =SUM(I6,J6) -> 64 | L6: =RANK(K6,K$6:K$95) -> 77 | M6: =COUNTA(D6,E6,F6,G6,H6)/5 -> 0
B7: 107 | C7: 남 | E7: 4 | F7: 6 | G7: 5 | H7: 4 | I7: =SUM(D7,E7,F7,G7:H7) -> 19 | J7: ='3주차'!K8 -> 85 | K7: =SUM(I7,J7) -> 104 | L7: =RANK(K7,K$6:K$95) -> 58 | M7: =COUNTA(D7,E7,F7,G7,H7)/5 -> 0.8
B8: 111 | C8: 남 | D8: 7 | E8: 6 | F8: 12 | G8: 7 | H8: 7 | I8: =SUM(D8,E8,F8,G8:H8) -> 39 | J8: ='3주차'!K9 -> 153 | K8: =SUM(I8,J8) -> 192 | L8: =RANK(K8,K$6:K$95) -> 10 | M8: =COUNTA(D8,E8,F8,G8,H8)/5 -> 1
B9: 112 | C9: 남 | D9: 5 | E9: 3 | F9: 6 | G9: 6 | H9: 6 | I9: =SUM(D9,E9,F9,G9:H9) -> 26 | J9: ='3주차'!K10 -> 62 | K9: =SUM(I9,J9) -> 88 | L9: =RANK(K9,K$6:K$95) -> 65 | M9: =COUNTA(D9,E9,F9,G9,H9)/5 -> 1
B10: 113 | C10: 남 | E10: 6 | F10: 12 | G10: 6 | H10: 7 | I10: =SUM(D10,E10,F10,G10:H10) -> 31 | J10: ='3주차'!K11 -> 141 | K10: =SUM(I10,J10) -> 172 | L10: =RANK(K10,K$6:K$95) -> 18 | M10: =COUNTA(D10,E10,F10,G10,H10)/5 -> 0.8
B11: 114 | C11: 남 | D11: 6 | E11: 3 | F11: 3 | H11: 8 | I11: =SUM(D11,E11,F11,G11:H11) -> 20 | J11: ='3주차'!K12 -> 66 | K11: =SUM(I11,J11) -> 86 | L11: =RANK(K11,K$6:K$95) -> 67 | M11: =COUNTA(D11,E11,F11,G11,H11)/5 -> 0.8
B12: 116 | C12: 남 | D12: 6 | E12: 5 | F12: 5 | G12: 6 | H12: 5 | I12: =SUM(D12,E12,F12,G12:H12) -> 27 | J12: ='3주차'!K13 -> 94 | K12: =SUM(I12,J12) -> 121 | L12: =RANK(K12,K$6:K$95) -> 46 | M12: =COUNTA(D12,E12,F12,G12,H12)/5 -> 1
B13: 117 | C13: 남 | E13: 4 | F13: 11 | G13: 7 | H13: 8 | I13: =SUM(D13,E13,F13,G13:H13) -> 30 | J13: ='3주차'!K14 -> 131 | K13: =SUM(I13,J13) -> 161 | L13: =RANK(K13,K$6:K$95) -> 22 | M13: =COUNTA(D13,E13,F13,G13,H13)/5 -> 0.8
B14: 118 | C14: 여 | D14: 7 | E14: 6 | F14: 8 | G14: 7 | H14: 6 | I14: =SUM(D14,E14,F14,G14:H14) -> 34 | J14: ='3주차'!K15 -> 124 | K14: =SUM(I14,J14) -> 158 | L14: =RANK(K14,K$6:K$95) -> 26 | M14: =COUNTA(D14,E14,F14,G14,H14)/5 -> 1
B15: 119 | C15: 남 | D15: 9 | E15: 6 | F15: 8 | G15: 9 | I15: =SUM(D15,E15,F15,G15:H15) -> 32 | J15: ='3주차'!K16 -> 129 | K15: =SUM(I15,J15) -> 161 | L15: =RANK(K15,K$6:K$95) -> 22 | M15: =COUNTA(D15,E15,F15,G15,H15)/5 -> 0.8
B16: 120 | C16: 남 | E16: 5 | F16: 11 | G16: 6 | H16: 6 | I16: =SUM(D16,E16,F16,G16:H16) -> 28 | J16: ='3주차'!K17 -> 101 | K16: =SUM(I16,J16) -> 129 | L16: =RANK(K16,K$6:K$95) -> 38 | M16: =COUNTA(D16,E16,F16,G16,H16)/5 -> 0.8
B17: 121 | C17: 남 | D17: 7 | E17: 8 | F17: 12 | G17: 11 | H17: 8 | I17: =SUM(D17,E17,F17,G17:H17) -> 46 | J17: ='3주차'!K18 -> 135 | K17: =SUM(I17,J17) -> 181 | L17: =RANK(K17,K$6:K$95) -> 14 | M17: =COUNTA(D17,E17,F17,G17,H17)/5 -> 1
B18: 122 | C18: 남 | D18: 2 | F18: 12 | G18: 7 | I18: =SUM(D18,E18,F18,G18:H18) -> 21 | J18: ='3주차'!K19 -> 134 | K18: =SUM(I18,J18) -> 155 | L18: =RANK(K18,K$6:K$95) -> 28 | M18: =COUNTA(D18,E18,F18,G18,H18)/5 -> 0.6
B19: 123 | C19: 남 | D19: 6 | E19: 6 | F19: 5 | G19: 5 | H19: 7 | I19: =SUM(D19,E19,F19,G19:H19) -> 29 | J19: ='3주차'!K20 -> 83 | K19: =SUM(I19,J19) -> 112 | L19: =RANK(K19,K$6:K$95) -> 53 | M19: =COUNTA(D19,E19,F19,G19,H19)/5 -> 1
B20: 126 | C20: 남 | D20: 3 | E20: 7 | F20: 7 | G20: 5 | H20: 2 | I20: =SUM(D20,E20,F20,G20:H20) -> 24 | J20: ='3주차'!K23 -> 89 | K20: =SUM(I20,J20) -> 113 | L20: =RANK(K20,K$6:K$95) -> 52 | M20: =COUNTA(D20,E20,F20,G20,H20)/5 -> 1
B21: 127 | C21: 남 | D21: 6 | E21: 7 | F21: 12 | H21: 6 | I21: =SUM(D21,E21,F21,G21:H21) -> 31 | J21: ='3주차'!K24 -> 107 | K21: =SUM(I21,J21) -> 138 | L21: =RANK(K21,K$6:K$95) -> 34 | M21: =COUNTA(D21,E21,F21,G21,H21)/5 -> 0.8
B22: 129 | C22: 남 | D22: 10 | E22: 12 | F22: 14 | G22: 14 | H22: 15 | I22: =SUM(D22,E22,F22,G22:H22) -> 65 | J22: ='3주차'!K25 -> 197 | K22: =SUM(I22,J22) -> 262 | L22: =RANK(K22,K$6:K$95) -> 1 | M22: =COUNTA(D22,E22,F22,G22,H22)/5 -> 1
B23: 130 | C23: 여 | D23: 9 | E23: 7 | F23: 11 | G23: 9 | I23: =SUM(D23,E23,F23,G23:H23) -> 36 | J23: ='3주차'!K26 -> 139 | K23: =SUM(I23,J23) -> 175 | L23: =RANK(K23,K$6:K$95) -> 16 | M23: =COUNTA(D23,E23,F23,G23,H23)/5 -> 0.8
B24: 131 | C24: 남 | G24: 5 | H24: 5 | I24: =SUM(D24,E24,F24,G24:H24) -> 10 | J24: ='3주차'!K27 -> 43 | K24: =SUM(I24,J24) -> 53 | L24: =RANK(K24,K$6:K$95) -> 79 | M24: =COUNTA(D24,E24,F24,G24,H24)/5 -> 0.4
B25: 132 | C25: 남 | D25: 6 | F25: 9 | I25: =SUM(D25,E25,F25,G25:H25) -> 15 | J25: ='3주차'!K28 -> 54 | K25: =SUM(I25,J25) -> 69 | L25: =RANK(K25,K$6:K$95) -> 73 | M25: =COUNTA(D25,E25,F25,G25,H25)/5 -> 0.4
B26: 133 | C26: 남 | D26: 8 | E26: 6 | F26: 8 | G26: 12 | H26: 4 | I26: =SUM(D26,E26,F26,G26:H26) -> 38 | J26: ='3주차'!K29 -> 116 | K26: =SUM(I26,J26) -> 154 | L26: =RANK(K26,K$6:K$95) -> 29 | M26: =COUNTA(D26,E26,F26,G26,H26)/5 -> 1
B27: 134 | C27: 여 | D27: 3 | E27: 6 | F27: 7 | I27: =SUM(D27,E27,F27,G27:H27) -> 16 | J27: ='3주차'!K30 -> 152 | K27: =SUM(I27,J27) -> 168 | L27: =RANK(K27,K$6:K$95) -> 19 | M27: =COUNTA(D27,E27,F27,G27,H27)/5 -> 0.6
B28: 139 | C28: 남 | D28: 8 | E28: 6 | F28: 12 | G28: 11 | H28: 13 | I28: =SUM(D28,E28,F28,G28:H28) -> 50 | J28: ='3주차'!K32 -> 136 | K28: =SUM(I28,J28) -> 186 | L28: =RANK(K28,K$6:K$95) -> 11 | M28: =COUNTA(D28,E28,F28,G28,H28)/5 -> 1
B29: 140 | C29: 남 | D29: 3 | E29: 1 | F29: 6 | G29: 5 | H29: 7 | I29: =SUM(D29,E29,F29,G29:H29) -> 22 | J29: ='3주차'!K33 -> 89 | K29: =SUM(I29,J29) -> 111 | L29: =RANK(K29,K$6:K$95) -> 54 | M29: =COUNTA(D29,E29,F29,G29,H29)/5 -> 1
B30: 141 | C30: 남 | D30: 2 | E30: 8 | F30: 9 | G30: 7 | I30: =SUM(D30,E30,F30,G30:H30) -> 26 | J30: ='3주차'!K34 -> 89 | K30: =SUM(I30,J30) -> 115 | L30: =RANK(K30,K$6:K$95) -> 50 | M30: =COUNTA(D30,E30,F30,G30,H30)/5 -> 0.8
B31: 148 | C31: 남 | D31: 5 | E31: 4 | F31: 5 | G31: 3 | H31: 8 | I31: =SUM(D31,E31,F31,G31:H31) -> 25 | J31: ='3주차'!K38 -> 98 | K31: =SUM(I31,J31) -> 123 | L31: =RANK(K31,K$6:K$95) -> 43 | M31: =COUNTA(D31,E31,F31,G31,H31)/5 -> 1
B32: 149 | C32: 남 | I32: =SUM(D32,E32,F32,G32:H32) -> 0 | J32: ='3주차'!K39 -> 53 | K32: =SUM(I32,J32) -> 53 | L32: =RANK(K32,K$6:K$95) -> 79 | M32: =COUNTA(D32,E32,F32,G32,H32)/5 -> 0
B33: 150 | C33: 남 | H33: 4 | I33: =SUM(D33,E33,F33,G33:H33) -> 4 | J33: ='3주차'!K40 -> 64 | K33: =SUM(I33,J33) -> 68 | L33: =RANK(K33,K$6:K$95) -> 75 | M33: =COUNTA(D33,E33,F33,G33,H33)/5 -> 0.2
B34: 151 | C34: 남 | D34: 5 | E34: 5 | F34: 6 | G34: 2 | H34: 8 | I34: =SUM(D34,E34,F34,G34:H34) -> 26 | J34: ='3주차'!K41 -> 72 | K34: =SUM(I34,J34) -> 98 | L34: =RANK(K34,K$6:K$95) -> 62 | M34: =COUNTA(D34,E34,F34,G34,H34)/5 -> 1
B35: 152 | C35: 남 | D35: 6 | E35: 9 | F35: 7 | G35: 8 | H35: 12 | I35: =SUM(D35,E35,F35,G35:H35) -> 42 | J35: ='3주차'!K42 -> 86 | K35: =SUM(I35,J35) -> 128 | L35: =RANK(K35,K$6:K$95) -> 40 | M35: =COUNTA(D35,E35,F35,G35,H35)/5 -> 1
B36: 156 | C36: 남 | D36: 6 | E36: 2 | F36: 8 | G36: 4 | I36: =SUM(D36,E36,F36,G36:H36) -> 20 | J36: ='3주차'!K45 -> 32 | K36: =SUM(I36,J36) -> 52 | L36: =RANK(K36,K$6:K$95) -> 81 | M36: =COUNTA(D36,E36,F36,G36,H36)/5 -> 0.8
B37: 157 | C37: 여 | D37: 5 | E37: 8 | F37: 10 | G37: 6 | H37: 13 | I37: =SUM(D37,E37,F37,G37:H37) -> 42 | J37: ='3주차'!K46 -> 160 | K37: =SUM(I37,J37) -> 202 | L37: =RANK(K37,K$6:K$95) -> 6 | M37: =COUNTA(D37,E37,F37,G37,H37)/5 -> 1
B38: 158 | C38: 여 | D38: 6 | E38: 4 | F38: 6 | G38: 7 | H38: 8 | I38: =SUM(D38,E38,F38,G38:H38) -> 31 | J38: ='3주차'!K47 -> 102 | K38: =SUM(I38,J38) -> 133 | L38: =RANK(K38,K$6:K$95) -> 36 | M38: =COUNTA(D38,E38,F38,G38,H38)/5 -> 1
B39: 160 | C39: 남 | D39: 4 | E39: 5 | F39: 7 | G39: 7 | H39: 5 | I39: =SUM(D39,E39,F39,G39:H39) -> 28 | J39: ='3주차'!K49 -> 102 | K39: =SUM(I39,J39) -> 130 | L39: =RANK(K39,K$6:K$95) -> 37 | M39: =COUNTA(D39,E39,F39,G39,H39)/5 -> 1
B40: 161 | C40: 남 | D40: 9 | E40: 9 | F40: 7 | G40: 10 | H40: 8 | I40: =SUM(D40,E40,F40,G40:H40) -> 43 | J40: ='3주차'!K50 -> 156 | K40: =SUM(I40,J40) -> 199 | L40: =RANK(K40,K$6:K$95) -> 7 | M40: =COUNTA(D40,E40,F40,G40,H40)/5 -> 1
B41: 163 | C41: 여 | D41: 5 | E41: 3 | F41: 5 | G41: 7 | I41: =SUM(D41,E41,F41,G41:H41) -> 20 | J41: ='3주차'!K52 -> 87 | K41: =SUM(I41,J41) -> 107 | L41: =RANK(K41,K$6:K$95) -> 56 | M41: =COUNTA(D41,E41,F41,G41,H41)/5 -> 0.8
...

Sheet 5주차
B2: 3~4월 아침 모의고사 성적현황
B3: 시험 5주차 : 4월 8일 ~ 12일
D4: 8 | E4: 9 | F4: 10 | G4: 11 | H4: 12 | I4: 성 적 | M4: 모의고사 참여율 | N4: 비고
A5: 수험 번호 | B5: 수험 번호 | C5: 성별 | D5: 형법 | E5: 한국사 | F5: 형소법 | G5: 경찰학 | H5: 영어 | I5: 이번주 총점 | J5: 저번주 총점 | K5: 전체 총점 | L5: 등수
B6: 107 | C6: 남 | D6: 2 | E6: 9 | F6: 7 | G6: 8 | I6: =SUM(D6,E6,F6,G6:H6) -> 26 | J6: ='4주차'!K7 -> 104 | K6: =SUM(I6,J6) -> 130 | L6: =RANK(K6,K$6:K$90) -> 54 | M6: =COUNTA(D6,E6,F6,G6,H6)/5 -> 0.8
B7: 111 | C7: 남 | E7: 6 | F7: 12 | G7: 10 | H7: 5 | I7: =SUM(D7,E7,F7,G7:H7) -> 33 | J7: ='4주차'!K8 -> 192 | K7: =SUM(I7,J7) -> 225 | L7: =RANK(K7,K$6:K$90) -> 13 | M7: =COUNTA(D7,E7,F7,G7,H7)/5 -> 0.8
B8: 112 | C8: 남 | D8: 3 | E8: 4 | F8: 2 | G8: 7 | H8: 3 | I8: =SUM(D8,E8,F8,G8:H8) -> 19 | J8: ='4주차'!K9 -> 88 | K8: =SUM(I8,J8) -> 107 | L8: =RANK(K8,K$6:K$90) -> 64 | M8: =COUNTA(D8,E8,F8,G8,H8)/5 -> 1
B9: 113 | C9: 남 | D9: 3 | E9: 9 | F9: 12 | G9: 12 | H9: 3 | I9: =SUM(D9,E9,F9,G9:H9) -> 39 | J9: ='4주차'!K10 -> 172 | K9: =SUM(I9,J9) -> 211 | L9: =RANK(K9,K$6:K$90) -> 18 | M9: =COUNTA(D9,E9,F9,G9,H9)/5 -> 1
B10: 114 | C10: 남 | D10: 3 | E10: 5 | H10: 5 | I10: =SUM(D10,E10,F10,G10:H10) -> 13 | J10: ='4주차'!K11 -> 86 | K10: =SUM(I10,J10) -> 99 | L10: =RANK(K10,K$6:K$90) -> 67 | M10: =COUNTA(D10,E10,F10,G10,H10)/5 -> 0.6
B11: 116 | C11: 남 | D11: 3 | F11: 10 | G11: 8 | I11: =SUM(D11,E11,F11,G11:H11) -> 21 | J11: ='4주차'!K12 -> 121 | K11: =SUM(I11,J11) -> 142 | L11: =RANK(K11,K$6:K$90) -> 50 | M11: =COUNTA(D11,E11,F11,G11,H11)/5 -> 0.6
B12: 117 | C12: 남 | E12: 5 | F12: 13 | I12: =SUM(D12,E12,F12,G12:H12) -> 18 | J12: ='4주차'!K13 -> 161 | K12: =SUM(I12,J12) -> 179 | L12: =RANK(K12,K$6:K$90) -> 31 | M12: =COUNTA(D12,E12,F12,G12,H12)/5 -> 0.4
B13: 118 | C13: 여 | D13: 2 | E13: 5 | F13: 11 | G13: 11 | H13: 7 | I13: =SUM(D13,E13,F13,G13:H13) -> 36 | J13: ='4주차'!K14 -> 158 | K13: =SUM(I13,J13) -> 194 | L13: =RANK(K13,K$6:K$90) -> 23 | M13: =COUNTA(D13,E13,F13,G13,H13)/5 -> 1
B14: 119 | C14: 남 | D14: 5 | E14: 6 | F14: 9 | G14: 13 | I14: =SUM(D14,E14,F14,G14:H14) -> 33 | J14: ='4주차'!K15 -> 161 | K14: =SUM(I14,J14) -> 194 | L14: =RANK(K14,K$6:K$90) -> 23 | M14: =COUNTA(D14,E14,F14,G14,H14)/5 -> 0.8
B15: 120 | C15: 남 | E15: 4 | F15: 12 | G15: 9 | H15: 4 | I15: =SUM(D15,E15,F15,G15:H15) -> 29 | J15: ='4주차'!K16 -> 129 | K15: =SUM(I15,J15) -> 158 | L15: =RANK(K15,K$6:K$90) -> 38 | M15: =COUNTA(D15,E15,F15,G15,H15)/5 -> 0.8
B16: 121 | C16: 남 | D16: 4 | E16: 8 | F16: 9 | G16: 13 | H16: 12 | I16: =SUM(D16,E16,F16,G16:H16) -> 46 | J16: ='4주차'!K17 -> 181 | K16: =SUM(I16,J16) -> 227 | L16: =RANK(K16,K$6:K$90) -> 12 | M16: =COUNTA(D16,E16,F16,G16,H16)/5 -> 1
B17: 122 | C17: 남 | I17: =SUM(D17,E17,F17,G17:H17) -> 0 | J17: ='4주차'!K18 -> 155 | K17: =SUM(I17,J17) -> 155 | L17: =RANK(K17,K$6:K$90) -> 42 | M17: =COUNTA(D17,E17,F17,G17,H17)/5 -> 0 | N17: 경고
B18: 123 | C18: 남 | F18: 6 | H18: 5 | I18: =SUM(D18,E18,F18,G18:H18) -> 11 | J18: ='4주차'!K19 -> 112 | K18: =SUM(I18,J18) -> 123 | L18: =RANK(K18,K$6:K$90) -> 58 | M18: =COUNTA(D18,E18,F18,G18,H18)/5 -> 0.4
B19: 126 | C19: 남 | D19: 2 | E19: 5 | F19: 7 | G19: 5 | H19: 3 | I19: =SUM(D19,E19,F19,G19:H19) -> 22 | J19: ='4주차'!K20 -> 113 | K19: =SUM(I19,J19) -> 135 | L19: =RANK(K19,K$6:K$90) -> 53 | M19: =COUNTA(D19,E19,F19,G19,H19)/5 -> 1
B20: 127 | C20: 남 | D20: 6 | E20: 8 | F20: 15 | I20: =SUM(D20,E20,F20,G20:H20) -> 29 | J20: ='4주차'!K21 -> 138 | K20: =SUM(I20,J20) -> 167 | L20: =RANK(K20,K$6:K$90) -> 35 | M20: =COUNTA(D20,E20,F20,G20,H20)/5 -> 0.6
B21: 129 | C21: 남 | D21: 9 | E21: 11 | F21: 15 | G21: 12 | H21: 12 | I21: =SUM(D21,E21,F21,G21:H21) -> 59 | J21: ='4주차'!K22 -> 262 | K21: =SUM(I21,J21) -> 321 | L21: =RANK(K21,K$6:K$90) -> 1 | M21: =COUNTA(D21,E21,F21,G21,H21)/5 -> 1
B22: 130 | C22: 여 | D22: 6 | E22: 7 | F22: 13 | G22: 15 | I22: =SUM(D22,E22,F22,G22:H22) -> 41 | J22: ='4주차'!K23 -> 175 | K22: =SUM(I22,J22) -> 216 | L22: =RANK(K22,K$6:K$90) -> 16 | M22: =COUNTA(D22,E22,F22,G22,H22)/5 -> 0.8
B23: 131 | C23: 남 | G23: 6 | I23: =SUM(D23,E23,F23,G23:H23) -> 6 | J23: ='4주차'!K24 -> 53 | K23: =SUM(I23,J23) -> 59 | L23: =RANK(K23,K$6:K$90) -> 82 | M23: =COUNTA(D23,E23,F23,G23,H23)/5 -> 0.2
B24: 132 | C24: 남 | I24: =SUM(D24,E24,F24,G24:H24) -> 0 | J24: ='4주차'!K25 -> 69 | K24: =SUM(I24,J24) -> 69 | L24: =RANK(K24,K$6:K$90) -> 80 | M24: =COUNTA(D24,E24,F24,G24,H24)/5 -> 0 | N24: 경고
B25: 133 | C25: 남 | D25: 4 | E25: 7 | F25: 10 | G25: 8 | H25: 3 | I25: =SUM(D25,E25,F25,G25:H25) -> 32 | J25: ='4주차'!K26 -> 154 | K25: =SUM(I25,J25) -> 186 | L25: =RANK(K25,K$6:K$90) -> 28 | M25: =COUNTA(D25,E25,F25,G25,H25)/5 -> 1
B26: 134 | C26: 여 | D26: 6 | E26: 7 | F26: 13 | G26: 7 | I26: =SUM(D26,E26,F26,G26:H26) -> 33 | J26: ='4주차'!K27 -> 168 | K26: =SUM(I26,J26) -> 201 | L26: =RANK(K26,K$6:K$90) -> 21 | M26: =COUNTA(D26,E26,F26,G26,H26)/5 -> 0.8
B27: 139 | C27: 남 | D27: 5 | E27: 5 | F27: 13 | G27: 14 | H27: 10 | I27: =SUM(D27,E27,F27,G27:H27) -> 47 | J27: ='4주차'!K28 -> 186 | K27: =SUM(I27,J27) -> 233 | L27: =RANK(K27,K$6:K$90) -> 8 | M27: =COUNTA(D27,E27,F27,G27,H27)/5 -> 1
B28: 140 | C28: 남 | D28: 4 | E28: 3 | F28: 12 | G28: 7 | H28: 10 | I28: =SUM(D28,E28,F28,G28:H28) -> 36 | J28: ='4주차'!K29 -> 111 | K28: =SUM(I28,J28) -> 147 | L28: =RANK(K28,K$6:K$90) -> 47 | M28: =COUNTA(D28,E28,F28,G28,H28)/5 -> 1
B29: 141 | C29: 남 | D29: 2 | E29: 9 | F29: 12 | G29: 10 | I29: =SUM(D29,E29,F29,G29:H29) -> 33 | J29: ='4주차'!K30 -> 115 | K29: =SUM(I29,J29) -> 148 | L29: =RANK(K29,K$6:K$90) -> 46 | M29: =COUNTA(D29,E29,F29,G29,H29)/5 -> 0.8
B30: 148 | C30: 남 | D30: 1 | E30: 2 | F30: 6 | G30: 5 | H30: 3 | I30: =SUM(D30,E30,F30,G30:H30) -> 17 | J30: ='4주차'!K31 -> 123 | K30: =SUM(I30,J30) -> 140 | L30: =RANK(K30,K$6:K$90) -> 51 | M30: =COUNTA(D30,E30,F30,G30,H30)/5 -> 1
B31: 149 | C31: 남 | F31: 8 | G31: 10 | I31: =SUM(D31,E31,F31,G31:H31) -> 18 | J31: ='4주차'!K32 -> 53 | K31: =SUM(I31,J31) -> 71 | L31: =RANK(K31,K$6:K$90) -> 77 | M31: =COUNTA(D31,E31,F31,G31,H31)/5 -> 0.4
B32: 150 | C32: 남 | E32: 2 | F32: 6 | H32: 4 | I32: =SUM(D32,E32,F32,G32:H32) -> 12 | J32: ='4주차'!K33 -> 68 | K32: =SUM(I32,J32) -> 80 | L32: =RANK(K32,K$6:K$90) -> 74 | M32: =COUNTA(D32,E32,F32,G32,H32)/5 -> 0.6
B33: 151 | C33: 남 | D33: 4 | F33: 5 | I33: =SUM(D33,E33,F33,G33:H33) -> 9 | J33: ='4주차'!K34 -> 98 | K33: =SUM(I33,J33) -> 107 | L33: =RANK(K33,K$6:K$90) -> 64 | M33: =COUNTA(D33,E33,F33,G33,H33)/5 -> 0.4
B34: 152 | C34: 남 | D34: 4 | E34: 6 | F34: 5 | G34: 6 | H34: 8 | I34: =SUM(D34,E34,F34,G34:H34) -> 29 | J34: ='4주차'!K35 -> 128 | K34: =SUM(I34,J34) -> 157 | L34: =RANK(K34,K$6:K$90) -> 39 | M34: =COUNTA(D34,E34,F34,G34,H34)/5 -> 1
B35: 156 | C35: 남 | D35: 2 | E35: 5 | F35: 8 | G35: 9 | H35: 6 | I35: =SUM(D35,E35,F35,G35:H35) -> 30 | J35: ='4주차'!K36 -> 52 | K35: =SUM(I35,J35) -> 82 | L35: =RANK(K35,K$6:K$90) -> 72 | M35: =COUNTA(D35,E35,F35,G35,H35)/5 -> 1
B36: 157 | C36: 여 | D36: 3 | E36: 11 | F36: 11 | G36: 10 | H36: 7 | I36: =SUM(D36,E36,F36,G36:H36) -> 42 | J36: ='4주차'!K37 -> 202 | K36: =SUM(I36,J36) -> 244 | L36: =RANK(K36,K$6:K$90) -> 6 | M36: =COUNTA(D36,E36,F36,G36,H36)/5 -> 1
B37: 158 | C37: 여 | D37: 3 | E37: 6 | F37: 10 | G37: 8 | H37: 1 | I37: =SUM(D37,E37,F37,G37:H37) -> 28 | J37: ='4주차'!K38 -> 133 | K37: =SUM(I37,J37) -> 161 | L37: =RANK(K37,K$6:K$90) -> 37 | M37: =COUNTA(D37,E37,F37,G37,H37)/5 -> 1
B38: 160 | C38: 남 | D38: 2 | E38: 8 | F38: 8 | G38: 5 | H38: 3 | I38: =SUM(D38,E38,F38,G38:H38) -> 26 | J38: ='4주차'!K39 -> 130 | K38: =SUM(I38,J38) -> 156 | L38: =RANK(K38,K$6:K$90) -> 40 | M38: =COUNTA(D38,E38,F38,G38,H38)/5 -> 1
B39: 161 | C39: 남 | D39: 5 | E39: 7 | F39: 11 | G39: 9 | I39: =SUM(D39,E39,F39,G39:H39) -> 32 | J39: ='4주차'!K40 -> 199 | K39: =SUM(I39,J39) -> 231 | L39: =RANK(K39,K$6:K$90) -> 10 | M39: =COUNTA(D39,E39,F39,G39,H39)/5 -> 0.8
B40: 163 | C40: 여 | D40: 1 | E40: 8 | F40: 9 | G40: 7 | H40: 5 | I40: =SUM(D40,E40,F40,G40:H40) -> 30 | J40: ='4주차'!K41 -> 107 | K40: =SUM(I40,J40) -> 137 | L40: =RANK(K40,K$6:K$90) -> 52 | M40: =COUNTA(D40,E40,F40,G40,H40)/5 -> 1
B41: 164 | C41: 남 | D41: 2 | E41: 6 | F41: 10 | G41: 8 | I41: =SUM(D41,E41,F41,G41:H41) -> 26 | J41: ='4주차'!K42 -> 121 | K41: =SUM(I41,J41) -> 147 | L41: =RANK(K41,K$6:K$90) -> 47 | M41: =COUNTA(D41,E41,F41,G41,H41)/5 -> 0.8
...

Sheet Sheet2
