Workbook

Sheet 1주차
B2: 11~12월 아침 모의고사 성적현황 | O2: 수 | P2: 김영훈 | Q2: 6
B3: 시험 1주차 : 11월 12일 ~ 16일
D4: 12 | E4: 13 | F4: 14 | G4: 15 | H4: 16 | I4: 주간성적 | K4: 모의고사 참여율 | L4: 비고
A5: 수험 번호 | B5: 수험 번호 | C5: 성별 | D5: 형법 | E5: 국사 | F5: 형소법 | G5: 경찰학 | H5: 영어 | I5: 전체 총점 | J5: 등수
B6: 300 | C6: 남 | D6: 6 | E6: 9 | F6: 9 | G6: 9 | H6: 4 | I6: =SUM(D6,E6,F6,G6,H6) -> 37 | J6: =RANK(I6,I$6:I$86) -> 23 | K6: =COUNTA(D6,E6,F6,G6,H6)/5 -> 1
B7: 301 | C7: 남 | D7: 6 | E7: 9 | F7: 8 | G7: 8 | H7: 5 | I7: =SUM(D7,E7,F7,G7,H7) -> 36 | J7: =RANK(I7,I$6:I$86) -> 26 | K7: =COUNTA(D7,E7,F7,G7,H7)/5 -> 1
B8: 303 | C8: 남 | I8: =SUM(D8,E8,F8,G8,H8) -> 0 | J8: =RANK(I8,I$6:I$86) -> 56 | K8: =COUNTA(D8,E8,F8,G8,H8)/5 -> 0
B9: 304 | C9: 남 | D9: 7 | E9: 10 | F9: 9 | G9: 4 | H9: 5 | I9: =SUM(D9,E9,F9,G9,H9) -> 35 | J9: =RANK(I9,I$6:I$86) -> 30 | K9: =COUNTA(D9,E9,F9,G9,H9)/5 -> 1
B10: 305 | C10: 남 | D10: 4 | E10: 9 | F10: 8 | G10: 4 | H10: 4 | I10: =SUM(D10,E10,F10,G10,H10) -> 29 | J10: =RANK(I10,I$6:I$86) -> 35 | K10: =COUNTA(D10,E10,F10,G10,H10)/5 -> 1
B11: 306 | C11: 남 | E11: 10 | F11: 8 | I11: =SUM(D11,E11,F11,G11,H11) -> 18 | J11: =RANK(I11,I$6:I$86) -> 48 | K11: =COUNTA(D11,E11,F11,G11,H11)/5 -> 0.4
B12: 307 | C12: 여 | D12: 6 | E12: 7 | F12: 6 | H12: 3 | I12: =SUM(D12,E12,F12,G12,H12) -> 22 | J12: =RANK(I12,I$6:I$86) -> 43 | K12: =COUNTA(D12,E12,F12,G12,H12)/5 -> 0.8
B13: 308 | C13: 여 | D13: 5 | E13: 9 | F13: 10 | G13: 8 | H13: 10 | I13: =SUM(D13,E13,F13,G13,H13) -> 42 | J13: =RANK(I13,I$6:I$86) -> 14 | K13: =COUNTA(D13,E13,F13,G13,H13)/5 -> 1
B14: 309 | C14: 남 | D14: 5 | E14: 13 | F14: 10 | G14: 9 | H14: 8 | I14: =SUM(D14,E14,F14,G14,H14) -> 45 | J14: =RANK(I14,I$6:I$86) -> 9 | K14: =COUNTA(D14,E14,F14,G14,H14)/5 -> 1
B15: 310 | C15: 남 | D15: 7 | E15: 11 | F15: 8 | G15: 10 | I15: =SUM(D15,E15,F15,G15,H15) -> 36 | J15: =RANK(I15,I$6:I$86) -> 26 | K15: =COUNTA(D15,E15,F15,G15,H15)/5 -> 0.8
B16: 311 | C16: 남 | D16: 7 | E16: 15 | G16: 11 | I16: =SUM(D16,E16,F16,G16,H16) -> 33 | J16: =RANK(I16,I$6:I$86) -> 32 | K16: =COUNTA(D16,E16,F16,G16,H16)/5 -> 0.6
B17: 313 | C17: 남 | I17: =SUM(D17,E17,F17,G17,H17) -> 0 | J17: =RANK(I17,I$6:I$86) -> 56 | K17: =COUNTA(D17,E17,F17,G17,H17)/5 -> 0
B18: 314 | C18: 남 | D18: 6 | E18: 8 | F18: 7 | G18: 8 | H18: 10 | I18: =SUM(D18,E18,F18,G18,H18) -> 39 | J18: =RANK(I18,I$6:I$86) -> 17 | K18: =COUNTA(D18,E18,F18,G18,H18)/5 -> 1
B19: 315 | C19: 여 | I19: =SUM(D19,E19,F19,G19,H19) -> 0 | J19: =RANK(I19,I$6:I$86) -> 56 | K19: =COUNTA(D19,E19,F19,G19,H19)/5 -> 0
B20: 316 | C20: 남 | E20: 0 | I20: =SUM(D20,E20,F20,G20,H20) -> 0 | J20: =RANK(I20,I$6:I$86) -> 56 | K20: =COUNTA(D20,E20,F20,G20,H20)/5 -> 0.2
B21: 317 | C21: 남 | I21: =SUM(D21,E21,F21,G21,H21) -> 0 | J21: =RANK(I21,I$6:I$86) -> 56 | K21: =COUNTA(D21,E21,F21,G21,H21)/5 -> 0
B22: 318 | C22: 남 | I22: =SUM(D22,E22,F22,G22,H22) -> 0 | J22: =RANK(I22,I$6:I$86) -> 56 | K22: =COUNTA(D22,E22,F22,G22,H22)/5 -> 0
B23: 319 | C23: 남 | I23: =SUM(D23,E23,F23,G23,H23) -> 0 | J23: =RANK(I23,I$6:I$86) -> 56 | K23: =COUNTA(D23,E23,F23,G23,H23)/5 -> 0
B24: 320 | C24: 여 | D24: 3 | E24: 9 | I24: =SUM(D24,E24,F24,G24,H24) -> 12 | J24: =RANK(I24,I$6:I$86) -> 52 | K24: =COUNTA(D24,E24,F24,G24,H24)/5 -> 0.4
B25: 321 | C25: 여 | D25: 5 | I25: =SUM(D25,E25,F25,G25,H25) -> 5 | J25: =RANK(I25,I$6:I$86) -> 54 | K25: =COUNTA(D25,E25,F25,G25,H25)/5 -> 0.2
B26: 322 | C26: 남 | I26: =SUM(D26,E26,F26,G26,H26) -> 0 | J26: =RANK(I26,I$6:I$86) -> 56 | K26: =COUNTA(D26,E26,F26,G26,H26)/5 -> 0
B27: 323 | C27: 남 | D27: 8 | E27: 12 | G27: 12 | I27: =SUM(D27,E27,F27,G27,H27) -> 32 | J27: =RANK(I27,I$6:I$86) -> 33 | K27: =COUNTA(D27,E27,F27,G27,H27)/5 -> 0.6
B28: 324 | C28: 남 | D28: 6 | E28: 10 | G28: 7 | H28: 6 | I28: =SUM(D28,E28,F28,G28,H28) -> 29 | J28: =RANK(I28,I$6:I$86) -> 35 | K28: =COUNTA(D28,E28,F28,G28,H28)/5 -> 0.8
B29: 325 | C29: 남 | D29: 6 | E29: 10 | F29: 9 | G29: 7 | H29: 4 | I29: =SUM(D29,E29,F29,G29,H29) -> 36 | J29: =RANK(I29,I$6:I$86) -> 26 | K29: =COUNTA(D29,E29,F29,G29,H29)/5 -> 1
B30: 326 | C30: 남 | I30: =SUM(D30,E30,F30,G30,H30) -> 0 | J30: =RANK(I30,I$6:I$86) -> 56 | K30: =COUNTA(D30,E30,F30,G30,H30)/5 -> 0
B31: 327 | C31: 남 | D31: 2 | E31: 12 | F31: 10 | G31: 10 | H31: 3 | I31: =SUM(D31,E31,F31,G31,H31) -> 37 | J31: =RANK(I31,I$6:I$86) -> 23 | K31: =COUNTA(D31,E31,F31,G31,H31)/5 -> 1
B32: 328 | C32: 남 | D32: 7 | E32: 11 | F32: 6 | G32: 5 | H32: 12 | I32: =SUM(D32,E32,F32,G32,H32) -> 41 | J32: =RANK(I32,I$6:I$86) -> 16 | K32: =COUNTA(D32,E32,F32,G32,H32)/5 -> 1
B33: 329 | C33: 남 | D33: 7 | E33: 11 | F33: 8 | G33: 13 | H33: 6 | I33: =SUM(D33,E33,F33,G33,H33) -> 45 | J33: =RANK(I33,I$6:I$86) -> 9 | K33: =COUNTA(D33,E33,F33,G33,H33)/5 -> 1
B34: 330 | C34: 남 | D34: 4 | F34: 7 | G34: 4 | H34: 3 | I34: =SUM(D34,E34,F34,G34,H34) -> 18 | J34: =RANK(I34,I$6:I$86) -> 48 | K34: =COUNTA(D34,E34,F34,G34,H34)/5 -> 0.8
B35: 332 | C35: 남 | I35: =SUM(D35,E35,F35,G35,H35) -> 0 | J35: =RANK(I35,I$6:I$86) -> 56 | K35: =COUNTA(D35,E35,F35,G35,H35)/5 -> 0
B36: 333 | C36: 남 | D36: 2 | E36: 6 | F36: 7 | G36: 4 | H36: 8 | I36: =SUM(D36,E36,F36,G36,H36) -> 27 | J36: =RANK(I36,I$6:I$86) -> 40 | K36: =COUNTA(D36,E36,F36,G36,H36)/5 -> 1
B37: 334 | C37: 남 | D37: 3 | E37: 10 | F37: 5 | G37: 5 | H37: 14 | I37: =SUM(D37,E37,F37,G37,H37) -> 37 | J37: =RANK(I37,I$6:I$86) -> 23 | K37: =COUNTA(D37,E37,F37,G37,H37)/5 -> 1
B38: 335 | C38: 남 | D38: 7 | E38: 13 | F38: 9 | G38: 8 | H38: 10 | I38: =SUM(D38,E38,F38,G38,H38) -> 47 | J38: =RANK(I38,I$6:I$86) -> 7 | K38: =COUNTA(D38,E38,F38,G38,H38)/5 -> 1
B39: 340 | C39: 남 | I39: =SUM(D39,E39,F39,G39,H39) -> 0 | J39: =RANK(I39,I$6:I$86) -> 56 | K39: =COUNTA(D39,E39,F39,G39,H39)/5 -> 0
B40: 341 | C40: 남 | E40: 8 | F40: 8 | G40: 4 | H40: 8 | I40: =SUM(D40,E40,F40,G40,H40) -> 28 | J40: =RANK(I40,I$6:I$86) -> 38 | K40: =COUNTA(D40,E40,F40,G40,H40)/5 -> 0.8
B41: 342 | C41: 남 | D41: 6 | F41: 9 | G41: 5 | H41: 9 | I41: =SUM(D41,E41,F41,G41,H41) -> 29 | J41: =RANK(I41,I$6:I$86) -> 35 | K41: =COUNTA(D41,E41,F41,G41,H41)/5 -> 0.8
B42: 343 | C42: 남 | F42: 7 | I42: =SUM(D42,E42,F42,G42,H42) -> 7 | J42: =RANK(I42,I$6:I$86) -> 53 | K42: =COUNTA(D42,E42,F42,G42,H42)/5 -> 0.2
B43: 451 | C43: 여 | D43: 9 | E43: 13 | F43: 10 | G43: 13 | H43: 15 | I43: =SUM(D43,E43,F43,G43,H43) -> 60 | J43: =RANK(I43,I$6:I$86) -> 1 | K43: =COUNTA(D43,E43,F43,G43,H43)/5 -> 1
B44: 452 | C44: 여 | I44: =SUM(D44,E44,F44,G44,H44) -> 0 | J44: =RANK(I44,I$6:I$86) -> 56 | K44: =COUNTA(D44,E44,F44,G44,H44)/5 -> 0
B45: 454 | C45: 여 | F45: 5 | I45: =SUM(D45,E45,F45,G45,H45) -> 5 | J45: =RANK(I45,I$6:I$86) -> 54 | K45: =COUNTA(D45,E45,F45,G45,H45)/5 -> 0.2
B46: 455 | C46: 여 | D46: 5 | E46: 7 | F46: 8 | G46: 7 | H46: 12 | I46: =SUM(D46,E46,F46,G46,H46) -> 39 | J46: =RANK(I46,I$6:I$86) -> 17 | K46: =COUNTA(D46,E46,F46,G46,H46)/5 -> 1
B47: 456 | C47: 남 | D47: 6 | E47: 12 | F47: 9 | G47: 10 | H47: 6 | I47: =SUM(D47,E47,F47,G47,H47) -> 43 | J47: =RANK(I47,I$6:I$86) -> 13 | K47: =COUNTA(D47,E47,F47,G47,H47)/5 -> 1
B48: 457 | C48: 여 | I48: =SUM(D48,E48,F48,G48,H48) -> 0 | J48: =RANK(I48,I$6:I$86) -> 56 | K48: =COUNTA(D48,E48,F48,G48,H48)/5 -> 0
B49: 458 | C49: 남 | D49: 6 | E49: 11 | F49: 10 | G49: 11 | H49: 4 | I49: =SUM(D49,E49,F49,G49,H49) -> 42 | J49: =RANK(I49,I$6:I$86) -> 14 | K49: =COUNTA(D49,E49,F49,G49,H49)/5 -> 1
B50: 459 | C50: 여 | D50: 7 | E50: 7 | F50: 9 | G50: 6 | H50: 5 | I50: =SUM(D50,E50,F50,G50,H50) -> 34 | J50: =RANK(I50,I$6:I$86) -> 31 | K50: =COUNTA(D50,E50,F50,G50,H50)/5 -> 1
B51: 460 | C51: 여 | D51: 9 | E51: 13 | F51: 10 | G51: 8 | H51: 5 | I51: =SUM(D51,E51,F51,G51,H51) -> 45 | J51: =RANK(I51,I$6:I$86) -> 9 | K51: =COUNTA(D51,E51,F51,G51,H51)/5 -> 1
B52: 461 | C52: 여 | E52: 9 | F52: 8 | G52: 7 | H52: 12 | I52: =SUM(D52,E52,F52,G52,H52) -> 36 | J52: =RANK(I52,I$6:I$86) -> 26 | K52: =COUNTA(D52,E52,F52,G52,H52)/5 -> 0.8
B53: 462 | C53: 여 | E53: 8 | F53: 8 | G53: 6 | H53: 3 | I53: =SUM(D53,E53,F53,G53,H53) -> 25 | J53: =RANK(I53,I$6:I$86) -> 41 | K53: =COUNTA(D53,E53,F53,G53,H53)/5 -> 0.8
B54: 463 | C54: 여 | I54: =SUM(D54,E54,F54,G54,H54) -> 0 | J54: =RANK(I54,I$6:I$86) -> 56 | K54: =COUNTA(D54,E54,F54,G54,H54)/5 -> 0
B55: 464 | C55: 여 | I55: =SUM(D55,E55,F55,G55,H55) -> 0 | J55: =RANK(I55,I$6:I$86) -> 56 | K55: =COUNTA(D55,E55,F55,G55,H55)/5 -> 0
B56: 465 | C56: 남 | I56: =SUM(D56,E56,F56,G56,H56) -> 0 | J56: =RANK(I56,I$6:I$86) -> 56 | K56: =COUNTA(D56,E56,F56,G56,H56)/5 -> 0
B57: 466 | C57: 남 | D57: 7 | E57: 13 | F57: 11 | G57: 12 | H57: 5 | I57: =SUM(D57,E57,F57,G57,H57) -> 48 | J57: =RANK(I57,I$6:I$86) -> 6 | K57: =COUNTA(D57,E57,F57,G57,H57)/5 -> 1
B58: 467 | C58: 여 | D58: 6 | E58: 10 | F58: 10 | G58: 9 | H58: 12 | I58: =SUM(D58,E58,F58,G58,H58) -> 47 | J58: =RANK(I58,I$6:I$86) -> 7 | K58: =COUNTA(D58,E58,F58,G58,H58)/5 -> 1
B59: 468 | C59: 남 | D59: 8 | E59: 15 | F59: 11 | G59: 15 | I59: =SUM(D59,E59,F59,G59,H59) -> 49 | J59: =RANK(I59,I$6:I$86) -> 5 | K59: =COUNTA(D59,E59,F59,G59,H59)/5 -> 0.8
B60: 469 | C60: 남 | E60: 13 | F60: 8 | G60: 8 | H60: 10 | I60: =SUM(D60,E60,F60,G60,H60) -> 39 | J60: =RANK(I60,I$6:I$86) -> 17 | K60: =COUNTA(D60,E60,F60,G60,H60)/5 -> 0.8
B61: 473 | C61: 남 | I61: =SUM(D61,E61,F61,G61,H61) -> 0 | J61: =RANK(I61,I$6:I$86) -> 56 | K61: =COUNTA(D61,E61,F61,G61,H61)/5 -> 0
B62: 474 | C62: 남 | D62: 7 | E62: 15 | F62: 6 | G62: 13 | H62: 9 | I62: =SUM(D62,E62,F62,G62,H62) -> 50 | J62: =RANK(I62,I$6:I$86) -> 3 | K62: =COUNTA(D62,E62,F62,G62,H62)/5 -> 1
B63: 476 | C63: 여 | D63: 4 | E63: 11 | F63: 9 | G63: 11 | H63: 15 | I63: =SUM(D63,E63,F63,G63,H63) -> 50 | J63: =RANK(I63,I$6:I$86) -> 3 | K63: =COUNTA(D63,E63,F63,G63,H63)/5 -> 1
B64: 477 | C64: 남 | D64: 9 | E64: 15 | F64: 11 | G64: 14 | H64: 6 | I64: =SUM(D64,E64,F64,G64,H64) -> 55 | J64: =RANK(I64,I$6:I$86) -> 2 | K64: =COUNTA(D64,E64,F64,G64,H64)/5 -> 1
B65: 478 | C65: 남 | D65: 9 | E65: 9 | F65: 9 | G65: 10 | H65: 7 | I65: =SUM(D65,E65,F65,G65,H65) -> 44 | J65: =RANK(I65,I$6:I$86) -> 12 | K65: =COUNTA(D65,E65,F65,G65,H65)/5 -> 1
B66: 479 | C66: 여 | D66: 5 | E66: 9 | F66: 10 | G66: 8 | H66: 7 | I66: =SUM(D66,E66,F66,G66,H66) -> 39 | J66: =RANK(I66,I$6:I$86) -> 17 | K66: =COUNTA(D66,E66,F66,G66,H66)/5 -> 1
B67: 480 | C67: 여 | D67: 5 | E67: 5 | F67: 6 | G67: 1 | H67: 6 | I67: =SUM(D67,E67,F67,G67,H67) -> 23 | J67: =RANK(I67,I$6:I$86) -> 42 | K67: =COUNTA(D67,E67,F67,G67,H67)/5 -> 1
B68: 481 | C68: 여 | D68: 9 | F68: 11 | I68: =SUM(D68,E68,F68,G68,H68) -> 20 | J68: =RANK(I68,I$6:I$86) -> 45 | K68: =COUNTA(D68,E68,F68,G68,H68)/5 -> 0.4
B69: 482 | C69: 남 | D69: 5 | E69: 6 | F69: 3 | G69: 4 | I69: =SUM(D69,E69,F69,G69,H69) -> 18 | J69: =RANK(I69,I$6:I$86) -> 48 | K69: =COUNTA(D69,E69,F69,G69,H69)/5 -> 0.8
B70: 483 | C70: 여 | I70: =SUM(D70,E70,F70,G70,H70) -> 0 | J70: =RANK(I70,I$6:I$86) -> 56 | K70: =COUNTA(D70,E70,F70,G70,H70)/5 -> 0
B71: 484 | C71: 여 | I71: =SUM(D71,E71,F71,G71,H71) -> 0 | J71: =RANK(I71,I$6:I$86) -> 56 | K71: =COUNTA(D71,E71,F71,G71,H71)/5 -> 0
B72: 485 | C72: 여 | I72: =SUM(D72,E72,F72,G72,H72) -> 0 | J72: =RANK(I72,I$6:I$86) -> 56 | K72: =COUNTA(D72,E72,F72,G72,H72)/5 -> 0
B73: 486 | C73: 남 | D73: 7 | E73: 1 | F73: 7 | G73: 5 | I73: =SUM(D73,E73,F73,G73,H73) -> 20 | J73: =RANK(I73,I$6:I$86) -> 45 | K73: =COUNTA(D73,E73,F73,G73,H73)/5 -> 0.8
B74: 487 | C74: 남 | D74: 9 | E74: 13 | G74: 8 | H74: 9 | I74: =SUM(D74,E74,F74,G74,H74) -> 39 | J74: =RANK(I74,I$6:I$86) -> 17 | K74: =COUNTA(D74,E74,F74,G74,H74)/5 -> 0.8
B75: 488 | C75: 여 | D75: 7 | E75: 10 | I75: =SUM(D75,E75,F75,G75,H75) -> 17 | J75: =RANK(I75,I$6:I$86) -> 51 | K75: =COUNTA(D75,E75,F75,G75,H75)/5 -> 0.4
B76: 489 | C76: 남 | D76: 2 | E76: 11 | F76: 6 | G76: 11 | I76: =SUM(D76,E76,F76,G76,H76) -> 30 | J76: =RANK(I76,I$6:I$86) -> 34 | K76: =COUNTA(D76,E76,F76,G76,H76)/5 -> 0.8
B77: 490 | C77: 남 | I77: =SUM(D77,E77,F77,G77,H77) -> 0 | J77: =RANK(I77,I$6:I$86) -> 56 | K77: =COUNTA(D77,E77,F77,G77,H77)/5 -> 0
B78: 491 | C78: 여 | I78: =SUM(D78,E78,F78,G78,H78) -> 0 | J78: =RANK(I78,I$6:I$86) -> 56 | K78: =COUNTA(D78,E78,F78,G78,H78)/5 -> 0
B79: 492 | C79: 여 | I79: =SUM(D79,E79,F79,G79,H79) -> 0 | J79: =RANK(I79,I$6:I$86) -> 56 | K79: =COUNTA(D79,E79,F79,G79,H79)/5 -> 0
B80: 493 | C80: 남 | I80: =SUM(D80,E80,F80,G80,H80) -> 0 | J80: =RANK(I80,I$6:I$86) -> 56 | K80: =COUNTA(D80,E80,F80,G80,H80)/5 -> 0
B81: 494 | C81: 여 | F81: 8 | G81: 3 | H81: 9 | I81: =SUM(D81,E81,F81,G81,H81) -> 20 | J81: =RANK(I81,I$6:I$86) -> 45 | K81: =COUNTA(D81,E81,F81,G81,H81)/5 -> 0.6
B82: 495 | C82: 남 | I82: =SUM(D82,E82,F82,G82,H82) -> 0 | J82: =RANK(I82,I$6:I$86) -> 56 | K82: =COUNTA(D82,E82,F82,G82,H82)/5 -> 0
B83: 496 | C83: 남 | D83: 7 | E83: 10 | F83: 11 | G83: 8 | H83: 2 | I83: =SUM(D83,E83,F83,G83,H83) -> 38 | J83: =RANK(I83,I$6:I$86) -> 22 | K83: =COUNTA(D83,E83,F83,G83,H83)/5 -> 1
B84: 497 | C84: 남 | F84: 7 | G84: 7 | H84: 8 | I84: =SUM(D84,E84,F84,G84,H84) -> 22 | J84: =RANK(I84,I$6:I$86) -> 43 | K84: =COUNTA(D84,E84,F84,G84,H84)/5 -> 0.6
B85: 498 | C85: 남 | I85: =SUM(D85,E85,F85,G85,H85) -> 0 | J85: =RANK(I85,I$6:I$86) -> 56 | K85: =COUNTA(D85,E85,F85,G85,H85)/5 -> 0
B86: 499 | C86: 남 | E86: 9 | F86: 11 | G86: 8 | I86: =SUM(D86,E86,F86,G86,H86) -> 28 | J86: =RANK(I86,I$6:I$86) -> 38 | K86: =COUNTA(D86,E86,F86,G86,H86)/5 -> 0.6
B87: * 이상이 있으신 분은 1층 사무실로 오시길 바랍니다.
B88: 최고의 장학생을 선발합니다. ^^ 누적점수 1위가 바로 장학생 입니다.^^
B90: 시험지는 시험시간 외 제공되지 않습니다.
M99: sol1004

Sheet 2주차
B2: 11~12월 아침 모의고사 성적현황
B3: 시험 2주차 : 11월 19일 ~ 23일
D4: 12 | E4: 13 | F4: 14 | G4: 15 | H4: 16 | I4: 성적 | M4: 모의고사 참여율 | N4: 비고
A5: 수험 번호 | B5: 수험 번호 | C5: 성별 | D5: 형법 | E5: 국사 | F5: 형소법 | G5: 경찰학 | H5: 영어 | I5: 주간 총점 | J5: 지난주 총점 | K5: 전체 총점 | L5: 등수
B6: 300 | C6: 남 | D6: 4 | E6: 10 | F6: 11 | G6: 10 | H6: 5 | I6: =SUM(D6:H6) -> 40 | J6: ='1주차'!I6 -> 37 | K6: =SUM(I6:J6) -> 77 | L6: =RANK(J6,J$6:J$82) -> 23 | M6: =COUNTA(D6,E6,F6,G6,H6)/5 -> 1
B7: 301 | C7: 남 | D7: 4 | E7: 10 | F7: 10 | G7: 8 | H7: 4 | I7: =SUM(D7:H7) -> 36 | J7: ='1주차'!I7 -> 36 | K7: =SUM(I7:J7) -> 72 | L7: =RANK(J7,J$6:J$82) -> 26 | M7: =COUNTA(D7,E7,F7,G7,H7)/5 -> 1
B8: 303 | C8: 남 | F8: 4 | I8: =SUM(D8:H8) -> 4 | J8: ='1주차'!I8 -> 0 | K8: =SUM(I8:J8) -> 4 | L8: =RANK(J8,J$6:J$82) -> 56 | M8: =COUNTA(D8,E8,F8,G8,H8)/5 -> 0.2
B9: 304 | C9: 남 | D9: 3 | E9: 9 | F9: 9 | G9: 5 | H9: 4 | I9: =SUM(D9:H9) -> 30 | J9: ='1주차'!I9 -> 35 | K9: =SUM(I9:J9) -> 65 | L9: =RANK(J9,J$6:J$82) -> 30 | M9: =COUNTA(D9,E9,F9,G9,H9)/5 -> 1
B10: 305 | C10: 남 | D10: 5 | E10: 6 | F10: 7 | G10: 5 | I10: =SUM(D10:H10) -> 23 | J10: ='1주차'!I10 -> 29 | K10: =SUM(I10:J10) -> 52 | L10: =RANK(J10,J$6:J$82) -> 35 | M10: =COUNTA(D10,E10,F10,G10,H10)/5 -> 0.8
B11: 306 | C11: 남 | I11: =SUM(D11:H11) -> 0 | J11: ='1주차'!I11 -> 18 | K11: =SUM(I11:J11) -> 18 | L11: =RANK(J11,J$6:J$82) -> 48 | M11: =COUNTA(D11,E11,F11,G11,H11)/5 -> 0
B12: 307 | C12: 여 | D12: 2 | F12: 8 | G12: 7 | H12: 4 | I12: =SUM(D12:H12) -> 21 | J12: ='1주차'!I12 -> 22 | K12: =SUM(I12:J12) -> 43 | L12: =RANK(J12,J$6:J$82) -> 43 | M12: =COUNTA(D12,E12,F12,G12,H12)/5 -> 0.8
B13: 308 | C13: 여 | D13: 6 | E13: 10 | F13: 13 | G13: 13 | H13: 4 | I13: =SUM(D13:H13) -> 46 | J13: ='1주차'!I13 -> 42 | K13: =SUM(I13:J13) -> 88 | L13: =RANK(J13,J$6:J$82) -> 14 | M13: =COUNTA(D13,E13,F13,G13,H13)/5 -> 1
B14: 309 | C14: 남 | D14: 5 | E14: 6 | F14: 12 | G14: 13 | H14: 5 | I14: =SUM(D14:H14) -> 41 | J14: ='1주차'!I14 -> 45 | K14: =SUM(I14:J14) -> 86 | L14: =RANK(J14,J$6:J$82) -> 9 | M14: =COUNTA(D14,E14,F14,G14,H14)/5 -> 1
B15: 310 | C15: 남 | D15: 5 | E15: 8 | F15: 12 | G15: 11 | H15: 6 | I15: =SUM(D15:H15) -> 42 | J15: ='1주차'!I15 -> 36 | K15: =SUM(I15:J15) -> 78 | L15: =RANK(J15,J$6:J$82) -> 26 | M15: =COUNTA(D15,E15,F15,G15,H15)/5 -> 1
B16: 311 | C16: 남 | I16: =SUM(D16:H16) -> 0 | J16: ='1주차'!I16 -> 33 | K16: =SUM(I16:J16) -> 33 | L16: =RANK(J16,J$6:J$82) -> 32 | M16: =COUNTA(D16,E16,F16,G16,H16)/5 -> 0
B17: 313 | C17: 남 | I17: =SUM(D17:H17) -> 0 | J17: ='1주차'!I17 -> 0 | K17: =SUM(I17:J17) -> 0 | L17: =RANK(J17,J$6:J$82) -> 56 | M17: =COUNTA(D17,E17,F17,G17,H17)/5 -> 0
B18: 314 | C18: 남 | D18: 3 | E18: 10 | F18: 12 | G18: 11 | H18: 5 | I18: =SUM(D18:H18) -> 41 | J18: ='1주차'!I18 -> 39 | K18: =SUM(I18:J18) -> 80 | L18: =RANK(J18,J$6:J$82) -> 17 | M18: =COUNTA(D18,E18,F18,G18,H18)/5 -> 1
B19: 318 | C19: 남 | D19: 5 | E19: 4 | F19: 7 | I19: =SUM(D19:H19) -> 16 | J19: ='1주차'!I22 -> 0 | K19: =SUM(I19:J19) -> 16 | L19: =RANK(J19,J$6:J$82) -> 56 | M19: =COUNTA(D19,E19,F19,G19,H19)/5 -> 0.6
B20: 320 | C20: 여 | I20: =SUM(D20:H20) -> 0 | J20: ='1주차'!I24 -> 12 | K20: =SUM(I20:J20) -> 12 | L20: =RANK(J20,J$6:J$82) -> 52 | M20: =COUNTA(D20,E20,F20,G20,H20)/5 -> 0
B21: 321 | C21: 여 | I21: =SUM(D21:H21) -> 0 | J21: ='1주차'!I25 -> 5 | K21: =SUM(I21:J21) -> 5 | L21: =RANK(J21,J$6:J$82) -> 54 | M21: =COUNTA(D21,E21,F21,G21,H21)/5 -> 0
B22: 322 | C22: 남 | I22: =SUM(D22:H22) -> 0 | J22: ='1주차'!I26 -> 0 | K22: =SUM(I22:J22) -> 0 | L22: =RANK(J22,J$6:J$82) -> 56 | M22: =COUNTA(D22,E22,F22,G22,H22)/5 -> 0
B23: 323 | C23: 남 | D23: 6 | I23: =SUM(D23:H23) -> 6 | J23: ='1주차'!I27 -> 32 | K23: =SUM(I23:J23) -> 38 | L23: =RANK(J23,J$6:J$82) -> 33 | M23: =COUNTA(D23,E23,F23,G23,H23)/5 -> 0.2
B24: 324 | C24: 남 | D24: 5 | E24: 10 | I24: =SUM(D24:H24) -> 15 | J24: ='1주차'!I28 -> 29 | K24: =SUM(I24:J24) -> 44 | L24: =RANK(J24,J$6:J$82) -> 35 | M24: =COUNTA(D24,E24,F24,G24,H24)/5 -> 0.4
B25: 325 | C25: 남 | D25: 3 | E25: 11 | F25: 11 | G25: 12 | H25: 2 | I25: =SUM(D25:H25) -> 39 | J25: ='1주차'!I29 -> 36 | K25: =SUM(I25:J25) -> 75 | L25: =RANK(J25,J$6:J$82) -> 26 | M25: =COUNTA(D25,E25,F25,G25,H25)/5 -> 1
B26: 326 | C26: 남 | I26: =SUM(D26:H26) -> 0 | J26: ='1주차'!I30 -> 0 | K26: =SUM(I26:J26) -> 0 | L26: =RANK(J26,J$6:J$82) -> 56 | M26: =COUNTA(D26,E26,F26,G26,H26)/5 -> 0
B27: 327 | C27: 남 | D27: 2 | E27: 9 | F27: 10 | G27: 10 | H27: 3 | I27: =SUM(D27:H27) -> 34 | J27: ='1주차'!I31 -> 37 | K27: =SUM(I27:J27) -> 71 | L27: =RANK(J27,J$6:J$82) -> 23 | M27: =COUNTA(D27,E27,F27,G27,H27)/5 -> 1
B28: 328 | C28: 남 | D28: 8 | E28: 4 | F28: 9 | G28: 8 | H28: 5 | I28: =SUM(D28:H28) -> 34 | J28: ='1주차'!I32 -> 41 | K28: =SUM(I28:J28) -> 75 | L28: =RANK(J28,J$6:J$82) -> 16 | M28: =COUNTA(D28,E28,F28,G28,H28)/5 -> 1
B29: 329 | C29: 남 | D29: 9 | E29: 10 | F29: 13 | G29: 14 | H29: 6 | I29: =SUM(D29:H29) -> 52 | J29: ='1주차'!I33 -> 45 | K29: =SUM(I29:J29) -> 97 | L29: =RANK(J29,J$6:J$82) -> 9 | M29: =COUNTA(D29,E29,F29,G29,H29)/5 -> 1
B30: 330 | C30: 남 | D30: 4 | E30: 7 | F30: 5 | G30: 6 | I30: =SUM(D30:H30) -> 22 | J30: ='1주차'!I34 -> 18 | K30: =SUM(I30:J30) -> 40 | L30: =RANK(J30,J$6:J$82) -> 48 | M30: =COUNTA(D30,E30,F30,G30,H30)/5 -> 0.8
B31: 332 | C31: 남 | I31: =SUM(D31:H31) -> 0 | J31: ='1주차'!I35 -> 0 | K31: =SUM(I31:J31) -> 0 | L31: =RANK(J31,J$6:J$82) -> 56 | M31: =COUNTA(D31,E31,F31,G31,H31)/5 -> 0
B32: 333 | C32: 남 | D32: 3 | E32: 11 | F32: 13 | G32: 6 | H32: 4 | I32: =SUM(D32:H32) -> 37 | J32: ='1주차'!I36 -> 27 | K32: =SUM(I32:J32) -> 64 | L32: =RANK(J32,J$6:J$82) -> 40 | M32: =COUNTA(D32,E32,F32,G32,H32)/5 -> 1
B33: 334 | C33: 남 | D33: 2 | E33: 8 | F33: 9 | G33: 11 | H33: 9 | I33: =SUM(D33:H33) -> 39 | J33: ='1주차'!I37 -> 37 | K33: =SUM(I33:J33) -> 76 | L33: =RANK(J33,J$6:J$82) -> 23 | M33: =COUNTA(D33,E33,F33,G33,H33)/5 -> 1
B34: 335 | C34: 남 | D34: 3 | E34: 9 | F34: 10 | I34: =SUM(D34:H34) -> 22 | J34: ='1주차'!I38 -> 47 | K34: =SUM(I34:J34) -> 69 | L34: =RANK(J34,J$6:J$82) -> 7 | M34: =COUNTA(D34,E34,F34,G34,H34)/5 -> 0.6
B35: 340 | C35: 남 | I35: =SUM(D35:H35) -> 0 | J35: ='1주차'!I39 -> 0 | K35: =SUM(I35:J35) -> 0 | L35: =RANK(J35,J$6:J$82) -> 56 | M35: =COUNTA(D35,E35,F35,G35,H35)/5 -> 0
B36: 341 | C36: 남 | D36: 3 | E36: 4 | F36: 6 | G36: 7 | H36: 6 | I36: =SUM(D36:H36) -> 26 | J36: ='1주차'!I40 -> 28 | K36: =SUM(I36:J36) -> 54 | L36: =RANK(J36,J$6:J$82) -> 38 | M36: =COUNTA(D36,E36,F36,G36,H36)/5 -> 1
B37: 342 | C37: 남 | D37: 2 | E37: 3 | F37: 8 | G37: 8 | H37: 3 | I37: =SUM(D37:H37) -> 24 | J37: ='1주차'!I41 -> 29 | K37: =SUM(I37:J37) -> 53 | L37: =RANK(J37,J$6:J$82) -> 35 | M37: =COUNTA(D37,E37,F37,G37,H37)/5 -> 1
B38: 343 | C38: 남 | I38: =SUM(D38:H38) -> 0 | J38: ='1주차'!I42 -> 7 | K38: =SUM(I38:J38) -> 7 | L38: =RANK(J38,J$6:J$82) -> 53 | M38: =COUNTA(D38,E38,F38,G38,H38)/5 -> 0
B39: 451 | C39: 여 | D39: 7 | E39: 15 | F39: 15 | G39: 15 | H39: 8 | I39: =SUM(D39:H39) -> 60 | J39: ='1주차'!I43 -> 60 | K39: =SUM(I39:J39) -> 120 | L39: =RANK(J39,J$6:J$82) -> 1 | M39: =COUNTA(D39,E39,F39,G39,H39)/5 -> 1
B40: 452 | C40: 여 | I40: =SUM(D40:H40) -> 0 | J40: ='1주차'!I44 -> 0 | K40: =SUM(I40:J40) -> 0 | L40: =RANK(J40,J$6:J$82) -> 56 | M40: =COUNTA(D40,E40,F40,G40,H40)/5 -> 0
B41: 454 | C41: 여 | F41: 7 | I41: =SUM(D41:H41) -> 7 | J41: ='1주차'!I45 -> 5 | K41: =SUM(I41:J41) -> 12 | L41: =RANK(J41,J$6:J$82) -> 54 | M41: =COUNTA(D41,E41,F41,G41,H41)/5 -> 0.2
B42: 455 | C42: 여 | D42: 3 | F42: 7 | I42: =SUM(D42:H42) -> 10 | J42: ='1주차'!I46 -> 39 | K42: =SUM(I42:J42) -> 49 | L42: =RANK(J42,J$6:J$82) -> 17 | M42: =COUNTA(D42,E42,F42,G42,H42)/5 -> 0.4
B43: 456 | C43: 남 | D43: 4 | E43: 10 | F43: 9 | G43: 10 | H43: 8 | I43: =SUM(D43:H43) -> 41 | J43: ='1주차'!I47 -> 43 | K43: =SUM(I43:J43) -> 84 | L43: =RANK(J43,J$6:J$82) -> 13 | M43: =COUNTA(D43,E43,F43,G43,H43)/5 -> 1
B44: 457 | C44: 여 | I44: =SUM(D44:H44) -> 0 | J44: ='1주차'!I48 -> 0 | K44: =SUM(I44:J44) -> 0 | L44: =RANK(J44,J$6:J$82) -> 56 | M44: =COUNTA(D44,E44,F44,G44,H44)/5 -> 0
B45: 458 | C45: 남 | D45: 4 | E45: 12 | G45: 12 | H45: 4 | I45: =SUM(D45:H45) -> 32 | J45: ='1주차'!I49 -> 42 | K45: =SUM(I45:J45) -> 74 | L45: =RANK(J45,J$6:J$82) -> 14 | M45: =COUNTA(D45,E45,F45,G45,H45)/5 -> 0.8
B46: 459 | C46: 여 | D46: 4 | E46: 5 | F46: 11 | G46: 10 | H46: 5 | I46: =SUM(D46:H46) -> 35 | J46: ='1주차'!I50 -> 34 | K46: =SUM(I46:J46) -> 69 | L46: =RANK(J46,J$6:J$82) -> 31 | M46: =COUNTA(D46,E46,F46,G46,H46)/5 -> 1
B47: 460 | C47: 남 | D47: 5 | E47: 12 | F47: 13 | G47: 12 | H47: 1 | I47: =SUM(D47:H47) -> 43 | J47: ='1주차'!I51 -> 45 | K47: =SUM(I47:J47) -> 88 | L47: =RANK(J47,J$6:J$82) -> 9 | M47: =COUNTA(D47,E47,F47,G47,H47)/5 -> 1
B48: 461 | C48: 여 | D48: 6 | E48: 7 | F48: 6 | G48: 12 | H48: 3 | I48: =SUM(D48:H48) -> 34 | J48: ='1주차'!I52 -> 36 | K48: =SUM(I48:J48) -> 70 | L48: =RANK(J48,J$6:J$82) -> 26 | M48: =COUNTA(D48,E48,F48,G48,H48)/5 -> 1
B49: 462 | C49: 여 | D49: 4 | E49: 9 | F49: 8 | G49: 6 | H49: 1 | I49: =SUM(D49:H49) -> 28 | J49: ='1주차'!I53 -> 25 | K49: =SUM(I49:J49) -> 53 | L49: =RANK(J49,J$6:J$82) -> 41 | M49: =COUNTA(D49,E49,F49,G49,H49)/5 -> 1
B50: 463 | C50: 여 | I50: =SUM(D50:H50) -> 0 | J50: ='1주차'!I54 -> 0 | K50: =SUM(I50:J50) -> 0 | L50: =RANK(J50,J$6:J$82) -> 56 | M50: =COUNTA(D50,E50,F50,G50,H50)/5 -> 0
B51: 464 | C51: 여 | D51: 8 | I51: =SUM(D51:H51) -> 8 | J51: ='1주차'!I55 -> 0 | K51: =SUM(I51:J51) -> 8 | L51: =RANK(J51,J$6:J$82) -> 56 | M51: =COUNTA(D51,E51,F51,G51,H51)/5 -> 0.2
B52: 465 | C52: 남 | I52: =SUM(D52:H52) -> 0 | J52: ='1주차'!I56 -> 0 | K52: =SUM(I52:J52) -> 0 | L52: =RANK(J52,J$6:J$82) -> 56 | M52: =COUNTA(D52,E52,F52,G52,H52)/5 -> 0
B53: 466 | C53: 남 | D53: 7 | E53: 12 | F53: 12 | G53: 14 | H53: 2 | I53: =SUM(D53:H53) -> 47 | J53: ='1주차'!I57 -> 48 | K53: =SUM(I53:J53) -> 95 | L53: =RANK(J53,J$6:J$82) -> 6 | M53: =COUNTA(D53,E53,F53,G53,H53)/5 -> 1
B54: 467 | C54: 여 | E54: 11 | F54: 13 | G54: 10 | H54: 13 | I54: =SUM(D54:H54) -> 47 | J54: ='1주차'!I58 -> 47 | K54: =SUM(I54:J54) -> 94 | L54: =RANK(J54,J$6:J$82) -> 7 | M54: =COUNTA(D54,E54,F54,G54,H54)/5 -> 0.8
B55: 468 | C55: 남 | F55: 14 | I55: =SUM(D55:H55) -> 14 | J55: ='1주차'!I59 -> 49 | K55: =SUM(I55:J55) -> 63 | L55: =RANK(J55,J$6:J$82) -> 5 | M55: =COUNTA(D55,E55,F55,G55,H55)/5 -> 0.2
B56: 469 | C56: 남 | D56: 4 | E56: 12 | I56: =SUM(D56:H56) -> 16 | J56: ='1주차'!I60 -> 39 | K56: =SUM(I56:J56) -> 55 | L56: =RANK(J56,J$6:J$82) -> 17 | M56: =COUNTA(D56,E56,F56,G56,H56)/5 -> 0.4
B57: 473 | C57: 남 | I57: =SUM(D57:H57) -> 0 | J57: ='1주차'!I61 -> 0 | K57: =SUM(I57:J57) -> 0 | L57: =RANK(J57,J$6:J$82) -> 56 | M57: =COUNTA(D57,E57,F57,G57,H57)/5 -> 0
B58: 474 | C58: 남 | D58: 9 | E58: 12 | F58: 13 | G58: 15 | H58: 8 | I58: =SUM(D58:H58) -> 57 | J58: ='1주차'!I62 -> 50 | K58: =SUM(I58:J58) -> 107 | L58: =RANK(J58,J$6:J$82) -> 3 | M58: =COUNTA(D58,E58,F58,G58,H58)/5 -> 1
B59: 476 | C59: 여 | D59: 6 | E59: 12 | F59: 14 | G59: 14 | H59: 7 | I59: =SUM(D59:H59) -> 53 | J59: ='1주차'!I63 -> 50 | K59: =SUM(I59:J59) -> 103 | L59: =RANK(J59,J$6:J$82) -> 3 | M59: =COUNTA(D59,E59,F59,G59,H59)/5 -> 1
B60: 477 | C60: 남 | D60: 6 | E60: 14 | F60: 15 | G60: 15 | H60: 5 | I60: =SUM(D60:H60) -> 55 | J60: ='1주차'!I64 -> 55 | K60: =SUM(I60:J60) -> 110 | L60: =RANK(J60,J$6:J$82) -> 2 | M60: =COUNTA(D60,E60,F60,G60,H60)/5 -> 1
B61: 478 | C61: 남 | D61: 6 | E61: 7 | F61: 14 | G61: 15 | H61: 1 | I61: =SUM(D61:H61) -> 43 | J61: ='1주차'!I65 -> 44 | K61: =SUM(I61:J61) -> 87 | L61: =RANK(J61,J$6:J$82) -> 12 | M61: =COUNTA(D61,E61,F61,G61,H61)/5 -> 1
B62: 479 | C62: 여 | D62: 6 | F62: 14 | G62: 9 | H62: 4 | I62: =SUM(D62:H62) -> 33 | J62: ='1주차'!I66 -> 39 | K62: =SUM(I62:J62) -> 72 | L62: =RANK(J62,J$6:J$82) -> 17 | M62: =COUNTA(D62,E62,F62,G62,H62)/5 -> 0.8
B63: 480 | C63: 여 | I63: =SUM(D63:H63) -> 0 | J63: ='1주차'!I67 -> 23 | K63: =SUM(I63:J63) -> 23 | L63: =RANK(J63,J$6:J$82) -> 42 | M63: =COUNTA(D63,E63,F63,G63,H63)/5 -> 0
B64: 481 | C64: 여 | I64: =SUM(D64:H64) -> 0 | J64: ='1주차'!I68 -> 20 | K64: =SUM(I64:J64) -> 20 | L64: =RANK(J64,J$6:J$82) -> 45 | M64: =COUNTA(D64,E64,F64,G64,H64)/5 -> 0
B65: 482 | C65: 남 | E65: 3 | F65: 4 | G65: 5 | H65: 4 | I65: =SUM(D65:H65) -> 16 | J65: ='1주차'!I69 -> 18 | K65: =SUM(I65:J65) -> 34 | L65: =RANK(J65,J$6:J$82) -> 48 | M65: =COUNTA(D65,E65,F65,G65,H65)/5 -> 0.8
B66: 483 | C66: 여 | I66: =SUM(D66:H66) -> 0 | J66: ='1주차'!I70 -> 0 | K66: =SUM(I66:J66) -> 0 | L66: =RANK(J66,J$6:J$82) -> 56 | M66: =COUNTA(D66,E66,F66,G66,H66)/5 -> 0
B67: 484 | C67: 여 | I67: =SUM(D67:H67) -> 0 | J67: ='1주차'!I71 -> 0 | K67: =SUM(I67:J67) -> 0 | L67: =RANK(J67,J$6:J$82) -> 56 | M67: =COUNTA(D67,E67,F67,G67,H67)/5 -> 0
B68: 485 | C68: 여 | I68: =SUM(D68:H68) -> 0 | J68: ='1주차'!I72 -> 0 | K68: =SUM(I68:J68) -> 0 | L68: =RANK(J68,J$6:J$82) -> 56 | M68: =COUNTA(D68,E68,F68,G68,H68)/5 -> 0
B69: 486 | C69: 남 | E69: 8 | G69: 15 | I69: =SUM(D69:H69) -> 23 | J69: ='1주차'!I73 -> 20 | K69: =SUM(I69:J69) -> 43 | L69: =RANK(J69,J$6:J$82) -> 45 | M69: =COUNTA(D69,E69,F69,G69,H69)/5 -> 0.4
B70: 487 | C70: 남 | E70: 10 | F70: 12 | G70: 10 | I70: =SUM(D70:H70) -> 32 | J70: ='1주차'!I74 -> 39 | K70: =SUM(I70:J70) -> 71 | L70: =RANK(J70,J$6:J$82) -> 17 | M70: =COUNTA(D70,E70,F70,G70,H70)/5 -> 0.6
B71: 488 | C71: 여 | E71: 10 | I71: =SUM(D71:H71) -> 10 | J71: ='1주차'!I75 -> 17 | K71: =SUM(I71:J71) -> 27 | L71: =RANK(J71,J$6:J$82) -> 51 | M71: =COUNTA(D71,E71,F71,G71,H71)/5 -> 0.2
B72: 489 | C72: 남 | E72: 10 | F72: 11 | G72: 9 | I72: =SUM(D72:H72) -> 30 | J72: ='1주차'!I76 -> 30 | K72: =SUM(I72:J72) -> 60 | L72: =RANK(J72,J$6:J$82) -> 34 | M72: =COUNTA(D72,E72,F72,G72,H72)/5 -> 0.6
B73: 490 | C73: 남 | I73: =SUM(D73:H73) -> 0 | J73: ='1주차'!I77 -> 0 | K73: =SUM(I73:J73) -> 0 | L73: =RANK(J73,J$6:J$82) -> 56 | M73: =COUNTA(D73,E73,F73,G73,H73)/5 -> 0
B74: 491 | C74: 여 | I74: =SUM(D74:H74) -> 0 | J74: ='1주차'!I78 -> 0 | K74: =SUM(I74:J74) -> 0 | L74: =RANK(J74,J$6:J$82) -> 56 | M74: =COUNTA(D74,E74,F74,G74,H74)/5 -> 0
B75: 492 | C75: 여 | E75: 9 | F75: 11 | I75: =SUM(D75:H75) -> 20 | J75: ='1주차'!I79 -> 0 | K75: =SUM(I75:J75) -> 20 | L75: =RANK(J75,J$6:J$82) -> 56 | M75: =COUNTA(D75,E75,F75,G75,H75)/5 -> 0.4
B76: 493 | C76: 남 | I76: =SUM(D76:H76) -> 0 | J76: ='1주차'!I80 -> 0 | K76: =SUM(I76:J76) -> 0 | L76: =RANK(J76,J$6:J$82) -> 56 | M76: =COUNTA(D76,E76,F76,G76,H76)/5 -> 0
B77: 494 | C77: 여 | D77: 5 | E77: 6 | G77: 11 | H77: 7 | I77: =SUM(D77:H77) -> 29 | J77: ='1주차'!I81 -> 20 | K77: =SUM(I77:J77) -> 49 | L77: =RANK(J77,J$6:J$82) -> 45 | M77: =COUNTA(D77,E77,F77,G77,H77)/5 -> 0.8
B78: 495 | C78: 남 | I78: =SUM(D78:H78) -> 0 | J78: ='1주차'!I82 -> 0 | K78: =SUM(I78:J78) -> 0 | L78: =RANK(J78,J$6:J$82) -> 56 | M78: =COUNTA(D78,E78,F78,G78,H78)/5 -> 0
B79: 496 | C79: 남 | D79: 4 | E79: 12 | F79: 11 | G79: 7 | H79: 1 | I79: =SUM(D79:H79) -> 35 | J79: ='1주차'!I83 -> 38 | K79: =SUM(I79:J79) -> 73 | L79: =RANK(J79,J$6:J$82) -> 22 | M79: =COUNTA(D79,E79,F79,G79,H79)/5 -> 1
B80: 497 | C80: 남 | D80: 3 | E80: 7 | F80: 10 | G80: 10 | H80: 7 | I80: =SUM(D80:H80) -> 37 | J80: ='1주차'!I84 -> 22 | K80: =SUM(I80:J80) -> 59 | L80: =RANK(J80,J$6:J$82) -> 43 | M80: =COUNTA(D80,E80,F80,G80,H80)/5 -> 1
B81: 498 | C81: 남 | I81: =SUM(D81:H81) -> 0 | J81: ='1주차'!I85 -> 0 | K81: =SUM(I81:J81) -> 0 | L81: =RANK(J81,J$6:J$82) -> 56 | M81: =COUNTA(D81,E81,F81,G81,H81)/5 -> 0
B82: 499 | C82: 남 | I82: =SUM(D82:H82) -> 0 | J82: ='1주차'!I86 -> 28 | K82: =SUM(I82:J82) -> 28 | L82: =RANK(J82,J$6:J$82) -> 38 | M82: =COUNTA(D82,E82,F82,G82,H82)/5 -> 0
B83: * 이상이 있으신 분은 1층 사무실로 오시길 바랍니다.
B84: 최고의 장학생을 선발합니다. ^^ 누적점수 1위가 바로 장학생 입니다.^^
B86: 시험지는 시험시간 외 제공되지 않습니다.
O95: sol1004

Sheet 3주차
B2: 11~12월 아침 모의고사 성적현황
B3: 시험 3주차 : 11월 26일 ~ 30일
D4: 12 | E4: 13 | F4: 14 | G4: 15 | H4: 16 | I4: 성적 | M4: 모의고사 참여율 | N4: 비고
A5: 수험 번호 | B5: 수험 번호 | C5: 성별 | D5: 형법 | E5: 국사 | F5: 형소법 | G5: 경찰학 | H5: 영어 | I5: 주간 총점 | J5: 지난주 총점 | K5: 전체 총점 | L5: 등수
B6: 300 | C6: 남 | D6: 4 | E6: 10 | F6: 12 | G6: 9 | H6: 4 | I6: =SUM(D6:H6) -> 39 | J6: ='2주차'!K6 -> 77 | K6: =SUM(I6:J6) -> 116 | L6: =RANK(J6,J$6:J$76) -> 15 | M6: =COUNTA(D6,E6,F6,G6,H6)/5 -> 1
B7: 301 | C7: 남 | D7: 6 | E7: 11 | F7: 11 | G7: 9 | H7: 6 | I7: =SUM(D7:H7) -> 43 | J7: ='2주차'!K7 -> 72 | K7: =SUM(I7:J7) -> 115 | L7: =RANK(J7,J$6:J$76) -> 21 | M7: =COUNTA(D7,E7,F7,G7,H7)/5 -> 1
B8: 303 | C8: 남 | F8: 8 | I8: =SUM(D8:H8) -> 8 | J8: ='2주차'!K8 -> 4 | K8: =SUM(I8:J8) -> 12 | L8: =RANK(J8,J$6:J$76) -> 59 | M8: =COUNTA(D8,E8,F8,G8,H8)/5 -> 0.2
B9: 304 | C9: 남 | D9: 5 | E9: 6 | F9: 11 | G9: 7 | H9: 6 | I9: =SUM(D9:H9) -> 35 | J9: ='2주차'!K9 -> 65 | K9: =SUM(I9:J9) -> 100 | L9: =RANK(J9,J$6:J$76) -> 28 | M9: =COUNTA(D9,E9,F9,G9,H9)/5 -> 1
B10: 305 | C10: 남 | D10: 2 | E10: 5 | F10: 7 | G10: 2 | H10: 3 | I10: =SUM(D10:H10) -> 19 | J10: ='2주차'!K10 -> 52 | K10: =SUM(I10:J10) -> 71 | L10: =RANK(J10,J$6:J$76) -> 37 | M10: =COUNTA(D10,E10,F10,G10,H10)/5 -> 1
B11: 306 | C11: 남 | I11: =SUM(D11:H11) -> 0 | J11: ='2주차'!K11 -> 18 | K11: =SUM(I11:J11) -> 18 | L11: =RANK(J11,J$6:J$76) -> 52 | M11: =COUNTA(D11,E11,F11,G11,H11)/5 -> 0
B12: 307 | C12: 여 | D12: 3 | E12: 5 | F12: 10 | G12: 4 | H12: 5 | I12: =SUM(D12:H12) -> 27 | J12: ='2주차'!K12 -> 43 | K12: =SUM(I12:J12) -> 70 | L12: =RANK(J12,J$6:J$76) -> 41 | M12: =COUNTA(D12,E12,F12,G12,H12)/5 -> 1
B13: 308 | C13: 여 | D13: 6 | E13: 11 | F13: 12 | G13: 11 | I13: =SUM(D13:H13) -> 40 | J13: ='2주차'!K13 -> 88 | K13: =SUM(I13:J13) -> 128 | L13: =RANK(J13,J$6:J$76) -> 8 | M13: =COUNTA(D13,E13,F13,G13,H13)/5 -> 0.8
B14: 309 | C14: 남 | E14: 8 | F14: 12 | G14: 7 | H14: 8 | I14: =SUM(D14:H14) -> 35 | J14: ='2주차'!K14 -> 86 | K14: =SUM(I14:J14) -> 121 | L14: =RANK(J14,J$6:J$76) -> 11 | M14: =COUNTA(D14,E14,F14,G14,H14)/5 -> 0.8
B15: 310 | C15: 남 | D15: 6 | E15: 5 | F15: 10 | G15: 6 | H15: 9 | I15: =SUM(D15:H15) -> 36 | J15: ='2주차'!K15 -> 78 | K15: =SUM(I15:J15) -> 114 | L15: =RANK(J15,J$6:J$76) -> 14 | M15: =COUNTA(D15,E15,F15,G15,H15)/5 -> 1
B16: 311 | C16: 남 | I16: =SUM(D16:H16) -> 0 | J16: ='2주차'!K16 -> 33 | K16: =SUM(I16:J16) -> 33 | L16: =RANK(J16,J$6:J$76) -> 46 | M16: =COUNTA(D16,E16,F16,G16,H16)/5 -> 0
B17: 313 | C17: 남 | I17: =SUM(D17:H17) -> 0 | J17: ='2주차'!K17 -> 0 | K17: =SUM(I17:J17) -> 0 | L17: =RANK(J17,J$6:J$76) -> 60 | M17: =COUNTA(D17,E17,F17,G17,H17)/5 -> 0
B18: 314 | C18: 남 | D18: 7 | G18: 8 | H18: 6 | I18: =SUM(D18:H18) -> 21 | J18: ='2주차'!K18 -> 80 | K18: =SUM(I18:J18) -> 101 | L18: =RANK(J18,J$6:J$76) -> 13 | M18: =COUNTA(D18,E18,F18,G18,H18)/5 -> 0.6
B19: 318 | C19: 남 | F19: 9 | I19: =SUM(D19:H19) -> 9 | J19: ='2주차'!K19 -> 16 | K19: =SUM(I19:J19) -> 25 | L19: =RANK(J19,J$6:J$76) -> 53 | M19: =COUNTA(D19,E19,F19,G19,H19)/5 -> 0.2
B20: 320 | C20: 여 | I20: =SUM(D20:H20) -> 0 | J20: ='2주차'!K20 -> 12 | K20: =SUM(I20:J20) -> 12 | L20: =RANK(J20,J$6:J$76) -> 54 | M20: =COUNTA(D20,E20,F20,G20,H20)/5 -> 0
B21: 321 | C21: 여 | I21: =SUM(D21:H21) -> 0 | J21: ='2주차'!K21 -> 5 | K21: =SUM(I21:J21) -> 5 | L21: =RANK(J21,J$6:J$76) -> 58 | M21: =COUNTA(D21,E21,F21,G21,H21)/5 -> 0
B22: 323 | C22: 남 | I22: =SUM(D22:H22) -> 0 | J22: ='2주차'!K23 -> 38 | K22: =SUM(I22:J22) -> 38 | L22: =RANK(J22,J$6:J$76) -> 44 | M22: =COUNTA(D22,E22,F22,G22,H22)/5 -> 0
B23: 324 | C23: 남 | E23: 12 | F23: 11 | I23: =SUM(D23:H23) -> 23 | J23: ='2주차'!K24 -> 44 | K23: =SUM(I23:J23) -> 67 | L23: =RANK(J23,J$6:J$76) -> 40 | M23: =COUNTA(D23,E23,F23,G23,H23)/5 -> 0.4
B24: 325 | C24: 남 | D24: 7 | E24: 11 | F24: 11 | G24: 7 | I24: =SUM(D24:H24) -> 36 | J24: ='2주차'!K25 -> 75 | K24: =SUM(I24:J24) -> 111 | L24: =RANK(J24,J$6:J$76) -> 17 | M24: =COUNTA(D24,E24,F24,G24,H24)/5 -> 0.8
B25: 326 | C25: 남 | I25: =SUM(D25:H25) -> 0 | J25: ='2주차'!K26 -> 0 | K25: =SUM(I25:J25) -> 0 | L25: =RANK(J25,J$6:J$76) -> 60 | M25: =COUNTA(D25,E25,F25,G25,H25)/5 -> 0
B26: 327 | C26: 남 | D26: 5 | E26: 13 | F26: 9 | G26: 5 | H26: 4 | I26: =SUM(D26:H26) -> 36 | J26: ='2주차'!K27 -> 71 | K26: =SUM(I26:J26) -> 107 | L26: =RANK(J26,J$6:J$76) -> 23 | M26: =COUNTA(D26,E26,F26,G26,H26)/5 -> 1
B27: 328 | C27: 남 | D27: 4 | E27: 11 | F27: 9 | G27: 5 | H27: 8 | I27: =SUM(D27:H27) -> 37 | J27: ='2주차'!K28 -> 75 | K27: =SUM(I27:J27) -> 112 | L27: =RANK(J27,J$6:J$76) -> 17 | M27: =COUNTA(D27,E27,F27,G27,H27)/5 -> 1
B28: 329 | C28: 남 | D28: 5 | E28: 6 | F28: 14 | G28: 9 | H28: 6 | I28: =SUM(D28:H28) -> 40 | J28: ='2주차'!K29 -> 97 | K28: =SUM(I28:J28) -> 137 | L28: =RANK(J28,J$6:J$76) -> 5 | M28: =COUNTA(D28,E28,F28,G28,H28)/5 -> 1
B29: 330 | C29: 남 | I29: =SUM(D29:H29) -> 0 | J29: ='2주차'!K30 -> 40 | K29: =SUM(I29:J29) -> 40 | L29: =RANK(J29,J$6:J$76) -> 43 | M29: =COUNTA(D29,E29,F29,G29,H29)/5 -> 0
B30: 332 | C30: 남 | I30: =SUM(D30:H30) -> 0 | J30: ='2주차'!K31 -> 0 | K30: =SUM(I30:J30) -> 0 | L30: =RANK(J30,J$6:J$76) -> 60 | M30: =COUNTA(D30,E30,F30,G30,H30)/5 -> 0
B31: 333 | C31: 남 | D31: 5 | E31: 11 | F31: 12 | G31: 10 | H31: 3 | I31: =SUM(D31:H31) -> 41 | J31: ='2주차'!K32 -> 64 | K31: =SUM(I31:J31) -> 105 | L31: =RANK(J31,J$6:J$76) -> 29 | M31: =COUNTA(D31,E31,F31,G31,H31)/5 -> 1
B32: 334 | C32: 남 | D32: 6 | E32: 6 | F32: 12 | G32: 9 | H32: 6 | I32: =SUM(D32:H32) -> 39 | J32: ='2주차'!K33 -> 76 | K32: =SUM(I32:J32) -> 115 | L32: =RANK(J32,J$6:J$76) -> 16 | M32: =COUNTA(D32,E32,F32,G32,H32)/5 -> 1
B33: 335 | C33: 남 | D33: 6 | E33: 7 | F33: 12 | G33: 9 | H33: 8 | I33: =SUM(D33:H33) -> 42 | J33: ='2주차'!K34 -> 69 | K33: =SUM(I33:J33) -> 111 | L33: =RANK(J33,J$6:J$76) -> 26 | M33: =COUNTA(D33,E33,F33,G33,H33)/5 -> 1
B34: 340 | C34: 남 | I34: =SUM(D34:H34) -> 0 | J34: ='2주차'!K35 -> 0 | K34: =SUM(I34:J34) -> 0 | L34: =RANK(J34,J$6:J$76) -> 60 | M34: =COUNTA(D34,E34,F34,G34,H34)/5 -> 0
B35: 341 | C35: 남 | D35: 5 | F35: 8 | G35: 6 | H35: 6 | I35: =SUM(D35:H35) -> 25 | J35: ='2주차'!K36 -> 54 | K35: =SUM(I35:J35) -> 79 | L35: =RANK(J35,J$6:J$76) -> 34 | M35: =COUNTA(D35,E35,F35,G35,H35)/5 -> 0.8
B36: 342 | C36: 남 | E36: 1 | F36: 12 | H36: 5 | I36: =SUM(D36:H36) -> 18 | J36: ='2주차'!K37 -> 53 | K36: =SUM(I36:J36) -> 71 | L36: =RANK(J36,J$6:J$76) -> 35 | M36: =COUNTA(D36,E36,F36,G36,H36)/5 -> 0.6
B37: 343 | C37: 남 | I37: =SUM(D37:H37) -> 0 | J37: ='2주차'!K38 -> 7 | K37: =SUM(I37:J37) -> 7 | L37: =RANK(J37,J$6:J$76) -> 57 | M37: =COUNTA(D37,E37,F37,G37,H37)/5 -> 0
B38: 451 | C38: 여 | D38: 9 | E38: 14 | F38: 14 | G38: 14 | H38: 10 | I38: =SUM(D38:H38) -> 61 | J38: ='2주차'!K39 -> 120 | K38: =SUM(I38:J38) -> 181 | L38: =RANK(J38,J$6:J$76) -> 1 | M38: =COUNTA(D38,E38,F38,G38,H38)/5 -> 1
B39: 452 | C39: 여 | I39: =SUM(D39:H39) -> 0 | J39: ='2주차'!K40 -> 0 | K39: =SUM(I39:J39) -> 0 | L39: =RANK(J39,J$6:J$76) -> 60 | M39: =COUNTA(D39,E39,F39,G39,H39)/5 -> 0
B40: 454 | C40: 여 | F40: 9 | I40: =SUM(D40:H40) -> 9 | J40: ='2주차'!K41 -> 12 | K40: =SUM(I40:J40) -> 21 | L40: =RANK(J40,J$6:J$76) -> 54 | M40: =COUNTA(D40,E40,F40,G40,H40)/5 -> 0.2
B41: 455 | C41: 여 | I41: =SUM(D41:H41) -> 0 | J41: ='2주차'!K42 -> 49 | K41: =SUM(I41:J41) -> 49 | L41: =RANK(J41,J$6:J$76) -> 38 | M41: =COUNTA(D41,E41,F41,G41,H41)/5 -> 0
B42: 456 | C42: 남 | D42: 4 | E42: 8 | F42: 9 | G42: 5 | H42: 5 | I42: =SUM(D42:H42) -> 31 | J42: ='2주차'!K43 -> 84 | K42: =SUM(I42:J42) -> 115 | L42: =RANK(J42,J$6:J$76) -> 12 | M42: =COUNTA(D42,E42,F42,G42,H42)/5 -> 1
B43: 458 | C43: 남 | D43: 6 | E43: 9 | F43: 8 | I43: =SUM(D43:H43) -> 23 | J43: ='2주차'!K45 -> 74 | K43: =SUM(I43:J43) -> 97 | L43: =RANK(J43,J$6:J$76) -> 19 | M43: =COUNTA(D43,E43,F43,G43,H43)/5 -> 0.6
B44: 459 | C44: 여 | D44: 5 | E44: 8 | F44: 12 | G44: 7 | H44: 8 | I44: =SUM(D44:H44) -> 40 | J44: ='2주차'!K46 -> 69 | K44: =SUM(I44:J44) -> 109 | L44: =RANK(J44,J$6:J$76) -> 26 | M44: =COUNTA(D44,E44,F44,G44,H44)/5 -> 1
B45: 460 | C45: 남 | D45: 6 | E45: 10 | F45: 14 | G45: 9 | H45: 4 | I45: =SUM(D45:H45) -> 43 | J45: ='2주차'!K47 -> 88 | K45: =SUM(I45:J45) -> 131 | L45: =RANK(J45,J$6:J$76) -> 8 | M45: =COUNTA(D45,E45,F45,G45,H45)/5 -> 1
B46: 461 | C46: 여 | D46: 7 | E46: 3 | F46: 8 | G46: 10 | H46: 11 | I46: =SUM(D46:H46) -> 39 | J46: ='2주차'!K48 -> 70 | K46: =SUM(I46:J46) -> 109 | L46: =RANK(J46,J$6:J$76) -> 25 | M46: =COUNTA(D46,E46,F46,G46,H46)/5 -> 1
B47: 462 | C47: 여 | D47: 5 | E47: 4 | F47: 9 | G47: 7 | H47: 7 | I47: =SUM(D47:H47) -> 32 | J47: ='2주차'!K49 -> 53 | K47: =SUM(I47:J47) -> 85 | L47: =RANK(J47,J$6:J$76) -> 35 | M47: =COUNTA(D47,E47,F47,G47,H47)/5 -> 1
B48: 464 | C48: 여 | I48: =SUM(D48:H48) -> 0 | J48: ='2주차'!K51 -> 8 | K48: =SUM(I48:J48) -> 8 | L48: =RANK(J48,J$6:J$76) -> 56 | M48: =COUNTA(D48,E48,F48,G48,H48)/5 -> 0
B49: 465 | C49: 남 | I49: =SUM(D49:H49) -> 0 | J49: ='2주차'!K52 -> 0 | K49: =SUM(I49:J49) -> 0 | L49: =RANK(J49,J$6:J$76) -> 60 | M49: =COUNTA(D49,E49,F49,G49,H49)/5 -> 0
B50: 466 | C50: 남 | D50: 7 | E50: 12 | F50: 11 | G50: 9 | H50: 3 | I50: =SUM(D50:H50) -> 42 | J50: ='2주차'!K53 -> 95 | K50: =SUM(I50:J50) -> 137 | L50: =RANK(J50,J$6:J$76) -> 6 | M50: =COUNTA(D50,E50,F50,G50,H50)/5 -> 1
B51: 467 | C51: 여 | D51: 5 | E51: 9 | F51: 10 | G51: 11 | H51: 10 | I51: =SUM(D51:H51) -> 45 | J51: ='2주차'!K54 -> 94 | K51: =SUM(I51:J51) -> 139 | L51: =RANK(J51,J$6:J$76) -> 7 | M51: =COUNTA(D51,E51,F51,G51,H51)/5 -> 1
B52: 468 | C52: 남 | H52: 7 | I52: =SUM(D52:H52) -> 7 | J52: ='2주차'!K55 -> 63 | K52: =SUM(I52:J52) -> 70 | L52: =RANK(J52,J$6:J$76) -> 30 | M52: =COUNTA(D52,E52,F52,G52,H52)/5 -> 0.2
B53: 469 | C53: 남 | F53: 10 | H53: 4 | I53: =SUM(D53:H53) -> 14 | J53: ='2주차'!K56 -> 55 | K53: =SUM(I53:J53) -> 69 | L53: =RANK(J53,J$6:J$76) -> 33 | M53: =COUNTA(D53,E53,F53,G53,H53)/5 -> 0.4
B54: 473 | C54: 남 | I54: =SUM(D54:H54) -> 0 | J54: ='2주차'!K57 -> 0 | K54: =SUM(I54:J54) -> 0 | L54: =RANK(J54,J$6:J$76) -> 60 | M54: =COUNTA(D54,E54,F54,G54,H54)/5 -> 0
B55: 474 | C55: 남 | D55: 9 | E55: 13 | F55: 11 | G55: 11 | H55: 8 | I55: =SUM(D55:H55) -> 52 | J55: ='2주차'!K58 -> 107 | K55: =SUM(I55:J55) -> 159 | L55: =RANK(J55,J$6:J$76) -> 3 | M55: =COUNTA(D55,E55,F55,G55,H55)/5 -> 1
B56: 476 | C56: 여 | D56: 9 | E56: 10 | G56: 9 | H56: 11 | I56: =SUM(D56:H56) -> 39 | J56: ='2주차'!K59 -> 103 | K56: =SUM(I56:J56) -> 142 | L56: =RANK(J56,J$6:J$76) -> 4 | M56: =COUNTA(D56,E56,F56,G56,H56)/5 -> 0.8
B57: 477 | C57: 남 | D57: 8 | E57: 12 | F57: 15 | G57: 12 | H57: 5 | I57: =SUM(D57:H57) -> 52 | J57: ='2주차'!K60 -> 110 | K57: =SUM(I57:J57) -> 162 | L57: =RANK(J57,J$6:J$76) -> 2 | M57: =COUNTA(D57,E57,F57,G57,H57)/5 -> 1
B58: 478 | C58: 남 | D58: 7 | E58: 8 | F58: 14 | G58: 10 | H58: 4 | I58: =SUM(D58:H58) -> 43 | J58: ='2주차'!K61 -> 87 | K58: =SUM(I58:J58) -> 130 | L58: =RANK(J58,J$6:J$76) -> 10 | M58: =COUNTA(D58,E58,F58,G58,H58)/5 -> 1
B59: 479 | C59: 여 | D59: 5 | E59: 6 | F59: 12 | G59: 9 | H59: 8 | I59: =SUM(D59:H59) -> 40 | J59: ='2주차'!K62 -> 72 | K59: =SUM(I59:J59) -> 112 | L59: =RANK(J59,J$6:J$76) -> 21 | M59: =COUNTA(D59,E59,F59,G59,H59)/5 -> 1
B60: 480 | C60: 여 | E60: 6 | F60: 7 | I60: =SUM(D60:H60) -> 13 | J60: ='2주차'!K63 -> 23 | K60: =SUM(I60:J60) -> 36 | L60: =RANK(J60,J$6:J$76) -> 49 | M60: =COUNTA(D60,E60,F60,G60,H60)/5 -> 0.4
B61: 481 | C61: 여 | I61: =SUM(D61:H61) -> 0 | J61: ='2주차'!K64 -> 20 | K61: =SUM(I61:J61) -> 20 | L61: =RANK(J61,J$6:J$76) -> 50 | M61: =COUNTA(D61,E61,F61,G61,H61)/5 -> 0
B62: 482 | C62: 남 | E62: 5 | F62: 12 | G62: 7 | H62: 5 | I62: =SUM(D62:H62) -> 29 | J62: ='2주차'!K65 -> 34 | K62: =SUM(I62:J62) -> 63 | L62: =RANK(J62,J$6:J$76) -> 45 | M62: =COUNTA(D62,E62,F62,G62,H62)/5 -> 0.8
B63: 486 | C63: 남 | G63: 0 | I63: =SUM(D63:H63) -> 0 | J63: ='2주차'!K69 -> 43 | K63: =SUM(I63:J63) -> 43 | L63: =RANK(J63,J$6:J$76) -> 41 | M63: =COUNTA(D63,E63,F63,G63,H63)/5 -> 0.2
B64: 487 | C64: 남 | I64: =SUM(D64:H64) -> 0 | J64: ='2주차'!K70 -> 71 | K64: =SUM(I64:J64) -> 71 | L64: =RANK(J64,J$6:J$76) -> 23 | M64: =COUNTA(D64,E64,F64,G64,H64)/5 -> 0
B65: 488 | C65: 여 | I65: =SUM(D65:H65) -> 0 | J65: ='2주차'!K71 -> 27 | K65: =SUM(I65:J65) -> 27 | L65: =RANK(J65,J$6:J$76) -> 48 | M65: =COUNTA(D65,E65,F65,G65,H65)/5 -> 0
B66: 489 | C66: 남 | D66: 5 | E66: 9 | F66: 11 | G66: 11 | I66: =SUM(D66:H66) -> 36 | J66: ='2주차'!K72 -> 60 | K66: =SUM(I66:J66) -> 96 | L66: =RANK(J66,J$6:J$76) -> 31 | M66: =COUNTA(D66,E66,F66,G66,H66)/5 -> 0.8
B67: 492 | C67: 여 | E67: 9 | F67: 13 | G67: 7 | I67: =SUM(D67:H67) -> 29 | J67: ='2주차'!K75 -> 20 | K67: =SUM(I67:J67) -> 49 | L67: =RANK(J67,J$6:J$76) -> 50 | M67: =COUNTA(D67,E67,F67,G67,H67)/5 -> 0.6
B68: 493 | C68: 남 | I68: =SUM(D68:H68) -> 0 | J68: ='2주차'!K76 -> 0 | K68: =SUM(I68:J68) -> 0 | L68: =RANK(J68,J$6:J$76) -> 60 | M68: =COUNTA(D68,E68,F68,G68,H68)/5 -> 0
B69: 494 | C69: 여 | F69: 8 | H69: 8 | I69: =SUM(D69:H69) -> 16 | J69: ='2주차'!K77 -> 49 | K69: =SUM(I69:J69) -> 65 | L69: =RANK(J69,J$6:J$76) -> 38 | M69: =COUNTA(D69,E69,F69,G69,H69)/5 -> 0.4
B70: 495 | C70: 남 | I70: =SUM(D70:H70) -> 0 | J70: ='2주차'!K78 -> 0 | K70: =SUM(I70:J70) -> 0 | L70: =RANK(J70,J$6:J$76) -> 60 | M70: =COUNTA(D70,E70,F70,G70,H70)/5 -> 0
B71: 496 | C71: 남 | D71: 3 | E71: 9 | F71: 10 | G71: 10 | H71: 5 | I71: =SUM(D71:H71) -> 37 | J71: ='2주차'!K79 -> 73 | K71: =SUM(I71:J71) -> 110 | L71: =RANK(J71,J$6:J$76) -> 20 | M71: =COUNTA(D71,E71,F71,G71,H71)/5 -> 1
B72: 497 | C72: 남 | I72: =SUM(D72:H72) -> 0 | J72: ='2주차'!K80 -> 59 | K72: =SUM(I72:J72) -> 59 | L72: =RANK(J72,J$6:J$76) -> 32 | M72: =COUNTA(D72,E72,F72,G72,H72)/5 -> 0
B73: 498 | C73: 남 | I73: =SUM(D73:H73) -> 0 | J73: ='2주차'!K81 -> 0 | K73: =SUM(I73:J73) -> 0 | L73: =RANK(J73,J$6:J$76) -> 60 | M73: =COUNTA(D73,E73,F73,G73,H73)/5 -> 0
B74: 499 | C74: 남 | F74: 9 | I74: =SUM(D74:H74) -> 9 | J74: ='2주차'!K81 -> 0 | K74: =SUM(I74:J74) -> 9 | L74: =RANK(J74,J$6:J$76) -> 60 | M74: =COUNTA(D74,E74,F74,G74,H74)/5 -> 0.2
B75: 344 | C75: 여 | D75: 5 | G75: 7 | I75: =SUM(D75:H75) -> 12 | J75: ='2주차'!K82 -> 28 | K75: =SUM(I75:J75) -> 40 | L75: =RANK(J75,J$6:J$76) -> 47 | M75: =COUNTA(D75,E75,F75,G75,H75)/5 -> 0.4
B76: 345 | C76: 남 | E76: 3 | F76: 8 | I76: =SUM(D76:H76) -> 11 | J76: ='2주차'!K83 -> 0 | K76: =SUM(I76:J76) -> 11 | L76: =RANK(J76,J$6:J$76) -> 60 | M76: =COUNTA(D76,E76,F76,G76,H76)/5 -> 0.4
B77: * 이상이 있으신 분은 1층 사무실로 오시길 바랍니다.
B78: 최고의 장학생을 선발합니다. ^^ 누적점수 1위가 바로 장학생 입니다.^^
B80: 시험지는 시험시간 외 제공되지 않습니다.
O89: sol1004

Sheet 4주차
B2: 11~12월 아침 모의고사 성적현황
B3: 시험 4주차 : 12월 3일 ~ 7일
D4: 3 | E4: 4 | F4: 5 | G4: 6 | H4: 7 | I4: 성적 | M4: 모의고사 참여율 | N4: 비고
A5: 수험 번호 | B5: 수험 번호 | C5: 성별 | D5: 형법 | E5: 국사 | F5: 형소법 | G5: 경찰학 | H5: 영어 | I5: 주간 총점 | J5: 지난주 총점 | K5: 전체 총점 | L5: 등수
B6: 300 | C6: 남 | D6: 3 | E6: 10 | F6: 2 | G6: 11 | H6: 8 | I6: =SUM(D6:H6) -> 34 | J6: ='3주차'!K6 -> 116 | K6: =SUM(I6:J6) -> 150 | L6: =RANK(J6,J$6:J$76) -> 12 | M6: =COUNTA(D6,E6,F6,G6,H6)/5 -> 1
B7: 301 | C7: 남 | D7: 3 | E7: 12 | F7: 10 | G7: 7 | H7: 9 | I7: =SUM(D7:H7) -> 41 | J7: ='3주차'!K7 -> 115 | K7: =SUM(I7:J7) -> 156 | L7: =RANK(J7,J$6:J$76) -> 13 | M7: =COUNTA(D7,E7,F7,G7,H7)/5 -> 1
B8: 303 | C8: 남 | I8: =SUM(D8:H8) -> 0 | J8: ='3주차'!K8 -> 12 | K8: =SUM(I8:J8) -> 12 | L8: =RANK(J8,J$6:J$76) -> 55 | M8: =COUNTA(D8,E8,F8,G8,H8)/5 -> 0
B9: 304 | C9: 남 | D9: 3 | E9: 6 | F9: 6 | G9: 5 | H9: 5 | I9: =SUM(D9:H9) -> 25 | J9: ='3주차'!K9 -> 100 | K9: =SUM(I9:J9) -> 125 | L9: =RANK(J9,J$6:J$76) -> 27 | M9: =COUNTA(D9,E9,F9,G9,H9)/5 -> 1
B10: 305 | C10: 남 | D10: 3 | F10: 6 | I10: =SUM(D10:H10) -> 9 | J10: ='3주차'!K10 -> 71 | K10: =SUM(I10:J10) -> 80 | L10: =RANK(J10,J$6:J$76) -> 32 | M10: =COUNTA(D10,E10,F10,G10,H10)/5 -> 0.4
B11: 306 | C11: 남 | I11: =SUM(D11:H11) -> 0 | J11: ='3주차'!K11 -> 18 | K11: =SUM(I11:J11) -> 18 | L11: =RANK(J11,J$6:J$76) -> 54 | M11: =COUNTA(D11,E11,F11,G11,H11)/5 -> 0
B12: 307 | C12: 여 | D12: 3 | E12: 6 | F12: 8 | G12: 7 | H12: 7 | I12: =SUM(D12:H12) -> 31 | J12: ='3주차'!K12 -> 70 | K12: =SUM(I12:J12) -> 101 | L12: =RANK(J12,J$6:J$76) -> 35 | M12: =COUNTA(D12,E12,F12,G12,H12)/5 -> 1
B13: 308 | C13: 여 | D13: 7 | E13: 11 | F13: 13 | G13: 6 | I13: =SUM(D13:H13) -> 37 | J13: ='3주차'!K13 -> 128 | K13: =SUM(I13:J13) -> 165 | L13: =RANK(J13,J$6:J$76) -> 10 | M13: =COUNTA(D13,E13,F13,G13,H13)/5 -> 0.8
B14: 309 | C14: 남 | D14: 5 | E14: 8 | F14: 12 | G14: 10 | H14: 11 | I14: =SUM(D14:H14) -> 46 | J14: ='3주차'!K14 -> 121 | K14: =SUM(I14:J14) -> 167 | L14: =RANK(J14,J$6:J$76) -> 11 | M14: =COUNTA(D14,E14,F14,G14,H14)/5 -> 1
B15: 310 | C15: 남 | D15: 5 | E15: 9 | F15: 12 | G15: 10 | H15: 9 | I15: =SUM(D15:H15) -> 45 | J15: ='3주차'!K15 -> 114 | K15: =SUM(I15:J15) -> 159 | L15: =RANK(J15,J$6:J$76) -> 16 | M15: =COUNTA(D15,E15,F15,G15,H15)/5 -> 1
B16: 311 | C16: 남 | I16: =SUM(D16:H16) -> 0 | J16: ='3주차'!K16 -> 33 | K16: =SUM(I16:J16) -> 33 | L16: =RANK(J16,J$6:J$76) -> 49 | M16: =COUNTA(D16,E16,F16,G16,H16)/5 -> 0
B17: 313 | C17: 남 | I17: =SUM(D17:H17) -> 0 | J17: ='3주차'!K17 -> 0 | K17: =SUM(I17:J17) -> 0 | L17: =RANK(J17,J$6:J$76) -> 62 | M17: =COUNTA(D17,E17,F17,G17,H17)/5 -> 0
B18: 314 | C18: 남 | D18: 3 | E18: 7 | F18: 8 | G18: 10 | H18: 11 | I18: =SUM(D18:H18) -> 39 | J18: ='3주차'!K18 -> 101 | K18: =SUM(I18:J18) -> 140 | L18: =RANK(J18,J$6:J$76) -> 26 | M18: =COUNTA(D18,E18,F18,G18,H18)/5 -> 1
B19: 318 | C19: 남 | D19: 2 | F19: 10 | I19: =SUM(D19:H19) -> 12 | J19: ='3주차'!K19 -> 25 | K19: =SUM(I19:J19) -> 37 | L19: =RANK(J19,J$6:J$76) -> 51 | M19: =COUNTA(D19,E19,F19,G19,H19)/5 -> 0.4
B20: 320 | C20: 여 | I20: =SUM(D20:H20) -> 0 | J20: ='3주차'!K20 -> 12 | K20: =SUM(I20:J20) -> 12 | L20: =RANK(J20,J$6:J$76) -> 55 | M20: =COUNTA(D20,E20,F20,G20,H20)/5 -> 0
B21: 321 | C21: 여 | I21: =SUM(D21:H21) -> 0 | J21: ='3주차'!K21 -> 5 | K21: =SUM(I21:J21) -> 5 | L21: =RANK(J21,J$6:J$76) -> 61 | M21: =COUNTA(D21,E21,F21,G21,H21)/5 -> 0
B22: 323 | C22: 남 | I22: =SUM(D22:H22) -> 0 | J22: ='3주차'!K22 -> 38 | K22: =SUM(I22:J22) -> 38 | L22: =RANK(J22,J$6:J$76) -> 47 | M22: =COUNTA(D22,E22,F22,G22,H22)/5 -> 0
B23: 324 | C23: 남 | D23: 8 | E23: 8 | F23: 13 | H23: 7 | I23: =SUM(D23:H23) -> 36 | J23: ='3주차'!K23 -> 67 | K23: =SUM(I23:J23) -> 103 | L23: =RANK(J23,J$6:J$76) -> 38 | M23: =COUNTA(D23,E23,F23,G23,H23)/5 -> 0.8
B24: 325 | C24: 남 | D24: 7 | E24: 11 | F24: 10 | G24: 4 | H24: 2 | I24: =SUM(D24:H24) -> 34 | J24: ='3주차'!K24 -> 111 | K24: =SUM(I24:J24) -> 145 | L24: =RANK(J24,J$6:J$76) -> 19 | M24: =COUNTA(D24,E24,F24,G24,H24)/5 -> 1
B25: 326 | C25: 남 | I25: =SUM(D25:H25) -> 0 | J25: ='3주차'!K25 -> 0 | K25: =SUM(I25:J25) -> 0 | L25: =RANK(J25,J$6:J$76) -> 62 | M25: =COUNTA(D25,E25,F25,G25,H25)/5 -> 0
B26: 327 | C26: 남 | D26: 6 | E26: 13 | F26: 9 | G26: 6 | H26: 7 | I26: =SUM(D26:H26) -> 41 | J26: ='3주차'!K26 -> 107 | K26: =SUM(I26:J26) -> 148 | L26: =RANK(J26,J$6:J$76) -> 24 | M26: =COUNTA(D26,E26,F26,G26,H26)/5 -> 1
B27: 328 | C27: 남 | D27: 5 | E27: 7 | F27: 8 | G27: 6 | H27: 7 | I27: =SUM(D27:H27) -> 33 | J27: ='3주차'!K27 -> 112 | K27: =SUM(I27:J27) -> 145 | L27: =RANK(J27,J$6:J$76) -> 17 | M27: =COUNTA(D27,E27,F27,G27,H27)/5 -> 1
B28: 329 | C28: 남 | E28: 10 | G28: 12 | H28: 8 | I28: =SUM(D28:H28) -> 30 | J28: ='3주차'!K28 -> 137 | K28: =SUM(I28:J28) -> 167 | L28: =RANK(J28,J$6:J$76) -> 6 | M28: =COUNTA(D28,E28,F28,G28,H28)/5 -> 0.6
B29: 330 | C29: 남 | D29: 3 | E29: 4 | F29: 7 | G29: 7 | H29: 7 | I29: =SUM(D29:H29) -> 28 | J29: ='3주차'!K29 -> 40 | K29: =SUM(I29:J29) -> 68 | L29: =RANK(J29,J$6:J$76) -> 45 | M29: =COUNTA(D29,E29,F29,G29,H29)/5 -> 1
B30: 332 | C30: 남 | I30: =SUM(D30:H30) -> 0 | J30: ='3주차'!K30 -> 0 | K30: =SUM(I30:J30) -> 0 | L30: =RANK(J30,J$6:J$76) -> 62 | M30: =COUNTA(D30,E30,F30,G30,H30)/5 -> 0
B31: 333 | C31: 남 | D31: 7 | E31: 11 | F31: 12 | G31: 7 | H31: 8 | I31: =SUM(D31:H31) -> 45 | J31: ='3주차'!K31 -> 105 | K31: =SUM(I31:J31) -> 150 | L31: =RANK(J31,J$6:J$76) -> 25 | M31: =COUNTA(D31,E31,F31,G31,H31)/5 -> 1
B32: 334 | C32: 남 | D32: 2 | E32: 9 | F32: 9 | G32: 8 | H32: 13 | I32: =SUM(D32:H32) -> 41 | J32: ='3주차'!K32 -> 115 | K32: =SUM(I32:J32) -> 156 | L32: =RANK(J32,J$6:J$76) -> 13 | M32: =COUNTA(D32,E32,F32,G32,H32)/5 -> 1
B33: 335 | C33: 남 | E33: 9 | F33: 12 | G33: 5 | H33: 12 | I33: =SUM(D33:H33) -> 38 | J33: ='3주차'!K33 -> 111 | K33: =SUM(I33:J33) -> 149 | L33: =RANK(J33,J$6:J$76) -> 19 | M33: =COUNTA(D33,E33,F33,G33,H33)/5 -> 0.8
B34: 340 | C34: 남 | I34: =SUM(D34:H34) -> 0 | J34: ='3주차'!K34 -> 0 | K34: =SUM(I34:J34) -> 0 | L34: =RANK(J34,J$6:J$76) -> 62 | M34: =COUNTA(D34,E34,F34,G34,H34)/5 -> 0
B35: 341 | C35: 남 | D35: 4 | E35: 6 | F35: 5 | G35: 6 | H35: 7 | I35: =SUM(D35:H35) -> 28 | J35: ='3주차'!K35 -> 79 | K35: =SUM(I35:J35) -> 107 | L35: =RANK(J35,J$6:J$76) -> 31 | M35: =COUNTA(D35,E35,F35,G35,H35)/5 -> 1
B36: 342 | C36: 남 | D36: 3 | E36: 5 | I36: =SUM(D36:H36) -> 8 | J36: ='3주차'!K36 -> 71 | K36: =SUM(I36:J36) -> 79 | L36: =RANK(J36,J$6:J$76) -> 32 | M36: =COUNTA(D36,E36,F36,G36,H36)/5 -> 0.4
B37: 343 | C37: 남 | I37: =SUM(D37:H37) -> 0 | J37: ='3주차'!K37 -> 7 | K37: =SUM(I37:J37) -> 7 | L37: =RANK(J37,J$6:J$76) -> 60 | M37: =COUNTA(D37,E37,F37,G37,H37)/5 -> 0
B38: 451 | C38: 여 | D38: 6 | E38: 12 | F38: 13 | G38: 13 | H38: 11 | I38: =SUM(D38:H38) -> 55 | J38: ='3주차'!K38 -> 181 | K38: =SUM(I38:J38) -> 236 | L38: =RANK(J38,J$6:J$76) -> 1 | M38: =COUNTA(D38,E38,F38,G38,H38)/5 -> 1
B39: 452 | C39: 여 | I39: =SUM(D39:H39) -> 0 | J39: ='3주차'!K39 -> 0 | K39: =SUM(I39:J39) -> 0 | L39: =RANK(J39,J$6:J$76) -> 62 | M39: =COUNTA(D39,E39,F39,G39,H39)/5 -> 0
B40: 454 | C40: 여 | I40: =SUM(D40:H40) -> 0 | J40: ='3주차'!K40 -> 21 | K40: =SUM(I40:J40) -> 21 | L40: =RANK(J40,J$6:J$76) -> 52 | M40: =COUNTA(D40,E40,F40,G40,H40)/5 -> 0
B41: 455 | C41: 여 | I41: =SUM(D41:H41) -> 0 | J41: ='3주차'!K41 -> 49 | K41: =SUM(I41:J41) -> 49 | L41: =RANK(J41,J$6:J$76) -> 42 | M41: =COUNTA(D41,E41,F41,G41,H41)/5 -> 0
B42: 456 | C42: 남 | D42: 1 | E42: 9 | F42: 9 | G42: 6 | H42: 8 | I42: =SUM(D42:H42) -> 33 | J42: ='3주차'!K42 -> 115 | K42: =SUM(I42:J42) -> 148 | L42: =RANK(J42,J$6:J$76) -> 13 | M42: =COUNTA(D42,E42,F42,G42,H42)/5 -> 1
B43: 458 | C43: 남 | D43: 2 | E43: 5 | I43: =SUM(D43:H43) -> 7 | J43: ='3주차'!K43 -> 97 | K43: =SUM(I43:J43) -> 104 | L43: =RANK(J43,J$6:J$76) -> 28 | M43: =COUNTA(D43,E43,F43,G43,H43)/5 -> 0.4
B44: 459 | C44: 여 | D44: 6 | E44: 8 | F44: 10 | G44: 8 | H44: 7 | I44: =SUM(D44:H44) -> 39 | J44: ='3주차'!K44 -> 109 | K44: =SUM(I44:J44) -> 148 | L44: =RANK(J44,J$6:J$76) -> 22 | M44: =COUNTA(D44,E44,F44,G44,H44)/5 -> 1
B45: 460 | C45: 남 | E45: 6 | F45: 13 | G45: 9 | H45: 8 | I45: =SUM(D45:H45) -> 36 | J45: ='3주차'!K45 -> 131 | K45: =SUM(I45:J45) -> 167 | L45: =RANK(J45,J$6:J$76) -> 8 | M45: =COUNTA(D45,E45,F45,G45,H45)/5 -> 0.8
B46: 461 | C46: 여 | D46: 8 | E46: 8 | F46: 12 | G46: 11 | H46: 8 | I46: =SUM(D46:H46) -> 47 | J46: ='3주차'!K46 -> 109 | K46: =SUM(I46:J46) -> 156 | L46: =RANK(J46,J$6:J$76) -> 22 | M46: =COUNTA(D46,E46,F46,G46,H46)/5 -> 1
B47: 462 | C47: 여 | D47: 3 | E47: 5 | F47: 7 | G47: 5 | H47: 4 | I47: =SUM(D47:H47) -> 24 | J47: ='3주차'!K47 -> 85 | K47: =SUM(I47:J47) -> 109 | L47: =RANK(J47,J$6:J$76) -> 30 | M47: =COUNTA(D47,E47,F47,G47,H47)/5 -> 1
B48: 464 | C48: 여 | I48: =SUM(D48:H48) -> 0 | J48: ='3주차'!K48 -> 8 | K48: =SUM(I48:J48) -> 8 | L48: =RANK(J48,J$6:J$76) -> 59 | M48: =COUNTA(D48,E48,F48,G48,H48)/5 -> 0
B49: 465 | C49: 남 | I49: =SUM(D49:H49) -> 0 | J49: ='3주차'!K49 -> 0 | K49: =SUM(I49:J49) -> 0 | L49: =RANK(J49,J$6:J$76) -> 62 | M49: =COUNTA(D49,E49,F49,G49,H49)/5 -> 0
B50: 466 | C50: 남 | D50: 4 | E50: 9 | F50: 10 | G50: 9 | H50: 3 | I50: =SUM(D50:H50) -> 35 | J50: ='3주차'!K50 -> 137 | K50: =SUM(I50:J50) -> 172 | L50: =RANK(J50,J$6:J$76) -> 6 | M50: =COUNTA(D50,E50,F50,G50,H50)/5 -> 1
B51: 467 | C51: 여 | D51: 3 | E51: 5 | F51: 12 | G51: 7 | H51: 14 | I51: =SUM(D51:H51) -> 41 | J51: ='3주차'!K51 -> 139 | K51: =SUM(I51:J51) -> 180 | L51: =RANK(J51,J$6:J$76) -> 5 | M51: =COUNTA(D51,E51,F51,G51,H51)/5 -> 1
B52: 468 | C52: 남 | I52: =SUM(D52:H52) -> 0 | J52: ='3주차'!K52 -> 70 | K52: =SUM(I52:J52) -> 70 | L52: =RANK(J52,J$6:J$76) -> 35 | M52: =COUNTA(D52,E52,F52,G52,H52)/5 -> 0
B53: 469 | C53: 남 | G53: 10 | H53: 2 | I53: =SUM(D53:H53) -> 12 | J53: ='3주차'!K53 -> 69 | K53: =SUM(I53:J53) -> 81 | L53: =RANK(J53,J$6:J$76) -> 37 | M53: =COUNTA(D53,E53,F53,G53,H53)/5 -> 0.4
B54: 473 | C54: 남 | I54: =SUM(D54:H54) -> 0 | J54: ='3주차'!K54 -> 0 | K54: =SUM(I54:J54) -> 0 | L54: =RANK(J54,J$6:J$76) -> 62 | M54: =COUNTA(D54,E54,F54,G54,H54)/5 -> 0
B55: 474 | C55: 남 | D55: 6 | E55: 11 | F55: 13 | G55: 13 | H55: 11 | I55: =SUM(D55:H55) -> 54 | J55: ='3주차'!K55 -> 159 | K55: =SUM(I55:J55) -> 213 | L55: =RANK(J55,J$6:J$76) -> 3 | M55: =COUNTA(D55,E55,F55,G55,H55)/5 -> 1
B56: 476 | C56: 여 | D56: 8 | E56: 10 | F56: 13 | G56: 12 | H56: 8 | I56: =SUM(D56:H56) -> 51 | J56: ='3주차'!K56 -> 142 | K56: =SUM(I56:J56) -> 193 | L56: =RANK(J56,J$6:J$76) -> 4 | M56: =COUNTA(D56,E56,F56,G56,H56)/5 -> 1
B57: 477 | C57: 남 | D57: 6 | E57: 13 | F57: 15 | G57: 13 | H57: 7 | I57: =SUM(D57:H57) -> 54 | J57: ='3주차'!K57 -> 162 | K57: =SUM(I57:J57) -> 216 | L57: =RANK(J57,J$6:J$76) -> 2 | M57: =COUNTA(D57,E57,F57,G57,H57)/5 -> 1
B58: 478 | C58: 남 | D58: 8 | E58: 5 | F58: 14 | G58: 15 | H58: 5 | I58: =SUM(D58:H58) -> 47 | J58: ='3주차'!K58 -> 130 | K58: =SUM(I58:J58) -> 177 | L58: =RANK(J58,J$6:J$76) -> 9 | M58: =COUNTA(D58,E58,F58,G58,H58)/5 -> 1
B59: 479 | C59: 여 | D59: 3 | E59: 6 | F59: 9 | G59: 6 | H59: 7 | I59: =SUM(D59:H59) -> 31 | J59: ='3주차'!K59 -> 112 | K59: =SUM(I59:J59) -> 143 | L59: =RANK(J59,J$6:J$76) -> 17 | M59: =COUNTA(D59,E59,F59,G59,H59)/5 -> 1
B60: 480 | C60: 여 | I60: =SUM(D60:H60) -> 0 | J60: ='3주차'!K60 -> 36 | K60: =SUM(I60:J60) -> 36 | L60: =RANK(J60,J$6:J$76) -> 48 | M60: =COUNTA(D60,E60,F60,G60,H60)/5 -> 0
B61: 481 | C61: 여 | I61: =SUM(D61:H61) -> 0 | J61: ='3주차'!K61 -> 20 | K61: =SUM(I61:J61) -> 20 | L61: =RANK(J61,J$6:J$76) -> 53 | M61: =COUNTA(D61,E61,F61,G61,H61)/5 -> 0
B62: 482 | C62: 남 | D62: 3 | E62: 6 | F62: 7 | G62: 6 | H62: 5 | I62: =SUM(D62:H62) -> 27 | J62: ='3주차'!K62 -> 63 | K62: =SUM(I62:J62) -> 90 | L62: =RANK(J62,J$6:J$76) -> 40 | M62: =COUNTA(D62,E62,F62,G62,H62)/5 -> 1
B63: 486 | C63: 남 | F63: 13 | I63: =SUM(D63:H63) -> 13 | J63: ='3주차'!K63 -> 43 | K63: =SUM(I63:J63) -> 56 | L63: =RANK(J63,J$6:J$76) -> 44 | M63: =COUNTA(D63,E63,F63,G63,H63)/5 -> 0.2
B64: 487 | C64: 남 | I64: =SUM(D64:H64) -> 0 | J64: ='3주차'!K64 -> 71 | K64: =SUM(I64:J64) -> 71 | L64: =RANK(J64,J$6:J$76) -> 32 | M64: =COUNTA(D64,E64,F64,G64,H64)/5 -> 0
B65: 488 | C65: 여 | I65: =SUM(D65:H65) -> 0 | J65: ='3주차'!K65 -> 27 | K65: =SUM(I65:J65) -> 27 | L65: =RANK(J65,J$6:J$76) -> 50 | M65: =COUNTA(D65,E65,F65,G65,H65)/5 -> 0
B66: 489 | C66: 남 | D66: 4 | E66: 9 | G66: 7 | I66: =SUM(D66:H66) -> 20 | J66: ='3주차'!K66 -> 96 | K66: =SUM(I66:J66) -> 116 | L66: =RANK(J66,J$6:J$76) -> 29 | M66: =COUNTA(D66,E66,F66,G66,H66)/5 -> 0.6
B67: 492 | C67: 여 | F67: 12 | G67: 9 | H67: 11 | I67: =SUM(D67:H67) -> 32 | J67: ='3주차'!K67 -> 49 | K67: =SUM(I67:J67) -> 81 | L67: =RANK(J67,J$6:J$76) -> 42 | M67: =COUNTA(D67,E67,F67,G67,H67)/5 -> 0.6
B68: 493 | C68: 남 | I68: =SUM(D68:H68) -> 0 | J68: ='3주차'!K68 -> 0 | K68: =SUM(I68:J68) -> 0 | L68: =RANK(J68,J$6:J$76) -> 62 | M68: =COUNTA(D68,E68,F68,G68,H68)/5 -> 0
B69: 494 | C69: 여 | D69: 6 | G69: 6 | I69: =SUM(D69:H69) -> 12 | J69: ='3주차'!K69 -> 65 | K69: =SUM(I69:J69) -> 77 | L69: =RANK(J69,J$6:J$76) -> 39 | M69: =COUNTA(D69,E69,F69,G69,H69)/5 -> 0.4
B70: 495 | C70: 남 | I70: =SUM(D70:H70) -> 0 | J70: ='3주차'!K70 -> 0 | K70: =SUM(I70:J70) -> 0 | L70: =RANK(J70,J$6:J$76) -> 62 | M70: =COUNTA(D70,E70,F70,G70,H70)/5 -> 0
B71: 496 | C71: 남 | D71: 2 | E71: 12 | F71: 10 | G71: 7 | H71: 10 | I71: =SUM(D71:H71) -> 41 | J71: ='3주차'!K71 -> 110 | K71: =SUM(I71:J71) -> 151 | L71: =RANK(J71,J$6:J$76) -> 21 | M71: =COUNTA(D71,E71,F71,G71,H71)/5 -> 1
B72: 497 | C72: 남 | I72: =SUM(D72:H72) -> 0 | J72: ='3주차'!K72 -> 59 | K72: =SUM(I72:J72) -> 59 | L72: =RANK(J72,J$6:J$76) -> 41 | M72: =COUNTA(D72,E72,F72,G72,H72)/5 -> 0
B73: 498 | C73: 남 | I73: =SUM(D73:H73) -> 0 | J73: ='3주차'!K73 -> 0 | K73: =SUM(I73:J73) -> 0 | L73: =RANK(J73,J$6:J$76) -> 62 | M73: =COUNTA(D73,E73,F73,G73,H73)/5 -> 0
B74: 499 | C74: 남 | I74: =SUM(D74:H74) -> 0 | J74: ='3주차'!K74 -> 9 | K74: =SUM(I74:J74) -> 9 | L74: =RANK(J74,J$6:J$76) -> 58 | M74: =COUNTA(D74,E74,F74,G74,H74)/5 -> 0
B75: 344 | C75: 여 | G75: 6 | I75: =SUM(D75:H75) -> 6 | J75: ='3주차'!K75 -> 40 | K75: =SUM(I75:J75) -> 46 | L75: =RANK(J75,J$6:J$76) -> 45 | M75: =COUNTA(D75,E75,F75,G75,H75)/5 -> 0.2
B76: 345 | C76: 남 | E76: 7 | I76: =SUM(D76:H76) -> 7 | J76: ='3주차'!K76 -> 11 | K76: =SUM(I76:J76) -> 18 | L76: =RANK(J76,J$6:J$76) -> 57 | M76: =COUNTA(D76,E76,F76,G76,H76)/5 -> 0.2
B77: * 이상이 있으신 분은 1층 사무실로 오시길 바랍니다.
B78: 최고의 장학생을 선발합니다. ^^ 누적점수 1위가 바로 장학생 입니다.^^
B80: 시험지는 시험시간 외 제공되지 않습니다.
O89: sol1004

Sheet 5주차
B2: 11~12월 아침 모의고사 성적현황
B3: 시험 4주차 : 12월 10일 ~ 14일
D4: 10 | E4: 11 | F4: 12 | G4: 13 | H4: 14 | I4: 성적 | M4: 모의고사 참여율 | N4: 비고
A5: 수험 번호 | B5: 수험 번호 | C5: 성별 | D5: 형법 | E5: 국사 | F5: 형소법 | G5: 경찰학 | H5: 영어 | I5: 주간 총점 | J5: 지난주 총점 | K5: 전체 총점 | L5: 등수
B6: 300 | C6: 남 | D6: 5 | E6: 9 | F6: 9 | G6: 8 | H6: 6 | I6: =SUM(D6:H6) -> 37 | J6: ='4주차'!K6 -> 150 | K6: =SUM(I6:J6) -> 187 | L6: =RANK(J6,J$6:J$76) -> 17 | M6: =COUNTA(D6,E6,F6,G6,H6)/5 -> 1
B7: 301 | C7: 남 | D7: 9 | E7: 10 | F7: 8 | G7: 8 | H7: 9 | I7: =SUM(D7:H7) -> 44 | J7: ='4주차'!K7 -> 156 | K7: =SUM(I7:J7) -> 200 | L7: =RANK(J7,J$6:J$76) -> 13 | M7: =COUNTA(D7,E7,F7,G7,H7)/5 -> 1
B8: 303 | C8: 남 | I8: =SUM(D8:H8) -> 0 | J8: ='4주차'!K8 -> 12 | K8: =SUM(I8:J8) -> 12 | L8: =RANK(J8,J$6:J$76) -> 56 | M8: =COUNTA(D8,E8,F8,G8,H8)/5 -> 0
B9: 304 | C9: 남 | D9: 2 | E9: 8 | F9: 8 | G9: 6 | H9: 7 | I9: =SUM(D9:H9) -> 31 | J9: ='4주차'!K9 -> 125 | K9: =SUM(I9:J9) -> 156 | L9: =RANK(J9,J$6:J$76) -> 27 | M9: =COUNTA(D9,E9,F9,G9,H9)/5 -> 1
B10: 305 | C10: 남 | D10: 4 | I10: =SUM(D10:H10) -> 4 | J10: ='4주차'!K10 -> 80 | K10: =SUM(I10:J10) -> 84 | L10: =RANK(J10,J$6:J$76) -> 37 | M10: =COUNTA(D10,E10,F10,G10,H10)/5 -> 0.2
B11: 306 | C11: 남 | I11: =SUM(D11:H11) -> 0 | J11: ='4주차'!K11 -> 18 | K11: =SUM(I11:J11) -> 18 | L11: =RANK(J11,J$6:J$76) -> 54 | M11: =COUNTA(D11,E11,F11,G11,H11)/5 -> 0
B12: 307 | C12: 여 | D12: 4 | E12: 6 | F12: 7 | G12: 8 | H12: 11 | I12: =SUM(D12:H12) -> 36 | J12: ='4주차'!K12 -> 101 | K12: =SUM(I12:J12) -> 137 | L12: =RANK(J12,J$6:J$76) -> 33 | M12: =COUNTA(D12,E12,F12,G12,H12)/5 -> 1
B13: 308 | C13: 여 | D13: 3 | E13: 9 | G13: 6 | H13: 13 | I13: =SUM(D13:H13) -> 31 | J13: ='4주차'!K13 -> 165 | K13: =SUM(I13:J13) -> 196 | L13: =RANK(J13,J$6:J$76) -> 11 | M13: =COUNTA(D13,E13,F13,G13,H13)/5 -> 0.8
B14: 309 | C14: 남 | D14: 8 | E14: 10 | F14: 12 | G14: 9 | I14: =SUM(D14:H14) -> 39 | J14: ='4주차'!K14 -> 167 | K14: =SUM(I14:J14) -> 206 | L14: =RANK(J14,J$6:J$76) -> 8 | M14: =COUNTA(D14,E14,F14,G14,H14)/5 -> 0.8
B15: 310 | C15: 남 | D15: 2 | E15: 8 | F15: 13 | G15: 7 | I15: =SUM(D15:H15) -> 30 | J15: ='4주차'!K15 -> 159 | K15: =SUM(I15:J15) -> 189 | L15: =RANK(J15,J$6:J$76) -> 12 | M15: =COUNTA(D15,E15,F15,G15,H15)/5 -> 0.8
B16: 311 | C16: 남 | I16: =SUM(D16:H16) -> 0 | J16: ='4주차'!K16 -> 33 | K16: =SUM(I16:J16) -> 33 | L16: =RANK(J16,J$6:J$76) -> 50 | M16: =COUNTA(D16,E16,F16,G16,H16)/5 -> 0
B17: 313 | C17: 남 | I17: =SUM(D17:H17) -> 0 | J17: ='4주차'!K17 -> 0 | K17: =SUM(I17:J17) -> 0 | L17: =RANK(J17,J$6:J$76) -> 62 | M17: =COUNTA(D17,E17,F17,G17,H17)/5 -> 0
B18: 314 | C18: 남 | D18: 3 | E18: 13 | F18: 11 | G18: 5 | H18: 10 | I18: =SUM(D18:H18) -> 42 | J18: ='4주차'!K18 -> 140 | K18: =SUM(I18:J18) -> 182 | L18: =RANK(J18,J$6:J$76) -> 26 | M18: =COUNTA(D18,E18,F18,G18,H18)/5 -> 1
B19: 318 | C19: 남 | I19: =SUM(D19:H19) -> 0 | J19: ='4주차'!K19 -> 37 | K19: =SUM(I19:J19) -> 37 | L19: =RANK(J19,J$6:J$76) -> 48 | M19: =COUNTA(D19,E19,F19,G19,H19)/5 -> 0
B20: 320 | C20: 여 | I20: =SUM(D20:H20) -> 0 | J20: ='4주차'!K20 -> 12 | K20: =SUM(I20:J20) -> 12 | L20: =RANK(J20,J$6:J$76) -> 56 | M20: =COUNTA(D20,E20,F20,G20,H20)/5 -> 0
B21: 321 | C21: 여 | I21: =SUM(D21:H21) -> 0 | J21: ='4주차'!K21 -> 5 | K21: =SUM(I21:J21) -> 5 | L21: =RANK(J21,J$6:J$76) -> 61 | M21: =COUNTA(D21,E21,F21,G21,H21)/5 -> 0
B22: 323 | C22: 남 | I22: =SUM(D22:H22) -> 0 | J22: ='4주차'!K22 -> 38 | K22: =SUM(I22:J22) -> 38 | L22: =RANK(J22,J$6:J$76) -> 47 | M22: =COUNTA(D22,E22,F22,G22,H22)/5 -> 0
B23: 324 | C23: 남 | E23: 9 | F23: 11 | I23: =SUM(D23:H23) -> 20 | J23: ='4주차'!K23 -> 103 | K23: =SUM(I23:J23) -> 123 | L23: =RANK(J23,J$6:J$76) -> 32 | M23: =COUNTA(D23,E23,F23,G23,H23)/5 -> 0.4
B24: 325 | C24: 남 | D24: 5 | E24: 7 | F24: 11 | G24: 5 | H24: 8 | I24: =SUM(D24:H24) -> 36 | J24: ='4주차'!K24 -> 145 | K24: =SUM(I24:J24) -> 181 | L24: =RANK(J24,J$6:J$76) -> 23 | M24: =COUNTA(D24,E24,F24,G24,H24)/5 -> 1
B25: 326 | C25: 남 | I25: =SUM(D25:H25) -> 0 | J25: ='4주차'!K25 -> 0 | K25: =SUM(I25:J25) -> 0 | L25: =RANK(J25,J$6:J$76) -> 62 | M25: =COUNTA(D25,E25,F25,G25,H25)/5 -> 0
B26: 327 | C26: 남 | D26: 5 | E26: 13 | F26: 7 | G26: 7 | H26: 8 | I26: =SUM(D26:H26) -> 40 | J26: ='4주차'!K26 -> 148 | K26: =SUM(I26:J26) -> 188 | L26: =RANK(J26,J$6:J$76) -> 20 | M26: =COUNTA(D26,E26,F26,G26,H26)/5 -> 1
B27: 328 | C27: 남 | D27: 4 | E27: 6 | F27: 6 | G27: 6 | H27: 11 | I27: =SUM(D27:H27) -> 33 | J27: ='4주차'!K27 -> 145 | K27: =SUM(I27:J27) -> 178 | L27: =RANK(J27,J$6:J$76) -> 23 | M27: =COUNTA(D27,E27,F27,G27,H27)/5 -> 1
B28: 329 | C28: 남 | D28: 8 | E28: 6 | G28: 7 | I28: =SUM(D28:H28) -> 21 | J28: ='4주차'!K28 -> 167 | K28: =SUM(I28:J28) -> 188 | L28: =RANK(J28,J$6:J$76) -> 8 | M28: =COUNTA(D28,E28,F28,G28,H28)/5 -> 0.6
B29: 330 | C29: 남 | D29: 5 | E29: 4 | F29: 10 | H29: 8 | I29: =SUM(D29:H29) -> 27 | J29: ='4주차'!K29 -> 68 | K29: =SUM(I29:J29) -> 95 | L29: =RANK(J29,J$6:J$76) -> 42 | M29: =COUNTA(D29,E29,F29,G29,H29)/5 -> 0.8
B30: 332 | C30: 남 | I30: =SUM(D30:H30) -> 0 | J30: ='4주차'!K30 -> 0 | K30: =SUM(I30:J30) -> 0 | L30: =RANK(J30,J$6:J$76) -> 62 | M30: =COUNTA(D30,E30,F30,G30,H30)/5 -> 0
B31: 333 | C31: 남 | D31: 6 | E31: 5 | F31: 10 | G31: 7 | H31: 11 | I31: =SUM(D31:H31) -> 39 | J31: ='4주차'!K31 -> 150 | K31: =SUM(I31:J31) -> 189 | L31: =RANK(J31,J$6:J$76) -> 17 | M31: =COUNTA(D31,E31,F31,G31,H31)/5 -> 1
B32: 334 | C32: 남 | D32: 5 | E32: 10 | F32: 10 | G32: 5 | I32: =SUM(D32:H32) -> 30 | J32: ='4주차'!K32 -> 156 | K32: =SUM(I32:J32) -> 186 | L32: =RANK(J32,J$6:J$76) -> 13 | M32: =COUNTA(D32,E32,F32,G32,H32)/5 -> 0.8
B33: 335 | C33: 남 | D33: 6 | E33: 6 | F33: 11 | G33: 3 | H33: 11 | I33: =SUM(D33:H33) -> 37 | J33: ='4주차'!K33 -> 149 | K33: =SUM(I33:J33) -> 186 | L33: =RANK(J33,J$6:J$76) -> 19 | M33: =COUNTA(D33,E33,F33,G33,H33)/5 -> 1
B34: 340 | C34: 남 | I34: =SUM(D34:H34) -> 0 | J34: ='4주차'!K34 -> 0 | K34: =SUM(I34:J34) -> 0 | L34: =RANK(J34,J$6:J$76) -> 62 | M34: =COUNTA(D34,E34,F34,G34,H34)/5 -> 0
B35: 341 | C35: 남 | D35: 1 | E35: 4 | F35: 6 | G35: 7 | I35: =SUM(D35:H35) -> 18 | J35: ='4주차'!K35 -> 107 | K35: =SUM(I35:J35) -> 125 | L35: =RANK(J35,J$6:J$76) -> 30 | M35: =COUNTA(D35,E35,F35,G35,H35)/5 -> 0.8
B36: 342 | C36: 남 | F36: 4 | I36: =SUM(D36:H36) -> 4 | J36: ='4주차'!K36 -> 79 | K36: =SUM(I36:J36) -> 83 | L36: =RANK(J36,J$6:J$76) -> 38 | M36: =COUNTA(D36,E36,F36,G36,H36)/5 -> 0.2
B37: 343 | C37: 남 | I37: =SUM(D37:H37) -> 0 | J37: ='4주차'!K37 -> 7 | K37: =SUM(I37:J37) -> 7 | L37: =RANK(J37,J$6:J$76) -> 60 | M37: =COUNTA(D37,E37,F37,G37,H37)/5 -> 0
B38: 451 | C38: 여 | D38: 10 | E38: 14 | F38: 14 | G38: 13 | H38: 11 | I38: =SUM(D38:H38) -> 62 | J38: ='4주차'!K38 -> 236 | K38: =SUM(I38:J38) -> 298 | L38: =RANK(J38,J$6:J$76) -> 1 | M38: =COUNTA(D38,E38,F38,G38,H38)/5 -> 1
B39: 452 | C39: 여 | I39: =SUM(D39:H39) -> 0 | J39: ='4주차'!K39 -> 0 | K39: =SUM(I39:J39) -> 0 | L39: =RANK(J39,J$6:J$76) -> 62 | M39: =COUNTA(D39,E39,F39,G39,H39)/5 -> 0
B40: 454 | C40: 여 | I40: =SUM(D40:H40) -> 0 | J40: ='4주차'!K40 -> 21 | K40: =SUM(I40:J40) -> 21 | L40: =RANK(J40,J$6:J$76) -> 52 | M40: =COUNTA(D40,E40,F40,G40,H40)/5 -> 0
B41: 455 | C41: 여 | I41: =SUM(D41:H41) -> 0 | J41: ='4주차'!K41 -> 49 | K41: =SUM(I41:J41) -> 49 | L41: =RANK(J41,J$6:J$76) -> 45 | M41: =COUNTA(D41,E41,F41,G41,H41)/5 -> 0
B42: 456 | C42: 남 | D42: 2 | E42: 7 | F42: 3 | G42: 8 | H42: 10 | I42: =SUM(D42:H42) -> 30 | J42: ='4주차'!K42 -> 148 | K42: =SUM(I42:J42) -> 178 | L42: =RANK(J42,J$6:J$76) -> 20 | M42: =COUNTA(D42,E42,F42,G42,H42)/5 -> 1
B43: 458 | C43: 남 | I43: =SUM(D43:H43) -> 0 | J43: ='4주차'!K43 -> 104 | K43: =SUM(I43:J43) -> 104 | L43: =RANK(J43,J$6:J$76) -> 31 | M43: =COUNTA(D43,E43,F43,G43,H43)/5 -> 0
B44: 459 | C44: 여 | D44: 5 | E44: 5 | F44: 14 | G44: 6 | H44: 10 | I44: =SUM(D44:H44) -> 40 | J44: ='4주차'!K44 -> 148 | K44: =SUM(I44:J44) -> 188 | L44: =RANK(J44,J$6:J$76) -> 20 | M44: =COUNTA(D44,E44,F44,G44,H44)/5 -> 1
B45: 460 | C45: 남 | E45: 7 | F45: 13 | G45: 5 | H45: 8 | I45: =SUM(D45:H45) -> 33 | J45: ='4주차'!K45 -> 167 | K45: =SUM(I45:J45) -> 200 | L45: =RANK(J45,J$6:J$76) -> 8 | M45: =COUNTA(D45,E45,F45,G45,H45)/5 -> 0.8
B46: 461 | C46: 여 | D46: 4 | E46: 5 | F46: 9 | G46: 7 | H46: 6 | I46: =SUM(D46:H46) -> 31 | J46: ='4주차'!K46 -> 156 | K46: =SUM(I46:J46) -> 187 | L46: =RANK(J46,J$6:J$76) -> 13 | M46: =COUNTA(D46,E46,F46,G46,H46)/5 -> 1
B47: 462 | C47: 여 | D47: 4 | E47: 4 | F47: 7 | G47: 8 | H47: 6 | I47: =SUM(D47:H47) -> 29 | J47: ='4주차'!K47 -> 109 | K47: =SUM(I47:J47) -> 138 | L47: =RANK(J47,J$6:J$76) -> 29 | M47: =COUNTA(D47,E47,F47,G47,H47)/5 -> 1
B48: 464 | C48: 여 | I48: =SUM(D48:H48) -> 0 | J48: ='4주차'!K48 -> 8 | K48: =SUM(I48:J48) -> 8 | L48: =RANK(J48,J$6:J$76) -> 59 | M48: =COUNTA(D48,E48,F48,G48,H48)/5 -> 0
B49: 465 | C49: 남 | I49: =SUM(D49:H49) -> 0 | J49: ='4주차'!K49 -> 0 | K49: =SUM(I49:J49) -> 0 | L49: =RANK(J49,J$6:J$76) -> 62 | M49: =COUNTA(D49,E49,F49,G49,H49)/5 -> 0
B50: 466 | C50: 남 | D50: 7 | E50: 7 | F50: 11 | G50: 9 | H50: 9 | I50: =SUM(D50:H50) -> 43 | J50: ='4주차'!K50 -> 172 | K50: =SUM(I50:J50) -> 215 | L50: =RANK(J50,J$6:J$76) -> 7 | M50: =COUNTA(D50,E50,F50,G50,H50)/5 -> 1
B51: 467 | C51: 여 | D51: 6 | E51: 3 | F51: 11 | G51: 6 | H51: 12 | I51: =SUM(D51:H51) -> 38 | J51: ='4주차'!K51 -> 180 | K51: =SUM(I51:J51) -> 218 | L51: =RANK(J51,J$6:J$76) -> 5 | M51: =COUNTA(D51,E51,F51,G51,H51)/5 -> 1
B52: 468 | C52: 남 | I52: =SUM(D52:H52) -> 0 | J52: ='4주차'!K52 -> 70 | K52: =SUM(I52:J52) -> 70 | L52: =RANK(J52,J$6:J$76) -> 41 | M52: =COUNTA(D52,E52,F52,G52,H52)/5 -> 0
B53: 469 | C53: 남 | E53: 4 | I53: =SUM(D53:H53) -> 4 | J53: ='4주차'!K53 -> 81 | K53: =SUM(I53:J53) -> 85 | L53: =RANK(J53,J$6:J$76) -> 35 | M53: =COUNTA(D53,E53,F53,G53,H53)/5 -> 0.2
B54: 473 | C54: 남 | I54: =SUM(D54:H54) -> 0 | J54: ='4주차'!K54 -> 0 | K54: =SUM(I54:J54) -> 0 | L54: =RANK(J54,J$6:J$76) -> 62 | M54: =COUNTA(D54,E54,F54,G54,H54)/5 -> 0
B55: 474 | C55: 남 | D55: 10 | E55: 9 | F55: 11 | G55: 9 | H55: 11 | I55: =SUM(D55:H55) -> 50 | J55: ='4주차'!K55 -> 213 | K55: =SUM(I55:J55) -> 263 | L55: =RANK(J55,J$6:J$76) -> 3 | M55: =COUNTA(D55,E55,F55,G55,H55)/5 -> 1
B56: 476 | C56: 여 | D56: 10 | E56: 8 | F56: 9 | G56: 11 | H56: 11 | I56: =SUM(D56:H56) -> 49 | J56: ='4주차'!K56 -> 193 | K56: =SUM(I56:J56) -> 242 | L56: =RANK(J56,J$6:J$76) -> 4 | M56: =COUNTA(D56,E56,F56,G56,H56)/5 -> 1
B57: 477 | C57: 남 | D57: 6 | E57: 13 | F57: 15 | I57: =SUM(D57:H57) -> 34 | J57: ='4주차'!K57 -> 216 | K57: =SUM(I57:J57) -> 250 | L57: =RANK(J57,J$6:J$76) -> 2 | M57: =COUNTA(D57,E57,F57,G57,H57)/5 -> 0.6
B58: 478 | C58: 남 | D58: 6 | E58: 11 | F58: 13 | G58: 14 | H58: 6 | I58: =SUM(D58:H58) -> 50 | J58: ='4주차'!K58 -> 177 | K58: =SUM(I58:J58) -> 227 | L58: =RANK(J58,J$6:J$76) -> 6 | M58: =COUNTA(D58,E58,F58,G58,H58)/5 -> 1
B59: 479 | C59: 여 | D59: 3 | E59: 5 | F59: 4 | G59: 4 | I59: =SUM(D59:H59) -> 16 | J59: ='4주차'!K59 -> 143 | K59: =SUM(I59:J59) -> 159 | L59: =RANK(J59,J$6:J$76) -> 25 | M59: =COUNTA(D59,E59,F59,G59,H59)/5 -> 0.8
B60: 480 | C60: 여 | I60: =SUM(D60:H60) -> 0 | J60: ='4주차'!K60 -> 36 | K60: =SUM(I60:J60) -> 36 | L60: =RANK(J60,J$6:J$76) -> 49 | M60: =COUNTA(D60,E60,F60,G60,H60)/5 -> 0
B61: 481 | C61: 여 | I61: =SUM(D61:H61) -> 0 | J61: ='4주차'!K61 -> 20 | K61: =SUM(I61:J61) -> 20 | L61: =RANK(J61,J$6:J$76) -> 53 | M61: =COUNTA(D61,E61,F61,G61,H61)/5 -> 0
B62: 482 | C62: 남 | D62: 7 | E62: 4 | F62: 10 | G62: 3 | H62: 5 | I62: =SUM(D62:H62) -> 29 | J62: ='4주차'!K62 -> 90 | K62: =SUM(I62:J62) -> 119 | L62: =RANK(J62,J$6:J$76) -> 34 | M62: =COUNTA(D62,E62,F62,G62,H62)/5 -> 1
B63: 486 | C63: 남 | D63: 5 | E63: 0 | G63: 0 | I63: =SUM(D63:H63) -> 5 | J63: ='4주차'!K63 -> 56 | K63: =SUM(I63:J63) -> 61 | L63: =RANK(J63,J$6:J$76) -> 44 | M63: =COUNTA(D63,E63,F63,G63,H63)/5 -> 0.6
B64: 487 | C64: 남 | G64: 5 | I64: =SUM(D64:H64) -> 5 | J64: ='4주차'!K64 -> 71 | K64: =SUM(I64:J64) -> 76 | L64: =RANK(J64,J$6:J$76) -> 40 | M64: =COUNTA(D64,E64,F64,G64,H64)/5 -> 0.2
B65: 488 | C65: 여 | I65: =SUM(D65:H65) -> 0 | J65: ='4주차'!K65 -> 27 | K65: =SUM(I65:J65) -> 27 | L65: =RANK(J65,J$6:J$76) -> 51 | M65: =COUNTA(D65,E65,F65,G65,H65)/5 -> 0
B66: 489 | C66: 남 | D66: 2 | E66: 12 | F66: 8 | G66: 6 | I66: =SUM(D66:H66) -> 28 | J66: ='4주차'!K66 -> 116 | K66: =SUM(I66:J66) -> 144 | L66: =RANK(J66,J$6:J$76) -> 28 | M66: =COUNTA(D66,E66,F66,G66,H66)/5 -> 0.8
B67: 492 | C67: 여 | E67: 5 | F67: 10 | H67: 6 | I67: =SUM(D67:H67) -> 21 | J67: ='4주차'!K67 -> 81 | K67: =SUM(I67:J67) -> 102 | L67: =RANK(J67,J$6:J$76) -> 35 | M67: =COUNTA(D67,E67,F67,G67,H67)/5 -> 0.6
B68: 493 | C68: 남 | I68: =SUM(D68:H68) -> 0 | J68: ='4주차'!K68 -> 0 | K68: =SUM(I68:J68) -> 0 | L68: =RANK(J68,J$6:J$76) -> 62 | M68: =COUNTA(D68,E68,F68,G68,H68)/5 -> 0
B69: 494 | C69: 여 | I69: =SUM(D69:H69) -> 0 | J69: ='4주차'!K69 -> 77 | K69: =SUM(I69:J69) -> 77 | L69: =RANK(J69,J$6:J$76) -> 39 | M69: =COUNTA(D69,E69,F69,G69,H69)/5 -> 0
B70: 495 | C70: 남 | I70: =SUM(D70:H70) -> 0 | J70: ='4주차'!K70 -> 0 | K70: =SUM(I70:J70) -> 0 | L70: =RANK(J70,J$6:J$76) -> 62 | M70: =COUNTA(D70,E70,F70,G70,H70)/5 -> 0
B71: 496 | C71: 남 | D71: 4 | E71: 6 | G71: 8 | H71: 6 | I71: =SUM(D71:H71) -> 24 | J71: ='4주차'!K71 -> 151 | K71: =SUM(I71:J71) -> 175 | L71: =RANK(J71,J$6:J$76) -> 16 | M71: =COUNTA(D71,E71,F71,G71,H71)/5 -> 0.8
B72: 497 | C72: 남 | I72: =SUM(D72:H72) -> 0 | J72: ='4주차'!K72 -> 59 | K72: =SUM(I72:J72) -> 59 | L72: =RANK(J72,J$6:J$76) -> 43 | M72: =COUNTA(D72,E72,F72,G72,H72)/5 -> 0
B73: 498 | C73: 남 | I73: =SUM(D73:H73) -> 0 | J73: ='4주차'!K73 -> 0 | K73: =SUM(I73:J73) -> 0 | L73: =RANK(J73,J$6:J$76) -> 62 | M73: =COUNTA(D73,E73,F73,G73,H73)/5 -> 0
B74: 499 | C74: 남 | I74: =SUM(D74:H74) -> 0 | J74: ='4주차'!K74 -> 9 | K74: =SUM(I74:J74) -> 9 | L74: =RANK(J74,J$6:J$76) -> 58 | M74: =COUNTA(D74,E74,F74,G74,H74)/5 -> 0
B75: 344 | C75: 여 | I75: =SUM(D75:H75) -> 0 | J75: ='4주차'!K75 -> 46 | K75: =SUM(I75:J75) -> 46 | L75: =RANK(J75,J$6:J$76) -> 46 | M75: =COUNTA(D75,E75,F75,G75,H75)/5 -> 0
B76: 345 | C76: 남 | G76: 2 | I76: =SUM(D76:H76) -> 2 | J76: ='4주차'!K76 -> 18 | K76: =SUM(I76:J76) -> 20 | L76: =RANK(J76,J$6:J$76) -> 54 | M76: =COUNTA(D76,E76,F76,G76,H76)/5 -> 0.2
B77: * 이상이 있으신 분은 1층 사무실로 오시길 바랍니다.
B78: 최고의 장학생을 선발합니다. ^^ 누적점수 1위가 바로 장학생 입니다.^^
B80: 시험지는 시험시간 외 제공되지 않습니다.
O89: sol1004

Sheet 6주차
B2: 11~12월 아침 모의고사 성적현황
B3: 시험 5주차 : 12월 14일 ~ 18일
D4: 10 | E4: 11 | F4: 12 | G4: 13 | H4: 14 | I4: 성적 | M4: 모의고사 참여율 | N4: 비고
A5: 수험 번호 | B5: 수험 번호 | C5: 성별 | D5: 형법 | E5: 국사 | F5: 형소법 | G5: 경찰학 | H5: 영어 | I5: 주간 총점 | J5: 지난주 총점 | K5: 전체 총점 | L5: 등수
B6: 300 | C6: 남 | D6: 9 | E6: 10 | F6: 12 | G6: 10 | H6: 9 | I6: =SUM(D6:H6) -> 50 | J6: ='5주차'!K6 -> 187 | K6: =SUM(I6:J6) -> 237 | L6: =RANK(J6,J$6:J$67) -> 17 | M6: =COUNTA(D6,E6,F6,G6,H6)/5 -> 1
B7: 301 | C7: 남 | D7: 5 | E7: 11 | F7: 15 | G7: 6 | H7: 14 | I7: =SUM(D7:H7) -> 51 | J7: ='5주차'!K7 -> 200 | K7: =SUM(I7:J7) -> 251 | L7: =RANK(J7,J$6:J$67) -> 9 | M7: =COUNTA(D7,E7,F7,G7,H7)/5 -> 1
B8: 304 | C8: 남 | D8: 3 | E8: 7 | F8: 7 | G8: 9 | H8: 7 | I8: =SUM(D8:H8) -> 33 | J8: ='5주차'!K9 -> 156 | K8: =SUM(I8:J8) -> 189 | L8: =RANK(J8,J$6:J$67) -> 27 | M8: =COUNTA(D8,E8,F8,G8,H8)/5 -> 1
B9: 305 | C9: 남 | I9: =SUM(D9:H9) -> 0 | J9: ='5주차'!K10 -> 84 | K9: =SUM(I9:J9) -> 84 | L9: =RANK(J9,J$6:J$67) -> 38 | M9: =COUNTA(D9,E9,F9,G9,H9)/5 -> 0
B10: 307 | C10: 여 | E10: 5 | F10: 8 | G10: 6 | H10: 9 | I10: =SUM(D10:H10) -> 28 | J10: ='5주차'!K12 -> 137 | K10: =SUM(I10:J10) -> 165 | L10: =RANK(J10,J$6:J$67) -> 30 | M10: =COUNTA(D10,E10,F10,G10,H10)/5 -> 0.8
B11: 308 | C11: 여 | D11: 8 | E11: 9 | F11: 13 | G11: 7 | I11: =SUM(D11:H11) -> 37 | J11: ='5주차'!K13 -> 196 | K11: =SUM(I11:J11) -> 233 | L11: =RANK(J11,J$6:J$67) -> 11 | M11: =COUNTA(D11,E11,F11,G11,H11)/5 -> 0.8
B12: 309 | C12: 남 | D12: 6 | E12: 11 | F12: 14 | G12: 10 | H12: 15 | I12: =SUM(D12:H12) -> 56 | J12: ='5주차'!K14 -> 206 | K12: =SUM(I12:J12) -> 262 | L12: =RANK(J12,J$6:J$67) -> 8 | M12: =COUNTA(D12,E12,F12,G12,H12)/5 -> 1
B13: 310 | C13: 남 | D13: 5 | E13: 10 | F13: 13 | G13: 10 | H13: 14 | I13: =SUM(D13:H13) -> 52 | J13: ='5주차'!K15 -> 189 | K13: =SUM(I13:J13) -> 241 | L13: =RANK(J13,J$6:J$67) -> 12 | M13: =COUNTA(D13,E13,F13,G13,H13)/5 -> 1
B14: 311 | C14: 남 | I14: =SUM(D14:H14) -> 0 | J14: ='5주차'!K16 -> 33 | K14: =SUM(I14:J14) -> 33 | L14: =RANK(J14,J$6:J$67) -> 46 | M14: =COUNTA(D14,E14,F14,G14,H14)/5 -> 0
B15: 314 | C15: 남 | D15: 7 | F15: 12 | G15: 4 | H15: 14 | I15: =SUM(D15:H15) -> 37 | J15: ='5주차'!K18 -> 182 | K15: =SUM(I15:J15) -> 219 | L15: =RANK(J15,J$6:J$67) -> 21 | M15: =COUNTA(D15,E15,F15,G15,H15)/5 -> 0.8
B16: 321 | C16: 여 | I16: =SUM(D16:H16) -> 0 | J16: ='5주차'!K21 -> 5 | K16: =SUM(I16:J16) -> 5 | L16: =RANK(J16,J$6:J$67) -> 54 | M16: =COUNTA(D16,E16,F16,G16,H16)/5 -> 0
B17: 323 | C17: 남 | I17: =SUM(D17:H17) -> 0 | J17: ='5주차'!K22 -> 38 | K17: =SUM(I17:J17) -> 38 | L17: =RANK(J17,J$6:J$67) -> 45 | M17: =COUNTA(D17,E17,F17,G17,H17)/5 -> 0
B18: 324 | C18: 남 | D18: 8 | E18: 11 | I18: =SUM(D18:H18) -> 19 | J18: ='5주차'!K23 -> 123 | K18: =SUM(I18:J18) -> 142 | L18: =RANK(J18,J$6:J$67) -> 32 | M18: =COUNTA(D18,E18,F18,G18,H18)/5 -> 0.4
B19: 325 | C19: 남 | D19: 7 | E19: 9 | F19: 9 | G19: 6 | H19: 5 | I19: =SUM(D19:H19) -> 36 | J19: ='5주차'!K24 -> 181 | K19: =SUM(I19:J19) -> 217 | L19: =RANK(J19,J$6:J$67) -> 22 | M19: =COUNTA(D19,E19,F19,G19,H19)/5 -> 1
B20: 326 | C20: 남 | I20: =SUM(D20:H20) -> 0 | J20: ='5주차'!K25 -> 0 | K20: =SUM(I20:J20) -> 0 | L20: =RANK(J20,J$6:J$67) -> 55 | M20: =COUNTA(D20,E20,F20,G20,H20)/5 -> 0
B21: 327 | C21: 남 | D21: 5 | F21: 11 | G21: 7 | H21: 3 | I21: =SUM(D21:H21) -> 26 | J21: ='5주차'!K26 -> 188 | K21: =SUM(I21:J21) -> 214 | L21: =RANK(J21,J$6:J$67) -> 14 | M21: =COUNTA(D21,E21,F21,G21,H21)/5 -> 0.8
B22: 328 | C22: 남 | D22: 6 | E22: 7 | G22: 8 | H22: 6 | I22: =SUM(D22:H22) -> 27 | J22: ='5주차'!K27 -> 178 | K22: =SUM(I22:J22) -> 205 | L22: =RANK(J22,J$6:J$67) -> 23 | M22: =COUNTA(D22,E22,F22,G22,H22)/5 -> 0.8
B23: 329 | C23: 남 | E23: 6 | I23: =SUM(D23:H23) -> 6 | J23: ='5주차'!K28 -> 188 | K23: =SUM(I23:J23) -> 194 | L23: =RANK(J23,J$6:J$67) -> 14 | M23: =COUNTA(D23,E23,F23,G23,H23)/5 -> 0.2
B24: 330 | C24: 남 | D24: 5 | E24: 2 | F24: 8 | G24: 4 | H24: 5 | I24: =SUM(D24:H24) -> 24 | J24: ='5주차'!K29 -> 95 | K24: =SUM(I24:J24) -> 119 | L24: =RANK(J24,J$6:J$67) -> 36 | M24: =COUNTA(D24,E24,F24,G24,H24)/5 -> 1
B25: 332 | C25: 남 | I25: =SUM(D25:H25) -> 0 | J25: ='5주차'!K30 -> 0 | K25: =SUM(I25:J25) -> 0 | L25: =RANK(J25,J$6:J$67) -> 55 | M25: =COUNTA(D25,E25,F25,G25,H25)/5 -> 0
B26: 333 | C26: 남 | D26: 5 | E26: 10 | F26: 14 | G26: 8 | H26: 14 | I26: =SUM(D26:H26) -> 51 | J26: ='5주차'!K31 -> 189 | K26: =SUM(I26:J26) -> 240 | L26: =RANK(J26,J$6:J$67) -> 12 | M26: =COUNTA(D26,E26,F26,G26,H26)/5 -> 1
B27: 334 | C27: 남 | D27: 7 | F27: 11 | G27: 10 | H27: 15 | I27: =SUM(D27:H27) -> 43 | J27: ='5주차'!K32 -> 186 | K27: =SUM(I27:J27) -> 229 | L27: =RANK(J27,J$6:J$67) -> 19 | M27: =COUNTA(D27,E27,F27,G27,H27)/5 -> 0.8
B28: 335 | C28: 남 | D28: 4 | E28: 9 | F28: 12 | G28: 8 | H28: 15 | I28: =SUM(D28:H28) -> 48 | J28: ='5주차'!K33 -> 186 | K28: =SUM(I28:J28) -> 234 | L28: =RANK(J28,J$6:J$67) -> 19 | M28: =COUNTA(D28,E28,F28,G28,H28)/5 -> 1
B29: 340 | C29: 남 | I29: =SUM(D29:H29) -> 0 | J29: ='5주차'!K34 -> 0 | K29: =SUM(I29:J29) -> 0 | L29: =RANK(J29,J$6:J$67) -> 55 | M29: =COUNTA(D29,E29,F29,G29,H29)/5 -> 0
B30: 341 | C30: 남 | D30: 5 | E30: 4 | F30: 9 | G30: 6 | H30: 9 | I30: =SUM(D30:H30) -> 33 | J30: ='5주차'!K35 -> 125 | K30: =SUM(I30:J30) -> 158 | L30: =RANK(J30,J$6:J$67) -> 31 | M30: =COUNTA(D30,E30,F30,G30,H30)/5 -> 1
B31: 342 | C31: 남 | I31: =SUM(D31:H31) -> 0 | J31: ='5주차'!K36 -> 83 | K31: =SUM(I31:J31) -> 83 | L31: =RANK(J31,J$6:J$67) -> 39 | M31: =COUNTA(D31,E31,F31,G31,H31)/5 -> 0
B32: 343 | C32: 남 | I32: =SUM(D32:H32) -> 0 | J32: ='5주차'!K37 -> 7 | K32: =SUM(I32:J32) -> 7 | L32: =RANK(J32,J$6:J$67) -> 53 | M32: =COUNTA(D32,E32,F32,G32,H32)/5 -> 0
B33: 451 | C33: 여 | D33: 10 | E33: 10 | F33: 13 | G33: 13 | H33: 12 | I33: =SUM(D33:H33) -> 58 | J33: ='5주차'!K38 -> 298 | K33: =SUM(I33:J33) -> 356 | L33: =RANK(J33,J$6:J$67) -> 1 | M33: =COUNTA(D33,E33,F33,G33,H33)/5 -> 1
B34: 452 | C34: 여 | I34: =SUM(D34:H34) -> 0 | J34: ='5주차'!K39 -> 0 | K34: =SUM(I34:J34) -> 0 | L34: =RANK(J34,J$6:J$67) -> 55 | M34: =COUNTA(D34,E34,F34,G34,H34)/5 -> 0
B35: 454 | C35: 여 | I35: =SUM(D35:H35) -> 0 | J35: ='5주차'!K40 -> 21 | K35: =SUM(I35:J35) -> 21 | L35: =RANK(J35,J$6:J$67) -> 48 | M35: =COUNTA(D35,E35,F35,G35,H35)/5 -> 0
B36: 456 | C36: 남 | D36: 4 | E36: 9 | G36: 6 | H36: 6 | I36: =SUM(D36:H36) -> 25 | J36: ='5주차'!K42 -> 178 | K36: =SUM(I36:J36) -> 203 | L36: =RANK(J36,J$6:J$67) -> 23 | M36: =COUNTA(D36,E36,F36,G36,H36)/5 -> 0.8
B37: 458 | C37: 남 | I37: =SUM(D37:H37) -> 0 | J37: ='5주차'!K43 -> 104 | K37: =SUM(I37:J37) -> 104 | L37: =RANK(J37,J$6:J$67) -> 34 | M37: =COUNTA(D37,E37,F37,G37,H37)/5 -> 0
B38: 459 | C38: 여 | D38: 8 | F38: 10 | G38: 5 | H38: 10 | I38: =SUM(D38:H38) -> 33 | J38: ='5주차'!K44 -> 188 | K38: =SUM(I38:J38) -> 221 | L38: =RANK(J38,J$6:J$67) -> 14 | M38: =COUNTA(D38,E38,F38,G38,H38)/5 -> 0.8
B39: 460 | C39: 남 | D39: 7 | E39: 11 | F39: 13 | G39: 9 | I39: =SUM(D39:H39) -> 40 | J39: ='5주차'!K45 -> 200 | K39: =SUM(I39:J39) -> 240 | L39: =RANK(J39,J$6:J$67) -> 9 | M39: =COUNTA(D39,E39,F39,G39,H39)/5 -> 0.8
B40: 461 | C40: 여 | D40: 5 | E40: 5 | F40: 7 | G40: 4 | H40: 8 | I40: =SUM(D40:H40) -> 29 | J40: ='5주차'!K46 -> 187 | K40: =SUM(I40:J40) -> 216 | L40: =RANK(J40,J$6:J$67) -> 17 | M40: =COUNTA(D40,E40,F40,G40,H40)/5 -> 1
B41: 462 | C41: 여 | D41: 1 | E41: 5 | F41: 12 | G41: 7 | H41: 7 | I41: =SUM(D41:H41) -> 32 | J41: ='5주차'!K47 -> 138 | K41: =SUM(I41:J41) -> 170 | L41: =RANK(J41,J$6:J$67) -> 29 | M41: =COUNTA(D41,E41,F41,G41,H41)/5 -> 1
B42: 464 | C42: 여 | I42: =SUM(D42:H42) -> 0 | J42: ='5주차'!K48 -> 8 | K42: =SUM(I42:J42) -> 8 | L42: =RANK(J42,J$6:J$67) -> 52 | M42: =COUNTA(D42,E42,F42,G42,H42)/5 -> 0
B43: 465 | C43: 남 | I43: =SUM(D43:H43) -> 0 | J43: ='5주차'!K49 -> 0 | K43: =SUM(I43:J43) -> 0 | L43: =RANK(J43,J$6:J$67) -> 55 | M43: =COUNTA(D43,E43,F43,G43,H43)/5 -> 0
B44: 466 | C44: 남 | D44: 6 | E44: 7 | I44: =SUM(D44:H44) -> 13 | J44: ='5주차'!K50 -> 215 | K44: =SUM(I44:J44) -> 228 | L44: =RANK(J44,J$6:J$67) -> 7 | M44: =COUNTA(D44,E44,F44,G44,H44)/5 -> 0.4
B45: 467 | C45: 여 | D45: 7 | E45: 5 | G45: 6 | H45: 9 | I45: =SUM(D45:H45) -> 27 | J45: ='5주차'!K51 -> 218 | K45: =SUM(I45:J45) -> 245 | L45: =RANK(J45,J$6:J$67) -> 6 | M45: =COUNTA(D45,E45,F45,G45,H45)/5 -> 0.8
B46: 468 | C46: 남 | I46: =SUM(D46:H46) -> 0 | J46: ='5주차'!K52 -> 70 | K46: =SUM(I46:J46) -> 70 | L46: =RANK(J46,J$6:J$67) -> 42 | M46: =COUNTA(D46,E46,F46,G46,H46)/5 -> 0
B47: 469 | C47: 남 | I47: =SUM(D47:H47) -> 0 | J47: ='5주차'!K53 -> 85 | K47: =SUM(I47:J47) -> 85 | L47: =RANK(J47,J$6:J$67) -> 37 | M47: =COUNTA(D47,E47,F47,G47,H47)/5 -> 0
B48: 473 | C48: 남 | I48: =SUM(D48:H48) -> 0 | J48: ='5주차'!K54 -> 0 | K48: =SUM(I48:J48) -> 0 | L48: =RANK(J48,J$6:J$67) -> 55 | M48: =COUNTA(D48,E48,F48,G48,H48)/5 -> 0
B49: 474 | C49: 남 | D49: 7 | E49: 9 | F49: 9 | G49: 8 | H49: 12 | I49: =SUM(D49:H49) -> 45 | J49: ='5주차'!K55 -> 263 | K49: =SUM(I49:J49) -> 308 | L49: =RANK(J49,J$6:J$67) -> 2 | M49: =COUNTA(D49,E49,F49,G49,H49)/5 -> 1
B50: 476 | C50: 여 | D50: 6 | E50: 10 | F50: 13 | G50: 11 | H50: 14 | I50: =SUM(D50:H50) -> 54 | J50: ='5주차'!K56 -> 242 | K50: =SUM(I50:J50) -> 296 | L50: =RANK(J50,J$6:J$67) -> 4 | M50: =COUNTA(D50,E50,F50,G50,H50)/5 -> 1
B51: 477 | C51: 남 | I51: =SUM(D51:H51) -> 0 | J51: ='5주차'!K57 -> 250 | K51: =SUM(I51:J51) -> 250 | L51: =RANK(J51,J$6:J$67) -> 3 | M51: =COUNTA(D51,E51,F51,G51,H51)/5 -> 0
B52: 478 | C52: 남 | D52: 6 | E52: 12 | F52: 13 | G52: 13 | H52: 11 | I52: =SUM(D52:H52) -> 55 | J52: ='5주차'!K58 -> 227 | K52: =SUM(I52:J52) -> 282 | L52: =RANK(J52,J$6:J$67) -> 5 | M52: =COUNTA(D52,E52,F52,G52,H52)/5 -> 1
B53: 479 | C53: 여 | E53: 5 | F53: 8 | I53: =SUM(D53:H53) -> 13 | J53: ='5주차'!K59 -> 159 | K53: =SUM(I53:J53) -> 172 | L53: =RANK(J53,J$6:J$67) -> 26 | M53: =COUNTA(D53,E53,F53,G53,H53)/5 -> 0.4
B54: 481 | C54: 여 | I54: =SUM(D54:H54) -> 0 | J54: ='5주차'!K61 -> 20 | K54: =SUM(I54:J54) -> 20 | L54: =RANK(J54,J$6:J$67) -> 49 | M54: =COUNTA(D54,E54,F54,G54,H54)/5 -> 0
B55: 482 | C55: 남 | D55: 1 | E55: 2 | I55: =SUM(D55:H55) -> 3 | J55: ='5주차'!K62 -> 119 | K55: =SUM(I55:J55) -> 122 | L55: =RANK(J55,J$6:J$67) -> 33 | M55: =COUNTA(D55,E55,F55,G55,H55)/5 -> 0.4
B56: 486 | C56: 남 | D56: 8 | I56: =SUM(D56:H56) -> 8 | J56: ='5주차'!K63 -> 61 | K56: =SUM(I56:J56) -> 69 | L56: =RANK(J56,J$6:J$67) -> 43 | M56: =COUNTA(D56,E56,F56,G56,H56)/5 -> 0.2
B57: 487 | C57: 남 | I57: =SUM(D57:H57) -> 0 | J57: ='5주차'!K64 -> 76 | K57: =SUM(I57:J57) -> 76 | L57: =RANK(J57,J$6:J$67) -> 41 | M57: =COUNTA(D57,E57,F57,G57,H57)/5 -> 0
B58: 488 | C58: 여 | I58: =SUM(D58:H58) -> 0 | J58: ='5주차'!K65 -> 27 | K58: =SUM(I58:J58) -> 27 | L58: =RANK(J58,J$6:J$67) -> 47 | M58: =COUNTA(D58,E58,F58,G58,H58)/5 -> 0
B59: 489 | C59: 남 | E59: 12 | F59: 9 | G59: 6 | I59: =SUM(D59:H59) -> 27 | J59: ='5주차'!K66 -> 144 | K59: =SUM(I59:J59) -> 171 | L59: =RANK(J59,J$6:J$67) -> 28 | M59: =COUNTA(D59,E59,F59,G59,H59)/5 -> 0.6
B60: 492 | C60: 여 | E60: 7 | F60: 13 | I60: =SUM(D60:H60) -> 20 | J60: ='5주차'!K67 -> 102 | K60: =SUM(I60:J60) -> 122 | L60: =RANK(J60,J$6:J$67) -> 35 | M60: =COUNTA(D60,E60,F60,G60,H60)/5 -> 0.4
B61: 493 | C61: 남 | I61: =SUM(D61:H61) -> 0 | J61: ='5주차'!K68 -> 0 | K61: =SUM(I61:J61) -> 0 | L61: =RANK(J61,J$6:J$67) -> 55 | M61: =COUNTA(D61,E61,F61,G61,H61)/5 -> 0
B62: 494 | C62: 여 | D62: 3 | E62: 10 | I62: =SUM(D62:H62) -> 13 | J62: ='5주차'!K69 -> 77 | K62: =SUM(I62:J62) -> 90 | L62: =RANK(J62,J$6:J$67) -> 40 | M62: =COUNTA(D62,E62,F62,G62,H62)/5 -> 0.4
B63: 496 | C63: 남 | D63: 6 | E63: 12 | F63: 11 | G63: 6 | H63: 10 | I63: =SUM(D63:H63) -> 45 | J63: ='5주차'!K71 -> 175 | K63: =SUM(I63:J63) -> 220 | L63: =RANK(J63,J$6:J$67) -> 25 | M63: =COUNTA(D63,E63,F63,G63,H63)/5 -> 1
B64: 498 | C64: 남 | I64: =SUM(D64:H64) -> 0 | J64: ='5주차'!K73 -> 0 | K64: =SUM(I64:J64) -> 0 | L64: =RANK(J64,J$6:J$67) -> 55 | M64: =COUNTA(D64,E64,F64,G64,H64)/5 -> 0
B65: 499 | C65: 남 | I65: =SUM(D65:H65) -> 0 | J65: ='5주차'!K74 -> 9 | K65: =SUM(I65:J65) -> 9 | L65: =RANK(J65,J$6:J$67) -> 51 | M65: =COUNTA(D65,E65,F65,G65,H65)/5 -> 0
B66: 344 | C66: 여 | I66: =SUM(D66:H66) -> 0 | J66: ='5주차'!K75 -> 46 | K66: =SUM(I66:J66) -> 46 | L66: =RANK(J66,J$6:J$67) -> 44 | M66: =COUNTA(D66,E66,F66,G66,H66)/5 -> 0
B67: 345 | C67: 남 | D67: 1 | I67: =SUM(D67:H67) -> 1 | J67: ='5주차'!K76 -> 20 | K67: =SUM(I67:J67) -> 21 | L67: =RANK(J67,J$6:J$67) -> 49 | M67: =COUNTA(D67,E67,F67,G67,H67)/5 -> 0.2
B68: * 이상이 있으신 분은 1층 사무실로 오시길 바랍니다.
B69: 최고의 장학생을 선발합니다. ^^ 누적점수 1위가 바로 장학생 입니다.^^
B70: 시험지는 시험시간 외 제공되지 않습니다.
O79: sol1004

Sheet Sheet2
