Workbook

Sheet 1주차
B2: 11~12월 아침 모의고사 성적현황 | O2: 수 | P2: 김영훈 | Q2: 6
B3: 시험 1주차 : 11월 12일 ~ 16일
D4: 12 | E4: 13 | F4: 14 | G4: 15 | H4: 16 | I4: 주간성적 | K4: 모의고사 참여율 | L4: 비고
A5: 수험 번호 | B5: 수험 번호 | C5: 성별 | D5: 형법 | E5: 국사 | F5: 형소법 | G5: 경찰학 | H5: 영어 | I5: 전체 총점 | J5: 등수
B6: 300 | C6: 남 | D6: 6 | E6: 9 | F6: 9 | G6: 9 | H6: 4 | I6: =SUM(D6,E6,F6,G6,H6) -> 37 | J6: =RANK(I6,I$6:I$86) -> 23 | K6: =COUNTA(D6,E6,F6,G6,H6)/5 -> 1
B7: 301 | C7: 남 | D7: 6 | E7: 9 | F7: 8 | G7: 8 | H7: 5 | I7: =SUM(D7,E7,F7,G7,H7) -> 36 | J7: =RANK(I7,I$6:I$86) -> 26 | K7: =COUNTA(D7,E7,F7,G7,H7)/5 -> 1
B8: 303 | C8: 남 | I8: =SUM(D8,E8,F8,G8,H8) -> 0 | J8: =RANK(I8,I$6:I$86) -> 56 | K8: =COUNTA(D8,E8,F8,G8,H8)/5 -> 0
B9: 304 | C9: 남 | D9: 7 | E9: 10 | F9: 9 | G9: 4 | H9: 5 | I9: =SUM(D9,E9,F9,G9,H9) -> 35 | J9: =RANK(I9,I$6:I$86) -> 30 | K9: =COUNTA(D9,E9,F9,G9,H9)/5 -> 1
B10: 305 | C10: 남 | D10: 4 | E10: 9 | F10: 8 | G10: 4 | H10: 4 | I10: =SUM(D10,E10,F10,G10,H10) -> 29 | J10: =RANK(I10,I$6:I$86) -> 35 | K10: =COUNTA(D10,E10,F10,G10,H10)/5 -> 1
B11: 306 | C11: 남 | E11: 10 | F11: 8 | I11: =SUM(D11,E11,F11,G11,H11) -> 18 | J11: =RANK(I11,I$6:I$86) -> 48 | K11: =COUNTA(D11,E11,F11,G11,H11)/5 -> 0.4
B12: 307 | C12: 여 | D12: 6 | E12: 7 | F12: 6 | H12: 3 | I12: =SUM(D12,E12,F12,G12,H12) -> 22 | J12: =RANK(I12,I$6:I$86) -> 43 | K12: =COUNTA(D12,E12,F12,G12,H12)/5 -> 0.8
B13: 308 | C13: 여 | D13: 5 | E13: 9 | F13: 10 | G13: 8 | H13: 10 | I13: =SUM(D13,E13,F13,G13,H13) -> 42 | J13: =RANK(I13,I$6:I$86) -> 14 | K13: =COUNTA(D13,E13,F13,G13,H13)/5 -> 1
B14: 309 | C14: 남 | D14: 5 | E14: 13 | F14: 10 | G14: 9 | H14: 8 | I14: =SUM(D14,E14,F14,G14,H14) -> 45 | J14: =RANK(I14,I$6:I$86) -> 9 | K14: =COUNTA(D14,E14,F14,G14,H14)/5 -> 1
B15: 310 | C15: 남 | D15: 7 | E15: 11 | F15: 8 | G15: 10 | I15: =SUM(D15,E15,F15,G15,H15) -> 36 | J15: =RANK(I15,I$6:I$86) -> 26 | K15: =COUNTA(D15,E15,F15,G15,H15)/5 -> 0.8
B16: 311 | C16: 남 | D16: 7 | E16: 15 | G16: 11 | I16: =SUM(D16,E16,F16,G16,H16) -> 33 | J16: =RANK(I16,I$6:I$86) -> 32 | K16: =COUNTA(D16,E16,F16,G16,H16)/5 -> 0.6
B17: 313 | C17: 남 | I17: =SUM(D17,E17,F17,G17,H17) -> 0 | J17: =RANK(I17,I$6:I$86) -> 56 | K17: =COUNTA(D17,E17,F17,G17,H17)/5 -> 0
B18: 314 | C18: 남 | D18: 6 | E18: 8 | F18: 7 | G18: 8 | H18: 10 | I18: =SUM(D18,E18,F18,G18,H18) -> 39 | J18: =RANK(I18,I$6:I$86) -> 17 | K18: =COUNTA(D18,E18,F18,G18,H18)/5 -> 1
B19: 315 | C19: 여 | I19: =SUM(D19,E19,F19,G19,H19) -> 0 | J19: =RANK(I19,I$6:I$86) -> 56 | K19: =COUNTA(D19,E19,F19,G19,H19)/5 -> 0
B20: 316 | C20: 남 | E20: 0 | I20: =SUM(D20,E20,F20,G20,H20) -> 0 | J20: =RANK(I20,I$6:I$86) -> 56 | K20: =COUNTA(D20,E20,F20,G20,H20)/5 -> 0.2
B21: 317 | C21: 남 | I21: =SUM(D21,E21,F21,G21,H21) -> 0 | J21: =RANK(I21,I$6:I$86) -> 56 | K21: =COUNTA(D21,E21,F21,G21,H21)/5 -> 0
B22: 318 | C22: 남 | I22: =SUM(D22,E22,F22,G22,H22) -> 0 | J22: =RANK(I22,I$6:I$86) -> 56 | K22: =COUNTA(D22,E22,F22,G22,H22)/5 -> 0
B23: 319 | C23: 남 | I23: =SUM(D23,E23,F23,G23,H23) -> 0 | J23: =RANK(I23,I$6:I$86) -> 56 | K23: =COUNTA(D23,E23,F23,G23,H23)/5 -> 0
B24: 320 | C24: 여 | D24: 3 | E24: 9 | I24: =SUM(D24,E24,F24,G24,H24) -> 12 | J24: =RANK(I24,I$6:I$86) -> 52 | K24: =COUNTA(D24,E24,F24,G24,H24)/5 -> 0.4
B25: 321 | C25: 여 | D25: 5 | I25: =SUM(D25,E25,F25,G25,H25) -> 5 | J25: =RANK(I25,I$6:I$86) -> 54 | K25: =COUNTA(D25,E25,F25,G25,H25)/5 -> 0.2
B26: 322 | C26: 남 | I26: =SUM(D26,E26,F26,G26,H26) -> 0 | J26: =RANK(I26,I$6:I$86) -> 56 | K26: =COUNTA(D26,E26,F26,G26,H26)/5 -> 0
B27: 323 | C27: 남 | D27: 8 | E27: 12 | G27: 12 | I27: =SUM(D27,E27,F27,G27,H27) -> 32 | J27: =RANK(I27,I$6:I$86) -> 33 | K27: =COUNTA(D27,E27,F27,G27,H27)/5 -> 0.6
B28: 324 | C28: 남 | D28: 6 | E28: 10 | G28: 7 | H28: 6 | I28: =SUM(D28,E28,F28,G28,H28) -> 29 | J28: =RANK(I28,I$6:I$86) -> 35 | K28: =COUNTA(D28,E28,F28,G28,H28)/5 -> 0.8
B29: 325 | C29: 남 | D29: 6 | E29: 10 | F29: 9 | G29: 7 | H29: 4 | I29: =SUM(D29,E29,F29,G29,H29) -> 36 | J29: =RANK(I29,I$6:I$86) -> 26 | K29: =COUNTA(D29,E29,F29,G29,H29)/5 -> 1
B30: 326 | C30: 남 | I30: =SUM(D30,E30,F30,G30,H30) -> 0 | J30: =RANK(I30,I$6:I$86) -> 56 | K30: =COUNTA(D30,E30,F30,G30,H30)/5 -> 0
B31: 327 | C31: 남 | D31: 2 | E31: 12 | F31: 10 | G31: 10 | H31: 3 | I31: =SUM(D31,E31,F31,G31,H31) -> 37 | J31: =RANK(I31,I$6:I$86) -> 23 | K31: =COUNTA(D31,E31,F31,G31,H31)/5 -> 1
B32: 328 | C32: 남 | D32: 7 | E32: 11 | F32: 6 | G32: 5 | H32: 12 | I32: =SUM(D32,E32,F32,G32,H32) -> 41 | J32: =RANK(I32,I$6:I$86) -> 16 | K32: =COUNTA(D32,E32,F32,G32,H32)/5 -> 1
B33: 329 | C33: 남 | D33: 7 | E33: 11 | F33: 8 | G33: 13 | H33: 6 | I33: =SUM(D33,E33,F33,G33,H33) -> 45 | J33: =RANK(I33,I$6:I$86) -> 9 | K33: =COUNTA(D33,E33,F33,G33,H33)/5 -> 1
B34: 330 | C34: 남 | D34: 4 | F34: 7 | G34: 4 | H34: 3 | I34: =SUM(D34,E34,F34,G34,H34) -> 18 | J34: =RANK(I34,I$6:I$86) -> 48 | K34: =COUNTA(D34,E34,F34,G34,H34)/5 -> 0.8
B35: 332 | C35: 남 | I35: =SUM(D35,E35,F35,G35,H35) -> 0 | J35: =RANK(I35,I$6:I$86) -> 56 | K35: =COUNTA(D35,E35,F35,G35,H35)/5 -> 0
B36: 333 | C36: 남 | D36: 2 | E36: 6 | F36: 7 | G36: 4 | H36: 8 | I36: =SUM(D36,E36,F36,G36,H36) -> 27 | J36: =RANK(I36,I$6:I$86) -> 40 | K36: =COUNTA(D36,E36,F36,G36,H36)/5 -> 1
B37: 334 | C37: 남 | D37: 3 | E37: 10 | F37: 5 | G37: 5 | H37: 14 | I37: =SUM(D37,E37,F37,G37,H37) -> 37 | J37: =RANK(I37,I$6:I$86) -> 23 | K37: =COUNTA(D37,E37,F37,G37,H37)/5 -> 1
B38: 335 | C38: 남 | D38: 7 | E38: 13 | F38: 9 | G38: 8 | H38: 10 | I38: =SUM(D38,E38,F38,G38,H38) -> 47 | J38: =RANK(I38,I$6:I$86) -> 7 | K38: =COUNTA(D38,E38,F38,G38,H38)/5 -> 1
B39: 340 | C39: 남 | I39: =SUM(D39,E39,F39,G39,H39) -> 0 | J39: =RANK(I39,I$6:I$86) -> 56 | K39: =COUNTA(D39,E39,F39,G39,H39)/5 -> 0
B40: 341 | C40: 남 | E40: 8 | F40: 8 | G40: 4 | H40: 8 | I40: =SUM(D40,E40,F40,G40,H40) -> 28 | J40: =RANK(I40,I$6:I$86) -> 38 | K40: =COUNTA(D40,E40,F40,G40,H40)/5 -> 0.8
B41: 342 | C41: 남 | D41: 6 | F41: 9 | G41: 5 | H41: 9 | I41: =SUM(D41,E41,F41,G41,H41) -> 29 | J41: =RANK(I41,I$6:I$86) -> 35 | K41: =COUNTA(D41,E41,F41,G41,H41)/5 -> 0.8
...

Sheet 2주차
B2: 11~12월 아침 모의고사 성적현황
B3: 시험 2주차 : 11월 19일 ~ 23일
D4: 12 | E4: 13 | F4: 14 | G4: 15 | H4: 16 | I4: 성적 | M4: 모의고사 참여율 | N4: 비고
A5: 수험 번호 | B5: 수험 번호 | C5: 성별 | D5: 형법 | E5: 국사 | F5: 형소법 | G5: 경찰학 | H5: 영어 | I5: 주간 총점 | J5: 지난주 총점 | K5: 전체 총점 | L5: 등수
B6: 300 | C6: 남 | D6: 4 | E6: 10 | F6: 11 | G6: 10 | H6: 5 | I6: =SUM(D6:H6) -> 40 | J6: ='1주차'!I6 -> 37 | K6: =SUM(I6:J6) -> 77 | L6: =RANK(J6,J$6:J$82) -> 23 | M6: =COUNTA(D6,E6,F6,G6,H6)/5 -> 1
B7: 301 | C7: 남 | D7: 4 | E7: 10 | F7: 10 | G7: 8 | H7: 4 | I7: =SUM(D7:H7) -> 36 | J7: ='1주차'!I7 -> 36 | K7: =SUM(I7:J7) -> 72 | L7: =RANK(J7,J$6:J$82) -> 26 | M7: =COUNTA(D7,E7,F7,G7,H7)/5 -> 1
B8: 303 | C8: 남 | F8: 4 | I8: =SUM(D8:H8) -> 4 | J8: ='1주차'!I8 -> 0 | K8: =SUM(I8:J8) -> 4 | L8: =RANK(J8,J$6:J$82) -> 56 | M8: =COUNTA(D8,E8,F8,G8,H8)/5 -> 0.2
B9: 304 | C9: 남 | D9: 3 | E9: 9 | F9: 9 | G9: 5 | H9: 4 | I9: =SUM(D9:H9) -> 30 | J9: ='1주차'!I9 -> 35 | K9: =SUM(I9:J9) -> 65 | L9: =RANK(J9,J$6:J$82) -> 30 | M9: =COUNTA(D9,E9,F9,G9,H9)/5 -> 1
B10: 305 | C10: 남 | D10: 5 | E10: 6 | F10: 7 | G10: 5 | I10: =SUM(D10:H10) -> 23 | J10: ='1주차'!I10 -> 29 | K10: =SUM(I10:J10) -> 52 | L10: =RANK(J10,J$6:J$82) -> 35 | M10: =COUNTA(D10,E10,F10,G10,H10)/5 -> 0.8
B11: 306 | C11: 남 | I11: =SUM(D11:H11) -> 0 | J11: ='1주차'!I11 -> 18 | K11: =SUM(I11:J11) -> 18 | L11: =RANK(J11,J$6:J$82) -> 48 | M11: =COUNTA(D11,E11,F11,G11,H11)/5 -> 0
B12: 307 | C12: 여 | D12: 2 | F12: 8 | G12: 7 | H12: 4 | I12: =SUM(D12:H12) -> 21 | J12: ='1주차'!I12 -> 22 | K12: =SUM(I12:J12) -> 43 | L12: =RANK(J12,J$6:J$82) -> 43 | M12: =COUNTA(D12,E12,F12,G12,H12)/5 -> 0.8
B13: 308 | C13: 여 | D13: 6 | E13: 10 | F13: 13 | G13: 13 | H13: 4 | I13: =SUM(D13:H13) -> 46 | J13: ='1주차'!I13 -> 42 | K13: =SUM(I13:J13) -> 88 | L13: =RANK(J13,J$6:J$82) -> 14 | M13: =COUNTA(D13,E13,F13,G13,H13)/5 -> 1
B14: 309 | C14: 남 | D14: 5 | E14: 6 | F14: 12 | G14: 13 | H14: 5 | I14: =SUM(D14:H14) -> 41 | J14: ='1주차'!I14 -> 45 | K14: =SUM(I14:J14) -> 86 | L14: =RANK(J14,J$6:J$82) -> 9 | M14: =COUNTA(D14,E14,F14,G14,H14)/5 -> 1
B15: 310 | C15: 남 | D15: 5 | E15: 8 | F15: 12 | G15: 11 | H15: 6 | I15: =SUM(D15:H15) -> 42 | J15: ='1주차'!I15 -> 36 | K15: =SUM(I15:J15) -> 78 | L15: =RANK(J15,J$6:J$82) -> 26 | M15: =COUNTA(D15,E15,F15,G15,H15)/5 -> 1
B16: 311 | C16: 남 | I16: =SUM(D16:H16) -> 0 | J16: ='1주차'!I16 -> 33 | K16: =SUM(I16:J16) -> 33 | L16: =RANK(J16,J$6:J$82) -> 32 | M16: =COUNTA(D16,E16,F16,G16,H16)/5 -> 0
B17: 313 | C17: 남 | I17: =SUM(D17:H17) -> 0 | J17: ='1주차'!I17 -> 0 | K17: =SUM(I17:J17) -> 0 | L17: =RANK(J17,J$6:J$82) -> 56 | M17: =COUNTA(D17,E17,F17,G17,H17)/5 -> 0
B18: 314 | C18: 남 | D18: 3 | E18: 10 | F18: 12 | G18: 11 | H18: 5 | I18: =SUM(D18:H18) -> 41 | J18: ='1주차'!I18 -> 39 | K18: =SUM(I18:J18) -> 80 | L18: =RANK(J18,J$6:J$82) -> 17 | M18: =COUNTA(D18,E18,F18,G18,H18)/5 -> 1
B19: 318 | C19: 남 | D19: 5 | E19: 4 | F19: 7 | I19: =SUM(D19:H19) -> 16 | J19: ='1주차'!I22 -> 0 | K19: =SUM(I19:J19) -> 16 | L19: =RANK(J19,J$6:J$82) -> 56 | M19: =COUNTA(D19,E19,F19,G19,H19)/5 -> 0.6
B20: 320 | C20: 여 | I20: =SUM(D20:H20) -> 0 | J20: ='1주차'!I24 -> 12 | K20: =SUM(I20:J20) -> 12 | L20: =RANK(J20,J$6:J$82) -> 52 | M20: =COUNTA(D20,E20,F20,G20,H20)/5 -> 0
B21: 321 | C21: 여 | I21: =SUM(D21:H21) -> 0 | J21: ='1주차'!I25 -> 5 | K21: =SUM(I21:J21) -> 5 | L21: =RANK(J21,J$6:J$82) -> 54 | M21: =COUNTA(D21,E21,F21,G21,H21)/5 -> 0
B22: 322 | C22: 남 | I22: =SUM(D22:H22) -> 0 | J22: ='1주차'!I26 -> 0 | K22: =SUM(I22:J22) -> 0 | L22: =RANK(J22,J$6:J$82) -> 56 | M22: =COUNTA(D22,E22,F22,G22,H22)/5 -> 0
B23: 323 | C23: 남 | D23: 6 | I23: =SUM(D23:H23) -> 6 | J23: ='1주차'!I27 -> 32 | K23: =SUM(I23:J23) -> 38 | L23: =RANK(J23,J$6:J$82) -> 33 | M23: =COUNTA(D23,E23,F23,G23,H23)/5 -> 0.2
B24: 324 | C24: 남 | D24: 5 | E24: 10 | I24: =SUM(D24:H24) -> 15 | J24: ='1주차'!I28 -> 29 | K24: =SUM(I24:J24) -> 44 | L24: =RANK(J24,J$6:J$82) -> 35 | M24: =COUNTA(D24,E24,F24,G24,H24)/5 -> 0.4
B25: 325 | C25: 남 | D25: 3 | E25: 11 | F25: 11 | G25: 12 | H25: 2 | I25: =SUM(D25:H25) -> 39 | J25: ='1주차'!I29 -> 36 | K25: =SUM(I25:J25) -> 75 | L25: =RANK(J25,J$6:J$82) -> 26 | M25: =COUNTA(D25,E25,F25,G25,H25)/5 -> 1
B26: 326 | C26: 남 | I26: =SUM(D26:H26) -> 0 | J26: ='1주차'!I30 -> 0 | K26: =SUM(I26:J26) -> 0 | L26: =RANK(J26,J$6:J$82) -> 56 | M26: =COUNTA(D26,E26,F26,G26,H26)/5 -> 0
B27: 327 | C27: 남 | D27: 2 | E27: 9 | F27: 10 | G27: 10 | H27: 3 | I27: =SUM(D27:H27) -> 34 | J27: ='1주차'!I31 -> 37 | K27: =SUM(I27:J27) -> 71 | L27: =RANK(J27,J$6:J$82) -> 23 | M27: =COUNTA(D27,E27,F27,G27,H27)/5 -> 1
B28: 328 | C28: 남 | D28: 8 | E28: 4 | F28: 9 | G28: 8 | H28: 5 | I28: =SUM(D28:H28) -> 34 | J28: ='1주차'!I32 -> 41 | K28: =SUM(I28:J28) -> 75 | L28: =RANK(J28,J$6:J$82) -> 16 | M28: =COUNTA(D28,E28,F28,G28,H28)/5 -> 1
B29: 329 | C29: 남 | D29: 9 | E29: 10 | F29: 13 | G29: 14 | H29: 6 | I29: =SUM(D29:H29) -> 52 | J29: ='1주차'!I33 -> 45 | K29: =SUM(I29:J29) -> 97 | L29: =RANK(J29,J$6:J$82) -> 9 | M29: =COUNTA(D29,E29,F29,G29,H29)/5 -> 1
B30: 330 | C30: 남 | D30: 4 | E30: 7 | F30: 5 | G30: 6 | I30: =SUM(D30:H30) -> 22 | J30: ='1주차'!I34 -> 18 | K30: =SUM(I30:J30) -> 40 | L30: =RANK(J30,J$6:J$82) -> 48 | M30: =COUNTA(D30,E30,F30,G30,H30)/5 -> 0.8
B31: 332 | C31: 남 | I31: =SUM(D31:H31) -> 0 | J31: ='1주차'!I35 -> 0 | K31: =SUM(I31:J31) -> 0 | L31: =RANK(J31,J$6:J$82) -> 56 | M31: =COUNTA(D31,E31,F31,G31,H31)/5 -> 0
B32: 333 | C32: 남 | D32: 3 | E32: 11 | F32: 13 | G32: 6 | H32: 4 | I32: =SUM(D32:H32) -> 37 | J32: ='1주차'!I36 -> 27 | K32: =SUM(I32:J32) -> 64 | L32: =RANK(J32,J$6:J$82) -> 40 | M32: =COUNTA(D32,E32,F32,G32,H32)/5 -> 1
B33: 334 | C33: 남 | D33: 2 | E33: 8 | F33: 9 | G33: 11 | H33: 9 | I33: =SUM(D33:H33) -> 39 | J33: ='1주차'!I37 -> 37 | K33: =SUM(I33:J33) -> 76 | L33: =RANK(J33,J$6:J$82) -> 23 | M33: =COUNTA(D33,E33,F33,G33,H33)/5 -> 1
B34: 335 | C34: 남 | D34: 3 | E34: 9 | F34: 10 | I34: =SUM(D34:H34) -> 22 | J34: ='1주차'!I38 -> 47 | K34: =SUM(I34:J34) -> 69 | L34: =RANK(J34,J$6:J$82) -> 7 | M34: =COUNTA(D34,E34,F34,G34,H34)/5 -> 0.6
B35: 340 | C35: 남 | I35: =SUM(D35:H35) -> 0 | J35: ='1주차'!I39 -> 0 | K35: =SUM(I35:J35) -> 0 | L35: =RANK(J35,J$6:J$82) -> 56 | M35: =COUNTA(D35,E35,F35,G35,H35)/5 -> 0
B36: 341 | C36: 남 | D36: 3 | E36: 4 | F36: 6 | G36: 7 | H36: 6 | I36: =SUM(D36:H36) -> 26 | J36: ='1주차'!I40 -> 28 | K36: =SUM(I36:J36) -> 54 | L36: =RANK(J36,J$6:J$82) -> 38 | M36: =COUNTA(D36,E36,F36,G36,H36)/5 -> 1
B37: 342 | C37: 남 | D37: 2 | E37: 3 | F37: 8 | G37: 8 | H37: 3 | I37: =SUM(D37:H37) -> 24 | J37: ='1주차'!I41 -> 29 | K37: =SUM(I37:J37) -> 53 | L37: =RANK(J37,J$6:J$82) -> 35 | M37: =COUNTA(D37,E37,F37,G37,H37)/5 -> 1
B38: 343 | C38: 남 | I38: =SUM(D38:H38) -> 0 | J38: ='1주차'!I42 -> 7 | K38: =SUM(I38:J38) -> 7 | L38: =RANK(J38,J$6:J$82) -> 53 | M38: =COUNTA(D38,E38,F38,G38,H38)/5 -> 0
B39: 451 | C39: 여 | D39: 7 | E39: 15 | F39: 15 | G39: 15 | H39: 8 | I39: =SUM(D39:H39) -> 60 | J39: ='1주차'!I43 -> 60 | K39: =SUM(I39:J39) -> 120 | L39: =RANK(J39,J$6:J$82) -> 1 | M39: =COUNTA(D39,E39,F39,G39,H39)/5 -> 1
B40: 452 | C40: 여 | I40: =SUM(D40:H40) -> 0 | J40: ='1주차'!I44 -> 0 | K40: =SUM(I40:J40) -> 0 | L40: =RANK(J40,J$6:J$82) -> 56 | M40: =COUNTA(D40,E40,F40,G40,H40)/5 -> 0
B41: 454 | C41: 여 | F41: 7 | I41: =SUM(D41:H41) -> 7 | J41: ='1주차'!I45 -> 5 | K41: =SUM(I41:J41) -> 12 | L41: =RANK(J41,J$6:J$82) -> 54 | M41: =COUNTA(D41,E41,F41,G41,H41)/5 -> 0.2
...

Sheet 3주차
B2: 11~12월 아침 모의고사 성적현황
B3: 시험 3주차 : 11월 26일 ~ 30일
D4: 12 | E4: 13 | F4: 14 | G4: 15 | H4: 16 | I4: 성적 | M4: 모의고사 참여율 | N4: 비고
A5: 수험 번호 | B5: 수험 번호 | C5: 성별 | D5: 형법 | E5: 국사 | F5: 형소법 | G5: 경찰학 | H5: 영어 | I5: 주간 총점 | J5: 지난주 총점 | K5: 전체 총점 | L5: 등수
B6: 300 | C6: 남 | D6: 4 | E6: 10 | F6: 12 | G6: 9 | H6: 4 | I6: =SUM(D6:H6) -> 39 | J6: ='2주차'!K6 -> 77 | K6: =SUM(I6:J6) -> 116 | L6: =RANK(J6,J$6:J$76) -> 15 | M6: =COUNTA(D6,E6,F6,G6,H6)/5 -> 1
B7: 301 | C7: 남 | D7: 6 | E7: 11 | F7: 11 | G7: 9 | H7: 6 | I7: =SUM(D7:H7) -> 43 | J7: ='2주차'!K7 -> 72 | K7: =SUM(I7:J7) -> 115 | L7: =RANK(J7,J$6:J$76) -> 21 | M7: =COUNTA(D7,E7,F7,G7,H7)/5 -> 1
B8: 303 | C8: 남 | F8: 8 | I8: =SUM(D8:H8) -> 8 | J8: ='2주차'!K8 -> 4 | K8: =SUM(I8:J8) -> 12 | L8: =RANK(J8,J$6:J$76) -> 59 | M8: =COUNTA(D8,E8,F8,G8,H8)/5 -> 0.2
B9: 304 | C9: 남 | D9: 5 | E9: 6 | F9: 11 | G9: 7 | H9: 6 | I9: =SUM(D9:H9) -> 35 | J9: ='2주차'!K9 -> 65 | K9: =SUM(I9:J9) -> 100 | L9: =RANK(J9,J$6:J$76) -> 28 | M9: =COUNTA(D9,E9,F9,G9,H9)/5 -> 1
B10: 305 | C10: 남 | D10: 2 | E10: 5 | F10: 7 | G10: 2 | H10: 3 | I10: =SUM(D10:H10) -> 19 | J10: ='2주차'!K10 -> 52 | K10: =SUM(I10:J10) -> 71 | L10: =RANK(J10,J$6:J$76) -> 37 | M10: =COUNTA(D10,E10,F10,G10,H10)/5 -> 1
B11: 306 | C11: 남 | I11: =SUM(D11:H11) -> 0 | J11: ='2주차'!K11 -> 18 | K11: =SUM(I11:J11) -> 18 | L11: =RANK(J11,J$6:J$76) -> 52 | M11: =COUNTA(D11,E11,F11,G11,H11)/5 -> 0
B12: 307 | C12: 여 | D12: 3 | E12: 5 | F12: 10 | G12: 4 | H12: 5 | I12: =SUM(D12:H12) -> 27 | J12: ='2주차'!K12 -> 43 | K12: =SUM(I12:J12) -> 70 | L12: =RANK(J12,J$6:J$76) -> 41 | M12: =COUNTA(D12,E12,F12,G12,H12)/5 -> 1
B13: 308 | C13: 여 | D13: 6 | E13: 11 | F13: 12 | G13: 11 | I13: =SUM(D13:H13) -> 40 | J13: ='2주차'!K13 -> 88 | K13: =SUM(I13:J13) -> 128 | L13: =RANK(J13,J$6:J$76) -> 8 | M13: =COUNTA(D13,E13,F13,G13,H13)/5 -> 0.8
B14: 309 | C14: 남 | E14: 8 | F14: 12 | G14: 7 | H14: 8 | I14: =SUM(D14:H14) -> 35 | J14: ='2주차'!K14 -> 86 | K14: =SUM(I14:J14) -> 121 | L14: =RANK(J14,J$6:J$76) -> 11 | M14: =COUNTA(D14,E14,F14,G14,H14)/5 -> 0.8
B15: 310 | C15: 남 | D15: 6 | E15: 5 | F15: 10 | G15: 6 | H15: 9 | I15: =SUM(D15:H15) -> 36 | J15: ='2주차'!K15 -> 78 | K15: =SUM(I15:J15) -> 114 | L15: =RANK(J15,J$6:J$76) -> 14 | M15: =COUNTA(D15,E15,F15,G15,H15)/5 -> 1
B16: 311 | C16: 남 | I16: =SUM(D16:H16) -> 0 | J16: ='2주차'!K16 -> 33 | K16: =SUM(I16:J16) -> 33 | L16: =RANK(J16,J$6:J$76) -> 46 | M16: =COUNTA(D16,E16,F16,G16,H16)/5 -> 0
B17: 313 | C17: 남 | I17: =SUM(D17:H17) -> 0 | J17: ='2주차'!K17 -> 0 | K17: =SUM(I17:J17) -> 0 | L17: =RANK(J17,J$6:J$76) -> 60 | M17: =COUNTA(D17,E17,F17,G17,H17)/5 -> 0
B18: 314 | C18: 남 | D18: 7 | G18: 8 | H18: 6 | I18: =SUM(D18:H18) -> 21 | J18: ='2주차'!K18 -> 80 | K18: =SUM(I18:J18) -> 101 | L18: =RANK(J18,J$6:J$76) -> 13 | M18: =COUNTA(D18,E18,F18,G18,H18)/5 -> 0.6
B19: 318 | C19: 남 | F19: 9 | I19: =SUM(D19:H19) -> 9 | J19: ='2주차'!K19 -> 16 | K19: =SUM(I19:J19) -> 25 | L19: =RANK(J19,J$6:J$76) -> 53 | M19: =COUNTA(D19,E19,F19,G19,H19)/5 -> 0.2
B20: 320 | C20: 여 | I20: =SUM(D20:H20) -> 0 | J20: ='2주차'!K20 -> 12 | K20: =SUM(I20:J20) -> 12 | L20: =RANK(J20,J$6:J$76) -> 54 | M20: =COUNTA(D20,E20,F20,G20,H20)/5 -> 0
B21: 321 | C21: 여 | I21: =SUM(D21:H21) -> 0 | J21: ='2주차'!K21 -> 5 | K21: =SUM(I21:J21) -> 5 | L21: =RANK(J21,J$6:J$76) -> 58 | M21: =COUNTA(D21,E21,F21,G21,H21)/5 -> 0
B22: 323 | C22: 남 | I22: =SUM(D22:H22) -> 0 | J22: ='2주차'!K23 -> 38 | K22: =SUM(I22:J22) -> 38 | L22: =RANK(J22,J$6:J$76) -> 44 | M22: =COUNTA(D22,E22,F22,G22,H22)/5 -> 0
B23: 324 | C23: 남 | E23: 12 | F23: 11 | I23: =SUM(D23:H23) -> 23 | J23: ='2주차'!K24 -> 44 | K23: =SUM(I23:J23) -> 67 | L23: =RANK(J23,J$6:J$76) -> 40 | M23: =COUNTA(D23,E23,F23,G23,H23)/5 -> 0.4
B24: 325 | C24: 남 | D24: 7 | E24: 11 | F24: 11 | G24: 7 | I24: =SUM(D24:H24) -> 36 | J24: ='2주차'!K25 -> 75 | K24: =SUM(I24:J24) -> 111 | L24: =RANK(J24,J$6:J$76) -> 17 | M24: =COUNTA(D24,E24,F24,G24,H24)/5 -> 0.8
B25: 326 | C25: 남 | I25: =SUM(D25:H25) -> 0 | J25: ='2주차'!K26 -> 0 | K25: =SUM(I25:J25) -> 0 | L25: =RANK(J25,J$6:J$76) -> 60 | M25: =COUNTA(D25,E25,F25,G25,H25)/5 -> 0
B26: 327 | C26: 남 | D26: 5 | E26: 13 | F26: 9 | G26: 5 | H26: 4 | I26: =SUM(D26:H26) -> 36 | J26: ='2주차'!K27 -> 71 | K26: =SUM(I26:J26) -> 107 | L26: =RANK(J26,J$6:J$76) -> 23 | M26: =COUNTA(D26,E26,F26,G26,H26)/5 -> 1
B27: 328 | C27: 남 | D27: 4 | E27: 11 | F27: 9 | G27: 5 | H27: 8 | I27: =SUM(D27:H27) -> 37 | J27: ='2주차'!K28 -> 75 | K27: =SUM(I27:J27) -> 112 | L27: =RANK(J27,J$6:J$76) -> 17 | M27: =COUNTA(D27,E27,F27,G27,H27)/5 -> 1
B28: 329 | C28: 남 | D28: 5 | E28: 6 | F28: 14 | G28: 9 | H28: 6 | I28: =SUM(D28:H28) -> 40 | J28: ='2주차'!K29 -> 97 | K28: =SUM(I28:J28) -> 137 | L28: =RANK(J28,J$6:J$76) -> 5 | M28: =COUNTA(D28,E28,F28,G28,H28)/5 -> 1
B29: 330 | C29: 남 | I29: =SUM(D29:H29) -> 0 | J29: ='2주차'!K30 -> 40 | K29: =SUM(I29:J29) -> 40 | L29: =RANK(J29,J$6:J$76) -> 43 | M29: =COUNTA(D29,E29,F29,G29,H29)/5 -> 0
B30: 332 | C30: 남 | I30: =SUM(D30:H30) -> 0 | J30: ='2주차'!K31 -> 0 | K30: =SUM(I30:J30) -> 0 | L30: =RANK(J30,J$6:J$76) -> 60 | M30: =COUNTA(D30,E30,F30,G30,H30)/5 -> 0
B31: 333 | C31: 남 | D31: 5 | E31: 11 | F31: 12 | G31: 10 | H31: 3 | I31: =SUM(D31:H31) -> 41 | J31: ='2주차'!K32 -> 64 | K31: =SUM(I31:J31) -> 105 | L31: =RANK(J31,J$6:J$76) -> 29 | M31: =COUNTA(D31,E31,F31,G31,H31)/5 -> 1
B32: 334 | C32: 남 | D32: 6 | E32: 6 | F32: 12 | G32: 9 | H32: 6 | I32: =SUM(D32:H32) -> 39 | J32: ='2주차'!K33 -> 76 | K32: =SUM(I32:J32) -> 115 | L32: =RANK(J32,J$6:J$76) -> 16 | M32: =COUNTA(D32,E32,F32,G32,H32)/5 -> 1
B33: 335 | C33: 남 | D33: 6 | E33: 7 | F33: 12 | G33: 9 | H33: 8 | I33: =SUM(D33:H33) -> 42 | J33: ='2주차'!K34 -> 69 | K33: =SUM(I33:J33) -> 111 | L33: =RANK(J33,J$6:J$76) -> 26 | M33: =COUNTA(D33,E33,F33,G33,H33)/5 -> 1
B34: 340 | C34: 남 | I34: =SUM(D34:H34) -> 0 | J34: ='2주차'!K35 -> 0 | K34: =SUM(I34:J34) -> 0 | L34: =RANK(J34,J$6:J$76) -> 60 | M34: =COUNTA(D34,E34,F34,G34,H34)/5 -> 0
B35: 341 | C35: 남 | D35: 5 | F35: 8 | G35: 6 | H35: 6 | I35: =SUM(D35:H35) -> 25 | J35: ='2주차'!K36 -> 54 | K35: =SUM(I35:J35) -> 79 | L35: =RANK(J35,J$6:J$76) -> 34 | M35: =COUNTA(D35,E35,F35,G35,H35)/5 -> 0.8
B36: 342 | C36: 남 | E36: 1 | F36: 12 | H36: 5 | I36: =SUM(D36:H36) -> 18 | J36: ='2주차'!K37 -> 53 | K36: =SUM(I36:J36) -> 71 | L36: =RANK(J36,J$6:J$76) -> 35 | M36: =COUNTA(D36,E36,F36,G36,H36)/5 -> 0.6
B37: 343 | C37: 남 | I37: =SUM(D37:H37) -> 0 | J37: ='2주차'!K38 -> 7 | K37: =SUM(I37:J37) -> 7 | L37: =RANK(J37,J$6:J$76) -> 57 | M37: =COUNTA(D37,E37,F37,G37,H37)/5 -> 0
B38: 451 | C38: 여 | D38: 9 | E38: 14 | F38: 14 | G38: 14 | H38: 10 | I38: =SUM(D38:H38) -> 61 | J38: ='2주차'!K39 -> 120 | K38: =SUM(I38:J38) -> 181 | L38: =RANK(J38,J$6:J$76) -> 1 | M38: =COUNTA(D38,E38,F38,G38,H38)/5 -> 1
B39: 452 | C39: 여 | I39: =SUM(D39:H39) -> 0 | J39: ='2주차'!K40 -> 0 | K39: =SUM(I39:J39) -> 0 | L39: =RANK(J39,J$6:J$76) -> 60 | M39: =COUNTA(D39,E39,F39,G39,H39)/5 -> 0
B40: 454 | C40: 여 | F40: 9 | I40: =SUM(D40:H40) -> 9 | J40: ='2주차'!K41 -> 12 | K40: =SUM(I40:J40) -> 21 | L40: =RANK(J40,J$6:J$76) -> 54 | M40: =COUNTA(D40,E40,F40,G40,H40)/5 -> 0.2
B41: 455 | C41: 여 | I41: =SUM(D41:H41) -> 0 | J41: ='2주차'!K42 -> 49 | K41: =SUM(I41:J41) -> 49 | L41: =RANK(J41,J$6:J$76) -> 38 | M41: =COUNTA(D41,E41,F41,G41,H41)/5 -> 0
...

Sheet 4주차
B2: 11~12월 아침 모의고사 성적현황
B3: 시험 4주차 : 12월 3일 ~ 7일
D4: 3 | E4: 4 | F4: 5 | G4: 6 | H4: 7 | I4: 성적 | M4: 모의고사 참여율 | N4: 비고
A5: 수험 번호 | B5: 수험 번호 | C5: 성별 | D5: 형법 | E5: 국사 | F5: 형소법 | G5: 경찰학 | H5: 영어 | I5: 주간 총점 | J5: 지난주 총점 | K5: 전체 총점 | L5: 등수
B6: 300 | C6: 남 | D6: 3 | E6: 10 | F6: 2 | G6: 11 | H6: 8 | I6: =SUM(D6:H6) -> 34 | J6: ='3주차'!K6 -> 116 | K6: =SUM(I6:J6) -> 150 | L6: =RANK(J6,J$6:J$76) -> 12 | M6: =COUNTA(D6,E6,F6,G6,H6)/5 -> 1
B7: 301 | C7: 남 | D7: 3 | E7: 12 | F7: 10 | G7: 7 | H7: 9 | I7: =SUM(D7:H7) -> 41 | J7: ='3주차'!K7 -> 115 | K7: =SUM(I7:J7) -> 156 | L7: =RANK(J7,J$6:J$76) -> 13 | M7: =COUNTA(D7,E7,F7,G7,H7)/5 -> 1
B8: 303 | C8: 남 | I8: =SUM(D8:H8) -> 0 | J8: ='3주차'!K8 -> 12 | K8: =SUM(I8:J8) -> 12 | L8: =RANK(J8,J$6:J$76) -> 55 | M8: =COUNTA(D8,E8,F8,G8,H8)/5 -> 0
B9: 304 | C9: 남 | D9: 3 | E9: 6 | F9: 6 | G9: 5 | H9: 5 | I9: =SUM(D9:H9) -> 25 | J9: ='3주차'!K9 -> 100 | K9: =SUM(I9:J9) -> 125 | L9: =RANK(J9,J$6:J$76) -> 27 | M9: =COUNTA(D9,E9,F9,G9,H9)/5 -> 1
B10: 305 | C10: 남 | D10: 3 | F10: 6 | I10: =SUM(D10:H10) -> 9 | J10: ='3주차'!K10 -> 71 | K10: =SUM(I10:J10) -> 80 | L10: =RANK(J10,J$6:J$76) -> 32 | M10: =COUNTA(D10,E10,F10,G10,H10)/5 -> 0.4
B11: 306 | C11: 남 | I11: =SUM(D11:H11) -> 0 | J11: ='3주차'!K11 -> 18 | K11: =SUM(I11:J11) -> 18 | L11: =RANK(J11,J$6:J$76) -> 54 | M11: =COUNTA(D11,E11,F11,G11,H11)/5 -> 0
B12: 307 | C12: 여 | D12: 3 | E12: 6 | F12: 8 | G12: 7 | H12: 7 | I12: =SUM(D12:H12) -> 31 | J12: ='3주차'!K12 -> 70 | K12: =SUM(I12:J12) -> 101 | L12: =RANK(J12,J$6:J$76) -> 35 | M12: =COUNTA(D12,E12,F12,G12,H12)/5 -> 1
B13: 308 | C13: 여 | D13: 7 | E13: 11 | F13: 13 | G13: 6 | I13: =SUM(D13:H13) -> 37 | J13: ='3주차'!K13 -> 128 | K13: =SUM(I13:J13) -> 165 | L13: =RANK(J13,J$6:J$76) -> 10 | M13: =COUNTA(D13,E13,F13,G13,H13)/5 -> 0.8
B14: 309 | C14: 남 | D14: 5 | E14: 8 | F14: 12 | G14: 10 | H14: 11 | I14: =SUM(D14:H14) -> 46 | J14: ='3주차'!K14 -> 121 | K14: =SUM(I14:J14) -> 167 | L14: =RANK(J14,J$6:J$76) -> 11 | M14: =COUNTA(D14,E14,F14,G14,H14)/5 -> 1
B15: 310 | C15: 남 | D15: 5 | E15: 9 | F15: 12 | G15: 10 | H15: 9 | I15: =SUM(D15:H15) -> 45 | J15: ='3주차'!K15 -> 114 | K15: =SUM(I15:J15) -> 159 | L15: =RANK(J15,J$6:J$76) -> 16 | M15: =COUNTA(D15,E15,F15,G15,H15)/5 -> 1
B16: 311 | C16: 남 | I16: =SUM(D16:H16) -> 0 | J16: ='3주차'!K16 -> 33 | K16: =SUM(I16:J16) -> 33 | L16: =RANK(J16,J$6:J$76) -> 49 | M16: =COUNTA(D16,E16,F16,G16,H16)/5 -> 0
B17: 313 | C17: 남 | I17: =SUM(D17:H17) -> 0 | J17: ='3주차'!K17 -> 0 | K17: =SUM(I17:J17) -> 0 | L17: =RANK(J17,J$6:J$76) -> 62 | M17: =COUNTA(D17,E17,F17,G17,H17)/5 -> 0
B18: 314 | C18: 남 | D18: 3 | E18: 7 | F18: 8 | G18: 10 | H18: 11 | I18: =SUM(D18:H18) -> 39 | J18: ='3주차'!K18 -> 101 | K18: =SUM(I18:J18) -> 140 | L18: =RANK(J18,J$6:J$76) -> 26 | M18: =COUNTA(D18,E18,F18,G18,H18)/5 -> 1
B19: 318 | C19: 남 | D19: 2 | F19: 10 | I19: =SUM(D19:H19) -> 12 | J19: ='3주차'!K19 -> 25 | K19: =SUM(I19:J19) -> 37 | L19: =RANK(J19,J$6:J$76) -> 51 | M19: =COUNTA(D19,E19,F19,G19,H19)/5 -> 0.4
B20: 320 | C20: 여 | I20: =SUM(D20:H20) -> 0 | J20: ='3주차'!K20 -> 12 | K20: =SUM(I20:J20) -> 12 | L20: =RANK(J20,J$6:J$76) -> 55 | M20: =COUNTA(D20,E20,F20,G20,H20)/5 -> 0
B21: 321 | C21: 여 | I21: =SUM(D21:H21) -> 0 | J21: ='3주차'!K21 -> 5 | K21: =SUM(I21:J21) -> 5 | L21: =RANK(J21,J$6:J$76) -> 61 | M21: =COUNTA(D21,E21,F21,G21,H21)/5 -> 0
B22: 323 | C22: 남 | I22: =SUM(D22:H22) -> 0 | J22: ='3주차'!K22 -> 38 | K22: =SUM(I22:J22) -> 38 | L22: =RANK(J22,J$6:J$76) -> 47 | M22: =COUNTA(D22,E22,F22,G22,H22)/5 -> 0
B23: 324 | C23: 남 | D23: 8 | E23: 8 | F23: 13 | H23: 7 | I23: =SUM(D23:H23) -> 36 | J23: ='3주차'!K23 -> 67 | K23: =SUM(I23:J23) -> 103 | L23: =RANK(J23,J$6:J$76) -> 38 | M23: =COUNTA(D23,E23,F23,G23,H23)/5 -> 0.8
B24: 325 | C24: 남 | D24: 7 | E24: 11 | F24: 10 | G24: 4 | H24: 2 | I24: =SUM(D24:H24) -> 34 | J24: ='3주차'!K24 -> 111 | K24: =SUM(I24:J24) -> 145 | L24: =RANK(J24,J$6:J$76) -> 19 | M24: =COUNTA(D24,E24,F24,G24,H24)/5 -> 1
B25: 326 | C25: 남 | I25: =SUM(D25:H25) -> 0 | J25: ='3주차'!K25 -> 0 | K25: =SUM(I25:J25) -> 0 | L25: =RANK(J25,J$6:J$76) -> 62 | M25: =COUNTA(D25,E25,F25,G25,H25)/5 -> 0
B26: 327 | C26: 남 | D26: 6 | E26: 13 | F26: 9 | G26: 6 | H26: 7 | I26: =SUM(D26:H26) -> 41 | J26: ='3주차'!K26 -> 107 | K26: =SUM(I26:J26) -> 148 | L26: =RANK(J26,J$6:J$76) -> 24 | M26: =COUNTA(D26,E26,F26,G26,H26)/5 -> 1
B27: 328 | C27: 남 | D27: 5 | E27: 7 | F27: 8 | G27: 6 | H27: 7 | I27: =SUM(D27:H27) -> 33 | J27: ='3주차'!K27 -> 112 | K27: =SUM(I27:J27) -> 145 | L27: =RANK(J27,J$6:J$76) -> 17 | M27: =COUNTA(D27,E27,F27,G27,H27)/5 -> 1
B28: 329 | C28: 남 | E28: 10 | G28: 12 | H28: 8 | I28: =SUM(D28:H28) -> 30 | J28: ='3주차'!K28 -> 137 | K28: =SUM(I28:J28) -> 167 | L28: =RANK(J28,J$6:J$76) -> 6 | M28: =COUNTA(D28,E28,F28,G28,H28)/5 -> 0.6
B29: 330 | C29: 남 | D29: 3 | E29: 4 | F29: 7 | G29: 7 | H29: 7 | I29: =SUM(D29:H29) -> 28 | J29: ='3주차'!K29 -> 40 | K29: =SUM(I29:J29) -> 68 | L29: =RANK(J29,J$6:J$76) -> 45 | M29: =COUNTA(D29,E29,F29,G29,H29)/5 -> 1
B30: 332 | C30: 남 | I30: =SUM(D30:H30) -> 0 | J30: ='3주차'!K30 -> 0 | K30: =SUM(I30:J30) -> 0 | L30: =RANK(J30,J$6:J$76) -> 62 | M30: =COUNTA(D30,E30,F30,G30,H30)/5 -> 0
B31: 333 | C31: 남 | D31: 7 | E31: 11 | F31: 12 | G31: 7 | H31: 8 | I31: =SUM(D31:H31) -> 45 | J31: ='3주차'!K31 -> 105 | K31: =SUM(I31:J31) -> 150 | L31: =RANK(J31,J$6:J$76) -> 25 | M31: =COUNTA(D31,E31,F31,G31,H31)/5 -> 1
B32: 334 | C32: 남 | D32: 2 | E32: 9 | F32: 9 | G32: 8 | H32: 13 | I32: =SUM(D32:H32) -> 41 | J32: ='3주차'!K32 -> 115 | K32: =SUM(I32:J32) -> 156 | L32: =RANK(J32,J$6:J$76) -> 13 | M32: =COUNTA(D32,E32,F32,G32,H32)/5 -> 1
B33: 335 | C33: 남 | E33: 9 | F33: 12 | G33: 5 | H33: 12 | I33: =SUM(D33:H33) -> 38 | J33: ='3주차'!K33 -> 111 | K33: =SUM(I33:J33) -> 149 | L33: =RANK(J33,J$6:J$76) -> 19 | M33: =COUNTA(D33,E33,F33,G33,H33)/5 -> 0.8
B34: 340 | C34: 남 | I34: =SUM(D34:H34) -> 0 | J34: ='3주차'!K34 -> 0 | K34: =SUM(I34:J34) -> 0 | L34: =RANK(J34,J$6:J$76) -> 62 | M34: =COUNTA(D34,E34,F34,G34,H34)/5 -> 0
B35: 341 | C35: 남 | D35: 4 | E35: 6 | F35: 5 | G35: 6 | H35: 7 | I35: =SUM(D35:H35) -> 28 | J35: ='3주차'!K35 -> 79 | K35: =SUM(I35:J35) -> 107 | L35: =RANK(J35,J$6:J$76) -> 31 | M35: =COUNTA(D35,E35,F35,G35,H35)/5 -> 1
B36: 342 | C36: 남 | D36: 3 | E36: 5 | I36: =SUM(D36:H36) -> 8 | J36: ='3주차'!K36 -> 71 | K36: =SUM(I36:J36) -> 79 | L36: =RANK(J36,J$6:J$76) -> 32 | M36: =COUNTA(D36,E36,F36,G36,H36)/5 -> 0.4
B37: 343 | C37: 남 | I37: =SUM(D37:H37) -> 0 | J37: ='3주차'!K37 -> 7 | K37: =SUM(I37:J37) -> 7 | L37: =RANK(J37,J$6:J$76) -> 60 | M37: =COUNTA(D37,E37,F37,G37,H37)/5 -> 0
B38: 451 | C38: 여 | D38: 6 | E38: 12 | F38: 13 | G38: 13 | H38: 11 | I38: =SUM(D38:H38) -> 55 | J38: ='3주차'!K38 -> 181 | K38: =SUM(I38:J38) -> 236 | L38: =RANK(J38,J$6:J$76) -> 1 | M38: =COUNTA(D38,E38,F38,G38,H38)/5 -> 1
B39: 452 | C39: 여 | I39: =SUM(D39:H39) -> 0 | J39: ='3주차'!K39 -> 0 | K39: =SUM(I39:J39) -> 0 | L39: =RANK(J39,J$6:J$76) -> 62 | M39: =COUNTA(D39,E39,F39,G39,H39)/5 -> 0
B40: 454 | C40: 여 | I40: =SUM(D40:H40) -> 0 | J40: ='3주차'!K40 -> 21 | K40: =SUM(I40:J40) -> 21 | L40: =RANK(J40,J$6:J$76) -> 52 | M40: =COUNTA(D40,E40,F40,G40,H40)/5 -> 0
B41: 455 | C41: 여 | I41: =SUM(D41:H41) -> 0 | J41: ='3주차'!K41 -> 49 | K41: =SUM(I41:J41) -> 49 | L41: =RANK(J41,J$6:J$76) -> 42 | M41: =COUNTA(D41,E41,F41,G41,H41)/5 -> 0
...

Sheet 5주차
B2: 11~12월 아침 모의고사 성적현황
B3: 시험 4주차 : 12월 10일 ~ 14일
D4: 10 | E4: 11 | F4: 12 | G4: 13 | H4: 14 | I4: 성적 | M4: 모의고사 참여율 | N4: 비고
A5: 수험 번호 | B5: 수험 번호 | C5: 성별 | D5: 형법 | E5: 국사 | F5: 형소법 | G5: 경찰학 | H5: 영어 | I5: 주간 총점 | J5: 지난주 총점 | K5: 전체 총점 | L5: 등수
B6: 300 | C6: 남 | D6: 5 | E6: 9 | F6: 9 | G6: 8 | H6: 6 | I6: =SUM(D6:H6) -> 37 | J6: ='4주차'!K6 -> 150 | K6: =SUM(I6:J6) -> 187 | L6: =RANK(J6,J$6:J$76) -> 17 | M6: =COUNTA(D6,E6,F6,G6,H6)/5 -> 1
B7: 301 | C7: 남 | D7: 9 | E7: 10 | F7: 8 | G7: 8 | H7: 9 | I7: =SUM(D7:H7) -> 44 | J7: ='4주차'!K7 -> 156 | K7: =SUM(I7:J7) -> 200 | L7: =RANK(J7,J$6:J$76) -> 13 | M7: =COUNTA(D7,E7,F7,G7,H7)/5 -> 1
B8: 303 | C8: 남 | I8: =SUM(D8:H8) -> 0 | J8: ='4주차'!K8 -> 12 | K8: =SUM(I8:J8) -> 12 | L8: =RANK(J8,J$6:J$76) -> 56 | M8: =COUNTA(D8,E8,F8,G8,H8)/5 -> 0
B9: 304 | C9: 남 | D9: 2 | E9: 8 | F9: 8 | G9: 6 | H9: 7 | I9: =SUM(D9:H9) -> 31 | J9: ='4주차'!K9 -> 125 | K9: =SUM(I9:J9) -> 156 | L9: =RANK(J9,J$6:J$76) -> 27 | M9: =COUNTA(D9,E9,F9,G9,H9)/5 -> 1
B10: 305 | C10: 남 | D10: 4 | I10: =SUM(D10:H10) -> 4 | J10: ='4주차'!K10 -> 80 | K10: =SUM(I10:J10) -> 84 | L10: =RANK(J10,J$6:J$76) -> 37 | M10: =COUNTA(D10,E10,F10,G10,H10)/5 -> 0.2
B11: 306 | C11: 남 | I11: =SUM(D11:H11) -> 0 | J11: ='4주차'!K11 -> 18 | K11: =SUM(I11:J11) -> 18 | L11: =RANK(J11,J$6:J$76) -> 54 | M11: =COUNTA(D11,E11,F11,G11,H11)/5 -> 0
B12: 307 | C12: 여 | D12: 4 | E12: 6 | F12: 7 | G12: 8 | H12: 11 | I12: =SUM(D12:H12) -> 36 | J12: ='4주차'!K12 -> 101 | K12: =SUM(I12:J12) -> 137 | L12: =RANK(J12,J$6:J$76) -> 33 | M12: =COUNTA(D12,E12,F12,G12,H12)/5 -> 1
B13: 308 | C13: 여 | D13: 3 | E13: 9 | G13: 6 | H13: 13 | I13: =SUM(D13:H13) -> 31 | J13: ='4주차'!K13 -> 165 | K13: =SUM(I13:J13) -> 196 | L13: =RANK(J13,J$6:J$76) -> 11 | M13: =COUNTA(D13,E13,F13,G13,H13)/5 -> 0.8
B14: 309 | C14: 남 | D14: 8 | E14: 10 | F14: 12 | G14: 9 | I14: =SUM(D14:H14) -> 39 | J14: ='4주차'!K14 -> 167 | K14: =SUM(I14:J14) -> 206 | L14: =RANK(J14,J$6:J$76) -> 8 | M14: =COUNTA(D14,E14,F14,G14,H14)/5 -> 0.8
B15: 310 | C15: 남 | D15: 2 | E15: 8 | F15: 13 | G15: 7 | I15: =SUM(D15:H15) -> 30 | J15: ='4주차'!K15 -> 159 | K15: =SUM(I15:J15) -> 189 | L15: =RANK(J15,J$6:J$76) -> 12 | M15: =COUNTA(D15,E15,F15,G15,H15)/5 -> 0.8
B16: 311 | C16: 남 | I16: =SUM(D16:H16) -> 0 | J16: ='4주차'!K16 -> 33 | K16: =SUM(I16:J16) -> 33 | L16: =RANK(J16,J$6:J$76) -> 50 | M16: =COUNTA(D16,E16,F16,G16,H16)/5 -> 0
B17: 313 | C17: 남 | I17: =SUM(D17:H17) -> 0 | J17: ='4주차'!K17 -> 0 | K17: =SUM(I17:J17) -> 0 | L17: =RANK(J17,J$6:J$76) -> 62 | M17: =COUNTA(D17,E17,F17,G17,H17)/5 -> 0
B18: 314 | C18: 남 | D18: 3 | E18: 13 | F18: 11 | G18: 5 | H18: 10 | I18: =SUM(D18:H18) -> 42 | J18: ='4주차'!K18 -> 140 | K18: =SUM(I18:J18) -> 182 | L18: =RANK(J18,J$6:J$76) -> 26 | M18: =COUNTA(D18,E18,F18,G18,H18)/5 -> 1
B19: 318 | C19: 남 | I19: =SUM(D19:H19) -> 0 | J19: ='4주차'!K19 -> 37 | K19: =SUM(I19:J19) -> 37 | L19: =RANK(J19,J$6:J$76) -> 48 | M19: =COUNTA(D19,E19,F19,G19,H19)/5 -> 0
B20: 320 | C20: 여 | I20: =SUM(D20:H20) -> 0 | J20: ='4주차'!K20 -> 12 | K20: =SUM(I20:J20) -> 12 | L20: =RANK(J20,J$6:J$76) -> 56 | M20: =COUNTA(D20,E20,F20,G20,H20)/5 -> 0
B21: 321 | C21: 여 | I21: =SUM(D21:H21) -> 0 | J21: ='4주차'!K21 -> 5 | K21: =SUM(I21:J21) -> 5 | L21: =RANK(J21,J$6:J$76) -> 61 | M21: =COUNTA(D21,E21,F21,G21,H21)/5 -> 0
B22: 323 | C22: 남 | I22: =SUM(D22:H22) -> 0 | J22: ='4주차'!K22 -> 38 | K22: =SUM(I22:J22) -> 38 | L22: =RANK(J22,J$6:J$76) -> 47 | M22: =COUNTA(D22,E22,F22,G22,H22)/5 -> 0
B23: 324 | C23: 남 | E23: 9 | F23: 11 | I23: =SUM(D23:H23) -> 20 | J23: ='4주차'!K23 -> 103 | K23: =SUM(I23:J23) -> 123 | L23: =RANK(J23,J$6:J$76) -> 32 | M23: =COUNTA(D23,E23,F23,G23,H23)/5 -> 0.4
B24: 325 | C24: 남 | D24: 5 | E24: 7 | F24: 11 | G24: 5 | H24: 8 | I24: =SUM(D24:H24) -> 36 | J24: ='4주차'!K24 -> 145 | K24: =SUM(I24:J24) -> 181 | L24: =RANK(J24,J$6:J$76) -> 23 | M24: =COUNTA(D24,E24,F24,G24,H24)/5 -> 1
B25: 326 | C25: 남 | I25: =SUM(D25:H25) -> 0 | J25: ='4주차'!K25 -> 0 | K25: =SUM(I25:J25) -> 0 | L25: =RANK(J25,J$6:J$76) -> 62 | M25: =COUNTA(D25,E25,F25,G25,H25)/5 -> 0
B26: 327 | C26: 남 | D26: 5 | E26: 13 | F26: 7 | G26: 7 | H26: 8 | I26: =SUM(D26:H26) -> 40 | J26: ='4주차'!K26 -> 148 | K26: =SUM(I26:J26) -> 188 | L26: =RANK(J26,J$6:J$76) -> 20 | M26: =COUNTA(D26,E26,F26,G26,H26)/5 -> 1
B27: 328 | C27: 남 | D27: 4 | E27: 6 | F27: 6 | G27: 6 | H27: 11 | I27: =SUM(D27:H27) -> 33 | J27: ='4주차'!K27 -> 145 | K27: =SUM(I27:J27) -> 178 | L27: =RANK(J27,J$6:J$76) -> 23 | M27: =COUNTA(D27,E27,F27,G27,H27)/5 -> 1
B28: 329 | C28: 남 | D28: 8 | E28: 6 | G28: 7 | I28: =SUM(D28:H28) -> 21 | J28: ='4주차'!K28 -> 167 | K28: =SUM(I28:J28) -> 188 | L28: =RANK(J28,J$6:J$76) -> 8 | M28: =COUNTA(D28,E28,F28,G28,H28)/5 -> 0.6
B29: 330 | C29: 남 | D29: 5 | E29: 4 | F29: 10 | H29: 8 | I29: =SUM(D29:H29) -> 27 | J29: ='4주차'!K29 -> 68 | K29: =SUM(I29:J29) -> 95 | L29: =RANK(J29,J$6:J$76) -> 42 | M29: =COUNTA(D29,E29,F29,G29,H29)/5 -> 0.8
B30: 332 | C30: 남 | I30: =SUM(D30:H30) -> 0 | J30: ='4주차'!K30 -> 0 | K30: =SUM(I30:J30) -> 0 | L30: =RANK(J30,J$6:J$76) -> 62 | M30: =COUNTA(D30,E30,F30,G30,H30)/5 -> 0
B31: 333 | C31: 남 | D31: 6 | E31: 5 | F31: 10 | G31: 7 | H31: 11 | I31: =SUM(D31:H31) -> 39 | J31: ='4주차'!K31 -> 150 | K31: =SUM(I31:J31) -> 189 | L31: =RANK(J31,J$6:J$76) -> 17 | M31: =COUNTA(D31,E31,F31,G31,H31)/5 -> 1
B32: 334 | C32: 남 | D32: 5 | E32: 10 | F32: 10 | G32: 5 | I32: =SUM(D32:H32) -> 30 | J32: ='4주차'!K32 -> 156 | K32: =SUM(I32:J32) -> 186 | L32: =RANK(J32,J$6:J$76) -> 13 | M32: =COUNTA(D32,E32,F32,G32,H32)/5 -> 0.8
B33: 335 | C33: 남 | D33: 6 | E33: 6 | F33: 11 | G33: 3 | H33: 11 | I33: =SUM(D33:H33) -> 37 | J33: ='4주차'!K33 -> 149 | K33: =SUM(I33:J33) -> 186 | L33: =RANK(J33,J$6:J$76) -> 19 | M33: =COUNTA(D33,E33,F33,G33,H33)/5 -> 1
B34: 340 | C34: 남 | I34: =SUM(D34:H34) -> 0 | J34: ='4주차'!K34 -> 0 | K34: =SUM(I34:J34) -> 0 | L34: =RANK(J34,J$6:J$76) -> 62 | M34: =COUNTA(D34,E34,F34,G34,H34)/5 -> 0
B35: 341 | C35: 남 | D35: 1 | E35: 4 | F35: 6 | G35: 7 | I35: =SUM(D35:H35) -> 18 | J35: ='4주차'!K35 -> 107 | K35: =SUM(I35:J35) -> 125 | L35: =RANK(J35,J$6:J$76) -> 30 | M35: =COUNTA(D35,E35,F35,G35,H35)/5 -> 0.8
B36: 342 | C36: 남 | F36: 4 | I36: =SUM(D36:H36) -> 4 | J36: ='4주차'!K36 -> 79 | K36: =SUM(I36:J36) -> 83 | L36: =RANK(J36,J$6:J$76) -> 38 | M36: =COUNTA(D36,E36,F36,G36,H36)/5 -> 0.2
B37: 343 | C37: 남 | I37: =SUM(D37:H37) -> 0 | J37: ='4주차'!K37 -> 7 | K37: =SUM(I37:J37) -> 7 | L37: =RANK(J37,J$6:J$76) -> 60 | M37: =COUNTA(D37,E37,F37,G37,H37)/5 -> 0
B38: 451 | C38: 여 | D38: 10 | E38: 14 | F38: 14 | G38: 13 | H38: 11 | I38: =SUM(D38:H38) -> 62 | J38: ='4주차'!K38 -> 236 | K38: =SUM(I38:J38) -> 298 | L38: =RANK(J38,J$6:J$76) -> 1 | M38: =COUNTA(D38,E38,F38,G38,H38)/5 -> 1
B39: 452 | C39: 여 | I39: =SUM(D39:H39) -> 0 | J39: ='4주차'!K39 -> 0 | K39: =SUM(I39:J39) -> 0 | L39: =RANK(J39,J$6:J$76) -> 62 | M39: =COUNTA(D39,E39,F39,G39,H39)/5 -> 0
B40: 454 | C40: 여 | I40: =SUM(D40:H40) -> 0 | J40: ='4주차'!K40 -> 21 | K40: =SUM(I40:J40) -> 21 | L40: =RANK(J40,J$6:J$76) -> 52 | M40: =COUNTA(D40,E40,F40,G40,H40)/5 -> 0
B41: 455 | C41: 여 | I41: =SUM(D41:H41) -> 0 | J41: ='4주차'!K41 -> 49 | K41: =SUM(I41:J41) -> 49 | L41: =RANK(J41,J$6:J$76) -> 45 | M41: =COUNTA(D41,E41,F41,G41,H41)/5 -> 0
...

Sheet 6주차
B2: 11~12월 아침 모의고사 성적현황
B3: 시험 5주차 : 12월 14일 ~ 18일
D4: 10 | E4: 11 | F4: 12 | G4: 13 | H4: 14 | I4: 성적 | M4: 모의고사 참여율 | N4: 비고
A5: 수험 번호 | B5: 수험 번호 | C5: 성별 | D5: 형법 | E5: 국사 | F5: 형소법 | G5: 경찰학 | H5: 영어 | I5: 주간 총점 | J5: 지난주 총점 | K5: 전체 총점 | L5: 등수
B6: 300 | C6: 남 | D6: 9 | E6: 10 | F6: 12 | G6: 10 | H6: 9 | I6: =SUM(D6:H6) -> 50 | J6: ='5주차'!K6 -> 187 | K6: =SUM(I6:J6) -> 237 | L6: =RANK(J6,J$6:J$67) -> 17 | M6: =COUNTA(D6,E6,F6,G6,H6)/5 -> 1
B7: 301 | C7: 남 | D7: 5 | E7: 11 | F7: 15 | G7: 6 | H7: 14 | I7: =SUM(D7:H7) -> 51 | J7: ='5주차'!K7 -> 200 | K7: =SUM(I7:J7) -> 251 | L7: =RANK(J7,J$6:J$67) -> 9 | M7: =COUNTA(D7,E7,F7,G7,H7)/5 -> 1
B8: 304 | C8: 남 | D8: 3 | E8: 7 | F8: 7 | G8: 9 | H8: 7 | I8: =SUM(D8:H8) -> 33 | J8: ='5주차'!K9 -> 156 | K8: =SUM(I8:J8) -> 189 | L8: =RANK(J8,J$6:J$67) -> 27 | M8: =COUNTA(D8,E8,F8,G8,H8)/5 -> 1
B9: 305 | C9: 남 | I9: =SUM(D9:H9) -> 0 | J9: ='5주차'!K10 -> 84 | K9: =SUM(I9:J9) -> 84 | L9: =RANK(J9,J$6:J$67) -> 38 | M9: =COUNTA(D9,E9,F9,G9,H9)/5 -> 0
B10: 307 | C10: 여 | E10: 5 | F10: 8 | G10: 6 | H10: 9 | I10: =SUM(D10:H10) -> 28 | J10: ='5주차'!K12 -> 137 | K10: =SUM(I10:J10) -> 165 | L10: =RANK(J10,J$6:J$67) -> 30 | M10: =COUNTA(D10,E10,F10,G10,H10)/5 -> 0.8
B11: 308 | C11: 여 | D11: 8 | E11: 9 | F11: 13 | G11: 7 | I11: =SUM(D11:H11) -> 37 | J11: ='5주차'!K13 -> 196 | K11: =SUM(I11:J11) -> 233 | L11: =RANK(J11,J$6:J$67) -> 11 | M11: =COUNTA(D11,E11,F11,G11,H11)/5 -> 0.8
B12: 309 | C12: 남 | D12: 6 | E12: 11 | F12: 14 | G12: 10 | H12: 15 | I12: =SUM(D12:H12) -> 56 | J12: ='5주차'!K14 -> 206 | K12: =SUM(I12:J12) -> 262 | L12: =RANK(J12,J$6:J$67) -> 8 | M12: =COUNTA(D12,E12,F12,G12,H12)/5 -> 1
B13: 310 | C13: 남 | D13: 5 | E13: 10 | F13: 13 | G13: 10 | H13: 14 | I13: =SUM(D13:H13) -> 52 | J13: ='5주차'!K15 -> 189 | K13: =SUM(I13:J13) -> 241 | L13: =RANK(J13,J$6:J$67) -> 12 | M13: =COUNTA(D13,E13,F13,G13,H13)/5 -> 1
B14: 311 | C14: 남 | I14: =SUM(D14:H14) -> 0 | J14: ='5주차'!K16 -> 33 | K14: =SUM(I14:J14) -> 33 | L14: =RANK(J14,J$6:J$67) -> 46 | M14: =COUNTA(D14,E14,F14,G14,H14)/5 -> 0
B15: 314 | C15: 남 | D15: 7 | F15: 12 | G15: 4 | H15: 14 | I15: =SUM(D15:H15) -> 37 | J15: ='5주차'!K18 -> 182 | K15: =SUM(I15:J15) -> 219 | L15: =RANK(J15,J$6:J$67) -> 21 | M15: =COUNTA(D15,E15,F15,G15,H15)/5 -> 0.8
B16: 321 | C16: 여 | I16: =SUM(D16:H16) -> 0 | J16: ='5주차'!K21 -> 5 | K16: =SUM(I16:J16) -> 5 | L16: =RANK(J16,J$6:J$67) -> 54 | M16: =COUNTA(D16,E16,F16,G16,H16)/5 -> 0
B17: 323 | C17: 남 | I17: =SUM(D17:H17) -> 0 | J17: ='5주차'!K22 -> 38 | K17: =SUM(I17:J17) -> 38 | L17: =RANK(J17,J$6:J$67) -> 45 | M17: =COUNTA(D17,E17,F17,G17,H17)/5 -> 0
B18: 324 | C18: 남 | D18: 8 | E18: 11 | I18: =SUM(D18:H18) -> 19 | J18: ='5주차'!K23 -> 123 | K18: =SUM(I18:J18) -> 142 | L18: =RANK(J18,J$6:J$67) -> 32 | M18: =COUNTA(D18,E18,F18,G18,H18)/5 -> 0.4
B19: 325 | C19: 남 | D19: 7 | E19: 9 | F19: 9 | G19: 6 | H19: 5 | I19: =SUM(D19:H19) -> 36 | J19: ='5주차'!K24 -> 181 | K19: =SUM(I19:J19) -> 217 | L19: =RANK(J19,J$6:J$67) -> 22 | M19: =COUNTA(D19,E19,F19,G19,H19)/5 -> 1
B20: 326 | C20: 남 | I20: =SUM(D20:H20) -> 0 | J20: ='5주차'!K25 -> 0 | K20: =SUM(I20:J20) -> 0 | L20: =RANK(J20,J$6:J$67) -> 55 | M20: =COUNTA(D20,E20,F20,G20,H20)/5 -> 0
B21: 327 | C21: 남 | D21: 5 | F21: 11 | G21: 7 | H21: 3 | I21: =SUM(D21:H21) -> 26 | J21: ='5주차'!K26 -> 188 | K21: =SUM(I21:J21) -> 214 | L21: =RANK(J21,J$6:J$67) -> 14 | M21: =COUNTA(D21,E21,F21,G21,H21)/5 -> 0.8
B22: 328 | C22: 남 | D22: 6 | E22: 7 | G22: 8 | H22: 6 | I22: =SUM(D22:H22) -> 27 | J22: ='5주차'!K27 -> 178 | K22: =SUM(I22:J22) -> 205 | L22: =RANK(J22,J$6:J$67) -> 23 | M22: =COUNTA(D22,E22,F22,G22,H22)/5 -> 0.8
B23: 329 | C23: 남 | E23: 6 | I23: =SUM(D23:H23) -> 6 | J23: ='5주차'!K28 -> 188 | K23: =SUM(I23:J23) -> 194 | L23: =RANK(J23,J$6:J$67) -> 14 | M23: =COUNTA(D23,E23,F23,G23,H23)/5 -> 0.2
B24: 330 | C24: 남 | D24: 5 | E24: 2 | F24: 8 | G24: 4 | H24: 5 | I24: =SUM(D24:H24) -> 24 | J24: ='5주차'!K29 -> 95 | K24: =SUM(I24:J24) -> 119 | L24: =RANK(J24,J$6:J$67) -> 36 | M24: =COUNTA(D24,E24,F24,G24,H24)/5 -> 1
B25: 332 | C25: 남 | I25: =SUM(D25:H25) -> 0 | J25: ='5주차'!K30 -> 0 | K25: =SUM(I25:J25) -> 0 | L25: =RANK(J25,J$6:J$67) -> 55 | M25: =COUNTA(D25,E25,F25,G25,H25)/5 -> 0
B26: 333 | C26: 남 | D26: 5 | E26: 10 | F26: 14 | G26: 8 | H26: 14 | I26: =SUM(D26:H26) -> 51 | J26: ='5주차'!K31 -> 189 | K26: =SUM(I26:J26) -> 240 | L26: =RANK(J26,J$6:J$67) -> 12 | M26: =COUNTA(D26,E26,F26,G26,H26)/5 -> 1
B27: 334 | C27: 남 | D27: 7 | F27: 11 | G27: 10 | H27: 15 | I27: =SUM(D27:H27) -> 43 | J27: ='5주차'!K32 -> 186 | K27: =SUM(I27:J27) -> 229 | L27: =RANK(J27,J$6:J$67) -> 19 | M27: =COUNTA(D27,E27,F27,G27,H27)/5 -> 0.8
B28: 335 | C28: 남 | D28: 4 | E28: 9 | F28: 12 | G28: 8 | H28: 15 | I28: =SUM(D28:H28) -> 48 | J28: ='5주차'!K33 -> 186 | K28: =SUM(I28:J28) -> 234 | L28: =RANK(J28,J$6:J$67) -> 19 | M28: =COUNTA(D28,E28,F28,G28,H28)/5 -> 1
B29: 340 | C29: 남 | I29: =SUM(D29:H29) -> 0 | J29: ='5주차'!K34 -> 0 | K29: =SUM(I29:J29) -> 0 | L29: =RANK(J29,J$6:J$67) -> 55 | M29: =COUNTA(D29,E29,F29,G29,H29)/5 -> 0
B30: 341 | C30: 남 | D30: 5 | E30: 4 | F30: 9 | G30: 6 | H30: 9 | I30: =SUM(D30:H30) -> 33 | J30: ='5주차'!K35 -> 125 | K30: =SUM(I30:J30) -> 158 | L30: =RANK(J30,J$6:J$67) -> 31 | M30: =COUNTA(D30,E30,F30,G30,H30)/5 -> 1
B31: 342 | C31: 남 | I31: =SUM(D31:H31) -> 0 | J31: ='5주차'!K36 -> 83 | K31: =SUM(I31:J31) -> 83 | L31: =RANK(J31,J$6:J$67) -> 39 | M31: =COUNTA(D31,E31,F31,G31,H31)/5 -> 0
B32: 343 | C32: 남 | I32: =SUM(D32:H32) -> 0 | J32: ='5주차'!K37 -> 7 | K32: =SUM(I32:J32) -> 7 | L32: =RANK(J32,J$6:J$67) -> 53 | M32: =COUNTA(D32,E32,F32,G32,H32)/5 -> 0
B33: 451 | C33: 여 | D33: 10 | E33: 10 | F33: 13 | G33: 13 | H33: 12 | I33: =SUM(D33:H33) -> 58 | J33: ='5주차'!K38 -> 298 | K33: =SUM(I33:J33) -> 356 | L33: =RANK(J33,J$6:J$67) -> 1 | M33: =COUNTA(D33,E33,F33,G33,H33)/5 -> 1
B34: 452 | C34: 여 | I34: =SUM(D34:H34) -> 0 | J34: ='5주차'!K39 -> 0 | K34: =SUM(I34:J34) -> 0 | L34: =RANK(J34,J$6:J$67) -> 55 | M34: =COUNTA(D34,E34,F34,G34,H34)/5 -> 0
B35: 454 | C35: 여 | I35: =SUM(D35:H35) -> 0 | J35: ='5주차'!K40 -> 21 | K35: =SUM(I35:J35) -> 21 | L35: =RANK(J35,J$6:J$67) -> 48 | M35: =COUNTA(D35,E35,F35,G35,H35)/5 -> 0
B36: 456 | C36: 남 | D36: 4 | E36: 9 | G36: 6 | H36: 6 | I36: =SUM(D36:H36) -> 25 | J36: ='5주차'!K42 -> 178 | K36: =SUM(I36:J36) -> 203 | L36: =RANK(J36,J$6:J$67) -> 23 | M36: =COUNTA(D36,E36,F36,G36,H36)/5 -> 0.8
B37: 458 | C37: 남 | I37: =SUM(D37:H37) -> 0 | J37: ='5주차'!K43 -> 104 | K37: =SUM(I37:J37) -> 104 | L37: =RANK(J37,J$6:J$67) -> 34 | M37: =COUNTA(D37,E37,F37,G37,H37)/5 -> 0
B38: 459 | C38: 여 | D38: 8 | F38: 10 | G38: 5 | H38: 10 | I38: =SUM(D38:H38) -> 33 | J38: ='5주차'!K44 -> 188 | K38: =SUM(I38:J38) -> 221 | L38: =RANK(J38,J$6:J$67) -> 14 | M38: =COUNTA(D38,E38,F38,G38,H38)/5 -> 0.8
B39: 460 | C39: 남 | D39: 7 | E39: 11 | F39: 13 | G39: 9 | I39: =SUM(D39:H39) -> 40 | J39: ='5주차'!K45 -> 200 | K39: =SUM(I39:J39) -> 240 | L39: =RANK(J39,J$6:J$67) -> 9 | M39: =COUNTA(D39,E39,F39,G39,H39)/5 -> 0.8
B40: 461 | C40: 여 | D40: 5 | E40: 5 | F40: 7 | G40: 4 | H40: 8 | I40: =SUM(D40:H40) -> 29 | J40: ='5주차'!K46 -> 187 | K40: =SUM(I40:J40) -> 216 | L40: =RANK(J40,J$6:J$67) -> 17 | M40: =COUNTA(D40,E40,F40,G40,H40)/5 -> 1
B41: 462 | C41: 여 | D41: 1 | E41: 5 | F41: 12 | G41: 7 | H41: 7 | I41: =SUM(D41:H41) -> 32 | J41: ='5주차'!K47 -> 138 | K41: =SUM(I41:J41) -> 170 | L41: =RANK(J41,J$6:J$67) -> 29 | M41: =COUNTA(D41,E41,F41,G41,H41)/5 -> 1
...

Sheet Sheet2
