Workbook

Sheet 1주차
B2: 9~10월 아침 모의고사 성적현황
B3: 시험 1주차 : 9월 10일 ~ 14일
D4: 9 | E4: 10 | F4: 11 | G4: 12 | H4: 13 | I4: 주간성적 | K4: 모의고사 참여율 | L4: 비고
A5: 수험 번호 | B5: 수험 번호 | C5: 성별 | D5: 국사 | E5: 형소법 | F5: 경찰학 | G5: 형법 | H5: 영어 | I5: 전체 총점 | J5: 등수
B6: 100 | C6: 남 | I6: =SUM(D6,E6,F6,G6,H6) -> 0 | J6: =RANK(I6,I$6:I$138) -> 107 | K6: =COUNTA(D6,E6,F6,G6,H6)/5 -> 0
B7: 101 | C7: 남 | E7: 10 | F7: 14 | G7: 4 | H7: 9 | I7: =SUM(D7,E7,F7,G7,H7) -> 37 | J7: =RANK(I7,I$6:I$138) -> 26 | K7: =COUNTA(D7,E7,F7,G7,H7)/5 -> 0.8
B8: 102 | C8: 남 | I8: =SUM(D8,E8,F8,G8,H8) -> 0 | J8: =RANK(I8,I$6:I$138) -> 107 | K8: =COUNTA(D8,E8,F8,G8,H8)/5 -> 0
B9: 103 | C9: 여 | E9: 8 | F9: 12 | G9: 4 | H9: 7 | I9: =SUM(D9,E9,F9,G9,H9) -> 31 | J9: =RANK(I9,I$6:I$138) -> 42 | K9: =COUNTA(D9,E9,F9,G9,H9)/5 -> 0.8
B10: 104 | C10: 여 | D10: 10 | E10: 11 | F10: 12 | G10: 8 | I10: =SUM(D10,E10,F10,G10,H10) -> 41 | J10: =RANK(I10,I$6:I$138) -> 19 | K10: =COUNTA(D10,E10,F10,G10,H10)/5 -> 0.8
B11: 105 | C11: 남 | D11: 11 | E11: 10 | F11: 11 | G11: 5 | H11: 3 | I11: =SUM(D11,E11,F11,G11,H11) -> 40 | J11: =RANK(I11,I$6:I$138) -> 21 | K11: =COUNTA(D11,E11,F11,G11,H11)/5 -> 1
B12: 106 | C12: 여 | D12: 9 | E12: 5 | F12: 4 | G12: 2 | H12: 7 | I12: =SUM(D12,E12,F12,G12,H12) -> 27 | J12: =RANK(I12,I$6:I$138) -> 54 | K12: =COUNTA(D12,E12,F12,G12,H12)/5 -> 1
B13: 107 | C13: 여 | D13: 7 | I13: =SUM(D13,E13,F13,G13,H13) -> 7 | J13: =RANK(I13,I$6:I$138) -> 101 | K13: =COUNTA(D13,E13,F13,G13,H13)/5 -> 0.2
B14: 108 | C14: 여 | D14: 8 | E14: 9 | F14: 10 | G14: 5 | H14: 6 | I14: =SUM(D14,E14,F14,G14,H14) -> 38 | J14: =RANK(I14,I$6:I$138) -> 24 | K14: =COUNTA(D14,E14,F14,G14,H14)/5 -> 1
B15: 109 | C15: 남 | D15: 11 | E15: 10 | F15: 7 | G15: 3 | H15: 8 | I15: =SUM(D15,E15,F15,G15,H15) -> 39 | J15: =RANK(I15,I$6:I$138) -> 22 | K15: =COUNTA(D15,E15,F15,G15,H15)/5 -> 1
B16: 110 | C16: 여 | D16: 5 | E16: 3 | G16: 3 | I16: =SUM(D16,E16,F16,G16,H16) -> 11 | J16: =RANK(I16,I$6:I$138) -> 85 | K16: =COUNTA(D16,E16,F16,G16,H16)/5 -> 0.6
B17: 111 | C17: 여 | D17: 10 | F17: 3 | G17: 2 | H17: 4 | I17: =SUM(D17,E17,F17,G17,H17) -> 19 | J17: =RANK(I17,I$6:I$138) -> 66 | K17: =COUNTA(D17,E17,F17,G17,H17)/5 -> 0.8
B18: 112 | C18: 남 | D18: 9 | E18: 4 | F18: 7 | G18: 4 | H18: 11 | I18: =SUM(D18,E18,F18,G18,H18) -> 35 | J18: =RANK(I18,I$6:I$138) -> 30 | K18: =COUNTA(D18,E18,F18,G18,H18)/5 -> 1
B19: 113 | C19: 남 | D19: 10 | E19: 5 | F19: 4 | G19: 6 | H19: 7 | I19: =SUM(D19,E19,F19,G19,H19) -> 32 | J19: =RANK(I19,I$6:I$138) -> 38 | K19: =COUNTA(D19,E19,F19,G19,H19)/5 -> 1
B20: 114 | C20: 여 | E20: 6 | I20: =SUM(D20,E20,F20,G20,H20) -> 6 | J20: =RANK(I20,I$6:I$138) -> 103 | K20: =COUNTA(D20,E20,F20,G20,H20)/5 -> 0.2
B21: 115 | C21: 여 | I21: =SUM(D21,E21,F21,G21,H21) -> 0 | J21: =RANK(I21,I$6:I$138) -> 107 | K21: =COUNTA(D21,E21,F21,G21,H21)/5 -> 0
B22: 116 | C22: 남 | D22: 10 | E22: 6 | F22: 7 | G22: 5 | H22: 6 | I22: =SUM(D22,E22,F22,G22,H22) -> 34 | J22: =RANK(I22,I$6:I$138) -> 34 | K22: =COUNTA(D22,E22,F22,G22,H22)/5 -> 1
B23: 117 | C23: 남 | I23: =SUM(D23,E23,F23,G23,H23) -> 0 | J23: =RANK(I23,I$6:I$138) -> 107 | K23: =COUNTA(D23,E23,F23,G23,H23)/5 -> 0
B24: 118 | C24: 남 | D24: 5 | F24: 5 | I24: =SUM(D24,E24,F24,G24,H24) -> 10 | J24: =RANK(I24,I$6:I$138) -> 90 | K24: =COUNTA(D24,E24,F24,G24,H24)/5 -> 0.4
B25: 119 | C25: 남 | D25: 6 | H25: 4 | I25: =SUM(D25,E25,F25,G25,H25) -> 10 | J25: =RANK(I25,I$6:I$138) -> 90 | K25: =COUNTA(D25,E25,F25,G25,H25)/5 -> 0.4
B26: 120 | C26: 남 | I26: =SUM(D26,E26,F26,G26,H26) -> 0 | J26: =RANK(I26,I$6:I$138) -> 107 | K26: =COUNTA(D26,E26,F26,G26,H26)/5 -> 0
B27: 121 | C27: 여 | D27: 8 | E27: 8 | F27: 9 | G27: 4 | I27: =SUM(D27,E27,F27,G27,H27) -> 29 | J27: =RANK(I27,I$6:I$138) -> 45 | K27: =COUNTA(D27,E27,F27,G27,H27)/5 -> 0.8
B28: 122 | C28: 남 | D28: 10 | E28: 11 | H28: 8 | I28: =SUM(D28,E28,F28,G28,H28) -> 29 | J28: =RANK(I28,I$6:I$138) -> 45 | K28: =COUNTA(D28,E28,F28,G28,H28)/5 -> 0.6
B29: 123 | C29: 남 | D29: 10 | E29: 7 | F29: 10 | G29: 4 | H29: 4 | I29: =SUM(D29,E29,F29,G29,H29) -> 35 | J29: =RANK(I29,I$6:I$138) -> 30 | K29: =COUNTA(D29,E29,F29,G29,H29)/5 -> 1
B30: 124 | C30: 남 | E30: 3 | F30: 8 | G30: 0 | H30: 5 | I30: =SUM(D30,E30,F30,G30,H30) -> 16 | J30: =RANK(I30,I$6:I$138) -> 71 | K30: =COUNTA(D30,E30,F30,G30,H30)/5 -> 0.8
B31: 125 | C31: 여 | D31: 10 | E31: 8 | F31: 5 | G31: 1 | H31: 5 | I31: =SUM(D31,E31,F31,G31,H31) -> 29 | J31: =RANK(I31,I$6:I$138) -> 45 | K31: =COUNTA(D31,E31,F31,G31,H31)/5 -> 1
B32: 126 | C32: 여 | D32: 14 | E32: 8 | F32: 14 | G32: 6 | H32: 9 | I32: =SUM(D32,E32,F32,G32,H32) -> 51 | J32: =RANK(I32,I$6:I$138) -> 7 | K32: =COUNTA(D32,E32,F32,G32,H32)/5 -> 1
B33: 127 | C33: 남 | E33: 9 | F33: 10 | G33: 5 | H33: 9 | I33: =SUM(D33,E33,F33,G33,H33) -> 33 | J33: =RANK(I33,I$6:I$138) -> 36 | K33: =COUNTA(D33,E33,F33,G33,H33)/5 -> 0.8
B34: 128 | C34: 남 | I34: =SUM(D34,E34,F34,G34,H34) -> 0 | J34: =RANK(I34,I$6:I$138) -> 107 | K34: =COUNTA(D34,E34,F34,G34,H34)/5 -> 0
B35: 129 | C35: 남 | E35: 10 | G35: 5 | I35: =SUM(D35,E35,F35,G35,H35) -> 15 | J35: =RANK(I35,I$6:I$138) -> 72 | K35: =COUNTA(D35,E35,F35,G35,H35)/5 -> 0.4
B36: 130 | C36: 남 | D36: 13 | E36: 9 | H36: 6 | I36: =SUM(D36,E36,F36,G36,H36) -> 28 | J36: =RANK(I36,I$6:I$138) -> 51 | K36: =COUNTA(D36,E36,F36,G36,H36)/5 -> 0.6
B37: 131 | C37: 여 | I37: =SUM(D37,E37,F37,G37,H37) -> 0 | J37: =RANK(I37,I$6:I$138) -> 107 | K37: =COUNTA(D37,E37,F37,G37,H37)/5 -> 0
B38: 132 | C38: 남 | I38: =SUM(D38,E38,F38,G38,H38) -> 0 | J38: =RANK(I38,I$6:I$138) -> 107 | K38: =COUNTA(D38,E38,F38,G38,H38)/5 -> 0
B39: 133 | C39: 남 | D39: 10 | E39: 6 | F39: 6 | G39: 1 | H39: 6 | I39: =SUM(D39,E39,F39,G39,H39) -> 29 | J39: =RANK(I39,I$6:I$138) -> 45 | K39: =COUNTA(D39,E39,F39,G39,H39)/5 -> 1
B40: 134 | C40: 여 | E40: 9 | I40: =SUM(D40,E40,F40,G40,H40) -> 9 | J40: =RANK(I40,I$6:I$138) -> 93 | K40: =COUNTA(D40,E40,F40,G40,H40)/5 -> 0.2
B41: 135 | C41: 남 | D41: 11 | E41: 10 | F41: 11 | G41: 7 | H41: 8 | I41: =SUM(D41,E41,F41,G41,H41) -> 47 | J41: =RANK(I41,I$6:I$138) -> 11 | K41: =COUNTA(D41,E41,F41,G41,H41)/5 -> 1
B42: 136 | C42: 남 | D42: 12 | E42: 11 | F42: 10 | G42: 6 | H42: 6 | I42: =SUM(D42,E42,F42,G42,H42) -> 45 | J42: =RANK(I42,I$6:I$138) -> 15 | K42: =COUNTA(D42,E42,F42,G42,H42)/5 -> 1
B43: 137 | C43: 남 | D43: 13 | E43: 13 | F43: 12 | G43: 8 | H43: 13 | I43: =SUM(D43,E43,F43,G43,H43) -> 59 | J43: =RANK(I43,I$6:I$138) -> 1 | K43: =COUNTA(D43,E43,F43,G43,H43)/5 -> 1
B44: 138 | C44: 여 | D44: 14 | E44: 13 | F44: 13 | G44: 7 | H44: 9 | I44: =SUM(D44,E44,F44,G44,H44) -> 56 | J44: =RANK(I44,I$6:I$138) -> 4 | K44: =COUNTA(D44,E44,F44,G44,H44)/5 -> 1
B45: 139 | C45: 남 | D45: 8 | E45: 9 | F45: 8 | G45: 2 | H45: 8 | I45: =SUM(D45,E45,F45,G45,H45) -> 35 | J45: =RANK(I45,I$6:I$138) -> 30 | K45: =COUNTA(D45,E45,F45,G45,H45)/5 -> 1
B46: 140 | C46: 여 | E46: 4 | F46: 3 | G46: 1 | I46: =SUM(D46,E46,F46,G46,H46) -> 8 | J46: =RANK(I46,I$6:I$138) -> 99 | K46: =COUNTA(D46,E46,F46,G46,H46)/5 -> 0.6
B47: 141 | C47: 여 | D47: 12 | E47: 12 | F47: 8 | G47: 6 | H47: 5 | I47: =SUM(D47,E47,F47,G47,H47) -> 43 | J47: =RANK(I47,I$6:I$138) -> 18 | K47: =COUNTA(D47,E47,F47,G47,H47)/5 -> 1
B48: 142 | C48: 남 | D48: 9 | E48: 6 | F48: 7 | H48: 8 | I48: =SUM(D48,E48,F48,G48,H48) -> 30 | J48: =RANK(I48,I$6:I$138) -> 43 | K48: =COUNTA(D48,E48,F48,G48,H48)/5 -> 0.8
B49: 143 | C49: 남 | D49: 14 | E49: 12 | F49: 13 | H49: 9 | I49: =SUM(D49,E49,F49,G49,H49) -> 48 | J49: =RANK(I49,I$6:I$138) -> 10 | K49: =COUNTA(D49,E49,F49,G49,H49)/5 -> 0.8
B50: 144 | C50: 남 | E50: 10 | G50: 5 | I50: =SUM(D50,E50,F50,G50,H50) -> 15 | J50: =RANK(I50,I$6:I$138) -> 72 | K50: =COUNTA(D50,E50,F50,G50,H50)/5 -> 0.4
B51: 145 | C51: 남 | D51: 13 | E51: 11 | F51: 14 | G51: 6 | H51: 10 | I51: =SUM(D51,E51,F51,G51,H51) -> 54 | J51: =RANK(I51,I$6:I$138) -> 6 | K51: =COUNTA(D51,E51,F51,G51,H51)/5 -> 1
B52: 146 | C52: 남 | D52: 6 | E52: 5 | F52: 6 | G52: 1 | I52: =SUM(D52,E52,F52,G52,H52) -> 18 | J52: =RANK(I52,I$6:I$138) -> 67 | K52: =COUNTA(D52,E52,F52,G52,H52)/5 -> 0.8
B53: 147 | C53: 남 | D53: 14 | E53: 13 | F53: 14 | G53: 7 | H53: 8 | I53: =SUM(D53,E53,F53,G53,H53) -> 56 | J53: =RANK(I53,I$6:I$138) -> 4 | K53: =COUNTA(D53,E53,F53,G53,H53)/5 -> 1
B54: 148 | C54: 남 | D54: 5 | E54: 3 | G54: 5 | I54: =SUM(D54,E54,F54,G54,H54) -> 13 | J54: =RANK(I54,I$6:I$138) -> 78 | K54: =COUNTA(D54,E54,F54,G54,H54)/5 -> 0.6
B55: 149 | C55: 남 | D55: 13 | E55: 12 | F55: 15 | G55: 8 | H55: 10 | I55: =SUM(D55,E55,F55,G55,H55) -> 58 | J55: =RANK(I55,I$6:I$138) -> 3 | K55: =COUNTA(D55,E55,F55,G55,H55)/5 -> 1
B56: 150 | C56: 여 | D56: 8 | E56: 2 | F56: 3 | G56: 5 | H56: 3 | I56: =SUM(D56,E56,F56,G56,H56) -> 21 | J56: =RANK(I56,I$6:I$138) -> 62 | K56: =COUNTA(D56,E56,F56,G56,H56)/5 -> 1
B57: 200 | C57: 남 | I57: =SUM(D57,E57,F57,G57,H57) -> 0 | J57: =RANK(I57,I$6:I$138) -> 107 | K57: =COUNTA(D57,E57,F57,G57,H57)/5 -> 0
B58: 201 | C58: 남 | D58: 12 | E58: 7 | F58: 11 | G58: 5 | H58: 6 | I58: =SUM(D58,E58,F58,G58,H58) -> 41 | J58: =RANK(I58,I$6:I$138) -> 19 | K58: =COUNTA(D58,E58,F58,G58,H58)/5 -> 1
B59: 202 | C59: 여 | D59: 11 | E59: 12 | F59: 10 | G59: 7 | H59: 10 | I59: =SUM(D59,E59,F59,G59,H59) -> 50 | J59: =RANK(I59,I$6:I$138) -> 8 | K59: =COUNTA(D59,E59,F59,G59,H59)/5 -> 1
B60: 203 | C60: 여 | D60: 13 | F60: 9 | G60: 4 | I60: =SUM(D60,E60,F60,G60,H60) -> 26 | J60: =RANK(I60,I$6:I$138) -> 55 | K60: =COUNTA(D60,E60,F60,G60,H60)/5 -> 0.6
B61: 204 | C61: 여 | D61: 8 | E61: 10 | F61: 7 | I61: =SUM(D61,E61,F61,G61,H61) -> 25 | J61: =RANK(I61,I$6:I$138) -> 58 | K61: =COUNTA(D61,E61,F61,G61,H61)/5 -> 0.6
B62: 205 | C62: 여 | E62: 12 | I62: =SUM(D62,E62,F62,G62,H62) -> 12 | J62: =RANK(I62,I$6:I$138) -> 81 | K62: =COUNTA(D62,E62,F62,G62,H62)/5 -> 0.2
B63: 206 | C63: 남 | D63: 8 | F63: 5 | G63: 2 | H63: 3 | I63: =SUM(D63,E63,F63,G63,H63) -> 18 | J63: =RANK(I63,I$6:I$138) -> 67 | K63: =COUNTA(D63,E63,F63,G63,H63)/5 -> 0.8
B64: 207 | C64: 남 | D64: 10 | E64: 8 | F64: 12 | G64: 5 | H64: 9 | I64: =SUM(D64,E64,F64,G64,H64) -> 44 | J64: =RANK(I64,I$6:I$138) -> 16 | K64: =COUNTA(D64,E64,F64,G64,H64)/5 -> 1
B65: 208 | C65: 여 | D65: 10 | E65: 3 | F65: 5 | I65: =SUM(D65,E65,F65,G65,H65) -> 18 | J65: =RANK(I65,I$6:I$138) -> 67 | K65: =COUNTA(D65,E65,F65,G65,H65)/5 -> 0.6
B66: 209 | C66: 여 | D66: 10 | E66: 9 | F66: 10 | G66: 7 | H66: 8 | I66: =SUM(D66,E66,F66,G66,H66) -> 44 | J66: =RANK(I66,I$6:I$138) -> 16 | K66: =COUNTA(D66,E66,F66,G66,H66)/5 -> 1
B67: 210 | C67: 여 | E67: 4 | F67: 5 | G67: 3 | I67: =SUM(D67,E67,F67,G67,H67) -> 12 | J67: =RANK(I67,I$6:I$138) -> 81 | K67: =COUNTA(D67,E67,F67,G67,H67)/5 -> 0.6
B68: 211 | C68: 남 | D68: 12 | E68: 7 | F68: 3 | G68: 2 | H68: 4 | I68: =SUM(D68,E68,F68,G68,H68) -> 28 | J68: =RANK(I68,I$6:I$138) -> 51 | K68: =COUNTA(D68,E68,F68,G68,H68)/5 -> 1
B69: 212 | C69: 여 | I69: =SUM(D69,E69,F69,G69,H69) -> 0 | J69: =RANK(I69,I$6:I$138) -> 107 | K69: =COUNTA(D69,E69,F69,G69,H69)/5 -> 0
B70: 213 | C70: 남 | I70: =SUM(D70,E70,F70,G70,H70) -> 0 | J70: =RANK(I70,I$6:I$138) -> 107 | K70: =COUNTA(D70,E70,F70,G70,H70)/5 -> 0
B71: 214 | C71: 남 | I71: =SUM(D71,E71,F71,G71,H71) -> 0 | J71: =RANK(I71,I$6:I$138) -> 107 | K71: =COUNTA(D71,E71,F71,G71,H71)/5 -> 0
B72: 215 | C72: 남 | D72: 5 | E72: 5 | F72: 5 | G72: 3 | H72: 3 | I72: =SUM(D72,E72,F72,G72,H72) -> 21 | J72: =RANK(I72,I$6:I$138) -> 62 | K72: =COUNTA(D72,E72,F72,G72,H72)/5 -> 1
B73: 216 | C73: 남 | D73: 8 | F73: 7 | G73: 4 | H73: 6 | I73: =SUM(D73,E73,F73,G73,H73) -> 25 | J73: =RANK(I73,I$6:I$138) -> 58 | K73: =COUNTA(D73,E73,F73,G73,H73)/5 -> 0.8
B74: 217 | C74: 남 | D74: 4 | E74: 6 | F74: 4 | G74: 4 | H74: 3 | I74: =SUM(D74,E74,F74,G74,H74) -> 21 | J74: =RANK(I74,I$6:I$138) -> 62 | K74: =COUNTA(D74,E74,F74,G74,H74)/5 -> 1
B75: 219 | C75: 남 | D75: 14 | E75: 12 | F75: 15 | G75: 9 | H75: 9 | I75: =SUM(D75,E75,F75,G75,H75) -> 59 | J75: =RANK(I75,I$6:I$138) -> 1 | K75: =COUNTA(D75,E75,F75,G75,H75)/5 -> 1
B76: 220 | C76: 남 | D76: 7 | E76: 4 | F76: 4 | G76: 4 | H76: 4 | I76: =SUM(D76,E76,F76,G76,H76) -> 23 | J76: =RANK(I76,I$6:I$138) -> 60 | K76: =COUNTA(D76,E76,F76,G76,H76)/5 -> 1
B77: 221 | C77: 남 | E77: 6 | F77: 11 | G77: 4 | I77: =SUM(D77,E77,F77,G77,H77) -> 21 | J77: =RANK(I77,I$6:I$138) -> 62 | K77: =COUNTA(D77,E77,F77,G77,H77)/5 -> 0.6
B78: 222 | C78: 남 | I78: =SUM(D78,E78,F78,G78,H78) -> 0 | J78: =RANK(I78,I$6:I$138) -> 107 | K78: =COUNTA(D78,E78,F78,G78,H78)/5 -> 0
B79: 223 | C79: 남 | I79: =SUM(D79,E79,F79,G79,H79) -> 0 | J79: =RANK(I79,I$6:I$138) -> 107 | K79: =COUNTA(D79,E79,F79,G79,H79)/5 -> 0
B80: 224 | C80: 남 | I80: =SUM(D80,E80,F80,G80,H80) -> 0 | J80: =RANK(I80,I$6:I$138) -> 107 | K80: =COUNTA(D80,E80,F80,G80,H80)/5 -> 0
B81: 225 | C81: 남 | D81: 11 | E81: 4 | F81: 4 | G81: 3 | H81: 4 | I81: =SUM(D81,E81,F81,G81,H81) -> 26 | J81: =RANK(I81,I$6:I$138) -> 55 | K81: =COUNTA(D81,E81,F81,G81,H81)/5 -> 1
B82: 226 | C82: 남 | I82: =SUM(D82,E82,F82,G82,H82) -> 0 | J82: =RANK(I82,I$6:I$138) -> 107 | K82: =COUNTA(D82,E82,F82,G82,H82)/5 -> 0
B83: 227 | C83: 남 | D83: 8 | E83: 12 | F83: 5 | G83: 5 | H83: 2 | I83: =SUM(D83,E83,F83,G83,H83) -> 32 | J83: =RANK(I83,I$6:I$138) -> 38 | K83: =COUNTA(D83,E83,F83,G83,H83)/5 -> 1
B84: 228 | C84: 남 | E84: 5 | F84: 8 | G84: 0 | I84: =SUM(D84,E84,F84,G84,H84) -> 13 | J84: =RANK(I84,I$6:I$138) -> 78 | K84: =COUNTA(D84,E84,F84,G84,H84)/5 -> 0.6
B85: 229 | C85: 여 | D85: 8 | E85: 8 | F85: 6 | G85: 3 | H85: 4 | I85: =SUM(D85,E85,F85,G85,H85) -> 29 | J85: =RANK(I85,I$6:I$138) -> 45 | K85: =COUNTA(D85,E85,F85,G85,H85)/5 -> 1
B86: 230 | C86: 남 | F86: 13 | G86: 6 | H86: 11 | I86: =SUM(D86,E86,F86,G86,H86) -> 30 | J86: =RANK(I86,I$6:I$138) -> 43 | K86: =COUNTA(D86,E86,F86,G86,H86)/5 -> 0.6
B87: 231 | C87: 남 | D87: 10 | E87: 11 | F87: 8 | G87: 2 | H87: 5 | I87: =SUM(D87,E87,F87,G87,H87) -> 36 | J87: =RANK(I87,I$6:I$138) -> 27 | K87: =COUNTA(D87,E87,F87,G87,H87)/5 -> 1
B88: 232 | C88: 남 | G88: 6 | I88: =SUM(D88,E88,F88,G88,H88) -> 6 | J88: =RANK(I88,I$6:I$138) -> 103 | K88: =COUNTA(D88,E88,F88,G88,H88)/5 -> 0.2
B89: 233 | C89: 여 | E89: 4 | F89: 2 | H89: 3 | I89: =SUM(D89,E89,F89,G89,H89) -> 9 | J89: =RANK(I89,I$6:I$138) -> 93 | K89: =COUNTA(D89,E89,F89,G89,H89)/5 -> 0.6
B90: 234 | C90: 남 | I90: =SUM(D90,E90,F90,G90,H90) -> 0 | J90: =RANK(I90,I$6:I$138) -> 107 | K90: =COUNTA(D90,E90,F90,G90,H90)/5 -> 0
B91: 236 | C91: 남 | D91: 14 | E91: 8 | G91: 5 | H91: 6 | I91: =SUM(D91,E91,F91,G91,H91) -> 33 | J91: =RANK(I91,I$6:I$138) -> 36 | K91: =COUNTA(D91,E91,F91,G91,H91)/5 -> 0.8
B92: 237 | C92: 여 | D92: 11 | E92: 5 | F92: 5 | H92: 5 | I92: =SUM(D92,E92,F92,G92,H92) -> 26 | J92: =RANK(I92,I$6:I$138) -> 55 | K92: =COUNTA(D92,E92,F92,G92,H92)/5 -> 0.8
B93: 238 | C93: 남 | G93: 5 | H93: 6 | I93: =SUM(D93,E93,F93,G93,H93) -> 11 | J93: =RANK(I93,I$6:I$138) -> 85 | K93: =COUNTA(D93,E93,F93,G93,H93)/5 -> 0.4
B94: 239 | C94: 남 | D94: 7 | E94: 6 | G94: 5 | I94: =SUM(D94,E94,F94,G94,H94) -> 18 | J94: =RANK(I94,I$6:I$138) -> 67 | K94: =COUNTA(D94,E94,F94,G94,H94)/5 -> 0.6
B95: 240 | C95: 남 | H95: 9 | I95: =SUM(D95,E95,F95,G95,H95) -> 9 | J95: =RANK(I95,I$6:I$138) -> 93 | K95: =COUNTA(D95,E95,F95,G95,H95)/5 -> 0.2
B96: 241 | C96: 여 | F96: 5 | G96: 4 | I96: =SUM(D96,E96,F96,G96,H96) -> 9 | J96: =RANK(I96,I$6:I$138) -> 93 | K96: =COUNTA(D96,E96,F96,G96,H96)/5 -> 0.4
B97: 242 | C97: 남 | I97: =SUM(D97,E97,F97,G97,H97) -> 0 | J97: =RANK(I97,I$6:I$138) -> 107 | K97: =COUNTA(D97,E97,F97,G97,H97)/5 -> 0
B98: 243 | C98: 남 | G98: 3 | I98: =SUM(D98,E98,F98,G98,H98) -> 3 | J98: =RANK(I98,I$6:I$138) -> 105 | K98: =COUNTA(D98,E98,F98,G98,H98)/5 -> 0.2
B99: 151 | C99: 여 | D99: 12 | E99: 12 | F99: 14 | I99: =SUM(D99,E99,F99,G99,H99) -> 38 | J99: =RANK(I99,I$6:I$138) -> 24 | K99: =COUNTA(D99,E99,F99,G99,H99)/5 -> 0.6
B100: 152 | C100: 여 | D100: 6 | E100: 4 | F100: 8 | G100: 0 | H100: 5 | I100: =SUM(D100,E100,F100,G100,H100) -> 23 | J100: =RANK(I100,I$6:I$138) -> 60 | K100: =COUNTA(D100,E100,F100,G100,H100)/5 -> 1
B101: 153 | C101: 여 | F101: 5 | G101: 7 | I101: =SUM(D101,E101,F101,G101,H101) -> 12 | J101: =RANK(I101,I$6:I$138) -> 81 | K101: =COUNTA(D101,E101,F101,G101,H101)/5 -> 0.4
...

Sheet 2주차
B1: 9~10월 아침 모의고사 성적현황
B2: 시험 2주차 : 9월 17일 ~ 21일
D3: 17 | E3: 18 | F3: 19 | G3: 20 | H3: 21 | I3: 성적 | M3: 모의고사 참여율 | N3: 비고
A4: 수험 번호 | B4: 수험 번호 | C4: 성별 | D4: 국사 | E4: 형소법 | F4: 경찰학 | G4: 형법 | H4: 영어 | I4: 주간 총점 | J4: 누적 총점 | K4: 전체 총점 | L4: 등수
B5: 101 | C5: 남 | D5: 5 | E5: 11 | G5: 11 | H5: 6 | I5: =SUM(D5,E5,F5,G5,H5) -> 33 | J5: ='1주차'!I7 -> 37 | K5: =SUM(I5:J5) -> 70 | L5: =RANK(K5,K$5:K$128) -> 35 | M5: =COUNTA(D5,E5,F5,G5,H5)/5 -> 0.8
B6: 103 | C6: 여 | E6: 11 | F6: 10 | H6: 8 | I6: =SUM(D6,E6,F6,G6,H6) -> 29 | J6: ='1주차'!I9 -> 31 | K6: =SUM(I6:J6) -> 60 | L6: =RANK(K6,K$5:K$128) -> 47 | M6: =COUNTA(D6,E6,F6,G6,H6)/5 -> 0.6
B7: 104 | C7: 여 | D7: 8 | E7: 14 | F7: 10 | G7: 14 | I7: =SUM(D7,E7,F7,G7,H7) -> 46 | J7: ='1주차'!I10 -> 41 | K7: =SUM(I7:J7) -> 87 | L7: =RANK(K7,K$5:K$128) -> 16 | M7: =COUNTA(D7,E7,F7,G7,H7)/5 -> 0.8
B8: 105 | C8: 남 | D8: 13 | E8: 14 | F8: 11 | G8: 14 | H8: 6 | I8: =SUM(D8,E8,F8,G8,H8) -> 58 | J8: ='1주차'!I11 -> 40 | K8: =SUM(I8:J8) -> 98 | L8: =RANK(K8,K$5:K$128) -> 8 | M8: =COUNTA(D8,E8,F8,G8,H8)/5 -> 1
B9: 106 | C9: 여 | D9: 6 | E9: 5 | F9: 6 | G9: 4 | I9: =SUM(D9,E9,F9,G9,H9) -> 21 | J9: ='1주차'!I12 -> 27 | K9: =SUM(I9:J9) -> 48 | L9: =RANK(K9,K$5:K$128) -> 59 | M9: =COUNTA(D9,E9,F9,G9,H9)/5 -> 0.8
B10: 107 | C10: 여 | I10: =SUM(D10,E10,F10,G10,H10) -> 0 | J10: ='1주차'!I13 -> 7 | K10: =SUM(I10:J10) -> 7 | L10: =RANK(K10,K$5:K$128) -> 108 | M10: =COUNTA(D10,E10,F10,G10,H10)/5 -> 0 | N10: 경고
B11: 108 | C11: 여 | D11: 10 | E11: 10 | F11: 5 | G11: 10 | H11: 7 | I11: =SUM(D11,E11,F11,G11,H11) -> 42 | J11: ='1주차'!I14 -> 38 | K11: =SUM(I11:J11) -> 80 | L11: =RANK(K11,K$5:K$128) -> 21 | M11: =COUNTA(D11,E11,F11,G11,H11)/5 -> 1
B12: 109 | C12: 남 | D12: 7 | E12: 6 | F12: 7 | G12: 11 | H12: 11 | I12: =SUM(D12,E12,F12,G12,H12) -> 42 | J12: ='1주차'!I15 -> 39 | K12: =SUM(I12:J12) -> 81 | L12: =RANK(K12,K$5:K$128) -> 18 | M12: =COUNTA(D12,E12,F12,G12,H12)/5 -> 1
B13: 110 | C13: 여 | I13: =SUM(D13,E13,F13,G13,H13) -> 0 | J13: ='1주차'!I16 -> 11 | K13: =SUM(I13:J13) -> 11 | L13: =RANK(K13,K$5:K$128) -> 104 | M13: =COUNTA(D13,E13,F13,G13,H13)/5 -> 0 | N13: 경고
B14: 111 | C14: 여 | D14: 6 | I14: =SUM(D14,E14,F14,G14,H14) -> 6 | J14: ='1주차'!I17 -> 19 | K14: =SUM(I14:J14) -> 25 | L14: =RANK(K14,K$5:K$128) -> 89 | M14: =COUNTA(D14,E14,F14,G14,H14)/5 -> 0.2
B15: 112 | C15: 남 | E15: 8 | F15: 7 | H15: 6 | I15: =SUM(D15,E15,F15,G15,H15) -> 21 | J15: ='1주차'!I18 -> 35 | K15: =SUM(I15:J15) -> 56 | L15: =RANK(K15,K$5:K$128) -> 50 | M15: =COUNTA(D15,E15,F15,G15,H15)/5 -> 0.6
B16: 113 | C16: 남 | F16: 5 | G16: 11 | H16: 5 | I16: =SUM(D16,E16,F16,G16,H16) -> 21 | J16: ='1주차'!I19 -> 32 | K16: =SUM(I16:J16) -> 53 | L16: =RANK(K16,K$5:K$128) -> 53 | M16: =COUNTA(D16,E16,F16,G16,H16)/5 -> 0.6
B17: 114 | C17: 여 | I17: =SUM(D17,E17,F17,G17,H17) -> 0 | J17: ='1주차'!I20 -> 6 | K17: =SUM(I17:J17) -> 6 | L17: =RANK(K17,K$5:K$128) -> 110 | M17: =COUNTA(D17,E17,F17,G17,H17)/5 -> 0 | N17: 경고
B18: 116 | C18: 남 | D18: 6 | E18: 9 | F18: 8 | G18: 14 | H18: 6 | I18: =SUM(D18,E18,F18,G18,H18) -> 43 | J18: ='1주차'!I22 -> 34 | K18: =SUM(I18:J18) -> 77 | L18: =RANK(K18,K$5:K$128) -> 25 | M18: =COUNTA(D18,E18,F18,G18,H18)/5 -> 1
B19: 118 | C19: 남 | E19: 3 | I19: =SUM(D19,E19,F19,G19,H19) -> 3 | J19: ='1주차'!I24 -> 10 | K19: =SUM(I19:J19) -> 13 | L19: =RANK(K19,K$5:K$128) -> 100 | M19: =COUNTA(D19,E19,F19,G19,H19)/5 -> 0.2
B20: 119 | C20: 남 | I20: =SUM(D20,E20,F20,G20,H20) -> 0 | J20: ='1주차'!I25 -> 10 | K20: =SUM(I20:J20) -> 10 | L20: =RANK(K20,K$5:K$128) -> 105 | M20: =COUNTA(D20,E20,F20,G20,H20)/5 -> 0 | N20: 경고
B21: 121 | C21: 여 | E21: 7 | F21: 6 | G21: 10 | H21: 2 | I21: =SUM(D21,E21,F21,G21,H21) -> 25 | J21: ='1주차'!I27 -> 29 | K21: =SUM(I21:J21) -> 54 | L21: =RANK(K21,K$5:K$128) -> 51 | M21: =COUNTA(D21,E21,F21,G21,H21)/5 -> 0.8
B22: 122 | C22: 남 | E22: 9 | F22: 7 | G22: 13 | H22: 8 | I22: =SUM(D22,E22,F22,G22,H22) -> 37 | J22: ='1주차'!I28 -> 29 | K22: =SUM(I22:J22) -> 66 | L22: =RANK(K22,K$5:K$128) -> 40 | M22: =COUNTA(D22,E22,F22,G22,H22)/5 -> 0.8
B23: 123 | C23: 남 | D23: 12 | E23: 7 | F23: 10 | G23: 11 | H23: 4 | I23: =SUM(D23,E23,F23,G23,H23) -> 44 | J23: ='1주차'!I29 -> 35 | K23: =SUM(I23:J23) -> 79 | L23: =RANK(K23,K$5:K$128) -> 23 | M23: =COUNTA(D23,E23,F23,G23,H23)/5 -> 1
B24: 124 | C24: 남 | E24: 6 | F24: 7 | H24: 8 | I24: =SUM(D24,E24,F24,G24,H24) -> 21 | J24: ='1주차'!I30 -> 16 | K24: =SUM(I24:J24) -> 37 | L24: =RANK(K24,K$5:K$128) -> 76 | M24: =COUNTA(D24,E24,F24,G24,H24)/5 -> 0.6
B25: 125 | C25: 여 | E25: 6 | F25: 4 | G25: 13 | I25: =SUM(D25,E25,F25,G25,H25) -> 23 | J25: ='1주차'!I31 -> 29 | K25: =SUM(I25:J25) -> 52 | L25: =RANK(K25,K$5:K$128) -> 54 | M25: =COUNTA(D25,E25,F25,G25,H25)/5 -> 0.6
B26: 126 | C26: 여 | D26: 6 | E26: 11 | F26: 9 | G26: 10 | H26: 9 | I26: =SUM(D26,E26,F26,G26,H26) -> 45 | J26: ='1주차'!I32 -> 51 | K26: =SUM(I26:J26) -> 96 | L26: =RANK(K26,K$5:K$128) -> 9 | M26: =COUNTA(D26,E26,F26,G26,H26)/5 -> 1
B27: 127 | C27: 남 | E27: 5 | F27: 7 | G27: 8 | H27: 6 | I27: =SUM(D27,E27,F27,G27,H27) -> 26 | J27: ='1주차'!I33 -> 33 | K27: =SUM(I27:J27) -> 59 | L27: =RANK(K27,K$5:K$128) -> 48 | M27: =COUNTA(D27,E27,F27,G27,H27)/5 -> 0.8
B28: 128 | C28: 남 | F28: 6 | I28: =SUM(D28,E28,F28,G28,H28) -> 6 | J28: ='1주차'!I34 -> 0 | K28: =SUM(I28:J28) -> 6 | L28: =RANK(K28,K$5:K$128) -> 110 | M28: =COUNTA(D28,E28,F28,G28,H28)/5 -> 0.2
B29: 129 | C29: 남 | E29: 9 | I29: =SUM(D29,E29,F29,G29,H29) -> 9 | J29: ='1주차'!I35 -> 15 | K29: =SUM(I29:J29) -> 24 | L29: =RANK(K29,K$5:K$128) -> 90 | M29: =COUNTA(D29,E29,F29,G29,H29)/5 -> 0.2
B30: 130 | C30: 남 | I30: =SUM(D30,E30,F30,G30,H30) -> 0 | J30: ='1주차'!I36 -> 28 | K30: =SUM(I30:J30) -> 28 | L30: =RANK(K30,K$5:K$128) -> 82 | M30: =COUNTA(D30,E30,F30,G30,H30)/5 -> 0 | N30: 경고
B31: 133 | C31: 남 | E31: 11 | F31: 10 | G31: 10 | H31: 6 | I31: =SUM(D31,E31,F31,G31,H31) -> 37 | J31: ='1주차'!I39 -> 29 | K31: =SUM(I31:J31) -> 66 | L31: =RANK(K31,K$5:K$128) -> 40 | M31: =COUNTA(D31,E31,F31,G31,H31)/5 -> 0.8
B32: 134 | C32: 여 | I32: =SUM(D32,E32,F32,G32,H32) -> 0 | J32: ='1주차'!I40 -> 9 | K32: =SUM(I32:J32) -> 9 | L32: =RANK(K32,K$5:K$128) -> 106 | M32: =COUNTA(D32,E32,F32,G32,H32)/5 -> 0 | N32: 경고
B33: 135 | C33: 남 | D33: 5 | E33: 10 | F33: 6 | G33: 12 | H33: 8 | I33: =SUM(D33,E33,F33,G33,H33) -> 41 | J33: ='1주차'!I41 -> 47 | K33: =SUM(I33:J33) -> 88 | L33: =RANK(K33,K$5:K$128) -> 13 | M33: =COUNTA(D33,E33,F33,G33,H33)/5 -> 1
B34: 136 | C34: 남 | E34: 14 | F34: 11 | G34: 15 | H34: 9 | I34: =SUM(D34,E34,F34,G34,H34) -> 49 | J34: ='1주차'!I42 -> 45 | K34: =SUM(I34:J34) -> 94 | L34: =RANK(K34,K$5:K$128) -> 10 | M34: =COUNTA(D34,E34,F34,G34,H34)/5 -> 0.8
B35: 137 | C35: 남 | D35: 10 | E35: 14 | F35: 12 | G35: 15 | H35: 12 | I35: =SUM(D35,E35,F35,G35,H35) -> 63 | J35: ='1주차'!I43 -> 59 | K35: =SUM(I35:J35) -> 122 | L35: =RANK(K35,K$5:K$128) -> 1 | M35: =COUNTA(D35,E35,F35,G35,H35)/5 -> 1
B36: 138 | C36: 여 | D36: 10 | E36: 10 | F36: 7 | G36: 15 | H36: 11 | I36: =SUM(D36,E36,F36,G36,H36) -> 53 | J36: ='1주차'!I44 -> 56 | K36: =SUM(I36:J36) -> 109 | L36: =RANK(K36,K$5:K$128) -> 5 | M36: =COUNTA(D36,E36,F36,G36,H36)/5 -> 1
B37: 139 | C37: 남 | E37: 9 | F37: 6 | G37: 11 | H37: 8 | I37: =SUM(D37,E37,F37,G37,H37) -> 34 | J37: ='1주차'!I45 -> 35 | K37: =SUM(I37:J37) -> 69 | L37: =RANK(K37,K$5:K$128) -> 37 | M37: =COUNTA(D37,E37,F37,G37,H37)/5 -> 0.8
B38: 140 | C38: 여 | D38: 2 | F38: 4 | G38: 9 | I38: =SUM(D38,E38,F38,G38,H38) -> 15 | J38: ='1주차'!I46 -> 8 | K38: =SUM(I38:J38) -> 23 | L38: =RANK(K38,K$5:K$128) -> 92 | M38: =COUNTA(D38,E38,F38,G38,H38)/5 -> 0.6
B39: 141 | C39: 여 | F39: 8 | G39: 10 | I39: =SUM(D39,E39,F39,G39,H39) -> 18 | J39: ='1주차'!I47 -> 43 | K39: =SUM(I39:J39) -> 61 | L39: =RANK(K39,K$5:K$128) -> 46 | M39: =COUNTA(D39,E39,F39,G39,H39)/5 -> 0.4
B40: 142 | C40: 남 | D40: 5 | E40: 8 | F40: 7 | G40: 7 | H40: 6 | I40: =SUM(D40,E40,F40,G40,H40) -> 33 | J40: ='1주차'!I48 -> 30 | K40: =SUM(I40:J40) -> 63 | L40: =RANK(K40,K$5:K$128) -> 43 | M40: =COUNTA(D40,E40,F40,G40,H40)/5 -> 1
B41: 143 | C41: 남 | D41: 14 | E41: 13 | F41: 11 | G41: 14 | H41: 11 | I41: =SUM(D41,E41,F41,G41,H41) -> 63 | J41: ='1주차'!I49 -> 48 | K41: =SUM(I41:J41) -> 111 | L41: =RANK(K41,K$5:K$128) -> 4 | M41: =COUNTA(D41,E41,F41,G41,H41)/5 -> 1
B42: 144 | C42: 남 | I42: =SUM(D42,E42,F42,G42,H42) -> 0 | J42: ='1주차'!I50 -> 15 | K42: =SUM(I42:J42) -> 15 | L42: =RANK(K42,K$5:K$128) -> 98 | M42: =COUNTA(D42,E42,F42,G42,H42)/5 -> 0 | N42: 경고
B43: 145 | C43: 남 | G43: 13 | H43: 11 | I43: =SUM(D43,E43,F43,G43,H43) -> 24 | J43: ='1주차'!I51 -> 54 | K43: =SUM(I43:J43) -> 78 | L43: =RANK(K43,K$5:K$128) -> 24 | M43: =COUNTA(D43,E43,F43,G43,H43)/5 -> 0.4
B44: 147 | C44: 남 | E44: 15 | F44: 11 | G44: 14 | H44: 10 | I44: =SUM(D44,E44,F44,G44,H44) -> 50 | J44: ='1주차'!I53 -> 56 | K44: =SUM(I44:J44) -> 106 | L44: =RANK(K44,K$5:K$128) -> 6 | M44: =COUNTA(D44,E44,F44,G44,H44)/5 -> 0.8
B45: 148 | C45: 남 | I45: =SUM(D45,E45,F45,G45,H45) -> 0 | J45: ='1주차'!I54 -> 13 | K45: =SUM(I45:J45) -> 13 | L45: =RANK(K45,K$5:K$128) -> 100 | M45: =COUNTA(D45,E45,F45,G45,H45)/5 -> 0
B46: 149 | C46: 남 | D46: 12 | E46: 13 | F46: 11 | G46: 15 | H46: 10 | I46: =SUM(D46,E46,F46,G46,H46) -> 61 | J46: ='1주차'!I55 -> 58 | K46: =SUM(I46:J46) -> 119 | L46: =RANK(K46,K$5:K$128) -> 3 | M46: =COUNTA(D46,E46,F46,G46,H46)/5 -> 1
B47: 150 | C47: 여 | D47: 9 | I47: =SUM(D47,E47,F47,G47,H47) -> 9 | J47: ='1주차'!I56 -> 21 | K47: =SUM(I47:J47) -> 30 | L47: =RANK(K47,K$5:K$128) -> 81 | M47: =COUNTA(D47,E47,F47,G47,H47)/5 -> 0.2
B48: 200 | C48: 남 | D48: 3 | I48: =SUM(D48,E48,F48,G48,H48) -> 3 | J48: ='1주차'!I57 -> 0 | K48: =SUM(I48:J48) -> 3 | L48: =RANK(K48,K$5:K$128) -> 114 | M48: =COUNTA(D48,E48,F48,G48,H48)/5 -> 0.2
B49: 201 | C49: 남 | D49: 9 | E49: 10 | F49: 12 | G49: 14 | H49: 6 | I49: =SUM(D49,E49,F49,G49,H49) -> 51 | J49: ='1주차'!I58 -> 41 | K49: =SUM(I49:J49) -> 92 | L49: =RANK(K49,K$5:K$128) -> 11 | M49: =COUNTA(D49,E49,F49,G49,H49)/5 -> 1
B50: 202 | C50: 여 | E50: 6 | F50: 4 | G50: 13 | H50: 11 | I50: =SUM(D50,E50,F50,G50,H50) -> 34 | J50: ='1주차'!I59 -> 50 | K50: =SUM(I50:J50) -> 84 | L50: =RANK(K50,K$5:K$128) -> 17 | M50: =COUNTA(D50,E50,F50,G50,H50)/5 -> 0.8
B51: 203 | C51: 여 | D51: 9 | F51: 3 | H51: 11 | I51: =SUM(D51,E51,F51,G51,H51) -> 23 | J51: ='1주차'!I60 -> 26 | K51: =SUM(I51:J51) -> 49 | L51: =RANK(K51,K$5:K$128) -> 56 | M51: =COUNTA(D51,E51,F51,G51,H51)/5 -> 0.6
B52: 204 | C52: 여 | D52: 6 | E52: 4 | F52: 5 | H52: 7 | I52: =SUM(D52,E52,F52,G52,H52) -> 22 | J52: ='1주차'!I61 -> 25 | K52: =SUM(I52:J52) -> 47 | L52: =RANK(K52,K$5:K$128) -> 60 | M52: =COUNTA(D52,E52,F52,G52,H52)/5 -> 0.8
B53: 205 | C53: 여 | D53: 8 | E53: 8 | G53: 10 | I53: =SUM(D53,E53,F53,G53,H53) -> 26 | J53: ='1주차'!I62 -> 12 | K53: =SUM(I53:J53) -> 38 | L53: =RANK(K53,K$5:K$128) -> 71 | M53: =COUNTA(D53,E53,F53,G53,H53)/5 -> 0.6
B54: 206 | C54: 남 | D54: 9 | E54: 4 | G54: 9 | H54: 5 | I54: =SUM(D54,E54,F54,G54,H54) -> 27 | J54: ='1주차'!I63 -> 18 | K54: =SUM(I54:J54) -> 45 | L54: =RANK(K54,K$5:K$128) -> 63 | M54: =COUNTA(D54,E54,F54,G54,H54)/5 -> 0.8
B55: 207 | C55: 남 | E55: 13 | F55: 10 | G55: 13 | H55: 8 | I55: =SUM(D55,E55,F55,G55,H55) -> 44 | J55: ='1주차'!I64 -> 44 | K55: =SUM(I55:J55) -> 88 | L55: =RANK(K55,K$5:K$128) -> 13 | M55: =COUNTA(D55,E55,F55,G55,H55)/5 -> 0.8
B56: 208 | C56: 여 | I56: =SUM(D56,E56,F56,G56,H56) -> 0 | J56: ='1주차'!I65 -> 18 | K56: =SUM(I56:J56) -> 18 | L56: =RANK(K56,K$5:K$128) -> 95 | M56: =COUNTA(D56,E56,F56,G56,H56)/5 -> 0 | N56: 경고
B57: 209 | C57: 여 | I57: =SUM(D57,E57,F57,G57,H57) -> 0 | J57: ='1주차'!I66 -> 44 | K57: =SUM(I57:J57) -> 44 | L57: =RANK(K57,K$5:K$128) -> 65 | M57: =COUNTA(D57,E57,F57,G57,H57)/5 -> 0 | N57: 경고
B58: 210 | C58: 여 | D58: 4 | E58: 5 | F58: 5 | G58: 10 | I58: =SUM(D58,E58,F58,G58,H58) -> 24 | J58: ='1주차'!I67 -> 12 | K58: =SUM(I58:J58) -> 36 | L58: =RANK(K58,K$5:K$128) -> 77 | M58: =COUNTA(D58,E58,F58,G58,H58)/5 -> 0.8
B59: 211 | C59: 남 | E59: 5 | G59: 14 | I59: =SUM(D59,E59,F59,G59,H59) -> 19 | J59: ='1주차'!I68 -> 28 | K59: =SUM(I59:J59) -> 47 | L59: =RANK(K59,K$5:K$128) -> 60 | M59: =COUNTA(D59,E59,F59,G59,H59)/5 -> 0.4
B60: 215 | C60: 남 | D60: 4 | E60: 9 | F60: 4 | G60: 10 | H60: 6 | I60: =SUM(D60,E60,F60,G60,H60) -> 33 | J60: ='1주차'!I72 -> 21 | K60: =SUM(I60:J60) -> 54 | L60: =RANK(K60,K$5:K$128) -> 51 | M60: =COUNTA(D60,E60,F60,G60,H60)/5 -> 1
B61: 216 | C61: 남 | D61: 5 | E61: 7 | F61: 4 | G61: 12 | H61: 5 | I61: =SUM(D61,E61,F61,G61,H61) -> 33 | J61: ='1주차'!I73 -> 25 | K61: =SUM(I61:J61) -> 58 | L61: =RANK(K61,K$5:K$128) -> 49 | M61: =COUNTA(D61,E61,F61,G61,H61)/5 -> 1
B62: 217 | C62: 남 | D62: 2 | F62: 4 | G62: 12 | H62: 2 | I62: =SUM(D62,E62,F62,G62,H62) -> 20 | J62: ='1주차'!I74 -> 21 | K62: =SUM(I62:J62) -> 41 | L62: =RANK(K62,K$5:K$128) -> 67 | M62: =COUNTA(D62,E62,F62,G62,H62)/5 -> 0.8
B63: 219 | C63: 남 | D63: 10 | E63: 14 | F63: 15 | G63: 14 | H63: 10 | I63: =SUM(D63,E63,F63,G63,H63) -> 63 | J63: ='1주차'!I75 -> 59 | K63: =SUM(I63:J63) -> 122 | L63: =RANK(K63,K$5:K$128) -> 1 | M63: =COUNTA(D63,E63,F63,G63,H63)/5 -> 1
B64: 220 | C64: 남 | D64: 9 | E64: 7 | F64: 9 | G64: 7 | H64: 8 | I64: =SUM(D64,E64,F64,G64,H64) -> 40 | J64: ='1주차'!I76 -> 23 | K64: =SUM(I64:J64) -> 63 | L64: =RANK(K64,K$5:K$128) -> 43 | M64: =COUNTA(D64,E64,F64,G64,H64)/5 -> 1
B65: 221 | C65: 남 | D65: 6 | G65: 9 | I65: =SUM(D65,E65,F65,G65,H65) -> 15 | J65: ='1주차'!I77 -> 21 | K65: =SUM(I65:J65) -> 36 | L65: =RANK(K65,K$5:K$128) -> 77 | M65: =COUNTA(D65,E65,F65,G65,H65)/5 -> 0.4
B66: 222 | C66: 남 | I66: =SUM(D66,E66,F66,G66,H66) -> 0 | J66: ='1주차'!I78 -> 0 | K66: =SUM(I66:J66) -> 0 | L66: =RANK(K66,K$5:K$128) -> 115 | M66: =COUNTA(D66,E66,F66,G66,H66)/5 -> 0 | N66: 경고
B67: 223 | C67: 남 | I67: =SUM(D67,E67,F67,G67,H67) -> 0 | J67: ='1주차'!I79 -> 0 | K67: =SUM(I67:J67) -> 0 | L67: =RANK(K67,K$5:K$128) -> 115 | M67: =COUNTA(D67,E67,F67,G67,H67)/5 -> 0 | N67: 경고
B68: 224 | C68: 남 | I68: =SUM(D68,E68,F68,G68,H68) -> 0 | J68: ='1주차'!I80 -> 0 | K68: =SUM(I68:J68) -> 0 | L68: =RANK(K68,K$5:K$128) -> 115 | M68: =COUNTA(D68,E68,F68,G68,H68)/5 -> 0 | N68: 경고
B69: 225 | C69: 남 | D69: 7 | E69: 6 | F69: 4 | G69: 13 | H69: 7 | I69: =SUM(D69,E69,F69,G69,H69) -> 37 | J69: ='1주차'!I81 -> 26 | K69: =SUM(I69:J69) -> 63 | L69: =RANK(K69,K$5:K$128) -> 43 | M69: =COUNTA(D69,E69,F69,G69,H69)/5 -> 1
B70: 226 | C70: 남 | I70: =SUM(D70,E70,F70,G70,H70) -> 0 | J70: ='1주차'!I82 -> 0 | K70: =SUM(I70:J70) -> 0 | L70: =RANK(K70,K$5:K$128) -> 115 | M70: =COUNTA(D70,E70,F70,G70,H70)/5 -> 0 | N70: 경고
B71: 227 | C71: 남 | D71: 7 | E71: 10 | F71: 7 | G71: 12 | H71: 5 | I71: =SUM(D71,E71,F71,G71,H71) -> 41 | J71: ='1주차'!I83 -> 32 | K71: =SUM(I71:J71) -> 73 | L71: =RANK(K71,K$5:K$128) -> 31 | M71: =COUNTA(D71,E71,F71,G71,H71)/5 -> 1
B72: 228 | C72: 남 | E72: 5 | F72: 5 | G72: 13 | H72: 10 | I72: =SUM(D72,E72,F72,G72,H72) -> 33 | J72: ='1주차'!I84 -> 13 | K72: =SUM(I72:J72) -> 46 | L72: =RANK(K72,K$5:K$128) -> 62 | M72: =COUNTA(D72,E72,F72,G72,H72)/5 -> 0.8
B73: 229 | C73: 여 | D73: 7 | E73: 11 | F73: 8 | G73: 9 | H73: 6 | I73: =SUM(D73,E73,F73,G73,H73) -> 41 | J73: ='1주차'!I85 -> 29 | K73: =SUM(I73:J73) -> 70 | L73: =RANK(K73,K$5:K$128) -> 35 | M73: =COUNTA(D73,E73,F73,G73,H73)/5 -> 1
B74: 230 | C74: 남 | D74: 9 | E74: 11 | F74: 12 | H74: 11 | I74: =SUM(D74,E74,F74,G74,H74) -> 43 | J74: ='1주차'!I86 -> 30 | K74: =SUM(I74:J74) -> 73 | L74: =RANK(K74,K$5:K$128) -> 31 | M74: =COUNTA(D74,E74,F74,G74,H74)/5 -> 0.8
B75: 231 | C75: 남 | D75: 13 | E75: 6 | F75: 6 | G75: 7 | H75: 8 | I75: =SUM(D75,E75,F75,G75,H75) -> 40 | J75: ='1주차'!I87 -> 36 | K75: =SUM(I75:J75) -> 76 | L75: =RANK(K75,K$5:K$128) -> 26 | M75: =COUNTA(D75,E75,F75,G75,H75)/5 -> 1
B76: 232 | C76: 남 | G76: 15 | I76: =SUM(D76,E76,F76,G76,H76) -> 15 | J76: ='1주차'!I88 -> 6 | K76: =SUM(I76:J76) -> 21 | L76: =RANK(K76,K$5:K$128) -> 93 | M76: =COUNTA(D76,E76,F76,G76,H76)/5 -> 0.2
B77: 233 | C77: 여 | D77: 5 | E77: 2 | F77: 3 | I77: =SUM(D77,E77,F77,G77,H77) -> 10 | J77: ='1주차'!I89 -> 9 | K77: =SUM(I77:J77) -> 19 | L77: =RANK(K77,K$5:K$128) -> 94 | M77: =COUNTA(D77,E77,F77,G77,H77)/5 -> 0.6
B78: 234 | C78: 남 | I78: =SUM(D78,E78,F78,G78,H78) -> 0 | J78: ='1주차'!I90 -> 0 | K78: =SUM(I78:J78) -> 0 | L78: =RANK(K78,K$5:K$128) -> 115 | M78: =COUNTA(D78,E78,F78,G78,H78)/5 -> 0 | N78: 경고
B79: 236 | C79: 남 | D79: 13 | E79: 13 | G79: 13 | H79: 9 | I79: =SUM(D79,E79,F79,G79,H79) -> 48 | J79: ='1주차'!I91 -> 33 | K79: =SUM(I79:J79) -> 81 | L79: =RANK(K79,K$5:K$128) -> 18 | M79: =COUNTA(D79,E79,F79,G79,H79)/5 -> 0.8
B80: 237 | C80: 여 | I80: =SUM(D80,E80,F80,G80,H80) -> 0 | J80: ='1주차'!I92 -> 26 | K80: =SUM(I80:J80) -> 26 | L80: =RANK(K80,K$5:K$128) -> 86 | M80: =COUNTA(D80,E80,F80,G80,H80)/5 -> 0 | N80: 경고
B81: 238 | C81: 남 | D81: 12 | E81: 14 | F81: 11 | G81: 11 | H81: 12 | I81: =SUM(D81,E81,F81,G81,H81) -> 60 | J81: ='1주차'!I93 -> 11 | K81: =SUM(I81:J81) -> 71 | L81: =RANK(K81,K$5:K$128) -> 33 | M81: =COUNTA(D81,E81,F81,G81,H81)/5 -> 1
B82: 239 | C82: 남 | D82: 8 | E82: 5 | F82: 9 | G82: 10 | I82: =SUM(D82,E82,F82,G82,H82) -> 32 | J82: ='1주차'!I94 -> 18 | K82: =SUM(I82:J82) -> 50 | L82: =RANK(K82,K$5:K$128) -> 55 | M82: =COUNTA(D82,E82,F82,G82,H82)/5 -> 0.8
B83: 240 | C83: 남 | E83: 8 | I83: =SUM(D83,E83,F83,G83,H83) -> 8 | J83: ='1주차'!I95 -> 9 | K83: =SUM(I83:J83) -> 17 | L83: =RANK(K83,K$5:K$128) -> 96 | M83: =COUNTA(D83,E83,F83,G83,H83)/5 -> 0.2
B84: 241 | C84: 여 | E84: 5 | I84: =SUM(D84,E84,F84,G84,H84) -> 5 | J84: ='1주차'!I96 -> 9 | K84: =SUM(I84:J84) -> 14 | L84: =RANK(K84,K$5:K$128) -> 99 | M84: =COUNTA(D84,E84,F84,G84,H84)/5 -> 0.2
B85: 242 | C85: 남 | I85: =SUM(D85,E85,F85,G85,H85) -> 0 | J85: ='1주차'!I97 -> 0 | K85: =SUM(I85:J85) -> 0 | L85: =RANK(K85,K$5:K$128) -> 115 | M85: =COUNTA(D85,E85,F85,G85,H85)/5 -> 0 | N85: 경고
B86: 243 | C86: 남 | D86: 4 | E86: 6 | F86: 9 | G86: 9 | H86: 7 | I86: =SUM(D86,E86,F86,G86,H86) -> 35 | J86: ='1주차'!I98 -> 3 | K86: =SUM(I86:J86) -> 38 | L86: =RANK(K86,K$5:K$128) -> 71 | M86: =COUNTA(D86,E86,F86,G86,H86)/5 -> 1
B87: 151 | C87: 여 | E87: 12 | F87: 7 | H87: 7 | I87: =SUM(D87,E87,F87,G87,H87) -> 26 | J87: ='1주차'!I99 -> 38 | K87: =SUM(I87:J87) -> 64 | L87: =RANK(K87,K$5:K$128) -> 42 | M87: =COUNTA(D87,E87,F87,G87,H87)/5 -> 0.6
B88: 152 | C88: 여 | E88: 4 | F88: 7 | G88: 9 | H88: 6 | I88: =SUM(D88,E88,F88,G88,H88) -> 26 | J88: ='1주차'!I100 -> 23 | K88: =SUM(I88:J88) -> 49 | L88: =RANK(K88,K$5:K$128) -> 56 | M88: =COUNTA(D88,E88,F88,G88,H88)/5 -> 0.8
B89: 153 | C89: 여 | G89: 12 | I89: =SUM(D89,E89,F89,G89,H89) -> 12 | J89: ='1주차'!I101 -> 12 | K89: =SUM(I89:J89) -> 24 | L89: =RANK(K89,K$5:K$128) -> 90 | M89: =COUNTA(D89,E89,F89,G89,H89)/5 -> 0.2
B90: 154 | C90: 여 | E90: 14 | F90: 11 | H90: 4 | I90: =SUM(D90,E90,F90,G90,H90) -> 29 | J90: ='1주차'!I102 -> 11 | K90: =SUM(I90:J90) -> 40 | L90: =RANK(K90,K$5:K$128) -> 69 | M90: =COUNTA(D90,E90,F90,G90,H90)/5 -> 0.6
B91: 155 | C91: 여 | F91: 7 | G91: 9 | I91: =SUM(D91,E91,F91,G91,H91) -> 16 | J91: ='1주차'!I103 -> 12 | K91: =SUM(I91:J91) -> 28 | L91: =RANK(K91,K$5:K$128) -> 82 | M91: =COUNTA(D91,E91,F91,G91,H91)/5 -> 0.4
B92: 156 | C92: 여 | I92: =SUM(D92,E92,F92,G92,H92) -> 0 | J92: ='1주차'!I104 -> 0 | K92: =SUM(I92:J92) -> 0 | L92: =RANK(K92,K$5:K$128) -> 115 | M92: =COUNTA(D92,E92,F92,G92,H92)/5 -> 0 | N92: 경고
B93: 157 | C93: 여 | E93: 11 | F93: 13 | G93: 11 | H93: 8 | I93: =SUM(D93,E93,F93,G93,H93) -> 43 | J93: ='1주차'!I105 -> 32 | K93: =SUM(I93:J93) -> 75 | L93: =RANK(K93,K$5:K$128) -> 27 | M93: =COUNTA(D93,E93,F93,G93,H93)/5 -> 0.8
B94: 158 | C94: 남 | E94: 11 | F94: 13 | G94: 14 | I94: =SUM(D94,E94,F94,G94,H94) -> 38 | J94: ='1주차'!I106 -> 0 | K94: =SUM(I94:J94) -> 38 | L94: =RANK(K94,K$5:K$128) -> 71 | M94: =COUNTA(D94,E94,F94,G94,H94)/5 -> 0.6
B95: 159 | C95: 남 | E95: 10 | F95: 10 | G95: 15 | I95: =SUM(D95,E95,F95,G95,H95) -> 35 | J95: ='1주차'!I107 -> 0 | K95: =SUM(I95:J95) -> 35 | L95: =RANK(K95,K$5:K$128) -> 79 | M95: =COUNTA(D95,E95,F95,G95,H95)/5 -> 0.6
B96: 160 | C96: 남 | D96: 5 | I96: =SUM(D96,E96,F96,G96,H96) -> 5 | J96: ='1주차'!I108 -> 0 | K96: =SUM(I96:J96) -> 5 | L96: =RANK(K96,K$5:K$128) -> 113 | M96: =COUNTA(D96,E96,F96,G96,H96)/5 -> 0.2
B97: 161 | C97: 남 | D97: 2 | E97: 13 | F97: 10 | G97: 9 | H97: 6 | I97: =SUM(D97,E97,F97,G97,H97) -> 40 | J97: ='1주차'!I109 -> 50 | K97: =SUM(I97:J97) -> 90 | L97: =RANK(K97,K$5:K$128) -> 12 | M97: =COUNTA(D97,E97,F97,G97,H97)/5 -> 1
B98: 163 | C98: 남 | I98: =SUM(D98,E98,F98,G98,H98) -> 0 | J98: ='1주차'!I110 -> 0 | K98: =SUM(I98:J98) -> 0 | L98: =RANK(K98,K$5:K$128) -> 115 | M98: =COUNTA(D98,E98,F98,G98,H98)/5 -> 0 | N98: 경고
B99: 164 | C99: 여 | E99: 13 | F99: 13 | G99: 13 | I99: =SUM(D99,E99,F99,G99,H99) -> 39 | J99: ='1주차'!I111 -> 32 | K99: =SUM(I99:J99) -> 71 | L99: =RANK(K99,K$5:K$128) -> 33 | M99: =COUNTA(D99,E99,F99,G99,H99)/5 -> 0.6
B100: 165 | C100: 남 | E100: 13 | F100: 5 | G100: 9 | H100: 4 | I100: =SUM(D100,E100,F100,G100,H100) -> 31 | J100: ='1주차'!I112 -> 14 | K100: =SUM(I100:J100) -> 45 | L100: =RANK(K100,K$5:K$128) -> 63 | M100: =COUNTA(D100,E100,F100,G100,H100)/5 -> 0.8
...

Sheet Sheet2
