Workbook

Sheet 1주차
B2: 9~10월 아침 모의고사 성적현황
B3: 시험 1주차 : 9월 10일 ~ 14일
D4: 9 | E4: 10 | F4: 11 | G4: 12 | H4: 13 | I4: 주간성적 | K4: 모의고사 참여율 | L4: 비고
A5: 수험 번호 | B5: 수험 번호 | C5: 성별 | D5: 국사 | E5: 형소법 | F5: 경찰학 | G5: 형법 | H5: 영어 | I5: 전체 총점 | J5: 등수
B6: 100 | C6: 남 | I6: =SUM(D6,E6,F6,G6,H6) -> 0 | J6: =RANK(I6,I$6:I$138) -> 107 | K6: =COUNTA(D6,E6,F6,G6,H6)/5 -> 0
B7: 101 | C7: 남 | E7: 10 | F7: 14 | G7: 4 | H7: 9 | I7: =SUM(D7,E7,F7,G7,H7) -> 37 | J7: =RANK(I7,I$6:I$138) -> 26 | K7: =COUNTA(D7,E7,F7,G7,H7)/5 -> 0.8
B8: 102 | C8: 남 | I8: =SUM(D8,E8,F8,G8,H8) -> 0 | J8: =RANK(I8,I$6:I$138) -> 107 | K8: =COUNTA(D8,E8,F8,G8,H8)/5 -> 0
B9: 103 | C9: 여 | E9: 8 | F9: 12 | G9: 4 | H9: 7 | I9: =SUM(D9,E9,F9,G9,H9) -> 31 | J9: =RANK(I9,I$6:I$138) -> 42 | K9: =COUNTA(D9,E9,F9,G9,H9)/5 -> 0.8
B10: 104 | C10: 여 | D10: 10 | E10: 11 | F10: 12 | G10: 8 | I10: =SUM(D10,E10,F10,G10,H10) -> 41 | J10: =RANK(I10,I$6:I$138) -> 19 | K10: =COUNTA(D10,E10,F10,G10,H10)/5 -> 0.8
B11: 105 | C11: 남 | D11: 11 | E11: 10 | F11: 11 | G11: 5 | H11: 3 | I11: =SUM(D11,E11,F11,G11,H11) -> 40 | J11: =RANK(I11,I$6:I$138) -> 21 | K11: =COUNTA(D11,E11,F11,G11,H11)/5 -> 1
B12: 106 | C12: 여 | D12: 9 | E12: 5 | F12: 4 | G12: 2 | H12: 7 | I12: =SUM(D12,E12,F12,G12,H12) -> 27 | J12: =RANK(I12,I$6:I$138) -> 54 | K12: =COUNTA(D12,E12,F12,G12,H12)/5 -> 1
B13: 107 | C13: 여 | D13: 7 | I13: =SUM(D13,E13,F13,G13,H13) -> 7 | J13: =RANK(I13,I$6:I$138) -> 101 | K13: =COUNTA(D13,E13,F13,G13,H13)/5 -> 0.2
B14: 108 | C14: 여 | D14: 8 | E14: 9 | F14: 10 | G14: 5 | H14: 6 | I14: =SUM(D14,E14,F14,G14,H14) -> 38 | J14: =RANK(I14,I$6:I$138) -> 24 | K14: =COUNTA(D14,E14,F14,G14,H14)/5 -> 1
B15: 109 | C15: 남 | D15: 11 | E15: 10 | F15: 7 | G15: 3 | H15: 8 | I15: =SUM(D15,E15,F15,G15,H15) -> 39 | J15: =RANK(I15,I$6:I$138) -> 22 | K15: =COUNTA(D15,E15,F15,G15,H15)/5 -> 1
B16: 110 | C16: 여 | D16: 5 | E16: 3 | G16: 3 | I16: =SUM(D16,E16,F16,G16,H16) -> 11 | J16: =RANK(I16,I$6:I$138) -> 85 | K16: =COUNTA(D16,E16,F16,G16,H16)/5 -> 0.6
B17: 111 | C17: 여 | D17: 10 | F17: 3 | G17: 2 | H17: 4 | I17: =SUM(D17,E17,F17,G17,H17) -> 19 | J17: =RANK(I17,I$6:I$138) -> 66 | K17: =COUNTA(D17,E17,F17,G17,H17)/5 -> 0.8
B18: 112 | C18: 남 | D18: 9 | E18: 4 | F18: 7 | G18: 4 | H18: 11 | I18: =SUM(D18,E18,F18,G18,H18) -> 35 | J18: =RANK(I18,I$6:I$138) -> 30 | K18: =COUNTA(D18,E18,F18,G18,H18)/5 -> 1
B19: 113 | C19: 남 | D19: 10 | E19: 5 | F19: 4 | G19: 6 | H19: 7 | I19: =SUM(D19,E19,F19,G19,H19) -> 32 | J19: =RANK(I19,I$6:I$138) -> 38 | K19: =COUNTA(D19,E19,F19,G19,H19)/5 -> 1
B20: 114 | C20: 여 | E20: 6 | I20: =SUM(D20,E20,F20,G20,H20) -> 6 | J20: =RANK(I20,I$6:I$138) -> 103 | K20: =COUNTA(D20,E20,F20,G20,H20)/5 -> 0.2
B21: 115 | C21: 여 | I21: =SUM(D21,E21,F21,G21,H21) -> 0 | J21: =RANK(I21,I$6:I$138) -> 107 | K21: =COUNTA(D21,E21,F21,G21,H21)/5 -> 0
B22: 116 | C22: 남 | D22: 10 | E22: 6 | F22: 7 | G22: 5 | H22: 6 | I22: =SUM(D22,E22,F22,G22,H22) -> 34 | J22: =RANK(I22,I$6:I$138) -> 34 | K22: =COUNTA(D22,E22,F22,G22,H22)/5 -> 1
B23: 117 | C23: 남 | I23: =SUM(D23,E23,F23,G23,H23) -> 0 | J23: =RANK(I23,I$6:I$138) -> 107 | K23: =COUNTA(D23,E23,F23,G23,H23)/5 -> 0
B24: 118 | C24: 남 | D24: 5 | F24: 5 | I24: =SUM(D24,E24,F24,G24,H24) -> 10 | J24: =RANK(I24,I$6:I$138) -> 90 | K24: =COUNTA(D24,E24,F24,G24,H24)/5 -> 0.4
B25: 119 | C25: 남 | D25: 6 | H25: 4 | I25: =SUM(D25,E25,F25,G25,H25) -> 10 | J25: =RANK(I25,I$6:I$138) -> 90 | K25: =COUNTA(D25,E25,F25,G25,H25)/5 -> 0.4
B26: 120 | C26: 남 | I26: =SUM(D26,E26,F26,G26,H26) -> 0 | J26: =RANK(I26,I$6:I$138) -> 107 | K26: =COUNTA(D26,E26,F26,G26,H26)/5 -> 0
B27: 121 | C27: 여 | D27: 8 | E27: 8 | F27: 9 | G27: 4 | I27: =SUM(D27,E27,F27,G27,H27) -> 29 | J27: =RANK(I27,I$6:I$138) -> 45 | K27: =COUNTA(D27,E27,F27,G27,H27)/5 -> 0.8
B28: 122 | C28: 남 | D28: 10 | E28: 11 | H28: 8 | I28: =SUM(D28,E28,F28,G28,H28) -> 29 | J28: =RANK(I28,I$6:I$138) -> 45 | K28: =COUNTA(D28,E28,F28,G28,H28)/5 -> 0.6
B29: 123 | C29: 남 | D29: 10 | E29: 7 | F29: 10 | G29: 4 | H29: 4 | I29: =SUM(D29,E29,F29,G29,H29) -> 35 | J29: =RANK(I29,I$6:I$138) -> 30 | K29: =COUNTA(D29,E29,F29,G29,H29)/5 -> 1
B30: 124 | C30: 남 | E30: 3 | F30: 8 | G30: 0 | H30: 5 | I30: =SUM(D30,E30,F30,G30,H30) -> 16 | J30: =RANK(I30,I$6:I$138) -> 71 | K30: =COUNTA(D30,E30,F30,G30,H30)/5 -> 0.8
B31: 125 | C31: 여 | D31: 10 | E31: 8 | F31: 5 | G31: 1 | H31: 5 | I31: =SUM(D31,E31,F31,G31,H31) -> 29 | J31: =RANK(I31,I$6:I$138) -> 45 | K31: =COUNTA(D31,E31,F31,G31,H31)/5 -> 1
B32: 126 | C32: 여 | D32: 14 | E32: 8 | F32: 14 | G32: 6 | H32: 9 | I32: =SUM(D32,E32,F32,G32,H32) -> 51 | J32: =RANK(I32,I$6:I$138) -> 7 | K32: =COUNTA(D32,E32,F32,G32,H32)/5 -> 1
B33: 127 | C33: 남 | E33: 9 | F33: 10 | G33: 5 | H33: 9 | I33: =SUM(D33,E33,F33,G33,H33) -> 33 | J33: =RANK(I33,I$6:I$138) -> 36 | K33: =COUNTA(D33,E33,F33,G33,H33)/5 -> 0.8
B34: 128 | C34: 남 | I34: =SUM(D34,E34,F34,G34,H34) -> 0 | J34: =RANK(I34,I$6:I$138) -> 107 | K34: =COUNTA(D34,E34,F34,G34,H34)/5 -> 0
B35: 129 | C35: 남 | E35: 10 | G35: 5 | I35: =SUM(D35,E35,F35,G35,H35) -> 15 | J35: =RANK(I35,I$6:I$138) -> 72 | K35: =COUNTA(D35,E35,F35,G35,H35)/5 -> 0.4
B36: 130 | C36: 남 | D36: 13 | E36: 9 | H36: 6 | I36: =SUM(D36,E36,F36,G36,H36) -> 28 | J36: =RANK(I36,I$6:I$138) -> 51 | K36: =COUNTA(D36,E36,F36,G36,H36)/5 -> 0.6
B37: 131 | C37: 여 | I37: =SUM(D37,E37,F37,G37,H37) -> 0 | J37: =RANK(I37,I$6:I$138) -> 107 | K37: =COUNTA(D37,E37,F37,G37,H37)/5 -> 0
B38: 132 | C38: 남 | I38: =SUM(D38,E38,F38,G38,H38) -> 0 | J38: =RANK(I38,I$6:I$138) -> 107 | K38: =COUNTA(D38,E38,F38,G38,H38)/5 -> 0
B39: 133 | C39: 남 | D39: 10 | E39: 6 | F39: 6 | G39: 1 | H39: 6 | I39: =SUM(D39,E39,F39,G39,H39) -> 29 | J39: =RANK(I39,I$6:I$138) -> 45 | K39: =COUNTA(D39,E39,F39,G39,H39)/5 -> 1
B40: 134 | C40: 여 | E40: 9 | I40: =SUM(D40,E40,F40,G40,H40) -> 9 | J40: =RANK(I40,I$6:I$138) -> 93 | K40: =COUNTA(D40,E40,F40,G40,H40)/5 -> 0.2
B41: 135 | C41: 남 | D41: 11 | E41: 10 | F41: 11 | G41: 7 | H41: 8 | I41: =SUM(D41,E41,F41,G41,H41) -> 47 | J41: =RANK(I41,I$6:I$138) -> 11 | K41: =COUNTA(D41,E41,F41,G41,H41)/5 -> 1
...

Sheet 2주차
B1: 9~10월 아침 모의고사 성적현황
B2: 시험 2주차 : 9월 17일 ~ 21일
D3: 17 | E3: 18 | F3: 19 | G3: 20 | H3: 21 | I3: 성적 | M3: 모의고사 참여율 | N3: 비고
A4: 수험 번호 | B4: 수험 번호 | C4: 성별 | D4: 국사 | E4: 형소법 | F4: 경찰학 | G4: 형법 | H4: 영어 | I4: 주간 총점 | J4: 누적 총점 | K4: 전체 총점 | L4: 등수
B5: 101 | C5: 남 | D5: 5 | E5: 11 | G5: 11 | H5: 6 | I5: =SUM(D5,E5,F5,G5,H5) -> 33 | J5: ='1주차'!I7 -> 37 | K5: =SUM(I5:J5) -> 70 | L5: =RANK(K5,K$5:K$128) -> 35 | M5: =COUNTA(D5,E5,F5,G5,H5)/5 -> 0.8
B6: 103 | C6: 여 | E6: 11 | F6: 10 | H6: 8 | I6: =SUM(D6,E6,F6,G6,H6) -> 29 | J6: ='1주차'!I9 -> 31 | K6: =SUM(I6:J6) -> 60 | L6: =RANK(K6,K$5:K$128) -> 47 | M6: =COUNTA(D6,E6,F6,G6,H6)/5 -> 0.6
B7: 104 | C7: 여 | D7: 8 | E7: 14 | F7: 10 | G7: 14 | I7: =SUM(D7,E7,F7,G7,H7) -> 46 | J7: ='1주차'!I10 -> 41 | K7: =SUM(I7:J7) -> 87 | L7: =RANK(K7,K$5:K$128) -> 16 | M7: =COUNTA(D7,E7,F7,G7,H7)/5 -> 0.8
B8: 105 | C8: 남 | D8: 13 | E8: 14 | F8: 11 | G8: 14 | H8: 6 | I8: =SUM(D8,E8,F8,G8,H8) -> 58 | J8: ='1주차'!I11 -> 40 | K8: =SUM(I8:J8) -> 98 | L8: =RANK(K8,K$5:K$128) -> 8 | M8: =COUNTA(D8,E8,F8,G8,H8)/5 -> 1
B9: 106 | C9: 여 | D9: 6 | E9: 5 | F9: 6 | G9: 4 | I9: =SUM(D9,E9,F9,G9,H9) -> 21 | J9: ='1주차'!I12 -> 27 | K9: =SUM(I9:J9) -> 48 | L9: =RANK(K9,K$5:K$128) -> 59 | M9: =COUNTA(D9,E9,F9,G9,H9)/5 -> 0.8
B10: 107 | C10: 여 | I10: =SUM(D10,E10,F10,G10,H10) -> 0 | J10: ='1주차'!I13 -> 7 | K10: =SUM(I10:J10) -> 7 | L10: =RANK(K10,K$5:K$128) -> 108 | M10: =COUNTA(D10,E10,F10,G10,H10)/5 -> 0 | N10: 경고
B11: 108 | C11: 여 | D11: 10 | E11: 10 | F11: 5 | G11: 10 | H11: 7 | I11: =SUM(D11,E11,F11,G11,H11) -> 42 | J11: ='1주차'!I14 -> 38 | K11: =SUM(I11:J11) -> 80 | L11: =RANK(K11,K$5:K$128) -> 21 | M11: =COUNTA(D11,E11,F11,G11,H11)/5 -> 1
B12: 109 | C12: 남 | D12: 7 | E12: 6 | F12: 7 | G12: 11 | H12: 11 | I12: =SUM(D12,E12,F12,G12,H12) -> 42 | J12: ='1주차'!I15 -> 39 | K12: =SUM(I12:J12) -> 81 | L12: =RANK(K12,K$5:K$128) -> 18 | M12: =COUNTA(D12,E12,F12,G12,H12)/5 -> 1
B13: 110 | C13: 여 | I13: =SUM(D13,E13,F13,G13,H13) -> 0 | J13: ='1주차'!I16 -> 11 | K13: =SUM(I13:J13) -> 11 | L13: =RANK(K13,K$5:K$128) -> 104 | M13: =COUNTA(D13,E13,F13,G13,H13)/5 -> 0 | N13: 경고
B14: 111 | C14: 여 | D14: 6 | I14: =SUM(D14,E14,F14,G14,H14) -> 6 | J14: ='1주차'!I17 -> 19 | K14: =SUM(I14:J14) -> 25 | L14: =RANK(K14,K$5:K$128) -> 89 | M14: =COUNTA(D14,E14,F14,G14,H14)/5 -> 0.2
B15: 112 | C15: 남 | E15: 8 | F15: 7 | H15: 6 | I15: =SUM(D15,E15,F15,G15,H15) -> 21 | J15: ='1주차'!I18 -> 35 | K15: =SUM(I15:J15) -> 56 | L15: =RANK(K15,K$5:K$128) -> 50 | M15: =COUNTA(D15,E15,F15,G15,H15)/5 -> 0.6
B16: 113 | C16: 남 | F16: 5 | G16: 11 | H16: 5 | I16: =SUM(D16,E16,F16,G16,H16) -> 21 | J16: ='1주차'!I19 -> 32 | K16: =SUM(I16:J16) -> 53 | L16: =RANK(K16,K$5:K$128) -> 53 | M16: =COUNTA(D16,E16,F16,G16,H16)/5 -> 0.6
B17: 114 | C17: 여 | I17: =SUM(D17,E17,F17,G17,H17) -> 0 | J17: ='1주차'!I20 -> 6 | K17: =SUM(I17:J17) -> 6 | L17: =RANK(K17,K$5:K$128) -> 110 | M17: =COUNTA(D17,E17,F17,G17,H17)/5 -> 0 | N17: 경고
B18: 116 | C18: 남 | D18: 6 | E18: 9 | F18: 8 | G18: 14 | H18: 6 | I18: =SUM(D18,E18,F18,G18,H18) -> 43 | J18: ='1주차'!I22 -> 34 | K18: =SUM(I18:J18) -> 77 | L18: =RANK(K18,K$5:K$128) -> 25 | M18: =COUNTA(D18,E18,F18,G18,H18)/5 -> 1
B19: 118 | C19: 남 | E19: 3 | I19: =SUM(D19,E19,F19,G19,H19) -> 3 | J19: ='1주차'!I24 -> 10 | K19: =SUM(I19:J19) -> 13 | L19: =RANK(K19,K$5:K$128) -> 100 | M19: =COUNTA(D19,E19,F19,G19,H19)/5 -> 0.2
B20: 119 | C20: 남 | I20: =SUM(D20,E20,F20,G20,H20) -> 0 | J20: ='1주차'!I25 -> 10 | K20: =SUM(I20:J20) -> 10 | L20: =RANK(K20,K$5:K$128) -> 105 | M20: =COUNTA(D20,E20,F20,G20,H20)/5 -> 0 | N20: 경고
B21: 121 | C21: 여 | E21: 7 | F21: 6 | G21: 10 | H21: 2 | I21: =SUM(D21,E21,F21,G21,H21) -> 25 | J21: ='1주차'!I27 -> 29 | K21: =SUM(I21:J21) -> 54 | L21: =RANK(K21,K$5:K$128) -> 51 | M21: =COUNTA(D21,E21,F21,G21,H21)/5 -> 0.8
B22: 122 | C22: 남 | E22: 9 | F22: 7 | G22: 13 | H22: 8 | I22: =SUM(D22,E22,F22,G22,H22) -> 37 | J22: ='1주차'!I28 -> 29 | K22: =SUM(I22:J22) -> 66 | L22: =RANK(K22,K$5:K$128) -> 40 | M22: =COUNTA(D22,E22,F22,G22,H22)/5 -> 0.8
B23: 123 | C23: 남 | D23: 12 | E23: 7 | F23: 10 | G23: 11 | H23: 4 | I23: =SUM(D23,E23,F23,G23,H23) -> 44 | J23: ='1주차'!I29 -> 35 | K23: =SUM(I23:J23) -> 79 | L23: =RANK(K23,K$5:K$128) -> 23 | M23: =COUNTA(D23,E23,F23,G23,H23)/5 -> 1
B24: 124 | C24: 남 | E24: 6 | F24: 7 | H24: 8 | I24: =SUM(D24,E24,F24,G24,H24) -> 21 | J24: ='1주차'!I30 -> 16 | K24: =SUM(I24:J24) -> 37 | L24: =RANK(K24,K$5:K$128) -> 76 | M24: =COUNTA(D24,E24,F24,G24,H24)/5 -> 0.6
B25: 125 | C25: 여 | E25: 6 | F25: 4 | G25: 13 | I25: =SUM(D25,E25,F25,G25,H25) -> 23 | J25: ='1주차'!I31 -> 29 | K25: =SUM(I25:J25) -> 52 | L25: =RANK(K25,K$5:K$128) -> 54 | M25: =COUNTA(D25,E25,F25,G25,H25)/5 -> 0.6
B26: 126 | C26: 여 | D26: 6 | E26: 11 | F26: 9 | G26: 10 | H26: 9 | I26: =SUM(D26,E26,F26,G26,H26) -> 45 | J26: ='1주차'!I32 -> 51 | K26: =SUM(I26:J26) -> 96 | L26: =RANK(K26,K$5:K$128) -> 9 | M26: =COUNTA(D26,E26,F26,G26,H26)/5 -> 1
B27: 127 | C27: 남 | E27: 5 | F27: 7 | G27: 8 | H27: 6 | I27: =SUM(D27,E27,F27,G27,H27) -> 26 | J27: ='1주차'!I33 -> 33 | K27: =SUM(I27:J27) -> 59 | L27: =RANK(K27,K$5:K$128) -> 48 | M27: =COUNTA(D27,E27,F27,G27,H27)/5 -> 0.8
B28: 128 | C28: 남 | F28: 6 | I28: =SUM(D28,E28,F28,G28,H28) -> 6 | J28: ='1주차'!I34 -> 0 | K28: =SUM(I28:J28) -> 6 | L28: =RANK(K28,K$5:K$128) -> 110 | M28: =COUNTA(D28,E28,F28,G28,H28)/5 -> 0.2
B29: 129 | C29: 남 | E29: 9 | I29: =SUM(D29,E29,F29,G29,H29) -> 9 | J29: ='1주차'!I35 -> 15 | K29: =SUM(I29:J29) -> 24 | L29: =RANK(K29,K$5:K$128) -> 90 | M29: =COUNTA(D29,E29,F29,G29,H29)/5 -> 0.2
B30: 130 | C30: 남 | I30: =SUM(D30,E30,F30,G30,H30) -> 0 | J30: ='1주차'!I36 -> 28 | K30: =SUM(I30:J30) -> 28 | L30: =RANK(K30,K$5:K$128) -> 82 | M30: =COUNTA(D30,E30,F30,G30,H30)/5 -> 0 | N30: 경고
B31: 133 | C31: 남 | E31: 11 | F31: 10 | G31: 10 | H31: 6 | I31: =SUM(D31,E31,F31,G31,H31) -> 37 | J31: ='1주차'!I39 -> 29 | K31: =SUM(I31:J31) -> 66 | L31: =RANK(K31,K$5:K$128) -> 40 | M31: =COUNTA(D31,E31,F31,G31,H31)/5 -> 0.8
B32: 134 | C32: 여 | I32: =SUM(D32,E32,F32,G32,H32) -> 0 | J32: ='1주차'!I40 -> 9 | K32: =SUM(I32:J32) -> 9 | L32: =RANK(K32,K$5:K$128) -> 106 | M32: =COUNTA(D32,E32,F32,G32,H32)/5 -> 0 | N32: 경고
B33: 135 | C33: 남 | D33: 5 | E33: 10 | F33: 6 | G33: 12 | H33: 8 | I33: =SUM(D33,E33,F33,G33,H33) -> 41 | J33: ='1주차'!I41 -> 47 | K33: =SUM(I33:J33) -> 88 | L33: =RANK(K33,K$5:K$128) -> 13 | M33: =COUNTA(D33,E33,F33,G33,H33)/5 -> 1
B34: 136 | C34: 남 | E34: 14 | F34: 11 | G34: 15 | H34: 9 | I34: =SUM(D34,E34,F34,G34,H34) -> 49 | J34: ='1주차'!I42 -> 45 | K34: =SUM(I34:J34) -> 94 | L34: =RANK(K34,K$5:K$128) -> 10 | M34: =COUNTA(D34,E34,F34,G34,H34)/5 -> 0.8
B35: 137 | C35: 남 | D35: 10 | E35: 14 | F35: 12 | G35: 15 | H35: 12 | I35: =SUM(D35,E35,F35,G35,H35) -> 63 | J35: ='1주차'!I43 -> 59 | K35: =SUM(I35:J35) -> 122 | L35: =RANK(K35,K$5:K$128) -> 1 | M35: =COUNTA(D35,E35,F35,G35,H35)/5 -> 1
B36: 138 | C36: 여 | D36: 10 | E36: 10 | F36: 7 | G36: 15 | H36: 11 | I36: =SUM(D36,E36,F36,G36,H36) -> 53 | J36: ='1주차'!I44 -> 56 | K36: =SUM(I36:J36) -> 109 | L36: =RANK(K36,K$5:K$128) -> 5 | M36: =COUNTA(D36,E36,F36,G36,H36)/5 -> 1
B37: 139 | C37: 남 | E37: 9 | F37: 6 | G37: 11 | H37: 8 | I37: =SUM(D37,E37,F37,G37,H37) -> 34 | J37: ='1주차'!I45 -> 35 | K37: =SUM(I37:J37) -> 69 | L37: =RANK(K37,K$5:K$128) -> 37 | M37: =COUNTA(D37,E37,F37,G37,H37)/5 -> 0.8
B38: 140 | C38: 여 | D38: 2 | F38: 4 | G38: 9 | I38: =SUM(D38,E38,F38,G38,H38) -> 15 | J38: ='1주차'!I46 -> 8 | K38: =SUM(I38:J38) -> 23 | L38: =RANK(K38,K$5:K$128) -> 92 | M38: =COUNTA(D38,E38,F38,G38,H38)/5 -> 0.6
B39: 141 | C39: 여 | F39: 8 | G39: 10 | I39: =SUM(D39,E39,F39,G39,H39) -> 18 | J39: ='1주차'!I47 -> 43 | K39: =SUM(I39:J39) -> 61 | L39: =RANK(K39,K$5:K$128) -> 46 | M39: =COUNTA(D39,E39,F39,G39,H39)/5 -> 0.4
B40: 142 | C40: 남 | D40: 5 | E40: 8 | F40: 7 | G40: 7 | H40: 6 | I40: =SUM(D40,E40,F40,G40,H40) -> 33 | J40: ='1주차'!I48 -> 30 | K40: =SUM(I40:J40) -> 63 | L40: =RANK(K40,K$5:K$128) -> 43 | M40: =COUNTA(D40,E40,F40,G40,H40)/5 -> 1
...

Sheet Sheet2
