Workbook

Sheet 1주차
B2: 7~8월 아침 모의고사 성적현황
B3: 시험 1주차 : 7월 9일 ~ 13일
D4: 9 | E4: 10 | F4: 11 | G4: 12 | H4: 13 | I4: 주간성적 | K4: 모의고사 참여율 | L4: 비고
A5: 수험 번호 | B5: 수험 번호 | C5: 성별 | D5: 형소법 | E5: 국사 | F5: 영어 | G5: 경찰학 | H5: 형법 | I5: 전체 총점 | J5: 등수
B6: 500 | C6: 남 | D6: 7 | E6: 8 | F6: 6 | G6: 7 | H6: 3 | I6: =SUM(D6,E6,F6,G6,H6) -> 31 | J6: =RANK(I6,I$6:I$117) -> 46 | K6: =COUNTA(D6,E6,F6,G6,H6)/5 -> 1
B7: 501 | C7: 남 | I7: =SUM(D7,E7,F7,G7,H7) -> 0 | J7: =RANK(I7,I$6:I$117) -> 86 | K7: =COUNTA(D7,E7,F7,G7,H7)/5 -> 0 | L7: 1차 경고
B8: 503 | C8: 남 | D8: 12 | E8: 15 | H8: 8 | I8: =SUM(D8,E8,F8,G8,H8) -> 35 | J8: =RANK(I8,I$6:I$117) -> 38 | K8: =COUNTA(D8,E8,F8,G8,H8)/5 -> 0.6
B9: 504 | C9: 남 | I9: =SUM(D9,E9,F9,G9,H9) -> 0 | J9: =RANK(I9,I$6:I$117) -> 86 | K9: =COUNTA(D9,E9,F9,G9,H9)/5 -> 0 | L9: 1차 경고
B10: 505 | C10: 여 | I10: =SUM(D10,E10,F10,G10,H10) -> 0 | J10: =RANK(I10,I$6:I$117) -> 86 | K10: =COUNTA(D10,E10,F10,G10,H10)/5 -> 0 | L10: 1차 경고
B11: 506 | C11: 남 | D11: 5 | E11: 6 | G11: 3 | I11: =SUM(D11,E11,F11,G11,H11) -> 14 | J11: =RANK(I11,I$6:I$117) -> 72 | K11: =COUNTA(D11,E11,F11,G11,H11)/5 -> 0.6
B12: 507 | C12: 남 | D12: 8 | E12: 8 | F12: 6 | G12: 5 | H12: 3 | I12: =SUM(D12,E12,F12,G12,H12) -> 30 | J12: =RANK(I12,I$6:I$117) -> 50 | K12: =COUNTA(D12,E12,F12,G12,H12)/5 -> 1
B13: 508 | C13: 남 | D13: 4 | E13: 5 | F13: 5 | G13: 7 | H13: 4 | I13: =SUM(D13,E13,F13,G13,H13) -> 25 | J13: =RANK(I13,I$6:I$117) -> 54 | K13: =COUNTA(D13,E13,F13,G13,H13)/5 -> 1
B14: 509 | C14: 남 | I14: =SUM(D14,E14,F14,G14,H14) -> 0 | J14: =RANK(I14,I$6:I$117) -> 86 | K14: =COUNTA(D14,E14,F14,G14,H14)/5 -> 0 | L14: 1차 경고
B15: 511 | C15: 남 | D15: 9 | E15: 13 | F15: 5 | G15: 7 | H15: 4 | I15: =SUM(D15,E15,F15,G15,H15) -> 38 | J15: =RANK(I15,I$6:I$117) -> 29 | K15: =COUNTA(D15,E15,F15,G15,H15)/5 -> 1
B16: 512 | C16: 남 | D16: 5 | E16: 8 | G16: 7 | I16: =SUM(D16,E16,F16,G16,H16) -> 20 | J16: =RANK(I16,I$6:I$117) -> 63 | K16: =COUNTA(D16,E16,F16,G16,H16)/5 -> 0.6
B17: 513 | C17: 남 | D17: 10 | G17: 5 | I17: =SUM(D17,E17,F17,G17,H17) -> 15 | J17: =RANK(I17,I$6:I$117) -> 70 | K17: =COUNTA(D17,E17,F17,G17,H17)/5 -> 0.4
B18: 514 | C18: 여 | D18: 9 | E18: 10 | F18: 8 | G18: 9 | I18: =SUM(D18,E18,F18,G18,H18) -> 36 | J18: =RANK(I18,I$6:I$117) -> 36 | K18: =COUNTA(D18,E18,F18,G18,H18)/5 -> 0.8
B19: 516 | C19: 남 | I19: =SUM(D19,E19,F19,G19,H19) -> 0 | J19: =RANK(I19,I$6:I$117) -> 86 | K19: =COUNTA(D19,E19,F19,G19,H19)/5 -> 0 | L19: 1차 경고
B20: 517 | C20: 남 | D20: 11 | E20: 13 | F20: 3 | H20: 4 | I20: =SUM(D20,E20,F20,G20,H20) -> 31 | J20: =RANK(I20,I$6:I$117) -> 46 | K20: =COUNTA(D20,E20,F20,G20,H20)/5 -> 0.8
B21: 518 | C21: 남 | D21: 8 | E21: 11 | G21: 3 | I21: =SUM(D21,E21,F21,G21,H21) -> 22 | J21: =RANK(I21,I$6:I$117) -> 59 | K21: =COUNTA(D21,E21,F21,G21,H21)/5 -> 0.6
B22: 519 | C22: 남 | D22: 11 | E22: 13 | F22: 9 | G22: 8 | H22: 7 | I22: =SUM(D22,E22,F22,G22,H22) -> 48 | J22: =RANK(I22,I$6:I$117) -> 17 | K22: =COUNTA(D22,E22,F22,G22,H22)/5 -> 1
B23: 520 | C23: 여 | D23: 11 | E23: 10 | G23: 7 | I23: =SUM(D23,E23,F23,G23,H23) -> 28 | J23: =RANK(I23,I$6:I$117) -> 53 | K23: =COUNTA(D23,E23,F23,G23,H23)/5 -> 0.6
B24: 521 | C24: 여 | E24: 8 | I24: =SUM(D24,E24,F24,G24,H24) -> 8 | J24: =RANK(I24,I$6:I$117) -> 81 | K24: =COUNTA(D24,E24,F24,G24,H24)/5 -> 0.2
B25: 524 | C25: 남 | D25: 13 | E25: 15 | F25: 9 | G25: 12 | H25: 9 | I25: =SUM(D25,E25,F25,G25,H25) -> 58 | J25: =RANK(I25,I$6:I$117) -> 4 | K25: =COUNTA(D25,E25,F25,G25,H25)/5 -> 1
B26: 525 | C26: 남 | I26: =SUM(D26,E26,F26,G26,H26) -> 0 | J26: =RANK(I26,I$6:I$117) -> 86 | K26: =COUNTA(D26,E26,F26,G26,H26)/5 -> 0 | L26: 1차 경고
B27: 526 | C27: 남 | D27: 11 | E27: 12 | F27: 4 | G27: 6 | H27: 6 | I27: =SUM(D27,E27,F27,G27,H27) -> 39 | J27: =RANK(I27,I$6:I$117) -> 28 | K27: =COUNTA(D27,E27,F27,G27,H27)/5 -> 1
B28: 527 | C28: 남 | D28: 11 | H28: 5 | I28: =SUM(D28,E28,F28,G28,H28) -> 16 | J28: =RANK(I28,I$6:I$117) -> 66 | K28: =COUNTA(D28,E28,F28,G28,H28)/5 -> 0.4
B29: 528 | C29: 남 | D29: 14 | E29: 11 | F29: 8 | G29: 11 | H29: 5 | I29: =SUM(D29,E29,F29,G29,H29) -> 49 | J29: =RANK(I29,I$6:I$117) -> 15 | K29: =COUNTA(D29,E29,F29,G29,H29)/5 -> 1
B30: 529 | C30: 남 | D30: 12 | E30: 15 | F30: 8 | G30: 13 | H30: 7 | I30: =SUM(D30,E30,F30,G30,H30) -> 55 | J30: =RANK(I30,I$6:I$117) -> 9 | K30: =COUNTA(D30,E30,F30,G30,H30)/5 -> 1
B31: 530 | C31: 남 | D31: 6 | E31: 9 | G31: 6 | H31: 4 | I31: =SUM(D31,E31,F31,G31,H31) -> 25 | J31: =RANK(I31,I$6:I$117) -> 54 | K31: =COUNTA(D31,E31,F31,G31,H31)/5 -> 0.8
B32: 531 | C32: 여 | I32: =SUM(D32,E32,F32,G32,H32) -> 0 | J32: =RANK(I32,I$6:I$117) -> 86 | K32: =COUNTA(D32,E32,F32,G32,H32)/5 -> 0 | L32: 1차 경고
B33: 532 | C33: 남 | D33: 12 | E33: 9 | F33: 5 | G33: 10 | H33: 5 | I33: =SUM(D33,E33,F33,G33,H33) -> 41 | J33: =RANK(I33,I$6:I$117) -> 23 | K33: =COUNTA(D33,E33,F33,G33,H33)/5 -> 1
B34: 533 | C34: 남 | I34: =SUM(D34,E34,F34,G34,H34) -> 0 | J34: =RANK(I34,I$6:I$117) -> 86 | K34: =COUNTA(D34,E34,F34,G34,H34)/5 -> 0 | L34: 1차 경고
B35: 534 | C35: 남 | I35: =SUM(D35,E35,F35,G35,H35) -> 0 | J35: =RANK(I35,I$6:I$117) -> 86 | K35: =COUNTA(D35,E35,F35,G35,H35)/5 -> 0 | L35: 1차 경고
B36: 535 | C36: 남 | D36: 3 | E36: 11 | F36: 6 | G36: 6 | H36: 5 | I36: =SUM(D36,E36,F36,G36,H36) -> 31 | J36: =RANK(I36,I$6:I$117) -> 46 | K36: =COUNTA(D36,E36,F36,G36,H36)/5 -> 1
B37: 536 | C37: 여 | I37: =SUM(D37,E37,F37,G37,H37) -> 0 | J37: =RANK(I37,I$6:I$117) -> 86 | K37: =COUNTA(D37,E37,F37,G37,H37)/5 -> 0 | L37: 1차 경고
B38: 537 | C38: 남 | D38: 9 | E38: 7 | F38: 5 | G38: 6 | H38: 5 | I38: =SUM(D38,E38,F38,G38,H38) -> 32 | J38: =RANK(I38,I$6:I$117) -> 44 | K38: =COUNTA(D38,E38,F38,G38,H38)/5 -> 1
B39: 538 | C39: 남 | D39: 10 | E39: 14 | F39: 3 | G39: 6 | H39: 4 | I39: =SUM(D39,E39,F39,G39,H39) -> 37 | J39: =RANK(I39,I$6:I$117) -> 34 | K39: =COUNTA(D39,E39,F39,G39,H39)/5 -> 1
B40: 539 | C40: 남 | D40: 10 | E40: 9 | F40: 7 | G40: 9 | H40: 5 | I40: =SUM(D40,E40,F40,G40,H40) -> 40 | J40: =RANK(I40,I$6:I$117) -> 27 | K40: =COUNTA(D40,E40,F40,G40,H40)/5 -> 1
B41: 540 | C41: 남 | D41: 8 | E41: 11 | G41: 8 | H41: 3 | I41: =SUM(D41,E41,F41,G41,H41) -> 30 | J41: =RANK(I41,I$6:I$117) -> 50 | K41: =COUNTA(D41,E41,F41,G41,H41)/5 -> 0.8
...

Sheet 2주차
B2: 7~8월 아침 모의고사 성적현황
B3: 시험 1주차 : 7월 16일 ~ 20일
D4: 16 | E4: 17 | F4: 18 | G4: 19 | H4: 20 | I4: 주간성적 | M4: 모의고사 참여율 | N4: 비고
A5: 수험 번호 | B5: 수험 번호 | C5: 성별 | D5: 형소법 | E5: 국사 | F5: 영어 | G5: 경찰학 | H5: 형법 | I5: 누적 점수 | J5: 이번주 총점 | K5: 누적 총점 | L5: 등수
B6: 500 | C6: 남 | D6: 9 | F6: 5 | G6: 3 | H6: 3 | I6: ='1주차'!I6 -> 31 | J6: =SUM(D6,E6,F6,G6,H6) -> 20 | K6: =SUM(I6:J6) -> 51 | L6: =RANK(J6,J$6:J$117) -> 53 | M6: =COUNTA(D6,E6,F6,G6,H6)/5 -> 0.8
B7: 501 | C7: 남 | I7: ='1주차'!I7 -> 0 | J7: =SUM(D7,E7,F7,G7,H7) -> 0 | K7: =SUM(I7:J7) -> 0 | L7: =RANK(J7,J$6:J$117) -> 87 | M7: =COUNTA(D7,E7,F7,G7,H7)/5 -> 0 | N7: 1차 경고
B8: 503 | C8: 남 | D8: 13 | E8: 13 | F8: 12 | G8: 15 | H8: 6 | I8: ='1주차'!I8 -> 35 | J8: =SUM(D8,E8,F8,G8,H8) -> 59 | K8: =SUM(I8:J8) -> 94 | L8: =RANK(J8,J$6:J$117) -> 2 | M8: =COUNTA(D8,E8,F8,G8,H8)/5 -> 1
B9: 504 | C9: 남 | I9: ='1주차'!I9 -> 0 | J9: =SUM(D9,E9,F9,G9,H9) -> 0 | K9: =SUM(I9:J9) -> 0 | L9: =RANK(J9,J$6:J$117) -> 87 | M9: =COUNTA(D9,E9,F9,G9,H9)/5 -> 0 | N9: 1차 경고
B10: 505 | C10: 여 | G10: 8 | H10: 3 | I10: ='1주차'!I10 -> 0 | J10: =SUM(D10,E10,F10,G10,H10) -> 11 | K10: =SUM(I10:J10) -> 11 | L10: =RANK(J10,J$6:J$117) -> 72 | M10: =COUNTA(D10,E10,F10,G10,H10)/5 -> 0.4
B11: 506 | C11: 남 | G11: 6 | I11: ='1주차'!I11 -> 14 | J11: =SUM(D11,E11,F11,G11,H11) -> 6 | K11: =SUM(I11:J11) -> 20 | L11: =RANK(J11,J$6:J$117) -> 78 | M11: =COUNTA(D11,E11,F11,G11,H11)/5 -> 0.2
B12: 507 | C12: 남 | D12: 8 | E12: 6 | F12: 11 | G12: 7 | H12: 3 | I12: ='1주차'!I12 -> 30 | J12: =SUM(D12,E12,F12,G12,H12) -> 35 | K12: =SUM(I12:J12) -> 65 | L12: =RANK(J12,J$6:J$117) -> 34 | M12: =COUNTA(D12,E12,F12,G12,H12)/5 -> 1
B13: 508 | C13: 남 | D13: 7 | E13: 7 | F13: 11 | G13: 5 | H13: 1 | I13: ='1주차'!I13 -> 25 | J13: =SUM(D13,E13,F13,G13,H13) -> 31 | K13: =SUM(I13:J13) -> 56 | L13: =RANK(J13,J$6:J$117) -> 39 | M13: =COUNTA(D13,E13,F13,G13,H13)/5 -> 1
B14: 509 | C14: 남 | I14: ='1주차'!I14 -> 0 | J14: =SUM(D14,E14,F14,G14,H14) -> 0 | K14: =SUM(I14:J14) -> 0 | L14: =RANK(J14,J$6:J$117) -> 87 | M14: =COUNTA(D14,E14,F14,G14,H14)/5 -> 0 | N14: 1차 경고
B15: 511 | C15: 남 | D15: 6 | E15: 7 | F15: 5 | G15: 7 | H15: 6 | I15: ='1주차'!I15 -> 38 | J15: =SUM(D15,E15,F15,G15,H15) -> 31 | K15: =SUM(I15:J15) -> 69 | L15: =RANK(J15,J$6:J$117) -> 39 | M15: =COUNTA(D15,E15,F15,G15,H15)/5 -> 1
B16: 512 | C16: 남 | D16: 7 | E16: 7 | F16: 6 | I16: ='1주차'!I16 -> 20 | J16: =SUM(D16,E16,F16,G16,H16) -> 20 | K16: =SUM(I16:J16) -> 40 | L16: =RANK(J16,J$6:J$117) -> 53 | M16: =COUNTA(D16,E16,F16,G16,H16)/5 -> 0.6
B17: 513 | C17: 남 | E17: 11 | F17: 9 | I17: ='1주차'!I17 -> 15 | J17: =SUM(D17,E17,F17,G17,H17) -> 20 | K17: =SUM(I17:J17) -> 35 | L17: =RANK(J17,J$6:J$117) -> 53 | M17: =COUNTA(D17,E17,F17,G17,H17)/5 -> 0.4
B18: 514 | C18: 여 | E18: 8 | G18: 9 | I18: ='1주차'!I18 -> 36 | J18: =SUM(D18,E18,F18,G18,H18) -> 17 | K18: =SUM(I18:J18) -> 53 | L18: =RANK(J18,J$6:J$117) -> 58 | M18: =COUNTA(D18,E18,F18,G18,H18)/5 -> 0.4
B19: 516 | C19: 남 | I19: ='1주차'!I19 -> 0 | J19: =SUM(D19,E19,F19,G19,H19) -> 0 | K19: =SUM(I19:J19) -> 0 | L19: =RANK(J19,J$6:J$117) -> 87 | M19: =COUNTA(D19,E19,F19,G19,H19)/5 -> 0 | N19: 1차 경고
B20: 517 | C20: 남 | D20: 13 | E20: 10 | F20: 4 | H20: 7 | I20: ='1주차'!I20 -> 31 | J20: =SUM(D20,E20,F20,G20,H20) -> 34 | K20: =SUM(I20:J20) -> 65 | L20: =RANK(J20,J$6:J$117) -> 36 | M20: =COUNTA(D20,E20,F20,G20,H20)/5 -> 0.8
B21: 518 | C21: 남 | F21: 7 | G21: 7 | I21: ='1주차'!I21 -> 22 | J21: =SUM(D21,E21,F21,G21,H21) -> 14 | K21: =SUM(I21:J21) -> 36 | L21: =RANK(J21,J$6:J$117) -> 64 | M21: =COUNTA(D21,E21,F21,G21,H21)/5 -> 0.4
B22: 519 | C22: 남 | D22: 14 | E22: 9 | F22: 10 | G22: 12 | H22: 7 | I22: ='1주차'!I22 -> 48 | J22: =SUM(D22,E22,F22,G22,H22) -> 52 | K22: =SUM(I22:J22) -> 100 | L22: =RANK(J22,J$6:J$117) -> 7 | M22: =COUNTA(D22,E22,F22,G22,H22)/5 -> 1
B23: 520 | C23: 여 | D23: 5 | G23: 7 | H23: 5 | I23: ='1주차'!I23 -> 28 | J23: =SUM(D23,E23,F23,G23,H23) -> 17 | K23: =SUM(I23:J23) -> 45 | L23: =RANK(J23,J$6:J$117) -> 58 | M23: =COUNTA(D23,E23,F23,G23,H23)/5 -> 0.6
B24: 521 | C24: 여 | I24: ='1주차'!I24 -> 8 | J24: =SUM(D24,E24,F24,G24,H24) -> 0 | K24: =SUM(I24:J24) -> 8 | L24: =RANK(J24,J$6:J$117) -> 87 | M24: =COUNTA(D24,E24,F24,G24,H24)/5 -> 0
B25: 524 | C25: 남 | D25: 14 | E25: 12 | F25: 11 | G25: 13 | H25: 7 | I25: ='1주차'!I25 -> 58 | J25: =SUM(D25,E25,F25,G25,H25) -> 57 | K25: =SUM(I25:J25) -> 115 | L25: =RANK(J25,J$6:J$117) -> 5 | M25: =COUNTA(D25,E25,F25,G25,H25)/5 -> 1
B26: 525 | C26: 남 | I26: ='1주차'!I26 -> 0 | J26: =SUM(D26,E26,F26,G26,H26) -> 0 | K26: =SUM(I26:J26) -> 0 | L26: =RANK(J26,J$6:J$117) -> 87 | M26: =COUNTA(D26,E26,F26,G26,H26)/5 -> 0 | N26: 1차 경고
B27: 526 | C27: 남 | D27: 11 | E27: 6 | F27: 5 | G27: 7 | H27: 8 | I27: ='1주차'!I27 -> 39 | J27: =SUM(D27,E27,F27,G27,H27) -> 37 | K27: =SUM(I27:J27) -> 76 | L27: =RANK(J27,J$6:J$117) -> 29 | M27: =COUNTA(D27,E27,F27,G27,H27)/5 -> 1
B28: 527 | C28: 남 | I28: ='1주차'!I28 -> 16 | J28: =SUM(D28,E28,F28,G28,H28) -> 0 | K28: =SUM(I28:J28) -> 16 | L28: =RANK(J28,J$6:J$117) -> 87 | M28: =COUNTA(D28,E28,F28,G28,H28)/5 -> 0
B29: 528 | C29: 남 | D29: 12 | E29: 9 | F29: 12 | G29: 12 | H29: 4 | I29: ='1주차'!I29 -> 49 | J29: =SUM(D29,E29,F29,G29,H29) -> 49 | K29: =SUM(I29:J29) -> 98 | L29: =RANK(J29,J$6:J$117) -> 9 | M29: =COUNTA(D29,E29,F29,G29,H29)/5 -> 1
B30: 529 | C30: 남 | D30: 14 | E30: 11 | F30: 10 | G30: 11 | H30: 5 | I30: ='1주차'!I30 -> 55 | J30: =SUM(D30,E30,F30,G30,H30) -> 51 | K30: =SUM(I30:J30) -> 106 | L30: =RANK(J30,J$6:J$117) -> 8 | M30: =COUNTA(D30,E30,F30,G30,H30)/5 -> 1
B31: 530 | C31: 남 | D31: 3 | E31: 7 | F31: 8 | G31: 7 | H31: 4 | I31: ='1주차'!I31 -> 25 | J31: =SUM(D31,E31,F31,G31,H31) -> 29 | K31: =SUM(I31:J31) -> 54 | L31: =RANK(J31,J$6:J$117) -> 43 | M31: =COUNTA(D31,E31,F31,G31,H31)/5 -> 1
B32: 531 | C32: 여 | I32: ='1주차'!I32 -> 0 | J32: =SUM(D32,E32,F32,G32,H32) -> 0 | K32: =SUM(I32:J32) -> 0 | L32: =RANK(J32,J$6:J$117) -> 87 | M32: =COUNTA(D32,E32,F32,G32,H32)/5 -> 0 | N32: 1차 경고
B33: 532 | C33: 남 | D33: 14 | E33: 10 | F33: 8 | G33: 9 | H33: 2 | I33: ='1주차'!I33 -> 41 | J33: =SUM(D33,E33,F33,G33,H33) -> 43 | K33: =SUM(I33:J33) -> 84 | L33: =RANK(J33,J$6:J$117) -> 20 | M33: =COUNTA(D33,E33,F33,G33,H33)/5 -> 1
B34: 533 | C34: 남 | I34: ='1주차'!I34 -> 0 | J34: =SUM(D34,E34,F34,G34,H34) -> 0 | K34: =SUM(I34:J34) -> 0 | L34: =RANK(J34,J$6:J$117) -> 87 | M34: =COUNTA(D34,E34,F34,G34,H34)/5 -> 0 | N34: 1차 경고
B35: 534 | C35: 남 | I35: ='1주차'!I35 -> 0 | J35: =SUM(D35,E35,F35,G35,H35) -> 0 | K35: =SUM(I35:J35) -> 0 | L35: =RANK(J35,J$6:J$117) -> 87 | M35: =COUNTA(D35,E35,F35,G35,H35)/5 -> 0 | N35: 1차 경고
B36: 535 | C36: 남 | D36: 6 | E36: 8 | G36: 5 | H36: 4 | I36: ='1주차'!I36 -> 31 | J36: =SUM(D36,E36,F36,G36,H36) -> 23 | K36: =SUM(I36:J36) -> 54 | L36: =RANK(J36,J$6:J$117) -> 47 | M36: =COUNTA(D36,E36,F36,G36,H36)/5 -> 0.8
B37: 536 | C37: 여 | I37: ='1주차'!I37 -> 0 | J37: =SUM(D37,E37,F37,G37,H37) -> 0 | K37: =SUM(I37:J37) -> 0 | L37: =RANK(J37,J$6:J$117) -> 87 | M37: =COUNTA(D37,E37,F37,G37,H37)/5 -> 0 | N37: 1차 경고
B38: 537 | C38: 남 | D38: 10 | E38: 4 | F38: 8 | G38: 6 | H38: 3 | I38: ='1주차'!I38 -> 32 | J38: =SUM(D38,E38,F38,G38,H38) -> 31 | K38: =SUM(I38:J38) -> 63 | L38: =RANK(J38,J$6:J$117) -> 39 | M38: =COUNTA(D38,E38,F38,G38,H38)/5 -> 1
B39: 538 | C39: 남 | D39: 11 | E39: 11 | F39: 4 | G39: 11 | H39: 4 | I39: ='1주차'!I39 -> 37 | J39: =SUM(D39,E39,F39,G39,H39) -> 41 | K39: =SUM(I39:J39) -> 78 | L39: =RANK(J39,J$6:J$117) -> 24 | M39: =COUNTA(D39,E39,F39,G39,H39)/5 -> 1
B40: 539 | C40: 남 | D40: 10 | E40: 8 | F40: 8 | G40: 7 | H40: 5 | I40: ='1주차'!I40 -> 40 | J40: =SUM(D40,E40,F40,G40,H40) -> 38 | K40: =SUM(I40:J40) -> 78 | L40: =RANK(J40,J$6:J$117) -> 27 | M40: =COUNTA(D40,E40,F40,G40,H40)/5 -> 1
B41: 540 | C41: 남 | D41: 9 | E41: 5 | F41: 7 | G41: 13 | H41: 3 | I41: ='1주차'!I41 -> 30 | J41: =SUM(D41,E41,F41,G41,H41) -> 37 | K41: =SUM(I41:J41) -> 67 | L41: =RANK(J41,J$6:J$117) -> 29 | M41: =COUNTA(D41,E41,F41,G41,H41)/5 -> 1
...

Sheet 3주차
B2: 7~8월 아침 모의고사 성적현황
B3: 시험 1주차 : 7월 23일 ~ 27일
D4: 23 | E4: 24 | F4: 25 | G4: 26 | H4: 27 | I4: 주간성적 | M4: 모의고사 참여율 | N4: 비고
A5: 수험 번호 | B5: 수험 번호 | C5: 성별 | D5: 형소법 | E5: 국사 | F5: 영어 | G5: 경찰학 | H5: 형법 | I5: 누적 점수 | J5: 이번주 총점 | K5: 누적 총점 | L5: 등수
B6: 500 | C6: 남 | D6: 7 | E6: 6 | F6: 7 | G6: 4 | H6: 3 | I6: ='2주차'!K6 -> 51 | J6: =SUM(D6,E6,F6,G6,H6) -> 27 | K6: =SUM(I6:J6) -> 78 | L6: =RANK(J6,J$6:J$107) -> 35 | M6: =COUNTA(D6,E6,F6,G6,H6)/5 -> 1
B7: 503 | C7: 남 | D7: 15 | E7: 14 | F7: 9 | G7: 6 | H7: 5 | I7: ='2주차'!K8 -> 94 | J7: =SUM(D7,E7,F7,G7,H7) -> 49 | K7: =SUM(I7:J7) -> 143 | L7: =RANK(J7,J$6:J$107) -> 4 | M7: =COUNTA(D7,E7,F7,G7,H7)/5 -> 1
B8: 505 | C8: 여 | D8: 2 | G8: 6 | I8: ='2주차'!K10 -> 11 | J8: =SUM(D8,E8,F8,G8,H8) -> 8 | K8: =SUM(I8:J8) -> 19 | L8: =RANK(J8,J$6:J$107) -> 64 | M8: =COUNTA(D8,E8,F8,G8,H8)/5 -> 0.4
B9: 506 | C9: 남 | F9: 2 | I9: ='2주차'!K11 -> 20 | J9: =SUM(D9,E9,F9,G9,H9) -> 2 | K9: =SUM(I9:J9) -> 22 | L9: =RANK(J9,J$6:J$107) -> 72 | M9: =COUNTA(D9,E9,F9,G9,H9)/5 -> 0.2
B10: 507 | C10: 남 | E10: 8 | F10: 8 | G10: 3 | H10: 4 | I10: ='2주차'!K12 -> 65 | J10: =SUM(D10,E10,F10,G10,H10) -> 23 | K10: =SUM(I10:J10) -> 88 | L10: =RANK(J10,J$6:J$107) -> 43 | M10: =COUNTA(D10,E10,F10,G10,H10)/5 -> 0.8
B11: 508 | C11: 남 | D11: 7 | E11: 6 | G11: 6 | I11: ='2주차'!K13 -> 56 | J11: =SUM(D11,E11,F11,G11,H11) -> 19 | K11: =SUM(I11:J11) -> 75 | L11: =RANK(J11,J$6:J$107) -> 54 | M11: =COUNTA(D11,E11,F11,G11,H11)/5 -> 0.6
B12: 511 | C12: 남 | D12: 9 | E12: 4 | F12: 7 | G12: 2 | H12: 3 | I12: ='2주차'!K15 -> 69 | J12: =SUM(D12,E12,F12,G12,H12) -> 25 | K12: =SUM(I12:J12) -> 94 | L12: =RANK(J12,J$6:J$107) -> 37 | M12: =COUNTA(D12,E12,F12,G12,H12)/5 -> 1
B13: 512 | C13: 남 | E13: 7 | I13: ='2주차'!K16 -> 40 | J13: =SUM(D13,E13,F13,G13,H13) -> 7 | K13: =SUM(I13:J13) -> 47 | L13: =RANK(J13,J$6:J$107) -> 66 | M13: =COUNTA(D13,E13,F13,G13,H13)/5 -> 0.2
B14: 513 | C14: 남 | I14: ='2주차'!K17 -> 35 | J14: =SUM(D14,E14,F14,G14,H14) -> 0 | K14: =SUM(I14:J14) -> 35 | L14: =RANK(J14,J$6:J$107) -> 74 | M14: =COUNTA(D14,E14,F14,G14,H14)/5 -> 0 | N14: 1차 경고
B15: 514 | C15: 여 | D15: 9 | E15: 14 | I15: ='2주차'!K18 -> 53 | J15: =SUM(D15,E15,F15,G15,H15) -> 23 | K15: =SUM(I15:J15) -> 76 | L15: =RANK(J15,J$6:J$107) -> 43 | M15: =COUNTA(D15,E15,F15,G15,H15)/5 -> 0.4
B16: 517 | C16: 남 | D16: 13 | E16: 15 | F16: 4 | H16: 5 | I16: ='2주차'!K20 -> 65 | J16: =SUM(D16,E16,F16,G16,H16) -> 37 | K16: =SUM(I16:J16) -> 102 | L16: =RANK(J16,J$6:J$107) -> 19 | M16: =COUNTA(D16,E16,F16,G16,H16)/5 -> 0.8
B17: 518 | C17: 남 | F17: 9 | G17: 2 | I17: ='2주차'!K21 -> 36 | J17: =SUM(D17,E17,F17,G17,H17) -> 11 | K17: =SUM(I17:J17) -> 47 | L17: =RANK(J17,J$6:J$107) -> 61 | M17: =COUNTA(D17,E17,F17,G17,H17)/5 -> 0.4
B18: 519 | C18: 남 | D18: 12 | E18: 14 | F18: 8 | G18: 6 | H18: 4 | I18: ='2주차'!K22 -> 100 | J18: =SUM(D18,E18,F18,G18,H18) -> 44 | K18: =SUM(I18:J18) -> 144 | L18: =RANK(J18,J$6:J$107) -> 10 | M18: =COUNTA(D18,E18,F18,G18,H18)/5 -> 1
B19: 520 | C19: 여 | D19: 8 | E19: 4 | F19: 5 | H19: 3 | I19: ='2주차'!K23 -> 45 | J19: =SUM(D19,E19,F19,G19,H19) -> 20 | K19: =SUM(I19:J19) -> 65 | L19: =RANK(J19,J$6:J$107) -> 52 | M19: =COUNTA(D19,E19,F19,G19,H19)/5 -> 0.8
B20: 521 | C20: 여 | I20: ='2주차'!K24 -> 8 | J20: =SUM(D20,E20,F20,G20,H20) -> 0 | K20: =SUM(I20:J20) -> 8 | L20: =RANK(J20,J$6:J$107) -> 74 | M20: =COUNTA(D20,E20,F20,G20,H20)/5 -> 0 | N20: 1차 경고
B21: 524 | C21: 남 | D21: 14 | F21: 8 | G21: 9 | H21: 8 | I21: ='2주차'!K25 -> 115 | J21: =SUM(D21,E21,F21,G21,H21) -> 39 | K21: =SUM(I21:J21) -> 154 | L21: =RANK(J21,J$6:J$107) -> 15 | M21: =COUNTA(D21,E21,F21,G21,H21)/5 -> 0.8
B22: 526 | C22: 남 | D22: 8 | E22: 9 | F22: 4 | G22: 5 | H22: 6 | I22: ='2주차'!K27 -> 76 | J22: =SUM(D22,E22,F22,G22,H22) -> 32 | K22: =SUM(I22:J22) -> 108 | L22: =RANK(J22,J$6:J$107) -> 27 | M22: =COUNTA(D22,E22,F22,G22,H22)/5 -> 1
B23: 527 | C23: 남 | I23: ='2주차'!K28 -> 16 | J23: =SUM(D23,E23,F23,G23,H23) -> 0 | K23: =SUM(I23:J23) -> 16 | L23: =RANK(J23,J$6:J$107) -> 74 | M23: =COUNTA(D23,E23,F23,G23,H23)/5 -> 0 | N23: 1차 경고
B24: 528 | C24: 남 | D24: 12 | E24: 13 | F24: 8 | G24: 2 | H24: 6 | I24: ='2주차'!K29 -> 98 | J24: =SUM(D24,E24,F24,G24,H24) -> 41 | K24: =SUM(I24:J24) -> 139 | L24: =RANK(J24,J$6:J$107) -> 12 | M24: =COUNTA(D24,E24,F24,G24,H24)/5 -> 1
B25: 529 | C25: 남 | D25: 9 | E25: 12 | F25: 7 | G25: 7 | H25: 5 | I25: ='2주차'!K30 -> 106 | J25: =SUM(D25,E25,F25,G25,H25) -> 40 | K25: =SUM(I25:J25) -> 146 | L25: =RANK(J25,J$6:J$107) -> 13 | M25: =COUNTA(D25,E25,F25,G25,H25)/5 -> 1
B26: 530 | C26: 남 | D26: 5 | E26: 6 | F26: 6 | G26: 1 | H26: 4 | I26: ='2주차'!K31 -> 54 | J26: =SUM(D26,E26,F26,G26,H26) -> 22 | K26: =SUM(I26:J26) -> 76 | L26: =RANK(J26,J$6:J$107) -> 46 | M26: =COUNTA(D26,E26,F26,G26,H26)/5 -> 1
B27: 532 | C27: 남 | D27: 9 | E27: 6 | F27: 7 | G27: 6 | H27: 3 | I27: ='2주차'!K33 -> 84 | J27: =SUM(D27,E27,F27,G27,H27) -> 31 | K27: =SUM(I27:J27) -> 115 | L27: =RANK(J27,J$6:J$107) -> 30 | M27: =COUNTA(D27,E27,F27,G27,H27)/5 -> 1
B28: 535 | C28: 남 | D28: 7 | E28: 9 | F28: 5 | H28: 3 | I28: ='2주차'!K36 -> 54 | J28: =SUM(D28,E28,F28,G28,H28) -> 24 | K28: =SUM(I28:J28) -> 78 | L28: =RANK(J28,J$6:J$107) -> 41 | M28: =COUNTA(D28,E28,F28,G28,H28)/5 -> 0.8
B29: 537 | C29: 남 | D29: 11 | F29: 6 | G29: 4 | I29: ='2주차'!K38 -> 63 | J29: =SUM(D29,E29,F29,G29,H29) -> 21 | K29: =SUM(I29:J29) -> 84 | L29: =RANK(J29,J$6:J$107) -> 48 | M29: =COUNTA(D29,E29,F29,G29,H29)/5 -> 0.6
B30: 538 | C30: 남 | D30: 10 | E30: 15 | F30: 8 | G30: 3 | H30: 2 | I30: ='2주차'!K39 -> 78 | J30: =SUM(D30,E30,F30,G30,H30) -> 38 | K30: =SUM(I30:J30) -> 116 | L30: =RANK(J30,J$6:J$107) -> 17 | M30: =COUNTA(D30,E30,F30,G30,H30)/5 -> 1
B31: 539 | C31: 남 | D31: 10 | E31: 10 | F31: 6 | G31: 6 | H31: 5 | I31: ='2주차'!K40 -> 78 | J31: =SUM(D31,E31,F31,G31,H31) -> 37 | K31: =SUM(I31:J31) -> 115 | L31: =RANK(J31,J$6:J$107) -> 19 | M31: =COUNTA(D31,E31,F31,G31,H31)/5 -> 1
B32: 540 | C32: 남 | E32: 7 | F32: 5 | G32: 4 | H32: 3 | I32: ='2주차'!K41 -> 67 | J32: =SUM(D32,E32,F32,G32,H32) -> 19 | K32: =SUM(I32:J32) -> 86 | L32: =RANK(J32,J$6:J$107) -> 54 | M32: =COUNTA(D32,E32,F32,G32,H32)/5 -> 0.8
B33: 541 | C33: 남 | I33: ='2주차'!K42 -> 10 | J33: =SUM(D33,E33,F33,G33,H33) -> 0 | K33: =SUM(I33:J33) -> 10 | L33: =RANK(J33,J$6:J$107) -> 74 | M33: =COUNTA(D33,E33,F33,G33,H33)/5 -> 0 | N33: 1차 경고
B34: 542 | C34: 남 | D34: 8 | E34: 10 | G34: 3 | H34: 6 | I34: ='2주차'!K43 -> 51 | J34: =SUM(D34,E34,F34,G34,H34) -> 27 | K34: =SUM(I34:J34) -> 78 | L34: =RANK(J34,J$6:J$107) -> 35 | M34: =COUNTA(D34,E34,F34,G34,H34)/5 -> 0.8
B35: 543 | C35: 남 | D35: 7 | I35: ='2주차'!K44 -> 6 | J35: =SUM(D35,E35,F35,G35,H35) -> 7 | K35: =SUM(I35:J35) -> 13 | L35: =RANK(J35,J$6:J$107) -> 66 | M35: =COUNTA(D35,E35,F35,G35,H35)/5 -> 0.2
B36: 544 | C36: 남 | I36: ='2주차'!K45 -> 4 | J36: =SUM(D36,E36,F36,G36,H36) -> 0 | K36: =SUM(I36:J36) -> 4 | L36: =RANK(J36,J$6:J$107) -> 74 | M36: =COUNTA(D36,E36,F36,G36,H36)/5 -> 0 | N36: 1차 경고
B37: 545 | C37: 남 | D37: 9 | E37: 13 | F37: 6 | G37: 3 | H37: 6 | I37: ='2주차'!K46 -> 77 | J37: =SUM(D37,E37,F37,G37,H37) -> 37 | K37: =SUM(I37:J37) -> 114 | L37: =RANK(J37,J$6:J$107) -> 19 | M37: =COUNTA(D37,E37,F37,G37,H37)/5 -> 1
B38: 546 | C38: 남 | D38: 14 | E38: 11 | F38: 7 | G38: 8 | H38: 5 | I38: ='2주차'!K47 -> 102 | J38: =SUM(D38,E38,F38,G38,H38) -> 45 | K38: =SUM(I38:J38) -> 147 | L38: =RANK(J38,J$6:J$107) -> 8 | M38: =COUNTA(D38,E38,F38,G38,H38)/5 -> 1
B39: 548 | C39: 남 | E39: 14 | G39: 10 | I39: ='2주차'!K48 -> 97 | J39: =SUM(D39,E39,F39,G39,H39) -> 24 | K39: =SUM(I39:J39) -> 121 | L39: =RANK(J39,J$6:J$107) -> 41 | M39: =COUNTA(D39,E39,F39,G39,H39)/5 -> 0.4
B40: 549 | C40: 남 | D40: 14 | E40: 15 | F40: 9 | G40: 14 | H40: 9 | I40: ='2주차'!K49 -> 129 | J40: =SUM(D40,E40,F40,G40,H40) -> 61 | K40: =SUM(I40:J40) -> 190 | L40: =RANK(J40,J$6:J$107) -> 1 | M40: =COUNTA(D40,E40,F40,G40,H40)/5 -> 1
B41: 550 | C41: 남 | D41: 8 | E41: 7 | F41: 8 | G41: 3 | H41: 4 | I41: ='2주차'!K50 -> 46 | J41: =SUM(D41,E41,F41,G41,H41) -> 30 | K41: =SUM(I41:J41) -> 76 | L41: =RANK(J41,J$6:J$107) -> 32 | M41: =COUNTA(D41,E41,F41,G41,H41)/5 -> 1
...

Sheet Sheet2
