Workbook

Sheet 1주차
B2: 7~8월 아침 모의고사 성적현황
B3: 시험 1주차 : 7월 9일 ~ 13일
D4: 9 | E4: 10 | F4: 11 | G4: 12 | H4: 13 | I4: 주간성적 | K4: 모의고사 참여율 | L4: 비고
A5: 수험 번호 | B5: 수험 번호 | C5: 성별 | D5: 형소법 | E5: 국사 | F5: 영어 | G5: 경찰학 | H5: 형법 | I5: 전체 총점 | J5: 등수
B6: 500 | C6: 남 | D6: 7 | E6: 8 | F6: 6 | G6: 7 | H6: 3 | I6: =SUM(D6,E6,F6,G6,H6) -> 31 | J6: =RANK(I6,I$6:I$117) -> 46 | K6: =COUNTA(D6,E6,F6,G6,H6)/5 -> 1
B7: 501 | C7: 남 | I7: =SUM(D7,E7,F7,G7,H7) -> 0 | J7: =RANK(I7,I$6:I$117) -> 86 | K7: =COUNTA(D7,E7,F7,G7,H7)/5 -> 0 | L7: 1차 경고
B8: 503 | C8: 남 | D8: 12 | E8: 15 | H8: 8 | I8: =SUM(D8,E8,F8,G8,H8) -> 35 | J8: =RANK(I8,I$6:I$117) -> 38 | K8: =COUNTA(D8,E8,F8,G8,H8)/5 -> 0.6
B9: 504 | C9: 남 | I9: =SUM(D9,E9,F9,G9,H9) -> 0 | J9: =RANK(I9,I$6:I$117) -> 86 | K9: =COUNTA(D9,E9,F9,G9,H9)/5 -> 0 | L9: 1차 경고
B10: 505 | C10: 여 | I10: =SUM(D10,E10,F10,G10,H10) -> 0 | J10: =RANK(I10,I$6:I$117) -> 86 | K10: =COUNTA(D10,E10,F10,G10,H10)/5 -> 0 | L10: 1차 경고
B11: 506 | C11: 남 | D11: 5 | E11: 6 | G11: 3 | I11: =SUM(D11,E11,F11,G11,H11) -> 14 | J11: =RANK(I11,I$6:I$117) -> 72 | K11: =COUNTA(D11,E11,F11,G11,H11)/5 -> 0.6
B12: 507 | C12: 남 | D12: 8 | E12: 8 | F12: 6 | G12: 5 | H12: 3 | I12: =SUM(D12,E12,F12,G12,H12) -> 30 | J12: =RANK(I12,I$6:I$117) -> 50 | K12: =COUNTA(D12,E12,F12,G12,H12)/5 -> 1
B13: 508 | C13: 남 | D13: 4 | E13: 5 | F13: 5 | G13: 7 | H13: 4 | I13: =SUM(D13,E13,F13,G13,H13) -> 25 | J13: =RANK(I13,I$6:I$117) -> 54 | K13: =COUNTA(D13,E13,F13,G13,H13)/5 -> 1
B14: 509 | C14: 남 | I14: =SUM(D14,E14,F14,G14,H14) -> 0 | J14: =RANK(I14,I$6:I$117) -> 86 | K14: =COUNTA(D14,E14,F14,G14,H14)/5 -> 0 | L14: 1차 경고
B15: 511 | C15: 남 | D15: 9 | E15: 13 | F15: 5 | G15: 7 | H15: 4 | I15: =SUM(D15,E15,F15,G15,H15) -> 38 | J15: =RANK(I15,I$6:I$117) -> 29 | K15: =COUNTA(D15,E15,F15,G15,H15)/5 -> 1
B16: 512 | C16: 남 | D16: 5 | E16: 8 | G16: 7 | I16: =SUM(D16,E16,F16,G16,H16) -> 20 | J16: =RANK(I16,I$6:I$117) -> 63 | K16: =COUNTA(D16,E16,F16,G16,H16)/5 -> 0.6
B17: 513 | C17: 남 | D17: 10 | G17: 5 | I17: =SUM(D17,E17,F17,G17,H17) -> 15 | J17: =RANK(I17,I$6:I$117) -> 70 | K17: =COUNTA(D17,E17,F17,G17,H17)/5 -> 0.4
B18: 514 | C18: 여 | D18: 9 | E18: 10 | F18: 8 | G18: 9 | I18: =SUM(D18,E18,F18,G18,H18) -> 36 | J18: =RANK(I18,I$6:I$117) -> 36 | K18: =COUNTA(D18,E18,F18,G18,H18)/5 -> 0.8
B19: 516 | C19: 남 | I19: =SUM(D19,E19,F19,G19,H19) -> 0 | J19: =RANK(I19,I$6:I$117) -> 86 | K19: =COUNTA(D19,E19,F19,G19,H19)/5 -> 0 | L19: 1차 경고
B20: 517 | C20: 남 | D20: 11 | E20: 13 | F20: 3 | H20: 4 | I20: =SUM(D20,E20,F20,G20,H20) -> 31 | J20: =RANK(I20,I$6:I$117) -> 46 | K20: =COUNTA(D20,E20,F20,G20,H20)/5 -> 0.8
B21: 518 | C21: 남 | D21: 8 | E21: 11 | G21: 3 | I21: =SUM(D21,E21,F21,G21,H21) -> 22 | J21: =RANK(I21,I$6:I$117) -> 59 | K21: =COUNTA(D21,E21,F21,G21,H21)/5 -> 0.6
B22: 519 | C22: 남 | D22: 11 | E22: 13 | F22: 9 | G22: 8 | H22: 7 | I22: =SUM(D22,E22,F22,G22,H22) -> 48 | J22: =RANK(I22,I$6:I$117) -> 17 | K22: =COUNTA(D22,E22,F22,G22,H22)/5 -> 1
B23: 520 | C23: 여 | D23: 11 | E23: 10 | G23: 7 | I23: =SUM(D23,E23,F23,G23,H23) -> 28 | J23: =RANK(I23,I$6:I$117) -> 53 | K23: =COUNTA(D23,E23,F23,G23,H23)/5 -> 0.6
B24: 521 | C24: 여 | E24: 8 | I24: =SUM(D24,E24,F24,G24,H24) -> 8 | J24: =RANK(I24,I$6:I$117) -> 81 | K24: =COUNTA(D24,E24,F24,G24,H24)/5 -> 0.2
B25: 524 | C25: 남 | D25: 13 | E25: 15 | F25: 9 | G25: 12 | H25: 9 | I25: =SUM(D25,E25,F25,G25,H25) -> 58 | J25: =RANK(I25,I$6:I$117) -> 4 | K25: =COUNTA(D25,E25,F25,G25,H25)/5 -> 1
B26: 525 | C26: 남 | I26: =SUM(D26,E26,F26,G26,H26) -> 0 | J26: =RANK(I26,I$6:I$117) -> 86 | K26: =COUNTA(D26,E26,F26,G26,H26)/5 -> 0 | L26: 1차 경고
B27: 526 | C27: 남 | D27: 11 | E27: 12 | F27: 4 | G27: 6 | H27: 6 | I27: =SUM(D27,E27,F27,G27,H27) -> 39 | J27: =RANK(I27,I$6:I$117) -> 28 | K27: =COUNTA(D27,E27,F27,G27,H27)/5 -> 1
B28: 527 | C28: 남 | D28: 11 | H28: 5 | I28: =SUM(D28,E28,F28,G28,H28) -> 16 | J28: =RANK(I28,I$6:I$117) -> 66 | K28: =COUNTA(D28,E28,F28,G28,H28)/5 -> 0.4
B29: 528 | C29: 남 | D29: 14 | E29: 11 | F29: 8 | G29: 11 | H29: 5 | I29: =SUM(D29,E29,F29,G29,H29) -> 49 | J29: =RANK(I29,I$6:I$117) -> 15 | K29: =COUNTA(D29,E29,F29,G29,H29)/5 -> 1
B30: 529 | C30: 남 | D30: 12 | E30: 15 | F30: 8 | G30: 13 | H30: 7 | I30: =SUM(D30,E30,F30,G30,H30) -> 55 | J30: =RANK(I30,I$6:I$117) -> 9 | K30: =COUNTA(D30,E30,F30,G30,H30)/5 -> 1
B31: 530 | C31: 남 | D31: 6 | E31: 9 | G31: 6 | H31: 4 | I31: =SUM(D31,E31,F31,G31,H31) -> 25 | J31: =RANK(I31,I$6:I$117) -> 54 | K31: =COUNTA(D31,E31,F31,G31,H31)/5 -> 0.8
B32: 531 | C32: 여 | I32: =SUM(D32,E32,F32,G32,H32) -> 0 | J32: =RANK(I32,I$6:I$117) -> 86 | K32: =COUNTA(D32,E32,F32,G32,H32)/5 -> 0 | L32: 1차 경고
B33: 532 | C33: 남 | D33: 12 | E33: 9 | F33: 5 | G33: 10 | H33: 5 | I33: =SUM(D33,E33,F33,G33,H33) -> 41 | J33: =RANK(I33,I$6:I$117) -> 23 | K33: =COUNTA(D33,E33,F33,G33,H33)/5 -> 1
B34: 533 | C34: 남 | I34: =SUM(D34,E34,F34,G34,H34) -> 0 | J34: =RANK(I34,I$6:I$117) -> 86 | K34: =COUNTA(D34,E34,F34,G34,H34)/5 -> 0 | L34: 1차 경고
B35: 534 | C35: 남 | I35: =SUM(D35,E35,F35,G35,H35) -> 0 | J35: =RANK(I35,I$6:I$117) -> 86 | K35: =COUNTA(D35,E35,F35,G35,H35)/5 -> 0 | L35: 1차 경고
B36: 535 | C36: 남 | D36: 3 | E36: 11 | F36: 6 | G36: 6 | H36: 5 | I36: =SUM(D36,E36,F36,G36,H36) -> 31 | J36: =RANK(I36,I$6:I$117) -> 46 | K36: =COUNTA(D36,E36,F36,G36,H36)/5 -> 1
B37: 536 | C37: 여 | I37: =SUM(D37,E37,F37,G37,H37) -> 0 | J37: =RANK(I37,I$6:I$117) -> 86 | K37: =COUNTA(D37,E37,F37,G37,H37)/5 -> 0 | L37: 1차 경고
B38: 537 | C38: 남 | D38: 9 | E38: 7 | F38: 5 | G38: 6 | H38: 5 | I38: =SUM(D38,E38,F38,G38,H38) -> 32 | J38: =RANK(I38,I$6:I$117) -> 44 | K38: =COUNTA(D38,E38,F38,G38,H38)/5 -> 1
B39: 538 | C39: 남 | D39: 10 | E39: 14 | F39: 3 | G39: 6 | H39: 4 | I39: =SUM(D39,E39,F39,G39,H39) -> 37 | J39: =RANK(I39,I$6:I$117) -> 34 | K39: =COUNTA(D39,E39,F39,G39,H39)/5 -> 1
B40: 539 | C40: 남 | D40: 10 | E40: 9 | F40: 7 | G40: 9 | H40: 5 | I40: =SUM(D40,E40,F40,G40,H40) -> 40 | J40: =RANK(I40,I$6:I$117) -> 27 | K40: =COUNTA(D40,E40,F40,G40,H40)/5 -> 1
B41: 540 | C41: 남 | D41: 8 | E41: 11 | G41: 8 | H41: 3 | I41: =SUM(D41,E41,F41,G41,H41) -> 30 | J41: =RANK(I41,I$6:I$117) -> 50 | K41: =COUNTA(D41,E41,F41,G41,H41)/5 -> 0.8
B42: 541 | C42: 남 | D42: 10 | I42: =SUM(D42,E42,F42,G42,H42) -> 10 | J42: =RANK(I42,I$6:I$117) -> 76 | K42: =COUNTA(D42,E42,F42,G42,H42)/5 -> 0.2
B43: 542 | C43: 남 | D43: 11 | E43: 8 | F43: 7 | G43: 7 | H43: 5 | I43: =SUM(D43,E43,F43,G43,H43) -> 38 | J43: =RANK(I43,I$6:I$117) -> 29 | K43: =COUNTA(D43,E43,F43,G43,H43)/5 -> 1
B44: 543 | C44: 남 | I44: =SUM(D44,E44,F44,G44,H44) -> 0 | J44: =RANK(I44,I$6:I$117) -> 86 | K44: =COUNTA(D44,E44,F44,G44,H44)/5 -> 0 | L44: 1차 경고
B45: 544 | C45: 남 | D45: 4 | I45: =SUM(D45,E45,F45,G45,H45) -> 4 | J45: =RANK(I45,I$6:I$117) -> 84 | K45: =COUNTA(D45,E45,F45,G45,H45)/5 -> 0.2
B46: 545 | C46: 남 | D46: 7 | E46: 11 | F46: 5 | G46: 8 | H46: 5 | I46: =SUM(D46,E46,F46,G46,H46) -> 36 | J46: =RANK(I46,I$6:I$117) -> 36 | K46: =COUNTA(D46,E46,F46,G46,H46)/5 -> 1
B47: 546 | C47: 남 | D47: 14 | E47: 15 | F47: 8 | G47: 12 | H47: 8 | I47: =SUM(D47,E47,F47,G47,H47) -> 57 | J47: =RANK(I47,I$6:I$117) -> 6 | K47: =COUNTA(D47,E47,F47,G47,H47)/5 -> 1
B48: 548 | C48: 남 | D48: 15 | E48: 13 | G48: 14 | H48: 9 | I48: =SUM(D48,E48,F48,G48,H48) -> 51 | J48: =RANK(I48,I$6:I$117) -> 12 | K48: =COUNTA(D48,E48,F48,G48,H48)/5 -> 0.8
B49: 549 | C49: 남 | D49: 15 | E49: 15 | F49: 15 | G49: 15 | H49: 9 | I49: =SUM(D49,E49,F49,G49,H49) -> 69 | J49: =RANK(I49,I$6:I$117) -> 1 | K49: =COUNTA(D49,E49,F49,G49,H49)/5 -> 1
B50: 550 | C50: 남 | D50: 10 | I50: =SUM(D50,E50,F50,G50,H50) -> 10 | J50: =RANK(I50,I$6:I$117) -> 76 | K50: =COUNTA(D50,E50,F50,G50,H50)/5 -> 0.2
B51: 551 | C51: 남 | I51: =SUM(D51,E51,F51,G51,H51) -> 0 | J51: =RANK(I51,I$6:I$117) -> 86 | K51: =COUNTA(D51,E51,F51,G51,H51)/5 -> 0
B52: 552 | C52: 남 | D52: 8 | E52: 14 | F52: 8 | G52: 2 | H52: 6 | I52: =SUM(D52,E52,F52,G52,H52) -> 38 | J52: =RANK(I52,I$6:I$117) -> 29 | K52: =COUNTA(D52,E52,F52,G52,H52)/5 -> 1
B53: 553 | C53: 남 | I53: =SUM(D53,E53,F53,G53,H53) -> 0 | J53: =RANK(I53,I$6:I$117) -> 86 | K53: =COUNTA(D53,E53,F53,G53,H53)/5 -> 0
B54: 554 | C54: 남 | I54: =SUM(D54,E54,F54,G54,H54) -> 0 | J54: =RANK(I54,I$6:I$117) -> 86 | K54: =COUNTA(D54,E54,F54,G54,H54)/5 -> 0
B55: 555 | C55: 남 | I55: =SUM(D55,E55,F55,G55,H55) -> 0 | J55: =RANK(I55,I$6:I$117) -> 86 | K55: =COUNTA(D55,E55,F55,G55,H55)/5 -> 0
B56: 556 | C56: 여 | E56: 10 | G56: 9 | H56: 6 | I56: =SUM(D56,E56,F56,G56,H56) -> 25 | J56: =RANK(I56,I$6:I$117) -> 54 | K56: =COUNTA(D56,E56,F56,G56,H56)/5 -> 0.6
B57: 557 | C57: 여 | E57: 7 | G57: 6 | H57: 4 | I57: =SUM(D57,E57,F57,G57,H57) -> 17 | J57: =RANK(I57,I$6:I$117) -> 65 | K57: =COUNTA(D57,E57,F57,G57,H57)/5 -> 0.6
B58: 558 | C58: 남 | I58: =SUM(D58,E58,F58,G58,H58) -> 0 | J58: =RANK(I58,I$6:I$117) -> 86 | K58: =COUNTA(D58,E58,F58,G58,H58)/5 -> 0
B59: 559 | C59: 남 | I59: =SUM(D59,E59,F59,G59,H59) -> 0 | J59: =RANK(I59,I$6:I$117) -> 86 | K59: =COUNTA(D59,E59,F59,G59,H59)/5 -> 0
B60: 560 | C60: 남 | I60: =SUM(D60,E60,F60,G60,H60) -> 0 | J60: =RANK(I60,I$6:I$117) -> 86 | K60: =COUNTA(D60,E60,F60,G60,H60)/5 -> 0
B61: 561 | C61: 남 | D61: 6 | E61: 9 | G61: 5 | H61: 2 | I61: =SUM(D61,E61,F61,G61,H61) -> 22 | J61: =RANK(I61,I$6:I$117) -> 59 | K61: =COUNTA(D61,E61,F61,G61,H61)/5 -> 0.8
B62: 562 | C62: 남 | E62: 8 | G62: 6 | H62: 2 | I62: =SUM(D62,E62,F62,G62,H62) -> 16 | J62: =RANK(I62,I$6:I$117) -> 66 | K62: =COUNTA(D62,E62,F62,G62,H62)/5 -> 0.6
B63: 563 | C63: 남 | I63: =SUM(D63,E63,F63,G63,H63) -> 0 | J63: =RANK(I63,I$6:I$117) -> 86 | K63: =COUNTA(D63,E63,F63,G63,H63)/5 -> 0
B64: 564 | C64: 여 | I64: =SUM(D64,E64,F64,G64,H64) -> 0 | J64: =RANK(I64,I$6:I$117) -> 86 | K64: =COUNTA(D64,E64,F64,G64,H64)/5 -> 0
B65: 565 | C65: 여 | I65: =SUM(D65,E65,F65,G65,H65) -> 0 | J65: =RANK(I65,I$6:I$117) -> 86 | K65: =COUNTA(D65,E65,F65,G65,H65)/5 -> 0
B66: 566 | C66: 남 | I66: =SUM(D66,E66,F66,G66,H66) -> 0 | J66: =RANK(I66,I$6:I$117) -> 86 | K66: =COUNTA(D66,E66,F66,G66,H66)/5 -> 0
B67: 567 | C67: 남 | D67: 12 | E67: 12 | F67: 7 | G67: 9 | H67: 9 | I67: =SUM(D67,E67,F67,G67,H67) -> 49 | J67: =RANK(I67,I$6:I$117) -> 15 | K67: =COUNTA(D67,E67,F67,G67,H67)/5 -> 1
B68: 601 | C68: 남 | D68: 11 | E68: 14 | F68: 8 | G68: 13 | H68: 4 | I68: =SUM(D68,E68,F68,G68,H68) -> 50 | J68: =RANK(I68,I$6:I$117) -> 14 | K68: =COUNTA(D68,E68,F68,G68,H68)/5 -> 1
B69: 602 | C69: 남 | D69: 7 | E69: 13 | F69: 4 | G69: 7 | H69: 7 | I69: =SUM(D69,E69,F69,G69,H69) -> 38 | J69: =RANK(I69,I$6:I$117) -> 29 | K69: =COUNTA(D69,E69,F69,G69,H69)/5 -> 1
B70: 603 | C70: 남 | D70: 9 | E70: 11 | F70: 9 | G70: 12 | H70: 7 | I70: =SUM(D70,E70,F70,G70,H70) -> 48 | J70: =RANK(I70,I$6:I$117) -> 17 | K70: =COUNTA(D70,E70,F70,G70,H70)/5 -> 1
B71: 604 | C71: 남 | D71: 14 | E71: 15 | F71: 13 | G71: 8 | H71: 7 | I71: =SUM(D71,E71,F71,G71,H71) -> 57 | J71: =RANK(I71,I$6:I$117) -> 6 | K71: =COUNTA(D71,E71,F71,G71,H71)/5 -> 1
B72: 605 | C72: 남 | D72: 10 | E72: 11 | F72: 3 | G72: 3 | H72: 4 | I72: =SUM(D72,E72,F72,G72,H72) -> 31 | J72: =RANK(I72,I$6:I$117) -> 46 | K72: =COUNTA(D72,E72,F72,G72,H72)/5 -> 1
B73: 606 | C73: 남 | D73: 9 | E73: 13 | G73: 8 | H73: 4 | I73: =SUM(D73,E73,F73,G73,H73) -> 34 | J73: =RANK(I73,I$6:I$117) -> 40 | K73: =COUNTA(D73,E73,F73,G73,H73)/5 -> 0.8
B74: 607 | C74: 여 | D74: 14 | E74: 15 | F74: 11 | G74: 12 | H74: 7 | I74: =SUM(D74,E74,F74,G74,H74) -> 59 | J74: =RANK(I74,I$6:I$117) -> 3 | K74: =COUNTA(D74,E74,F74,G74,H74)/5 -> 1
B75: 608 | C75: 여 | D75: 5 | E75: 11 | I75: =SUM(D75,E75,F75,G75,H75) -> 16 | J75: =RANK(I75,I$6:I$117) -> 66 | K75: =COUNTA(D75,E75,F75,G75,H75)/5 -> 0.4
B76: 609 | C76: 남 | D76: 10 | E76: 13 | F76: 8 | G76: 5 | H76: 5 | I76: =SUM(D76,E76,F76,G76,H76) -> 41 | J76: =RANK(I76,I$6:I$117) -> 23 | K76: =COUNTA(D76,E76,F76,G76,H76)/5 -> 1
B77: 610 | C77: 남 | D77: 12 | E77: 14 | F77: 11 | G77: 13 | H77: 8 | I77: =SUM(D77,E77,F77,G77,H77) -> 58 | J77: =RANK(I77,I$6:I$117) -> 4 | K77: =COUNTA(D77,E77,F77,G77,H77)/5 -> 1
B78: 612 | C78: 남 | D78: 8 | E78: 6 | F78: 4 | G78: 8 | H78: 4 | I78: =SUM(D78,E78,F78,G78,H78) -> 30 | J78: =RANK(I78,I$6:I$117) -> 50 | K78: =COUNTA(D78,E78,F78,G78,H78)/5 -> 1
B79: 613 | C79: 남 | D79: 4 | E79: 10 | G79: 6 | H79: 1 | I79: =SUM(D79,E79,F79,G79,H79) -> 21 | J79: =RANK(I79,I$6:I$117) -> 61 | K79: =COUNTA(D79,E79,F79,G79,H79)/5 -> 0.8
B80: 614 | C80: 여 | D80: 7 | H80: 8 | I80: =SUM(D80,E80,F80,G80,H80) -> 15 | J80: =RANK(I80,I$6:I$117) -> 70 | K80: =COUNTA(D80,E80,F80,G80,H80)/5 -> 0.4
B81: 617 | C81: 여 | D81: 13 | E81: 12 | F81: 12 | G81: 10 | H81: 5 | I81: =SUM(D81,E81,F81,G81,H81) -> 52 | J81: =RANK(I81,I$6:I$117) -> 10 | K81: =COUNTA(D81,E81,F81,G81,H81)/5 -> 1
B82: 618 | C82: 여 | I82: =SUM(D82,E82,F82,G82,H82) -> 0 | J82: =RANK(I82,I$6:I$117) -> 86 | K82: =COUNTA(D82,E82,F82,G82,H82)/5 -> 0 | L82: 1차 경고
B83: 619 | C83: 남 | D83: 9 | E83: 6 | G83: 6 | I83: =SUM(D83,E83,F83,G83,H83) -> 21 | J83: =RANK(I83,I$6:I$117) -> 61 | K83: =COUNTA(D83,E83,F83,G83,H83)/5 -> 0.6
B84: 620 | C84: 남 | D84: 11 | E84: 11 | F84: 3 | G84: 5 | H84: 3 | I84: =SUM(D84,E84,F84,G84,H84) -> 33 | J84: =RANK(I84,I$6:I$117) -> 42 | K84: =COUNTA(D84,E84,F84,G84,H84)/5 -> 1
B85: 621 | C85: 여 | D85: 10 | E85: 6 | F85: 5 | G85: 9 | H85: 3 | I85: =SUM(D85,E85,F85,G85,H85) -> 33 | J85: =RANK(I85,I$6:I$117) -> 42 | K85: =COUNTA(D85,E85,F85,G85,H85)/5 -> 1
B86: 622 | C86: 여 | E86: 14 | I86: =SUM(D86,E86,F86,G86,H86) -> 14 | J86: =RANK(I86,I$6:I$117) -> 72 | K86: =COUNTA(D86,E86,F86,G86,H86)/5 -> 0.2
B87: 623 | C87: 여 | D87: 10 | E87: 9 | F87: 7 | G87: 5 | H87: 4 | I87: =SUM(D87,E87,F87,G87,H87) -> 35 | J87: =RANK(I87,I$6:I$117) -> 38 | K87: =COUNTA(D87,E87,F87,G87,H87)/5 -> 1
B88: 624 | C88: 여 | D88: 10 | E88: 10 | F88: 4 | G88: 9 | H88: 4 | I88: =SUM(D88,E88,F88,G88,H88) -> 37 | J88: =RANK(I88,I$6:I$117) -> 34 | K88: =COUNTA(D88,E88,F88,G88,H88)/5 -> 1
B89: 625 | C89: 남 | D89: 11 | E89: 8 | F89: 4 | G89: 11 | I89: =SUM(D89,E89,F89,G89,H89) -> 34 | J89: =RANK(I89,I$6:I$117) -> 40 | K89: =COUNTA(D89,E89,F89,G89,H89)/5 -> 0.8
B90: 626 | C90: 남 | D90: 9 | E90: 12 | F90: 3 | G90: 8 | H90: 9 | I90: =SUM(D90,E90,F90,G90,H90) -> 41 | J90: =RANK(I90,I$6:I$117) -> 23 | K90: =COUNTA(D90,E90,F90,G90,H90)/5 -> 1
B91: 627 | C91: 남 | D91: 7 | I91: =SUM(D91,E91,F91,G91,H91) -> 7 | J91: =RANK(I91,I$6:I$117) -> 82 | K91: =COUNTA(D91,E91,F91,G91,H91)/5 -> 0.2
B92: 628 | C92: 여 | H92: 4 | I92: =SUM(D92,E92,F92,G92,H92) -> 4 | J92: =RANK(I92,I$6:I$117) -> 84 | K92: =COUNTA(D92,E92,F92,G92,H92)/5 -> 0.2
B93: 629 | C93: 남 | E93: 14 | F93: 11 | G93: 8 | H93: 8 | I93: =SUM(D93,E93,F93,G93,H93) -> 41 | J93: =RANK(I93,I$6:I$117) -> 23 | K93: =COUNTA(D93,E93,F93,G93,H93)/5 -> 0.8
B94: 630 | C94: 남 | D94: 12 | E94: 14 | G94: 9 | H94: 8 | I94: =SUM(D94,E94,F94,G94,H94) -> 43 | J94: =RANK(I94,I$6:I$117) -> 20 | K94: =COUNTA(D94,E94,F94,G94,H94)/5 -> 0.8
B95: 631 | C95: 남 | D95: 10 | E95: 14 | F95: 7 | G95: 5 | H95: 7 | I95: =SUM(D95,E95,F95,G95,H95) -> 43 | J95: =RANK(I95,I$6:I$117) -> 20 | K95: =COUNTA(D95,E95,F95,G95,H95)/5 -> 1
B96: 632 | C96: 여 | D96: 14 | E96: 15 | F96: 13 | G96: 14 | H96: 10 | I96: =SUM(D96,E96,F96,G96,H96) -> 66 | J96: =RANK(I96,I$6:I$117) -> 2 | K96: =COUNTA(D96,E96,F96,G96,H96)/5 -> 1
B97: 633 | C97: 남 | D97: 5 | I97: =SUM(D97,E97,F97,G97,H97) -> 5 | J97: =RANK(I97,I$6:I$117) -> 83 | K97: =COUNTA(D97,E97,F97,G97,H97)/5 -> 0.2
B98: 634 | C98: 남 | D98: 5 | E98: 6 | I98: =SUM(D98,E98,F98,G98,H98) -> 11 | J98: =RANK(I98,I$6:I$117) -> 75 | K98: =COUNTA(D98,E98,F98,G98,H98)/5 -> 0.4
B99: 635 | C99: 남 | D99: 12 | E99: 14 | F99: 7 | G99: 10 | I99: =SUM(D99,E99,F99,G99,H99) -> 43 | J99: =RANK(I99,I$6:I$117) -> 20 | K99: =COUNTA(D99,E99,F99,G99,H99)/5 -> 0.8
B100: 636 | C100: 여 | I100: =SUM(D100,E100,F100,G100,H100) -> 0 | J100: =RANK(I100,I$6:I$117) -> 86 | K100: =COUNTA(D100,E100,F100,G100,H100)/5 -> 0 | L100: 1차 경고
B101: 637 | C101: 여 | D101: 3 | G101: 5 | H101: 2 | I101: =SUM(D101,E101,F101,G101,H101) -> 10 | J101: =RANK(I101,I$6:I$117) -> 76 | K101: =COUNTA(D101,E101,F101,G101,H101)/5 -> 0.6
...

Sheet 2주차
B2: 7~8월 아침 모의고사 성적현황
B3: 시험 1주차 : 7월 16일 ~ 20일
D4: 16 | E4: 17 | F4: 18 | G4: 19 | H4: 20 | I4: 주간성적 | M4: 모의고사 참여율 | N4: 비고
A5: 수험 번호 | B5: 수험 번호 | C5: 성별 | D5: 형소법 | E5: 국사 | F5: 영어 | G5: 경찰학 | H5: 형법 | I5: 누적 점수 | J5: 이번주 총점 | K5: 누적 총점 | L5: 등수
B6: 500 | C6: 남 | D6: 9 | F6: 5 | G6: 3 | H6: 3 | I6: ='1주차'!I6 -> 31 | J6: =SUM(D6,E6,F6,G6,H6) -> 20 | K6: =SUM(I6:J6) -> 51 | L6: =RANK(J6,J$6:J$117) -> 53 | M6: =COUNTA(D6,E6,F6,G6,H6)/5 -> 0.8
B7: 501 | C7: 남 | I7: ='1주차'!I7 -> 0 | J7: =SUM(D7,E7,F7,G7,H7) -> 0 | K7: =SUM(I7:J7) -> 0 | L7: =RANK(J7,J$6:J$117) -> 87 | M7: =COUNTA(D7,E7,F7,G7,H7)/5 -> 0 | N7: 1차 경고
B8: 503 | C8: 남 | D8: 13 | E8: 13 | F8: 12 | G8: 15 | H8: 6 | I8: ='1주차'!I8 -> 35 | J8: =SUM(D8,E8,F8,G8,H8) -> 59 | K8: =SUM(I8:J8) -> 94 | L8: =RANK(J8,J$6:J$117) -> 2 | M8: =COUNTA(D8,E8,F8,G8,H8)/5 -> 1
B9: 504 | C9: 남 | I9: ='1주차'!I9 -> 0 | J9: =SUM(D9,E9,F9,G9,H9) -> 0 | K9: =SUM(I9:J9) -> 0 | L9: =RANK(J9,J$6:J$117) -> 87 | M9: =COUNTA(D9,E9,F9,G9,H9)/5 -> 0 | N9: 1차 경고
B10: 505 | C10: 여 | G10: 8 | H10: 3 | I10: ='1주차'!I10 -> 0 | J10: =SUM(D10,E10,F10,G10,H10) -> 11 | K10: =SUM(I10:J10) -> 11 | L10: =RANK(J10,J$6:J$117) -> 72 | M10: =COUNTA(D10,E10,F10,G10,H10)/5 -> 0.4
B11: 506 | C11: 남 | G11: 6 | I11: ='1주차'!I11 -> 14 | J11: =SUM(D11,E11,F11,G11,H11) -> 6 | K11: =SUM(I11:J11) -> 20 | L11: =RANK(J11,J$6:J$117) -> 78 | M11: =COUNTA(D11,E11,F11,G11,H11)/5 -> 0.2
B12: 507 | C12: 남 | D12: 8 | E12: 6 | F12: 11 | G12: 7 | H12: 3 | I12: ='1주차'!I12 -> 30 | J12: =SUM(D12,E12,F12,G12,H12) -> 35 | K12: =SUM(I12:J12) -> 65 | L12: =RANK(J12,J$6:J$117) -> 34 | M12: =COUNTA(D12,E12,F12,G12,H12)/5 -> 1
B13: 508 | C13: 남 | D13: 7 | E13: 7 | F13: 11 | G13: 5 | H13: 1 | I13: ='1주차'!I13 -> 25 | J13: =SUM(D13,E13,F13,G13,H13) -> 31 | K13: =SUM(I13:J13) -> 56 | L13: =RANK(J13,J$6:J$117) -> 39 | M13: =COUNTA(D13,E13,F13,G13,H13)/5 -> 1
B14: 509 | C14: 남 | I14: ='1주차'!I14 -> 0 | J14: =SUM(D14,E14,F14,G14,H14) -> 0 | K14: =SUM(I14:J14) -> 0 | L14: =RANK(J14,J$6:J$117) -> 87 | M14: =COUNTA(D14,E14,F14,G14,H14)/5 -> 0 | N14: 1차 경고
B15: 511 | C15: 남 | D15: 6 | E15: 7 | F15: 5 | G15: 7 | H15: 6 | I15: ='1주차'!I15 -> 38 | J15: =SUM(D15,E15,F15,G15,H15) -> 31 | K15: =SUM(I15:J15) -> 69 | L15: =RANK(J15,J$6:J$117) -> 39 | M15: =COUNTA(D15,E15,F15,G15,H15)/5 -> 1
B16: 512 | C16: 남 | D16: 7 | E16: 7 | F16: 6 | I16: ='1주차'!I16 -> 20 | J16: =SUM(D16,E16,F16,G16,H16) -> 20 | K16: =SUM(I16:J16) -> 40 | L16: =RANK(J16,J$6:J$117) -> 53 | M16: =COUNTA(D16,E16,F16,G16,H16)/5 -> 0.6
B17: 513 | C17: 남 | E17: 11 | F17: 9 | I17: ='1주차'!I17 -> 15 | J17: =SUM(D17,E17,F17,G17,H17) -> 20 | K17: =SUM(I17:J17) -> 35 | L17: =RANK(J17,J$6:J$117) -> 53 | M17: =COUNTA(D17,E17,F17,G17,H17)/5 -> 0.4
B18: 514 | C18: 여 | E18: 8 | G18: 9 | I18: ='1주차'!I18 -> 36 | J18: =SUM(D18,E18,F18,G18,H18) -> 17 | K18: =SUM(I18:J18) -> 53 | L18: =RANK(J18,J$6:J$117) -> 58 | M18: =COUNTA(D18,E18,F18,G18,H18)/5 -> 0.4
B19: 516 | C19: 남 | I19: ='1주차'!I19 -> 0 | J19: =SUM(D19,E19,F19,G19,H19) -> 0 | K19: =SUM(I19:J19) -> 0 | L19: =RANK(J19,J$6:J$117) -> 87 | M19: =COUNTA(D19,E19,F19,G19,H19)/5 -> 0 | N19: 1차 경고
B20: 517 | C20: 남 | D20: 13 | E20: 10 | F20: 4 | H20: 7 | I20: ='1주차'!I20 -> 31 | J20: =SUM(D20,E20,F20,G20,H20) -> 34 | K20: =SUM(I20:J20) -> 65 | L20: =RANK(J20,J$6:J$117) -> 36 | M20: =COUNTA(D20,E20,F20,G20,H20)/5 -> 0.8
B21: 518 | C21: 남 | F21: 7 | G21: 7 | I21: ='1주차'!I21 -> 22 | J21: =SUM(D21,E21,F21,G21,H21) -> 14 | K21: =SUM(I21:J21) -> 36 | L21: =RANK(J21,J$6:J$117) -> 64 | M21: =COUNTA(D21,E21,F21,G21,H21)/5 -> 0.4
B22: 519 | C22: 남 | D22: 14 | E22: 9 | F22: 10 | G22: 12 | H22: 7 | I22: ='1주차'!I22 -> 48 | J22: =SUM(D22,E22,F22,G22,H22) -> 52 | K22: =SUM(I22:J22) -> 100 | L22: =RANK(J22,J$6:J$117) -> 7 | M22: =COUNTA(D22,E22,F22,G22,H22)/5 -> 1
B23: 520 | C23: 여 | D23: 5 | G23: 7 | H23: 5 | I23: ='1주차'!I23 -> 28 | J23: =SUM(D23,E23,F23,G23,H23) -> 17 | K23: =SUM(I23:J23) -> 45 | L23: =RANK(J23,J$6:J$117) -> 58 | M23: =COUNTA(D23,E23,F23,G23,H23)/5 -> 0.6
B24: 521 | C24: 여 | I24: ='1주차'!I24 -> 8 | J24: =SUM(D24,E24,F24,G24,H24) -> 0 | K24: =SUM(I24:J24) -> 8 | L24: =RANK(J24,J$6:J$117) -> 87 | M24: =COUNTA(D24,E24,F24,G24,H24)/5 -> 0
B25: 524 | C25: 남 | D25: 14 | E25: 12 | F25: 11 | G25: 13 | H25: 7 | I25: ='1주차'!I25 -> 58 | J25: =SUM(D25,E25,F25,G25,H25) -> 57 | K25: =SUM(I25:J25) -> 115 | L25: =RANK(J25,J$6:J$117) -> 5 | M25: =COUNTA(D25,E25,F25,G25,H25)/5 -> 1
B26: 525 | C26: 남 | I26: ='1주차'!I26 -> 0 | J26: =SUM(D26,E26,F26,G26,H26) -> 0 | K26: =SUM(I26:J26) -> 0 | L26: =RANK(J26,J$6:J$117) -> 87 | M26: =COUNTA(D26,E26,F26,G26,H26)/5 -> 0 | N26: 1차 경고
B27: 526 | C27: 남 | D27: 11 | E27: 6 | F27: 5 | G27: 7 | H27: 8 | I27: ='1주차'!I27 -> 39 | J27: =SUM(D27,E27,F27,G27,H27) -> 37 | K27: =SUM(I27:J27) -> 76 | L27: =RANK(J27,J$6:J$117) -> 29 | M27: =COUNTA(D27,E27,F27,G27,H27)/5 -> 1
B28: 527 | C28: 남 | I28: ='1주차'!I28 -> 16 | J28: =SUM(D28,E28,F28,G28,H28) -> 0 | K28: =SUM(I28:J28) -> 16 | L28: =RANK(J28,J$6:J$117) -> 87 | M28: =COUNTA(D28,E28,F28,G28,H28)/5 -> 0
B29: 528 | C29: 남 | D29: 12 | E29: 9 | F29: 12 | G29: 12 | H29: 4 | I29: ='1주차'!I29 -> 49 | J29: =SUM(D29,E29,F29,G29,H29) -> 49 | K29: =SUM(I29:J29) -> 98 | L29: =RANK(J29,J$6:J$117) -> 9 | M29: =COUNTA(D29,E29,F29,G29,H29)/5 -> 1
B30: 529 | C30: 남 | D30: 14 | E30: 11 | F30: 10 | G30: 11 | H30: 5 | I30: ='1주차'!I30 -> 55 | J30: =SUM(D30,E30,F30,G30,H30) -> 51 | K30: =SUM(I30:J30) -> 106 | L30: =RANK(J30,J$6:J$117) -> 8 | M30: =COUNTA(D30,E30,F30,G30,H30)/5 -> 1
B31: 530 | C31: 남 | D31: 3 | E31: 7 | F31: 8 | G31: 7 | H31: 4 | I31: ='1주차'!I31 -> 25 | J31: =SUM(D31,E31,F31,G31,H31) -> 29 | K31: =SUM(I31:J31) -> 54 | L31: =RANK(J31,J$6:J$117) -> 43 | M31: =COUNTA(D31,E31,F31,G31,H31)/5 -> 1
B32: 531 | C32: 여 | I32: ='1주차'!I32 -> 0 | J32: =SUM(D32,E32,F32,G32,H32) -> 0 | K32: =SUM(I32:J32) -> 0 | L32: =RANK(J32,J$6:J$117) -> 87 | M32: =COUNTA(D32,E32,F32,G32,H32)/5 -> 0 | N32: 1차 경고
B33: 532 | C33: 남 | D33: 14 | E33: 10 | F33: 8 | G33: 9 | H33: 2 | I33: ='1주차'!I33 -> 41 | J33: =SUM(D33,E33,F33,G33,H33) -> 43 | K33: =SUM(I33:J33) -> 84 | L33: =RANK(J33,J$6:J$117) -> 20 | M33: =COUNTA(D33,E33,F33,G33,H33)/5 -> 1
B34: 533 | C34: 남 | I34: ='1주차'!I34 -> 0 | J34: =SUM(D34,E34,F34,G34,H34) -> 0 | K34: =SUM(I34:J34) -> 0 | L34: =RANK(J34,J$6:J$117) -> 87 | M34: =COUNTA(D34,E34,F34,G34,H34)/5 -> 0 | N34: 1차 경고
B35: 534 | C35: 남 | I35: ='1주차'!I35 -> 0 | J35: =SUM(D35,E35,F35,G35,H35) -> 0 | K35: =SUM(I35:J35) -> 0 | L35: =RANK(J35,J$6:J$117) -> 87 | M35: =COUNTA(D35,E35,F35,G35,H35)/5 -> 0 | N35: 1차 경고
B36: 535 | C36: 남 | D36: 6 | E36: 8 | G36: 5 | H36: 4 | I36: ='1주차'!I36 -> 31 | J36: =SUM(D36,E36,F36,G36,H36) -> 23 | K36: =SUM(I36:J36) -> 54 | L36: =RANK(J36,J$6:J$117) -> 47 | M36: =COUNTA(D36,E36,F36,G36,H36)/5 -> 0.8
B37: 536 | C37: 여 | I37: ='1주차'!I37 -> 0 | J37: =SUM(D37,E37,F37,G37,H37) -> 0 | K37: =SUM(I37:J37) -> 0 | L37: =RANK(J37,J$6:J$117) -> 87 | M37: =COUNTA(D37,E37,F37,G37,H37)/5 -> 0 | N37: 1차 경고
B38: 537 | C38: 남 | D38: 10 | E38: 4 | F38: 8 | G38: 6 | H38: 3 | I38: ='1주차'!I38 -> 32 | J38: =SUM(D38,E38,F38,G38,H38) -> 31 | K38: =SUM(I38:J38) -> 63 | L38: =RANK(J38,J$6:J$117) -> 39 | M38: =COUNTA(D38,E38,F38,G38,H38)/5 -> 1
B39: 538 | C39: 남 | D39: 11 | E39: 11 | F39: 4 | G39: 11 | H39: 4 | I39: ='1주차'!I39 -> 37 | J39: =SUM(D39,E39,F39,G39,H39) -> 41 | K39: =SUM(I39:J39) -> 78 | L39: =RANK(J39,J$6:J$117) -> 24 | M39: =COUNTA(D39,E39,F39,G39,H39)/5 -> 1
B40: 539 | C40: 남 | D40: 10 | E40: 8 | F40: 8 | G40: 7 | H40: 5 | I40: ='1주차'!I40 -> 40 | J40: =SUM(D40,E40,F40,G40,H40) -> 38 | K40: =SUM(I40:J40) -> 78 | L40: =RANK(J40,J$6:J$117) -> 27 | M40: =COUNTA(D40,E40,F40,G40,H40)/5 -> 1
B41: 540 | C41: 남 | D41: 9 | E41: 5 | F41: 7 | G41: 13 | H41: 3 | I41: ='1주차'!I41 -> 30 | J41: =SUM(D41,E41,F41,G41,H41) -> 37 | K41: =SUM(I41:J41) -> 67 | L41: =RANK(J41,J$6:J$117) -> 29 | M41: =COUNTA(D41,E41,F41,G41,H41)/5 -> 1
B42: 541 | C42: 남 | I42: ='1주차'!I42 -> 10 | J42: =SUM(D42,E42,F42,G42,H42) -> 0 | K42: =SUM(I42:J42) -> 10 | L42: =RANK(J42,J$6:J$117) -> 87 | M42: =COUNTA(D42,E42,F42,G42,H42)/5 -> 0
B43: 542 | C43: 남 | G43: 10 | H43: 3 | I43: ='1주차'!I43 -> 38 | J43: =SUM(D43,E43,F43,G43,H43) -> 13 | K43: =SUM(I43:J43) -> 51 | L43: =RANK(J43,J$6:J$117) -> 67 | M43: =COUNTA(D43,E43,F43,G43,H43)/5 -> 0.4
B44: 543 | C44: 남 | D44: 6 | I44: ='1주차'!I44 -> 0 | J44: =SUM(D44,E44,F44,G44,H44) -> 6 | K44: =SUM(I44:J44) -> 6 | L44: =RANK(J44,J$6:J$117) -> 78 | M44: =COUNTA(D44,E44,F44,G44,H44)/5 -> 0.2
B45: 544 | C45: 남 | I45: ='1주차'!I45 -> 4 | J45: =SUM(D45,E45,F45,G45,H45) -> 0 | K45: =SUM(I45:J45) -> 4 | L45: =RANK(J45,J$6:J$117) -> 87 | M45: =COUNTA(D45,E45,F45,G45,H45)/5 -> 0
B46: 545 | C46: 남 | D46: 12 | E46: 6 | F46: 5 | G46: 12 | H46: 6 | I46: ='1주차'!I46 -> 36 | J46: =SUM(D46,E46,F46,G46,H46) -> 41 | K46: =SUM(I46:J46) -> 77 | L46: =RANK(J46,J$6:J$117) -> 24 | M46: =COUNTA(D46,E46,F46,G46,H46)/5 -> 1
B47: 546 | C47: 남 | D47: 11 | E47: 10 | F47: 9 | G47: 12 | H47: 3 | I47: ='1주차'!I47 -> 57 | J47: =SUM(D47,E47,F47,G47,H47) -> 45 | K47: =SUM(I47:J47) -> 102 | L47: =RANK(J47,J$6:J$117) -> 17 | M47: =COUNTA(D47,E47,F47,G47,H47)/5 -> 1
B48: 548 | C48: 남 | D48: 14 | E48: 11 | F48: 7 | G48: 7 | H48: 7 | I48: ='1주차'!I48 -> 51 | J48: =SUM(D48,E48,F48,G48,H48) -> 46 | K48: =SUM(I48:J48) -> 97 | L48: =RANK(J48,J$6:J$117) -> 14 | M48: =COUNTA(D48,E48,F48,G48,H48)/5 -> 1
B49: 549 | C49: 남 | D49: 15 | E49: 13 | F49: 13 | G49: 12 | H49: 7 | I49: ='1주차'!I49 -> 69 | J49: =SUM(D49,E49,F49,G49,H49) -> 60 | K49: =SUM(I49:J49) -> 129 | L49: =RANK(J49,J$6:J$117) -> 1 | M49: =COUNTA(D49,E49,F49,G49,H49)/5 -> 1
B50: 550 | C50: 남 | D50: 11 | E50: 7 | F50: 10 | G50: 5 | H50: 3 | I50: ='1주차'!I50 -> 10 | J50: =SUM(D50,E50,F50,G50,H50) -> 36 | K50: =SUM(I50:J50) -> 46 | L50: =RANK(J50,J$6:J$117) -> 33 | M50: =COUNTA(D50,E50,F50,G50,H50)/5 -> 1
B51: 551 | C51: 남 | I51: ='1주차'!I51 -> 0 | J51: =SUM(D51,E51,F51,G51,H51) -> 0 | K51: =SUM(I51:J51) -> 0 | L51: =RANK(J51,J$6:J$117) -> 87 | M51: =COUNTA(D51,E51,F51,G51,H51)/5 -> 0
B52: 552 | C52: 남 | D52: 14 | E52: 10 | F52: 7 | G52: 12 | H52: 4 | I52: ='1주차'!I52 -> 38 | J52: =SUM(D52,E52,F52,G52,H52) -> 47 | K52: =SUM(I52:J52) -> 85 | L52: =RANK(J52,J$6:J$117) -> 11 | M52: =COUNTA(D52,E52,F52,G52,H52)/5 -> 1
B53: 553 | C53: 남 | I53: ='1주차'!I53 -> 0 | J53: =SUM(D53,E53,F53,G53,H53) -> 0 | K53: =SUM(I53:J53) -> 0 | L53: =RANK(J53,J$6:J$117) -> 87 | M53: =COUNTA(D53,E53,F53,G53,H53)/5 -> 0
B54: 554 | C54: 남 | I54: ='1주차'!I54 -> 0 | J54: =SUM(D54,E54,F54,G54,H54) -> 0 | K54: =SUM(I54:J54) -> 0 | L54: =RANK(J54,J$6:J$117) -> 87 | M54: =COUNTA(D54,E54,F54,G54,H54)/5 -> 0
B55: 555 | C55: 남 | I55: ='1주차'!I55 -> 0 | J55: =SUM(D55,E55,F55,G55,H55) -> 0 | K55: =SUM(I55:J55) -> 0 | L55: =RANK(J55,J$6:J$117) -> 87 | M55: =COUNTA(D55,E55,F55,G55,H55)/5 -> 0
B56: 556 | C56: 여 | D56: 13 | E56: 7 | F56: 6 | G56: 12 | I56: ='1주차'!I56 -> 25 | J56: =SUM(D56,E56,F56,G56,H56) -> 38 | K56: =SUM(I56:J56) -> 63 | L56: =RANK(J56,J$6:J$117) -> 27 | M56: =COUNTA(D56,E56,F56,G56,H56)/5 -> 0.8
B57: 557 | C57: 여 | D57: 10 | E57: 11 | F57: 10 | H57: 4 | I57: ='1주차'!I57 -> 17 | J57: =SUM(D57,E57,F57,G57,H57) -> 35 | K57: =SUM(I57:J57) -> 52 | L57: =RANK(J57,J$6:J$117) -> 34 | M57: =COUNTA(D57,E57,F57,G57,H57)/5 -> 0.8
B58: 558 | C58: 남 | I58: ='1주차'!I58 -> 0 | J58: =SUM(D58,E58,F58,G58,H58) -> 0 | K58: =SUM(I58:J58) -> 0 | L58: =RANK(J58,J$6:J$117) -> 87 | M58: =COUNTA(D58,E58,F58,G58,H58)/5 -> 0
B59: 559 | C59: 남 | F59: 7 | H59: 4 | I59: ='1주차'!I59 -> 0 | J59: =SUM(D59,E59,F59,G59,H59) -> 11 | K59: =SUM(I59:J59) -> 11 | L59: =RANK(J59,J$6:J$117) -> 72 | M59: =COUNTA(D59,E59,F59,G59,H59)/5 -> 0.4
B60: 560 | C60: 남 | I60: ='1주차'!I60 -> 0 | J60: =SUM(D60,E60,F60,G60,H60) -> 0 | K60: =SUM(I60:J60) -> 0 | L60: =RANK(J60,J$6:J$117) -> 87 | M60: =COUNTA(D60,E60,F60,G60,H60)/5 -> 0
B61: 561 | C61: 남 | F61: 4 | I61: ='1주차'!I61 -> 22 | J61: =SUM(D61,E61,F61,G61,H61) -> 4 | K61: =SUM(I61:J61) -> 26 | L61: =RANK(J61,J$6:J$117) -> 84 | M61: =COUNTA(D61,E61,F61,G61,H61)/5 -> 0.2
B62: 562 | C62: 남 | D62: 8 | E62: 8 | G62: 4 | H62: 3 | I62: ='1주차'!I62 -> 16 | J62: =SUM(D62,E62,F62,G62,H62) -> 23 | K62: =SUM(I62:J62) -> 39 | L62: =RANK(J62,J$6:J$117) -> 47 | M62: =COUNTA(D62,E62,F62,G62,H62)/5 -> 0.8
B63: 563 | C63: 남 | D63: 12 | E63: 8 | F63: 9 | I63: ='1주차'!I63 -> 0 | J63: =SUM(D63,E63,F63,G63,H63) -> 29 | K63: =SUM(I63:J63) -> 29 | L63: =RANK(J63,J$6:J$117) -> 43 | M63: =COUNTA(D63,E63,F63,G63,H63)/5 -> 0.6
B64: 564 | C64: 여 | I64: ='1주차'!I64 -> 0 | J64: =SUM(D64,E64,F64,G64,H64) -> 0 | K64: =SUM(I64:J64) -> 0 | L64: =RANK(J64,J$6:J$117) -> 87 | M64: =COUNTA(D64,E64,F64,G64,H64)/5 -> 0
B65: 565 | C65: 여 | I65: ='1주차'!I65 -> 0 | J65: =SUM(D65,E65,F65,G65,H65) -> 0 | K65: =SUM(I65:J65) -> 0 | L65: =RANK(J65,J$6:J$117) -> 87 | M65: =COUNTA(D65,E65,F65,G65,H65)/5 -> 0
B66: 566 | C66: 남 | E66: 5 | F66: 7 | G66: 6 | H66: 2 | I66: ='1주차'!I66 -> 0 | J66: =SUM(D66,E66,F66,G66,H66) -> 20 | K66: =SUM(I66:J66) -> 20 | L66: =RANK(J66,J$6:J$117) -> 53 | M66: =COUNTA(D66,E66,F66,G66,H66)/5 -> 0.8
B67: 567 | C67: 남 | D67: 15 | E67: 10 | F67: 9 | G67: 12 | I67: ='1주차'!I67 -> 49 | J67: =SUM(D67,E67,F67,G67,H67) -> 46 | K67: =SUM(I67:J67) -> 95 | L67: =RANK(J67,J$6:J$117) -> 14 | M67: =COUNTA(D67,E67,F67,G67,H67)/5 -> 0.8
B68: 601 | C68: 남 | D68: 13 | E68: 11 | F68: 7 | G68: 9 | H68: 7 | I68: ='1주차'!I68 -> 50 | J68: =SUM(D68,E68,F68,G68,H68) -> 47 | K68: =SUM(I68:J68) -> 97 | L68: =RANK(J68,J$6:J$117) -> 11 | M68: =COUNTA(D68,E68,F68,G68,H68)/5 -> 1
B69: 602 | C69: 남 | D69: 10 | F69: 5 | I69: ='1주차'!I69 -> 38 | J69: =SUM(D69,E69,F69,G69,H69) -> 15 | K69: =SUM(I69:J69) -> 53 | L69: =RANK(J69,J$6:J$117) -> 62 | M69: =COUNTA(D69,E69,F69,G69,H69)/5 -> 0.4
B70: 603 | C70: 남 | D70: 14 | E70: 11 | F70: 13 | G70: 11 | H70: 9 | I70: ='1주차'!I70 -> 48 | J70: =SUM(D70,E70,F70,G70,H70) -> 58 | K70: =SUM(I70:J70) -> 106 | L70: =RANK(J70,J$6:J$117) -> 3 | M70: =COUNTA(D70,E70,F70,G70,H70)/5 -> 1
B71: 604 | C71: 남 | D71: 14 | E71: 11 | F71: 11 | G71: 7 | H71: 3 | I71: ='1주차'!I71 -> 57 | J71: =SUM(D71,E71,F71,G71,H71) -> 46 | K71: =SUM(I71:J71) -> 103 | L71: =RANK(J71,J$6:J$117) -> 14 | M71: =COUNTA(D71,E71,F71,G71,H71)/5 -> 1
B72: 605 | C72: 남 | D72: 8 | E72: 9 | H72: 0 | I72: ='1주차'!I72 -> 31 | J72: =SUM(D72,E72,F72,G72,H72) -> 17 | K72: =SUM(I72:J72) -> 48 | L72: =RANK(J72,J$6:J$117) -> 58 | M72: =COUNTA(D72,E72,F72,G72,H72)/5 -> 0.6
B73: 606 | C73: 남 | D73: 11 | E73: 9 | F73: 9 | G73: 12 | H73: 3 | I73: ='1주차'!I73 -> 34 | J73: =SUM(D73,E73,F73,G73,H73) -> 44 | K73: =SUM(I73:J73) -> 78 | L73: =RANK(J73,J$6:J$117) -> 19 | M73: =COUNTA(D73,E73,F73,G73,H73)/5 -> 1
B74: 607 | C74: 여 | D74: 12 | E74: 10 | F74: 4 | G74: 9 | H74: 8 | I74: ='1주차'!I74 -> 59 | J74: =SUM(D74,E74,F74,G74,H74) -> 43 | K74: =SUM(I74:J74) -> 102 | L74: =RANK(J74,J$6:J$117) -> 20 | M74: =COUNTA(D74,E74,F74,G74,H74)/5 -> 1
B75: 608 | C75: 여 | D75: 9 | E75: 4 | F75: 5 | H75: 4 | I75: ='1주차'!I75 -> 16 | J75: =SUM(D75,E75,F75,G75,H75) -> 22 | K75: =SUM(I75:J75) -> 38 | L75: =RANK(J75,J$6:J$117) -> 49 | M75: =COUNTA(D75,E75,F75,G75,H75)/5 -> 0.8
B76: 609 | C76: 남 | D76: 13 | E76: 9 | F76: 10 | H76: 5 | I76: ='1주차'!I76 -> 41 | J76: =SUM(D76,E76,F76,G76,H76) -> 37 | K76: =SUM(I76:J76) -> 78 | L76: =RANK(J76,J$6:J$117) -> 29 | M76: =COUNTA(D76,E76,F76,G76,H76)/5 -> 0.8
B77: 610 | C77: 남 | D77: 11 | E77: 10 | F77: 11 | G77: 8 | I77: ='1주차'!I77 -> 58 | J77: =SUM(D77,E77,F77,G77,H77) -> 40 | K77: =SUM(I77:J77) -> 98 | L77: =RANK(J77,J$6:J$117) -> 26 | M77: =COUNTA(D77,E77,F77,G77,H77)/5 -> 0.8
B78: 612 | C78: 남 | D78: 3 | E78: 5 | I78: ='1주차'!I78 -> 30 | J78: =SUM(D78,E78,F78,G78,H78) -> 8 | K78: =SUM(I78:J78) -> 38 | L78: =RANK(J78,J$6:J$117) -> 75 | M78: =COUNTA(D78,E78,F78,G78,H78)/5 -> 0.4
B79: 613 | C79: 남 | D79: 4 | E79: 5 | I79: ='1주차'!I79 -> 21 | J79: =SUM(D79,E79,F79,G79,H79) -> 9 | K79: =SUM(I79:J79) -> 30 | L79: =RANK(J79,J$6:J$117) -> 74 | M79: =COUNTA(D79,E79,F79,G79,H79)/5 -> 0.4
B80: 614 | C80: 여 | D80: 10 | F80: 6 | I80: ='1주차'!I80 -> 15 | J80: =SUM(D80,E80,F80,G80,H80) -> 16 | K80: =SUM(I80:J80) -> 31 | L80: =RANK(J80,J$6:J$117) -> 61 | M80: =COUNTA(D80,E80,F80,G80,H80)/5 -> 0.4
B81: 617 | C81: 여 | D81: 12 | E81: 8 | F81: 12 | G81: 11 | H81: 4 | I81: ='1주차'!I81 -> 52 | J81: =SUM(D81,E81,F81,G81,H81) -> 47 | K81: =SUM(I81:J81) -> 99 | L81: =RANK(J81,J$6:J$117) -> 11 | M81: =COUNTA(D81,E81,F81,G81,H81)/5 -> 1
B82: 618 | C82: 여 | I82: ='1주차'!I82 -> 0 | J82: =SUM(D82,E82,F82,G82,H82) -> 0 | K82: =SUM(I82:J82) -> 0 | L82: =RANK(J82,J$6:J$117) -> 87 | M82: =COUNTA(D82,E82,F82,G82,H82)/5 -> 0 | N82: 1차 경고
B83: 619 | C83: 남 | D83: 4 | I83: ='1주차'!I83 -> 21 | J83: =SUM(D83,E83,F83,G83,H83) -> 4 | K83: =SUM(I83:J83) -> 25 | L83: =RANK(J83,J$6:J$117) -> 84 | M83: =COUNTA(D83,E83,F83,G83,H83)/5 -> 0.2
B84: 620 | C84: 남 | E84: 6 | F84: 8 | G84: 8 | I84: ='1주차'!I84 -> 33 | J84: =SUM(D84,E84,F84,G84,H84) -> 22 | K84: =SUM(I84:J84) -> 55 | L84: =RANK(J84,J$6:J$117) -> 49 | M84: =COUNTA(D84,E84,F84,G84,H84)/5 -> 0.6
B85: 621 | C85: 여 | D85: 13 | E85: 7 | F85: 1 | G85: 4 | H85: 6 | I85: ='1주차'!I85 -> 33 | J85: =SUM(D85,E85,F85,G85,H85) -> 31 | K85: =SUM(I85:J85) -> 64 | L85: =RANK(J85,J$6:J$117) -> 39 | M85: =COUNTA(D85,E85,F85,G85,H85)/5 -> 1
B86: 622 | C86: 여 | F86: 11 | G86: 4 | I86: ='1주차'!I86 -> 14 | J86: =SUM(D86,E86,F86,G86,H86) -> 15 | K86: =SUM(I86:J86) -> 29 | L86: =RANK(J86,J$6:J$117) -> 62 | M86: =COUNTA(D86,E86,F86,G86,H86)/5 -> 0.4
B87: 623 | C87: 여 | D87: 9 | E87: 4 | F87: 5 | G87: 4 | H87: 4 | I87: ='1주차'!I87 -> 35 | J87: =SUM(D87,E87,F87,G87,H87) -> 26 | K87: =SUM(I87:J87) -> 61 | L87: =RANK(J87,J$6:J$117) -> 45 | M87: =COUNTA(D87,E87,F87,G87,H87)/5 -> 1
B88: 624 | C88: 여 | D88: 11 | E88: 7 | F88: 5 | G88: 8 | H88: 3 | I88: ='1주차'!I88 -> 37 | J88: =SUM(D88,E88,F88,G88,H88) -> 34 | K88: =SUM(I88:J88) -> 71 | L88: =RANK(J88,J$6:J$117) -> 36 | M88: =COUNTA(D88,E88,F88,G88,H88)/5 -> 1
B89: 625 | C89: 남 | F89: 5 | I89: ='1주차'!I89 -> 34 | J89: =SUM(D89,E89,F89,G89,H89) -> 5 | K89: =SUM(I89:J89) -> 39 | L89: =RANK(J89,J$6:J$117) -> 80 | M89: =COUNTA(D89,E89,F89,G89,H89)/5 -> 0.2
B90: 626 | C90: 남 | D90: 12 | E90: 9 | F90: 4 | G90: 12 | H90: 6 | I90: ='1주차'!I90 -> 41 | J90: =SUM(D90,E90,F90,G90,H90) -> 43 | K90: =SUM(I90:J90) -> 84 | L90: =RANK(J90,J$6:J$117) -> 20 | M90: =COUNTA(D90,E90,F90,G90,H90)/5 -> 1
B91: 627 | C91: 남 | E91: 7 | G91: 7 | I91: ='1주차'!I91 -> 7 | J91: =SUM(D91,E91,F91,G91,H91) -> 14 | K91: =SUM(I91:J91) -> 21 | L91: =RANK(J91,J$6:J$117) -> 64 | M91: =COUNTA(D91,E91,F91,G91,H91)/5 -> 0.4
B92: 628 | C92: 여 | I92: ='1주차'!I92 -> 4 | J92: =SUM(D92,E92,F92,G92,H92) -> 0 | K92: =SUM(I92:J92) -> 4 | L92: =RANK(J92,J$6:J$117) -> 87 | M92: =COUNTA(D92,E92,F92,G92,H92)/5 -> 0
B93: 629 | C93: 남 | D93: 14 | I93: ='1주차'!I93 -> 41 | J93: =SUM(D93,E93,F93,G93,H93) -> 14 | K93: =SUM(I93:J93) -> 55 | L93: =RANK(J93,J$6:J$117) -> 64 | M93: =COUNTA(D93,E93,F93,G93,H93)/5 -> 0.2
B94: 630 | C94: 남 | D94: 15 | E94: 10 | G94: 9 | H94: 3 | I94: ='1주차'!I94 -> 43 | J94: =SUM(D94,E94,F94,G94,H94) -> 37 | K94: =SUM(I94:J94) -> 80 | L94: =RANK(J94,J$6:J$117) -> 29 | M94: =COUNTA(D94,E94,F94,G94,H94)/5 -> 0.8
B95: 631 | C95: 남 | D95: 12 | E95: 7 | F95: 5 | G95: 6 | H95: 4 | I95: ='1주차'!I95 -> 43 | J95: =SUM(D95,E95,F95,G95,H95) -> 34 | K95: =SUM(I95:J95) -> 77 | L95: =RANK(J95,J$6:J$117) -> 36 | M95: =COUNTA(D95,E95,F95,G95,H95)/5 -> 1
B96: 632 | C96: 여 | D96: 15 | E96: 11 | F96: 12 | G96: 11 | H96: 9 | I96: ='1주차'!I96 -> 66 | J96: =SUM(D96,E96,F96,G96,H96) -> 58 | K96: =SUM(I96:J96) -> 124 | L96: =RANK(J96,J$6:J$117) -> 3 | M96: =COUNTA(D96,E96,F96,G96,H96)/5 -> 1
B97: 633 | C97: 남 | D97: 3 | I97: ='1주차'!I97 -> 5 | J97: =SUM(D97,E97,F97,G97,H97) -> 3 | K97: =SUM(I97:J97) -> 8 | L97: =RANK(J97,J$6:J$117) -> 86 | M97: =COUNTA(D97,E97,F97,G97,H97)/5 -> 0.2
B98: 634 | C98: 남 | D98: 8 | F98: 6 | G98: 4 | H98: 3 | I98: ='1주차'!I98 -> 11 | J98: =SUM(D98,E98,F98,G98,H98) -> 21 | K98: =SUM(I98:J98) -> 32 | L98: =RANK(J98,J$6:J$117) -> 52 | M98: =COUNTA(D98,E98,F98,G98,H98)/5 -> 0.8
B99: 635 | C99: 남 | F99: 8 | I99: ='1주차'!I99 -> 43 | J99: =SUM(D99,E99,F99,G99,H99) -> 8 | K99: =SUM(I99:J99) -> 51 | L99: =RANK(J99,J$6:J$117) -> 75 | M99: =COUNTA(D99,E99,F99,G99,H99)/5 -> 0.2
B100: 636 | C100: 여 | F100: 5 | I100: ='1주차'!I100 -> 0 | J100: =SUM(D100,E100,F100,G100,H100) -> 5 | K100: =SUM(I100:J100) -> 5 | L100: =RANK(J100,J$6:J$117) -> 80 | M100: =COUNTA(D100,E100,F100,G100,H100)/5 -> 0.2 | N100: 1차 경고
B101: 637 | C101: 여 | G101: 5 | H101: 3 | I101: ='1주차'!I101 -> 10 | J101: =SUM(D101,E101,F101,G101,H101) -> 8 | K101: =SUM(I101:J101) -> 18 | L101: =RANK(J101,J$6:J$117) -> 75 | M101: =COUNTA(D101,E101,F101,G101,H101)/5 -> 0.4
...

Sheet 3주차
B2: 7~8월 아침 모의고사 성적현황
B3: 시험 1주차 : 7월 23일 ~ 27일
D4: 23 | E4: 24 | F4: 25 | G4: 26 | H4: 27 | I4: 주간성적 | M4: 모의고사 참여율 | N4: 비고
A5: 수험 번호 | B5: 수험 번호 | C5: 성별 | D5: 형소법 | E5: 국사 | F5: 영어 | G5: 경찰학 | H5: 형법 | I5: 누적 점수 | J5: 이번주 총점 | K5: 누적 총점 | L5: 등수
B6: 500 | C6: 남 | D6: 7 | E6: 6 | F6: 7 | G6: 4 | H6: 3 | I6: ='2주차'!K6 -> 51 | J6: =SUM(D6,E6,F6,G6,H6) -> 27 | K6: =SUM(I6:J6) -> 78 | L6: =RANK(J6,J$6:J$107) -> 35 | M6: =COUNTA(D6,E6,F6,G6,H6)/5 -> 1
B7: 503 | C7: 남 | D7: 15 | E7: 14 | F7: 9 | G7: 6 | H7: 5 | I7: ='2주차'!K8 -> 94 | J7: =SUM(D7,E7,F7,G7,H7) -> 49 | K7: =SUM(I7:J7) -> 143 | L7: =RANK(J7,J$6:J$107) -> 4 | M7: =COUNTA(D7,E7,F7,G7,H7)/5 -> 1
B8: 505 | C8: 여 | D8: 2 | G8: 6 | I8: ='2주차'!K10 -> 11 | J8: =SUM(D8,E8,F8,G8,H8) -> 8 | K8: =SUM(I8:J8) -> 19 | L8: =RANK(J8,J$6:J$107) -> 64 | M8: =COUNTA(D8,E8,F8,G8,H8)/5 -> 0.4
B9: 506 | C9: 남 | F9: 2 | I9: ='2주차'!K11 -> 20 | J9: =SUM(D9,E9,F9,G9,H9) -> 2 | K9: =SUM(I9:J9) -> 22 | L9: =RANK(J9,J$6:J$107) -> 72 | M9: =COUNTA(D9,E9,F9,G9,H9)/5 -> 0.2
B10: 507 | C10: 남 | E10: 8 | F10: 8 | G10: 3 | H10: 4 | I10: ='2주차'!K12 -> 65 | J10: =SUM(D10,E10,F10,G10,H10) -> 23 | K10: =SUM(I10:J10) -> 88 | L10: =RANK(J10,J$6:J$107) -> 43 | M10: =COUNTA(D10,E10,F10,G10,H10)/5 -> 0.8
B11: 508 | C11: 남 | D11: 7 | E11: 6 | G11: 6 | I11: ='2주차'!K13 -> 56 | J11: =SUM(D11,E11,F11,G11,H11) -> 19 | K11: =SUM(I11:J11) -> 75 | L11: =RANK(J11,J$6:J$107) -> 54 | M11: =COUNTA(D11,E11,F11,G11,H11)/5 -> 0.6
B12: 511 | C12: 남 | D12: 9 | E12: 4 | F12: 7 | G12: 2 | H12: 3 | I12: ='2주차'!K15 -> 69 | J12: =SUM(D12,E12,F12,G12,H12) -> 25 | K12: =SUM(I12:J12) -> 94 | L12: =RANK(J12,J$6:J$107) -> 37 | M12: =COUNTA(D12,E12,F12,G12,H12)/5 -> 1
B13: 512 | C13: 남 | E13: 7 | I13: ='2주차'!K16 -> 40 | J13: =SUM(D13,E13,F13,G13,H13) -> 7 | K13: =SUM(I13:J13) -> 47 | L13: =RANK(J13,J$6:J$107) -> 66 | M13: =COUNTA(D13,E13,F13,G13,H13)/5 -> 0.2
B14: 513 | C14: 남 | I14: ='2주차'!K17 -> 35 | J14: =SUM(D14,E14,F14,G14,H14) -> 0 | K14: =SUM(I14:J14) -> 35 | L14: =RANK(J14,J$6:J$107) -> 74 | M14: =COUNTA(D14,E14,F14,G14,H14)/5 -> 0 | N14: 1차 경고
B15: 514 | C15: 여 | D15: 9 | E15: 14 | I15: ='2주차'!K18 -> 53 | J15: =SUM(D15,E15,F15,G15,H15) -> 23 | K15: =SUM(I15:J15) -> 76 | L15: =RANK(J15,J$6:J$107) -> 43 | M15: =COUNTA(D15,E15,F15,G15,H15)/5 -> 0.4
B16: 517 | C16: 남 | D16: 13 | E16: 15 | F16: 4 | H16: 5 | I16: ='2주차'!K20 -> 65 | J16: =SUM(D16,E16,F16,G16,H16) -> 37 | K16: =SUM(I16:J16) -> 102 | L16: =RANK(J16,J$6:J$107) -> 19 | M16: =COUNTA(D16,E16,F16,G16,H16)/5 -> 0.8
B17: 518 | C17: 남 | F17: 9 | G17: 2 | I17: ='2주차'!K21 -> 36 | J17: =SUM(D17,E17,F17,G17,H17) -> 11 | K17: =SUM(I17:J17) -> 47 | L17: =RANK(J17,J$6:J$107) -> 61 | M17: =COUNTA(D17,E17,F17,G17,H17)/5 -> 0.4
B18: 519 | C18: 남 | D18: 12 | E18: 14 | F18: 8 | G18: 6 | H18: 4 | I18: ='2주차'!K22 -> 100 | J18: =SUM(D18,E18,F18,G18,H18) -> 44 | K18: =SUM(I18:J18) -> 144 | L18: =RANK(J18,J$6:J$107) -> 10 | M18: =COUNTA(D18,E18,F18,G18,H18)/5 -> 1
B19: 520 | C19: 여 | D19: 8 | E19: 4 | F19: 5 | H19: 3 | I19: ='2주차'!K23 -> 45 | J19: =SUM(D19,E19,F19,G19,H19) -> 20 | K19: =SUM(I19:J19) -> 65 | L19: =RANK(J19,J$6:J$107) -> 52 | M19: =COUNTA(D19,E19,F19,G19,H19)/5 -> 0.8
B20: 521 | C20: 여 | I20: ='2주차'!K24 -> 8 | J20: =SUM(D20,E20,F20,G20,H20) -> 0 | K20: =SUM(I20:J20) -> 8 | L20: =RANK(J20,J$6:J$107) -> 74 | M20: =COUNTA(D20,E20,F20,G20,H20)/5 -> 0 | N20: 1차 경고
B21: 524 | C21: 남 | D21: 14 | F21: 8 | G21: 9 | H21: 8 | I21: ='2주차'!K25 -> 115 | J21: =SUM(D21,E21,F21,G21,H21) -> 39 | K21: =SUM(I21:J21) -> 154 | L21: =RANK(J21,J$6:J$107) -> 15 | M21: =COUNTA(D21,E21,F21,G21,H21)/5 -> 0.8
B22: 526 | C22: 남 | D22: 8 | E22: 9 | F22: 4 | G22: 5 | H22: 6 | I22: ='2주차'!K27 -> 76 | J22: =SUM(D22,E22,F22,G22,H22) -> 32 | K22: =SUM(I22:J22) -> 108 | L22: =RANK(J22,J$6:J$107) -> 27 | M22: =COUNTA(D22,E22,F22,G22,H22)/5 -> 1
B23: 527 | C23: 남 | I23: ='2주차'!K28 -> 16 | J23: =SUM(D23,E23,F23,G23,H23) -> 0 | K23: =SUM(I23:J23) -> 16 | L23: =RANK(J23,J$6:J$107) -> 74 | M23: =COUNTA(D23,E23,F23,G23,H23)/5 -> 0 | N23: 1차 경고
B24: 528 | C24: 남 | D24: 12 | E24: 13 | F24: 8 | G24: 2 | H24: 6 | I24: ='2주차'!K29 -> 98 | J24: =SUM(D24,E24,F24,G24,H24) -> 41 | K24: =SUM(I24:J24) -> 139 | L24: =RANK(J24,J$6:J$107) -> 12 | M24: =COUNTA(D24,E24,F24,G24,H24)/5 -> 1
B25: 529 | C25: 남 | D25: 9 | E25: 12 | F25: 7 | G25: 7 | H25: 5 | I25: ='2주차'!K30 -> 106 | J25: =SUM(D25,E25,F25,G25,H25) -> 40 | K25: =SUM(I25:J25) -> 146 | L25: =RANK(J25,J$6:J$107) -> 13 | M25: =COUNTA(D25,E25,F25,G25,H25)/5 -> 1
B26: 530 | C26: 남 | D26: 5 | E26: 6 | F26: 6 | G26: 1 | H26: 4 | I26: ='2주차'!K31 -> 54 | J26: =SUM(D26,E26,F26,G26,H26) -> 22 | K26: =SUM(I26:J26) -> 76 | L26: =RANK(J26,J$6:J$107) -> 46 | M26: =COUNTA(D26,E26,F26,G26,H26)/5 -> 1
B27: 532 | C27: 남 | D27: 9 | E27: 6 | F27: 7 | G27: 6 | H27: 3 | I27: ='2주차'!K33 -> 84 | J27: =SUM(D27,E27,F27,G27,H27) -> 31 | K27: =SUM(I27:J27) -> 115 | L27: =RANK(J27,J$6:J$107) -> 30 | M27: =COUNTA(D27,E27,F27,G27,H27)/5 -> 1
B28: 535 | C28: 남 | D28: 7 | E28: 9 | F28: 5 | H28: 3 | I28: ='2주차'!K36 -> 54 | J28: =SUM(D28,E28,F28,G28,H28) -> 24 | K28: =SUM(I28:J28) -> 78 | L28: =RANK(J28,J$6:J$107) -> 41 | M28: =COUNTA(D28,E28,F28,G28,H28)/5 -> 0.8
B29: 537 | C29: 남 | D29: 11 | F29: 6 | G29: 4 | I29: ='2주차'!K38 -> 63 | J29: =SUM(D29,E29,F29,G29,H29) -> 21 | K29: =SUM(I29:J29) -> 84 | L29: =RANK(J29,J$6:J$107) -> 48 | M29: =COUNTA(D29,E29,F29,G29,H29)/5 -> 0.6
B30: 538 | C30: 남 | D30: 10 | E30: 15 | F30: 8 | G30: 3 | H30: 2 | I30: ='2주차'!K39 -> 78 | J30: =SUM(D30,E30,F30,G30,H30) -> 38 | K30: =SUM(I30:J30) -> 116 | L30: =RANK(J30,J$6:J$107) -> 17 | M30: =COUNTA(D30,E30,F30,G30,H30)/5 -> 1
B31: 539 | C31: 남 | D31: 10 | E31: 10 | F31: 6 | G31: 6 | H31: 5 | I31: ='2주차'!K40 -> 78 | J31: =SUM(D31,E31,F31,G31,H31) -> 37 | K31: =SUM(I31:J31) -> 115 | L31: =RANK(J31,J$6:J$107) -> 19 | M31: =COUNTA(D31,E31,F31,G31,H31)/5 -> 1
B32: 540 | C32: 남 | E32: 7 | F32: 5 | G32: 4 | H32: 3 | I32: ='2주차'!K41 -> 67 | J32: =SUM(D32,E32,F32,G32,H32) -> 19 | K32: =SUM(I32:J32) -> 86 | L32: =RANK(J32,J$6:J$107) -> 54 | M32: =COUNTA(D32,E32,F32,G32,H32)/5 -> 0.8
B33: 541 | C33: 남 | I33: ='2주차'!K42 -> 10 | J33: =SUM(D33,E33,F33,G33,H33) -> 0 | K33: =SUM(I33:J33) -> 10 | L33: =RANK(J33,J$6:J$107) -> 74 | M33: =COUNTA(D33,E33,F33,G33,H33)/5 -> 0 | N33: 1차 경고
B34: 542 | C34: 남 | D34: 8 | E34: 10 | G34: 3 | H34: 6 | I34: ='2주차'!K43 -> 51 | J34: =SUM(D34,E34,F34,G34,H34) -> 27 | K34: =SUM(I34:J34) -> 78 | L34: =RANK(J34,J$6:J$107) -> 35 | M34: =COUNTA(D34,E34,F34,G34,H34)/5 -> 0.8
B35: 543 | C35: 남 | D35: 7 | I35: ='2주차'!K44 -> 6 | J35: =SUM(D35,E35,F35,G35,H35) -> 7 | K35: =SUM(I35:J35) -> 13 | L35: =RANK(J35,J$6:J$107) -> 66 | M35: =COUNTA(D35,E35,F35,G35,H35)/5 -> 0.2
B36: 544 | C36: 남 | I36: ='2주차'!K45 -> 4 | J36: =SUM(D36,E36,F36,G36,H36) -> 0 | K36: =SUM(I36:J36) -> 4 | L36: =RANK(J36,J$6:J$107) -> 74 | M36: =COUNTA(D36,E36,F36,G36,H36)/5 -> 0 | N36: 1차 경고
B37: 545 | C37: 남 | D37: 9 | E37: 13 | F37: 6 | G37: 3 | H37: 6 | I37: ='2주차'!K46 -> 77 | J37: =SUM(D37,E37,F37,G37,H37) -> 37 | K37: =SUM(I37:J37) -> 114 | L37: =RANK(J37,J$6:J$107) -> 19 | M37: =COUNTA(D37,E37,F37,G37,H37)/5 -> 1
B38: 546 | C38: 남 | D38: 14 | E38: 11 | F38: 7 | G38: 8 | H38: 5 | I38: ='2주차'!K47 -> 102 | J38: =SUM(D38,E38,F38,G38,H38) -> 45 | K38: =SUM(I38:J38) -> 147 | L38: =RANK(J38,J$6:J$107) -> 8 | M38: =COUNTA(D38,E38,F38,G38,H38)/5 -> 1
B39: 548 | C39: 남 | E39: 14 | G39: 10 | I39: ='2주차'!K48 -> 97 | J39: =SUM(D39,E39,F39,G39,H39) -> 24 | K39: =SUM(I39:J39) -> 121 | L39: =RANK(J39,J$6:J$107) -> 41 | M39: =COUNTA(D39,E39,F39,G39,H39)/5 -> 0.4
B40: 549 | C40: 남 | D40: 14 | E40: 15 | F40: 9 | G40: 14 | H40: 9 | I40: ='2주차'!K49 -> 129 | J40: =SUM(D40,E40,F40,G40,H40) -> 61 | K40: =SUM(I40:J40) -> 190 | L40: =RANK(J40,J$6:J$107) -> 1 | M40: =COUNTA(D40,E40,F40,G40,H40)/5 -> 1
B41: 550 | C41: 남 | D41: 8 | E41: 7 | F41: 8 | G41: 3 | H41: 4 | I41: ='2주차'!K50 -> 46 | J41: =SUM(D41,E41,F41,G41,H41) -> 30 | K41: =SUM(I41:J41) -> 76 | L41: =RANK(J41,J$6:J$107) -> 32 | M41: =COUNTA(D41,E41,F41,G41,H41)/5 -> 1
B42: 551 | C42: 남 | I42: ='2주차'!K51 -> 0 | J42: =SUM(D42,E42,F42,G42,H42) -> 0 | K42: =SUM(I42:J42) -> 0 | L42: =RANK(J42,J$6:J$107) -> 74 | M42: =COUNTA(D42,E42,F42,G42,H42)/5 -> 0 | N42: 1차 경고
B43: 552 | C43: 남 | D43: 11 | E43: 12 | F43: 7 | G43: 3 | H43: 3 | I43: ='2주차'!K52 -> 85 | J43: =SUM(D43,E43,F43,G43,H43) -> 36 | K43: =SUM(I43:J43) -> 121 | L43: =RANK(J43,J$6:J$107) -> 22 | M43: =COUNTA(D43,E43,F43,G43,H43)/5 -> 1
B44: 553 | C44: 남 | I44: ='2주차'!K53 -> 0 | J44: =SUM(D44,E44,F44,G44,H44) -> 0 | K44: =SUM(I44:J44) -> 0 | L44: =RANK(J44,J$6:J$107) -> 74 | M44: =COUNTA(D44,E44,F44,G44,H44)/5 -> 0 | N44: 1차 경고
B45: 554 | C45: 남 | I45: ='2주차'!K54 -> 0 | J45: =SUM(D45,E45,F45,G45,H45) -> 0 | K45: =SUM(I45:J45) -> 0 | L45: =RANK(J45,J$6:J$107) -> 74 | M45: =COUNTA(D45,E45,F45,G45,H45)/5 -> 0 | N45: 1차 경고
B46: 555 | C46: 남 | I46: ='2주차'!K55 -> 0 | J46: =SUM(D46,E46,F46,G46,H46) -> 0 | K46: =SUM(I46:J46) -> 0 | L46: =RANK(J46,J$6:J$107) -> 74 | M46: =COUNTA(D46,E46,F46,G46,H46)/5 -> 0 | N46: 1차 경고
B47: 556 | C47: 여 | D47: 10 | E47: 9 | F47: 6 | G47: 3 | H47: 4 | I47: ='2주차'!K56 -> 63 | J47: =SUM(D47,E47,F47,G47,H47) -> 32 | K47: =SUM(I47:J47) -> 95 | L47: =RANK(J47,J$6:J$107) -> 27 | M47: =COUNTA(D47,E47,F47,G47,H47)/5 -> 1
B48: 557 | C48: 여 | D48: 8 | E48: 9 | H48: 2 | I48: ='2주차'!K57 -> 52 | J48: =SUM(D48,E48,F48,G48,H48) -> 19 | K48: =SUM(I48:J48) -> 71 | L48: =RANK(J48,J$6:J$107) -> 54 | M48: =COUNTA(D48,E48,F48,G48,H48)/5 -> 0.6
B49: 558 | C49: 남 | I49: ='2주차'!K58 -> 0 | J49: =SUM(D49,E49,F49,G49,H49) -> 0 | K49: =SUM(I49:J49) -> 0 | L49: =RANK(J49,J$6:J$107) -> 74 | M49: =COUNTA(D49,E49,F49,G49,H49)/5 -> 0 | N49: 1차 경고
B50: 559 | C50: 남 | D50: 8 | E50: 4 | F50: 7 | H50: 3 | I50: ='2주차'!K59 -> 11 | J50: =SUM(D50,E50,F50,G50,H50) -> 22 | K50: =SUM(I50:J50) -> 33 | L50: =RANK(J50,J$6:J$107) -> 46 | M50: =COUNTA(D50,E50,F50,G50,H50)/5 -> 0.8
B51: 560 | C51: 남 | I51: ='2주차'!K60 -> 0 | J51: =SUM(D51,E51,F51,G51,H51) -> 0 | K51: =SUM(I51:J51) -> 0 | L51: =RANK(J51,J$6:J$107) -> 74 | M51: =COUNTA(D51,E51,F51,G51,H51)/5 -> 0 | N51: 1차 경고
B52: 561 | C52: 남 | I52: ='2주차'!K61 -> 26 | J52: =SUM(D52,E52,F52,G52,H52) -> 0 | K52: =SUM(I52:J52) -> 26 | L52: =RANK(J52,J$6:J$107) -> 74 | M52: =COUNTA(D52,E52,F52,G52,H52)/5 -> 0 | N52: 1차 경고
B53: 562 | C53: 남 | D53: 6 | E53: 10 | F53: 4 | G53: 2 | H53: 3 | I53: ='2주차'!K62 -> 39 | J53: =SUM(D53,E53,F53,G53,H53) -> 25 | K53: =SUM(I53:J53) -> 64 | L53: =RANK(J53,J$6:J$107) -> 37 | M53: =COUNTA(D53,E53,F53,G53,H53)/5 -> 1
B54: 563 | C54: 남 | I54: ='2주차'!K63 -> 29 | J54: =SUM(D54,E54,F54,G54,H54) -> 0 | K54: =SUM(I54:J54) -> 29 | L54: =RANK(J54,J$6:J$107) -> 74 | M54: =COUNTA(D54,E54,F54,G54,H54)/5 -> 0 | N54: 1차 경고
B55: 564 | C55: 여 | I55: ='2주차'!K64 -> 0 | J55: =SUM(D55,E55,F55,G55,H55) -> 0 | K55: =SUM(I55:J55) -> 0 | L55: =RANK(J55,J$6:J$107) -> 74 | M55: =COUNTA(D55,E55,F55,G55,H55)/5 -> 0 | N55: 1차 경고
B56: 565 | C56: 여 | I56: ='2주차'!K65 -> 0 | J56: =SUM(D56,E56,F56,G56,H56) -> 0 | K56: =SUM(I56:J56) -> 0 | L56: =RANK(J56,J$6:J$107) -> 74 | M56: =COUNTA(D56,E56,F56,G56,H56)/5 -> 0 | N56: 1차 경고
B57: 566 | C57: 남 | D57: 6 | F57: 7 | G57: 5 | H57: 2 | I57: ='2주차'!K66 -> 20 | J57: =SUM(D57,E57,F57,G57,H57) -> 20 | K57: =SUM(I57:J57) -> 40 | L57: =RANK(J57,J$6:J$107) -> 52 | M57: =COUNTA(D57,E57,F57,G57,H57)/5 -> 0.8
B58: 567 | C58: 남 | D58: 11 | E58: 12 | F58: 8 | G58: 3 | H58: 4 | I58: ='2주차'!K67 -> 95 | J58: =SUM(D58,E58,F58,G58,H58) -> 38 | K58: =SUM(I58:J58) -> 133 | L58: =RANK(J58,J$6:J$107) -> 17 | M58: =COUNTA(D58,E58,F58,G58,H58)/5 -> 1
B59: 601 | C59: 남 | D59: 10 | E59: 11 | F59: 7 | G59: 8 | I59: ='2주차'!K68 -> 97 | J59: =SUM(D59,E59,F59,G59,H59) -> 36 | K59: =SUM(I59:J59) -> 133 | L59: =RANK(J59,J$6:J$107) -> 22 | M59: =COUNTA(D59,E59,F59,G59,H59)/5 -> 0.8
B60: 602 | C60: 남 | I60: ='2주차'!K69 -> 53 | J60: =SUM(D60,E60,F60,G60,H60) -> 0 | K60: =SUM(I60:J60) -> 53 | L60: =RANK(J60,J$6:J$107) -> 74 | M60: =COUNTA(D60,E60,F60,G60,H60)/5 -> 0 | N60: 1차 경고
B61: 603 | C61: 남 | D61: 12 | E61: 15 | F61: 9 | H61: 3 | I61: ='2주차'!K70 -> 106 | J61: =SUM(D61,E61,F61,G61,H61) -> 39 | K61: =SUM(I61:J61) -> 145 | L61: =RANK(J61,J$6:J$107) -> 15 | M61: =COUNTA(D61,E61,F61,G61,H61)/5 -> 0.8
B62: 604 | C62: 남 | D62: 14 | E62: 12 | F62: 6 | G62: 11 | H62: 9 | I62: ='2주차'!K71 -> 103 | J62: =SUM(D62,E62,F62,G62,H62) -> 52 | K62: =SUM(I62:J62) -> 155 | L62: =RANK(J62,J$6:J$107) -> 3 | M62: =COUNTA(D62,E62,F62,G62,H62)/5 -> 1
B63: 605 | C63: 남 | D63: 8 | E63: 10 | G63: 3 | I63: ='2주차'!K72 -> 48 | J63: =SUM(D63,E63,F63,G63,H63) -> 21 | K63: =SUM(I63:J63) -> 69 | L63: =RANK(J63,J$6:J$107) -> 48 | M63: =COUNTA(D63,E63,F63,G63,H63)/5 -> 0.6
B64: 606 | C64: 남 | D64: 13 | E64: 9 | F64: 3 | H64: 5 | I64: ='2주차'!K73 -> 78 | J64: =SUM(D64,E64,F64,G64,H64) -> 30 | K64: =SUM(I64:J64) -> 108 | L64: =RANK(J64,J$6:J$107) -> 32 | M64: =COUNTA(D64,E64,F64,G64,H64)/5 -> 0.8
B65: 607 | C65: 여 | D65: 9 | E65: 11 | F65: 3 | G65: 9 | H65: 8 | I65: ='2주차'!K74 -> 102 | J65: =SUM(D65,E65,F65,G65,H65) -> 40 | K65: =SUM(I65:J65) -> 142 | L65: =RANK(J65,J$6:J$107) -> 13 | M65: =COUNTA(D65,E65,F65,G65,H65)/5 -> 1
B66: 608 | C66: 여 | I66: ='2주차'!K75 -> 38 | J66: =SUM(D66,E66,F66,G66,H66) -> 0 | K66: =SUM(I66:J66) -> 38 | L66: =RANK(J66,J$6:J$107) -> 74 | M66: =COUNTA(D66,E66,F66,G66,H66)/5 -> 0 | N66: 1차 경고
B67: 609 | C67: 남 | D67: 10 | E67: 14 | F67: 11 | G67: 6 | H67: 6 | I67: ='2주차'!K76 -> 78 | J67: =SUM(D67,E67,F67,G67,H67) -> 47 | K67: =SUM(I67:J67) -> 125 | L67: =RANK(J67,J$6:J$107) -> 5 | M67: =COUNTA(D67,E67,F67,G67,H67)/5 -> 1
B68: 610 | C68: 남 | D68: 10 | E68: 12 | F68: 8 | G68: 8 | H68: 7 | I68: ='2주차'!K77 -> 98 | J68: =SUM(D68,E68,F68,G68,H68) -> 45 | K68: =SUM(I68:J68) -> 143 | L68: =RANK(J68,J$6:J$107) -> 8 | M68: =COUNTA(D68,E68,F68,G68,H68)/5 -> 1
B69: 612 | C69: 남 | I69: ='2주차'!K78 -> 38 | J69: =SUM(D69,E69,F69,G69,H69) -> 0 | K69: =SUM(I69:J69) -> 38 | L69: =RANK(J69,J$6:J$107) -> 74 | M69: =COUNTA(D69,E69,F69,G69,H69)/5 -> 0
B70: 613 | C70: 남 | I70: ='2주차'!K79 -> 30 | J70: =SUM(D70,E70,F70,G70,H70) -> 0 | K70: =SUM(I70:J70) -> 30 | L70: =RANK(J70,J$6:J$107) -> 74 | M70: =COUNTA(D70,E70,F70,G70,H70)/5 -> 0 | N70: 1차 경고
B71: 614 | C71: 여 | D71: 10 | E71: 4 | F71: 4 | H71: 7 | I71: ='2주차'!K80 -> 31 | J71: =SUM(D71,E71,F71,G71,H71) -> 25 | K71: =SUM(I71:J71) -> 56 | L71: =RANK(J71,J$6:J$107) -> 37 | M71: =COUNTA(D71,E71,F71,G71,H71)/5 -> 0.8
B72: 617 | C72: 여 | D72: 12 | E72: 11 | F72: 3 | G72: 5 | H72: 2 | I72: ='2주차'!K81 -> 99 | J72: =SUM(D72,E72,F72,G72,H72) -> 33 | K72: =SUM(I72:J72) -> 132 | L72: =RANK(J72,J$6:J$107) -> 25 | M72: =COUNTA(D72,E72,F72,G72,H72)/5 -> 1
B73: 618 | C73: 여 | I73: ='2주차'!K82 -> 0 | J73: =SUM(D73,E73,F73,G73,H73) -> 0 | K73: =SUM(I73:J73) -> 0 | L73: =RANK(J73,J$6:J$107) -> 74 | M73: =COUNTA(D73,E73,F73,G73,H73)/5 -> 0 | N73: 1차 경고
B74: 619 | C74: 남 | E74: 7 | I74: ='2주차'!K83 -> 25 | J74: =SUM(D74,E74,F74,G74,H74) -> 7 | K74: =SUM(I74:J74) -> 32 | L74: =RANK(J74,J$6:J$107) -> 66 | M74: =COUNTA(D74,E74,F74,G74,H74)/5 -> 0.2
B75: 620 | C75: 남 | D75: 7 | F75: 4 | G75: 4 | I75: ='2주차'!K84 -> 55 | J75: =SUM(D75,E75,F75,G75,H75) -> 15 | K75: =SUM(I75:J75) -> 70 | L75: =RANK(J75,J$6:J$107) -> 59 | M75: =COUNTA(D75,E75,F75,G75,H75)/5 -> 0.6
B76: 621 | C76: 여 | D76: 8 | F76: 6 | G76: 6 | H76: 5 | I76: ='2주차'!K85 -> 64 | J76: =SUM(D76,E76,F76,G76,H76) -> 25 | K76: =SUM(I76:J76) -> 89 | L76: =RANK(J76,J$6:J$107) -> 37 | M76: =COUNTA(D76,E76,F76,G76,H76)/5 -> 0.8
B77: 622 | C77: 여 | I77: ='2주차'!K86 -> 29 | J77: =SUM(D77,E77,F77,G77,H77) -> 0 | K77: =SUM(I77:J77) -> 29 | L77: =RANK(J77,J$6:J$107) -> 74 | M77: =COUNTA(D77,E77,F77,G77,H77)/5 -> 0 | N77: 1차 경고
B78: 623 | C78: 여 | D78: 11 | F78: 5 | G78: 4 | H78: 3 | I78: ='2주차'!K87 -> 61 | J78: =SUM(D78,E78,F78,G78,H78) -> 23 | K78: =SUM(I78:J78) -> 84 | L78: =RANK(J78,J$6:J$107) -> 43 | M78: =COUNTA(D78,E78,F78,G78,H78)/5 -> 0.8
B79: 624 | C79: 여 | D79: 8 | I79: ='2주차'!K88 -> 71 | J79: =SUM(D79,E79,F79,G79,H79) -> 8 | K79: =SUM(I79:J79) -> 79 | L79: =RANK(J79,J$6:J$107) -> 64 | M79: =COUNTA(D79,E79,F79,G79,H79)/5 -> 0.2
B80: 625 | C80: 남 | D80: 8 | F80: 7 | G80: 2 | I80: ='2주차'!K89 -> 39 | J80: =SUM(D80,E80,F80,G80,H80) -> 17 | K80: =SUM(I80:J80) -> 56 | L80: =RANK(J80,J$6:J$107) -> 57 | M80: =COUNTA(D80,E80,F80,G80,H80)/5 -> 0.6
B81: 626 | C81: 남 | D81: 11 | E81: 11 | F81: 5 | G81: 11 | H81: 6 | I81: ='2주차'!K90 -> 84 | J81: =SUM(D81,E81,F81,G81,H81) -> 44 | K81: =SUM(I81:J81) -> 128 | L81: =RANK(J81,J$6:J$107) -> 10 | M81: =COUNTA(D81,E81,F81,G81,H81)/5 -> 1
B82: 627 | C82: 남 | I82: ='2주차'!K91 -> 21 | J82: =SUM(D82,E82,F82,G82,H82) -> 0 | K82: =SUM(I82:J82) -> 21 | L82: =RANK(J82,J$6:J$107) -> 74 | M82: =COUNTA(D82,E82,F82,G82,H82)/5 -> 0 | N82: 1차 경고
B83: 628 | C83: 여 | I83: ='2주차'!K92 -> 4 | J83: =SUM(D83,E83,F83,G83,H83) -> 0 | K83: =SUM(I83:J83) -> 4 | L83: =RANK(J83,J$6:J$107) -> 74 | M83: =COUNTA(D83,E83,F83,G83,H83)/5 -> 0 | N83: 1차 경고
B84: 629 | C84: 남 | F84: 7 | I84: ='2주차'!K93 -> 55 | J84: =SUM(D84,E84,F84,G84,H84) -> 7 | K84: =SUM(I84:J84) -> 62 | L84: =RANK(J84,J$6:J$107) -> 66 | M84: =COUNTA(D84,E84,F84,G84,H84)/5 -> 0.2
B85: 630 | C85: 남 | I85: ='2주차'!K94 -> 80 | J85: =SUM(D85,E85,F85,G85,H85) -> 0 | K85: =SUM(I85:J85) -> 80 | L85: =RANK(J85,J$6:J$107) -> 74 | M85: =COUNTA(D85,E85,F85,G85,H85)/5 -> 0
B86: 631 | C86: 남 | D86: 9 | E86: 12 | G86: 4 | H86: 6 | I86: ='2주차'!K95 -> 77 | J86: =SUM(D86,E86,F86,G86,H86) -> 31 | K86: =SUM(I86:J86) -> 108 | L86: =RANK(J86,J$6:J$107) -> 30 | M86: =COUNTA(D86,E86,F86,G86,H86)/5 -> 0.8
B87: 632 | C87: 여 | D87: 13 | E87: 13 | F87: 10 | G87: 13 | H87: 10 | I87: ='2주차'!K96 -> 124 | J87: =SUM(D87,E87,F87,G87,H87) -> 59 | K87: =SUM(I87:J87) -> 183 | L87: =RANK(J87,J$6:J$107) -> 2 | M87: =COUNTA(D87,E87,F87,G87,H87)/5 -> 1
B88: 633 | C88: 남 | I88: ='2주차'!K97 -> 8 | J88: =SUM(D88,E88,F88,G88,H88) -> 0 | K88: =SUM(I88:J88) -> 8 | L88: =RANK(J88,J$6:J$107) -> 74 | M88: =COUNTA(D88,E88,F88,G88,H88)/5 -> 0 | N88: 1차 경고
B89: 634 | C89: 남 | I89: ='2주차'!K98 -> 32 | J89: =SUM(D89,E89,F89,G89,H89) -> 0 | K89: =SUM(I89:J89) -> 32 | L89: =RANK(J89,J$6:J$107) -> 74 | M89: =COUNTA(D89,E89,F89,G89,H89)/5 -> 0 | N89: 1차 경고
B90: 635 | C90: 남 | I90: ='2주차'!K99 -> 51 | J90: =SUM(D90,E90,F90,G90,H90) -> 0 | K90: =SUM(I90:J90) -> 51 | L90: =RANK(J90,J$6:J$107) -> 74 | M90: =COUNTA(D90,E90,F90,G90,H90)/5 -> 0 | N90: 1차 경고
B91: 637 | C91: 여 | G91: 1 | I91: ='2주차'!K101 -> 18 | J91: =SUM(D91,E91,F91,G91,H91) -> 1 | K91: =SUM(I91:J91) -> 19 | L91: =RANK(J91,J$6:J$107) -> 73 | M91: =COUNTA(D91,E91,F91,G91,H91)/5 -> 0.2
B92: 639 | C92: 남 | D92: 13 | E92: 12 | F92: 7 | G92: 3 | I92: ='2주차'!K103 -> 94 | J92: =SUM(D92,E92,F92,G92,H92) -> 35 | K92: =SUM(I92:J92) -> 129 | L92: =RANK(J92,J$6:J$107) -> 24 | M92: =COUNTA(D92,E92,F92,G92,H92)/5 -> 0.8
B93: 640 | C93: 남 | F93: 7 | I93: ='2주차'!K104 -> 44 | J93: =SUM(D93,E93,F93,G93,H93) -> 7 | K93: =SUM(I93:J93) -> 51 | L93: =RANK(J93,J$6:J$107) -> 66 | M93: =COUNTA(D93,E93,F93,G93,H93)/5 -> 0.2
B94: 643 | C94: 여 | D94: 5 | I94: ='2주차'!K107 -> 14 | J94: =SUM(D94,E94,F94,G94,H94) -> 5 | K94: =SUM(I94:J94) -> 19 | L94: =RANK(J94,J$6:J$107) -> 71 | M94: =COUNTA(D94,E94,F94,G94,H94)/5 -> 0.2
B95: 644 | C95: 남 | D95: 11 | E95: 3 | F95: 7 | I95: ='2주차'!K108 -> 32 | J95: =SUM(D95,E95,F95,G95,H95) -> 21 | K95: =SUM(I95:J95) -> 53 | L95: =RANK(J95,J$6:J$107) -> 48 | M95: =COUNTA(D95,E95,F95,G95,H95)/5 -> 0.6
B96: 645 | C96: 여 | D96: 7 | E96: 15 | F96: 7 | G96: 9 | H96: 9 | I96: ='2주차'!K109 -> 105 | J96: =SUM(D96,E96,F96,G96,H96) -> 47 | K96: =SUM(I96:J96) -> 152 | L96: =RANK(J96,J$6:J$107) -> 5 | M96: =COUNTA(D96,E96,F96,G96,H96)/5 -> 1
B97: 646 | C97: 남 | D97: 11 | E97: 14 | G97: 4 | I97: ='2주차'!K110 -> 93 | J97: =SUM(D97,E97,F97,G97,H97) -> 29 | K97: =SUM(I97:J97) -> 122 | L97: =RANK(J97,J$6:J$107) -> 34 | M97: =COUNTA(D97,E97,F97,G97,H97)/5 -> 0.6
B98: 647 | C98: 남 | D98: 14 | E98: 13 | F98: 3 | G98: 8 | H98: 8 | I98: ='2주차'!K111 -> 107 | J98: =SUM(D98,E98,F98,G98,H98) -> 46 | K98: =SUM(I98:J98) -> 153 | L98: =RANK(J98,J$6:J$107) -> 7 | M98: =COUNTA(D98,E98,F98,G98,H98)/5 -> 1
B99: 648 | C99: 여 | E99: 15 | F99: 9 | H99: 8 | I99: ='2주차'!K112 -> 32 | J99: =SUM(D99,E99,F99,G99,H99) -> 32 | K99: =SUM(I99:J99) -> 64 | L99: =RANK(J99,J$6:J$107) -> 27 | M99: =COUNTA(D99,E99,F99,G99,H99)/5 -> 0.6
B100: 649 | C100: 여 | D100: 9 | E100: 8 | F100: 4 | I100: ='2주차'!K113 -> 57 | J100: =SUM(D100,E100,F100,G100,H100) -> 21 | K100: =SUM(I100:J100) -> 78 | L100: =RANK(J100,J$6:J$107) -> 48 | M100: =COUNTA(D100,E100,F100,G100,H100)/5 -> 0.6
B101: 650 | C101: 여 | I101: ='2주차'!K114 -> 16 | J101: =SUM(D101,E101,F101,G101,H101) -> 0 | K101: =SUM(I101:J101) -> 16 | L101: =RANK(J101,J$6:J$107) -> 74 | M101: =COUNTA(D101,E101,F101,G101,H101)/5 -> 0 | N101: 1차 경고
...

Sheet Sheet2
