Workbook

Sheet 1주차
B2: 5월 아침 모의고사 성적현황
B3: 시험 1주차 : 5월 14일 ~ 18일
G4: 14 | H4: 15 | I4: 16 | J4: 17 | K4: 18 | L4: 주간성적 | N4: 모의고사 참여율 | O4: 비고
A5: 수험 번호 | B5: 수험 번호 | E5: 성별 | F5: 연락처 | G5: 국사 | H5: 형소법 | I5: 경찰학 | J5: 형법 | K5: 영어 | L5: 전체 총점 | M5: 등수
B6: 100 | E6: 남 | G6: 9 | H6: 10 | I6: 7 | J6: 8 | K6: 9 | L6: =SUM(G6,H6,I6,J6,K6) -> 43 | M6: =RANK(L6,L$6:L$115) -> 17 | N6: =COUNTA(G6,H6,I6,J6,K6)/5 -> 1
B7: 101 | E7: 여 | L7: =SUM(G7,H7,I7,J7,K7) -> 0 | M7: =RANK(L7,L$6:L$115) -> 94 | N7: =COUNTA(G7,H7,I7,J7,K7)/5 -> 0
B8: 102 | E8: 남 | L8: =SUM(G8,H8,I8,J8,K8) -> 0 | M8: =RANK(L8,L$6:L$115) -> 94 | N8: =COUNTA(G8,H8,I8,J8,K8)/5 -> 0
B9: 103 | E9: 남 | K9: 6 | L9: =SUM(G9,H9,I9,J9,K9) -> 6 | M9: =RANK(L9,L$6:L$115) -> 91 | N9: =COUNTA(G9,H9,I9,J9,K9)/5 -> 0.2
B10: 105 | E10: 여 | L10: =SUM(G10,H10,I10,J10,K10) -> 0 | M10: =RANK(L10,L$6:L$115) -> 94 | N10: =COUNTA(G10,H10,I10,J10,K10)/5 -> 0
B11: 106 | E11: 여 | G11: 12 | H11: 11 | I11: 9 | L11: =SUM(G11,H11,I11,J11,K11) -> 32 | M11: =RANK(L11,L$6:L$115) -> 39 | N11: =COUNTA(G11,H11,I11,J11,K11)/5 -> 0.6
B12: 107 | E12: 여 | G12: 7 | H12: 8 | I12: 6 | J12: 6 | K12: 3 | L12: =SUM(G12,H12,I12,J12,K12) -> 30 | M12: =RANK(L12,L$6:L$115) -> 46 | N12: =COUNTA(G12,H12,I12,J12,K12)/5 -> 1
B13: 108 | E13: 여 | G13: 8 | H13: 10 | I13: 8 | J13: 2 | K13: 6 | L13: =SUM(G13,H13,I13,J13,K13) -> 34 | M13: =RANK(L13,L$6:L$115) -> 35 | N13: =COUNTA(G13,H13,I13,J13,K13)/5 -> 1
B14: 109 | E14: 남 | G14: 11 | H14: 8 | I14: 8 | J14: 8 | K14: 6 | L14: =SUM(G14,H14,I14,J14,K14) -> 41 | M14: =RANK(L14,L$6:L$115) -> 20 | N14: =COUNTA(G14,H14,I14,J14,K14)/5 -> 1
B15: 110 | E15: 남 | G15: 8 | H15: 12 | I15: 8 | J15: 6 | K15: 9 | L15: =SUM(G15,H15,I15,J15,K15) -> 43 | M15: =RANK(L15,L$6:L$115) -> 17 | N15: =COUNTA(G15,H15,I15,J15,K15)/5 -> 1
B16: 111 | E16: 남 | G16: 8 | H16: 7 | I16: 11 | J16: 8 | K16: 7 | L16: =SUM(G16,H16,I16,J16,K16) -> 41 | M16: =RANK(L16,L$6:L$115) -> 20 | N16: =COUNTA(G16,H16,I16,J16,K16)/5 -> 1
B17: 112 | E17: 여 | G17: 4 | J17: 6 | L17: =SUM(G17,H17,I17,J17,K17) -> 10 | M17: =RANK(L17,L$6:L$115) -> 87 | N17: =COUNTA(G17,H17,I17,J17,K17)/5 -> 0.4
B18: 113 | E18: 남 | K18: 4 | L18: =SUM(G18,H18,I18,J18,K18) -> 4 | M18: =RANK(L18,L$6:L$115) -> 93 | N18: =COUNTA(G18,H18,I18,J18,K18)/5 -> 0.2
B19: 114 | E19: 남 | G19: 9 | H19: 10 | I19: 7 | J19: 6 | K19: 5 | L19: =SUM(G19,H19,I19,J19,K19) -> 37 | M19: =RANK(L19,L$6:L$115) -> 28 | N19: =COUNTA(G19,H19,I19,J19,K19)/5 -> 1
B20: 115 | E20: 남 | L20: =SUM(G20,H20,I20,J20,K20) -> 0 | M20: =RANK(L20,L$6:L$115) -> 94 | N20: =COUNTA(G20,H20,I20,J20,K20)/5 -> 0
B21: 116 | E21: 남 | G21: 8 | H21: 7 | I21: 5 | J21: 4 | K21: 6 | L21: =SUM(G21,H21,I21,J21,K21) -> 30 | M21: =RANK(L21,L$6:L$115) -> 46 | N21: =COUNTA(G21,H21,I21,J21,K21)/5 -> 1
B22: 117 | E22: 여 | G22: 10 | H22: 9 | I22: 8 | J22: 4 | K22: 9 | L22: =SUM(G22,H22,I22,J22,K22) -> 40 | M22: =RANK(L22,L$6:L$115) -> 24 | N22: =COUNTA(G22,H22,I22,J22,K22)/5 -> 1
B23: 118 | E23: 남 | G23: 12 | H23: 13 | I23: 8 | J23: 11 | K23: 8 | L23: =SUM(G23,H23,I23,J23,K23) -> 52 | M23: =RANK(L23,L$6:L$115) -> 10 | N23: =COUNTA(G23,H23,I23,J23,K23)/5 -> 1
B24: 119 | E24: 남 | G24: 10 | H24: 4 | K24: 7 | L24: =SUM(G24,H24,I24,J24,K24) -> 21 | M24: =RANK(L24,L$6:L$115) -> 66 | N24: =COUNTA(G24,H24,I24,J24,K24)/5 -> 0.6
B25: 120 | E25: 여 | L25: =SUM(G25,H25,I25,J25,K25) -> 0 | M25: =RANK(L25,L$6:L$115) -> 94 | N25: =COUNTA(G25,H25,I25,J25,K25)/5 -> 0
B26: 121 | E26: 남 | G26: 6 | H26: 5 | I26: 4 | J26: 8 | K26: 4 | L26: =SUM(G26,H26,I26,J26,K26) -> 27 | M26: =RANK(L26,L$6:L$115) -> 50 | N26: =COUNTA(G26,H26,I26,J26,K26)/5 -> 1
B27: 122 | E27: 남 | G27: 7 | H27: 4 | I27: 7 | J27: 7 | L27: =SUM(G27,H27,I27,J27,K27) -> 25 | M27: =RANK(L27,L$6:L$115) -> 58 | N27: =COUNTA(G27,H27,I27,J27,K27)/5 -> 0.8
B28: 123 | E28: 남 | G28: 14 | H28: 15 | I28: 15 | J28: 10 | K28: 6 | L28: =SUM(G28,H28,I28,J28,K28) -> 60 | M28: =RANK(L28,L$6:L$115) -> 3 | N28: =COUNTA(G28,H28,I28,J28,K28)/5 -> 1
B29: 124 | E29: 남 | G29: 10 | H29: 2 | I29: 5 | J29: 8 | K29: 4 | L29: =SUM(G29,H29,I29,J29,K29) -> 29 | M29: =RANK(L29,L$6:L$115) -> 48 | N29: =COUNTA(G29,H29,I29,J29,K29)/5 -> 1
B30: 125 | E30: 남 | L30: =SUM(G30,H30,I30,J30,K30) -> 0 | M30: =RANK(L30,L$6:L$115) -> 94 | N30: =COUNTA(G30,H30,I30,J30,K30)/5 -> 0
B31: 126 | E31: 남 | G31: 9 | H31: 11 | I31: 8 | J31: 3 | K31: 6 | L31: =SUM(G31,H31,I31,J31,K31) -> 37 | M31: =RANK(L31,L$6:L$115) -> 28 | N31: =COUNTA(G31,H31,I31,J31,K31)/5 -> 1
B32: 127 | E32: 남 | L32: =SUM(G32,H32,I32,J32,K32) -> 0 | M32: =RANK(L32,L$6:L$115) -> 94 | N32: =COUNTA(G32,H32,I32,J32,K32)/5 -> 0
B33: 128 | E33: 남 | H33: 9 | I33: 6 | L33: =SUM(G33,H33,I33,J33,K33) -> 15 | M33: =RANK(L33,L$6:L$115) -> 76 | N33: =COUNTA(G33,H33,I33,J33,K33)/5 -> 0.4
B34: 129 | E34: 여 | G34: 7 | J34: 5 | L34: =SUM(G34,H34,I34,J34,K34) -> 12 | M34: =RANK(L34,L$6:L$115) -> 82 | N34: =COUNTA(G34,H34,I34,J34,K34)/5 -> 0.4
B35: 130 | E35: 남 | G35: 5 | H35: 4 | I35: 5 | J35: 3 | K35: 5 | L35: =SUM(G35,H35,I35,J35,K35) -> 22 | M35: =RANK(L35,L$6:L$115) -> 64 | N35: =COUNTA(G35,H35,I35,J35,K35)/5 -> 1
B36: 131 | E36: 남 | G36: 14 | H36: 13 | I36: 9 | J36: 10 | K36: 7 | L36: =SUM(G36,H36,I36,J36,K36) -> 53 | M36: =RANK(L36,L$6:L$115) -> 7 | N36: =COUNTA(G36,H36,I36,J36,K36)/5 -> 1
B37: 132 | E37: 남 | G37: 8 | H37: 6 | I37: 9 | J37: 8 | K37: 6 | L37: =SUM(G37,H37,I37,J37,K37) -> 37 | M37: =RANK(L37,L$6:L$115) -> 28 | N37: =COUNTA(G37,H37,I37,J37,K37)/5 -> 1
B38: 133 | E38: 남 | I38: 11 | L38: =SUM(G38,H38,I38,J38,K38) -> 11 | M38: =RANK(L38,L$6:L$115) -> 86 | N38: =COUNTA(G38,H38,I38,J38,K38)/5 -> 0.2
B39: 134 | E39: 남 | G39: 6 | H39: 4 | I39: 4 | J39: 4 | K39: 7 | L39: =SUM(G39,H39,I39,J39,K39) -> 25 | M39: =RANK(L39,L$6:L$115) -> 58 | N39: =COUNTA(G39,H39,I39,J39,K39)/5 -> 1
B40: 135 | E40: 남 | G40: 12 | H40: 13 | I40: 12 | J40: 13 | K40: 11 | L40: =SUM(G40,H40,I40,J40,K40) -> 61 | M40: =RANK(L40,L$6:L$115) -> 2 | N40: =COUNTA(G40,H40,I40,J40,K40)/5 -> 1
B41: 136 | E41: 남 | L41: =SUM(G41,H41,I41,J41,K41) -> 0 | M41: =RANK(L41,L$6:L$115) -> 94 | N41: =COUNTA(G41,H41,I41,J41,K41)/5 -> 0
...

Sheet 2주차
B2: 5월 아침 모의고사 성적현황
B3: 시험 2주차 : 5월 21일 ~ 25일
G4: 21 | H4: 22 | I4: 23 | J4: 24 | K4: 25 | L4: 주간성적 | P4: 모의고사 참여율 | Q4: 비고
A5: 수험 번호 | B5: 수험 번호 | C5: 유/무 | D5: 이름 | E5: 성별 | F5: 연락처 | G5: 국사 | H5: 형소법 | I5: 경찰학 | J5: 형법 | K5: 영어 | L5: 이번주 총점 | M5: 누적 총점 | N5: 전체 총점 | O5: 등수
B6: 100 | E6: 남 | G6: 10 | H6: 13 | I6: 10 | J6: 10 | K6: 13 | L6: =SUM(G6:K6) -> 56 | M6: ='1주차'!L6 -> 43 | N6: =SUM(L6,M6) -> 99 | O6: =RANK(N6,N$6:N$107) -> 11 | P6: =COUNTA(G6,H6,I6,J6,K6)/5 -> 1
B7: 103 | E7: 남 | G7: 7 | L7: =SUM(G7:K7) -> 7 | M7: ='1주차'!L9 -> 6 | N7: =SUM(L7,M7) -> 13 | O7: =RANK(N7,N$6:N$107) -> 91 | P7: =COUNTA(G7,H7,I7,J7,K7)/5 -> 0.2
B8: 106 | E8: 여 | G8: 11 | H8: 9 | I8: 10 | J8: 4 | K8: 16 | L8: =SUM(G8:K8) -> 50 | M8: ='1주차'!L11 -> 32 | N8: =SUM(L8,M8) -> 82 | O8: =RANK(N8,N$6:N$107) -> 24 | P8: =COUNTA(G8,H8,I8,J8,K8)/5 -> 1
B9: 107 | E9: 여 | G9: 5 | H9: 8 | I9: 6 | J9: 4 | K9: 11 | L9: =SUM(G9:K9) -> 34 | M9: ='1주차'!L12 -> 30 | N9: =SUM(L9,M9) -> 64 | O9: =RANK(N9,N$6:N$107) -> 36 | P9: =COUNTA(G9,H9,I9,J9,K9)/5 -> 1
B10: 108 | E10: 여 | G10: 4 | H10: 2 | I10: 6 | J10: 4 | K10: 10 | L10: =SUM(G10:K10) -> 26 | M10: ='1주차'!L13 -> 34 | N10: =SUM(L10,M10) -> 60 | O10: =RANK(N10,N$6:N$107) -> 41 | P10: =COUNTA(G10,H10,I10,J10,K10)/5 -> 1
B11: 109 | E11: 남 | G11: 7 | H11: 8 | I11: 6 | J11: 8 | K11: 14 | L11: =SUM(G11:K11) -> 43 | M11: ='1주차'!L14 -> 41 | N11: =SUM(L11,M11) -> 84 | O11: =RANK(N11,N$6:N$107) -> 23 | P11: =COUNTA(G11,H11,I11,J11,K11)/5 -> 1
B12: 110 | E12: 남 | G12: 5 | H12: 11 | I12: 9 | J12: 7 | K12: 16 | L12: =SUM(G12:K12) -> 48 | M12: ='1주차'!L15 -> 43 | N12: =SUM(L12,M12) -> 91 | O12: =RANK(N12,N$6:N$107) -> 17 | P12: =COUNTA(G12,H12,I12,J12,K12)/5 -> 1
B13: 111 | E13: 남 | H13: 11 | I13: 5 | J13: 6 | L13: =SUM(G13:K13) -> 22 | M13: ='1주차'!L16 -> 41 | N13: =SUM(L13,M13) -> 63 | O13: =RANK(N13,N$6:N$107) -> 37 | P13: =COUNTA(G13,H13,I13,J13,K13)/5 -> 0.6
B14: 112 | E14: 여 | L14: =SUM(G14:K14) -> 0 | M14: ='1주차'!L17 -> 10 | N14: =SUM(L14,M14) -> 10 | O14: =RANK(N14,N$6:N$107) -> 93 | P14: =COUNTA(G14,H14,I14,J14,K14)/5 -> 0 | Q14: 1차 경고
B15: 113 | E15: 남 | G15: 5 | L15: =SUM(G15:K15) -> 5 | M15: ='1주차'!L18 -> 4 | N15: =SUM(L15,M15) -> 9 | O15: =RANK(N15,N$6:N$107) -> 95 | P15: =COUNTA(G15,H15,I15,J15,K15)/5 -> 0.2
B16: 114 | E16: 남 | H16: 7 | I16: 6 | J16: 7 | K16: 8 | L16: =SUM(G16:K16) -> 28 | M16: ='1주차'!L19 -> 37 | N16: =SUM(L16,M16) -> 65 | O16: =RANK(N16,N$6:N$107) -> 35 | P16: =COUNTA(G16,H16,I16,J16,K16)/5 -> 0.8
B17: 116 | E17: 남 | G17: 7 | H17: 3 | I17: 3 | J17: 1 | K17: 7 | L17: =SUM(G17:K17) -> 21 | M17: ='1주차'!L21 -> 30 | N17: =SUM(L17,M17) -> 51 | O17: =RANK(N17,N$6:N$107) -> 53 | P17: =COUNTA(G17,H17,I17,J17,K17)/5 -> 1
B18: 117 | E18: 여 | G18: 9 | L18: =SUM(G18:K18) -> 9 | M18: ='1주차'!L22 -> 40 | N18: =SUM(L18,M18) -> 49 | O18: =RANK(N18,N$6:N$107) -> 56 | P18: =COUNTA(G18,H18,I18,J18,K18)/5 -> 0.2
B19: 118 | E19: 남 | G19: 14 | H19: 11 | I19: 7 | K19: 14 | L19: =SUM(G19:K19) -> 46 | M19: ='1주차'!L23 -> 52 | N19: =SUM(L19,M19) -> 98 | O19: =RANK(N19,N$6:N$107) -> 12 | P19: =COUNTA(G19,H19,I19,J19,K19)/5 -> 0.8
B20: 119 | E20: 남 | G20: 8 | H20: 8 | J20: 8 | K20: 11 | L20: =SUM(G20:K20) -> 35 | M20: ='1주차'!L24 -> 21 | N20: =SUM(L20,M20) -> 56 | O20: =RANK(N20,N$6:N$107) -> 46 | P20: =COUNTA(G20,H20,I20,J20,K20)/5 -> 0.8
B21: 121 | E21: 남 | G21: 2 | H21: 7 | I21: 3 | J21: 4 | K21: 1 | L21: =SUM(G21:K21) -> 17 | M21: ='1주차'!L26 -> 27 | N21: =SUM(L21,M21) -> 44 | O21: =RANK(N21,N$6:N$107) -> 60 | P21: =COUNTA(G21,H21,I21,J21,K21)/5 -> 1
B22: 122 | E22: 남 | G22: 6 | L22: =SUM(G22:K22) -> 6 | M22: ='1주차'!L27 -> 25 | N22: =SUM(L22,M22) -> 31 | O22: =RANK(N22,N$6:N$107) -> 70 | P22: =COUNTA(G22,H22,I22,J22,K22)/5 -> 0.2
B23: 123 | E23: 남 | G23: 15 | H23: 15 | I23: 14 | J23: 11 | K23: 10 | L23: =SUM(G23:K23) -> 65 | M23: ='1주차'!L28 -> 60 | N23: =SUM(L23,M23) -> 125 | O23: =RANK(N23,N$6:N$107) -> 2 | P23: =COUNTA(G23,H23,I23,J23,K23)/5 -> 1
B24: 124 | E24: 남 | G24: 8 | H24: 11 | I24: 9 | J24: 4 | K24: 7 | L24: =SUM(G24:K24) -> 39 | M24: ='1주차'!L29 -> 29 | N24: =SUM(L24,M24) -> 68 | O24: =RANK(N24,N$6:N$107) -> 33 | P24: =COUNTA(G24,H24,I24,J24,K24)/5 -> 1
B25: 126 | E25: 남 | G25: 9 | H25: 10 | I25: 6 | J25: 9 | K25: 14 | L25: =SUM(G25:K25) -> 48 | M25: ='1주차'!L31 -> 37 | N25: =SUM(L25,M25) -> 85 | O25: =RANK(N25,N$6:N$107) -> 21 | P25: =COUNTA(G25,H25,I25,J25,K25)/5 -> 1
B26: 128 | E26: 남 | H26: 6 | L26: =SUM(G26:K26) -> 6 | M26: ='1주차'!L33 -> 15 | N26: =SUM(L26,M26) -> 21 | O26: =RANK(N26,N$6:N$107) -> 82 | P26: =COUNTA(G26,H26,I26,J26,K26)/5 -> 0.2
B27: 129 | E27: 여 | H27: 5 | I27: 4 | J27: 4 | L27: =SUM(G27:K27) -> 13 | M27: ='1주차'!L34 -> 12 | N27: =SUM(L27,M27) -> 25 | O27: =RANK(N27,N$6:N$107) -> 79 | P27: =COUNTA(G27,H27,I27,J27,K27)/5 -> 0.6
B28: 130 | E28: 남 | H28: 2 | I28: 2 | J28: 5 | K28: 4 | L28: =SUM(G28:K28) -> 13 | M28: ='1주차'!L35 -> 22 | N28: =SUM(L28,M28) -> 35 | O28: =RANK(N28,N$6:N$107) -> 66 | P28: =COUNTA(G28,H28,I28,J28,K28)/5 -> 0.8
B29: 131 | E29: 남 | G29: 15 | H29: 14 | I29: 11 | J29: 12 | K29: 13 | L29: =SUM(G29:K29) -> 65 | M29: ='1주차'!L36 -> 53 | N29: =SUM(L29,M29) -> 118 | O29: =RANK(N29,N$6:N$107) -> 4 | P29: =COUNTA(G29,H29,I29,J29,K29)/5 -> 1
B30: 132 | E30: 남 | G30: 6 | H30: 9 | I30: 10 | J30: 2 | K30: 10 | L30: =SUM(G30:K30) -> 37 | M30: ='1주차'!L37 -> 37 | N30: =SUM(L30,M30) -> 74 | O30: =RANK(N30,N$6:N$107) -> 31 | P30: =COUNTA(G30,H30,I30,J30,K30)/5 -> 1
B31: 133 | E31: 남 | G31: 13 | J31: 9 | K31: 11 | L31: =SUM(G31:K31) -> 33 | M31: ='1주차'!L38 -> 11 | N31: =SUM(L31,M31) -> 44 | O31: =RANK(N31,N$6:N$107) -> 60 | P31: =COUNTA(G31,H31,I31,J31,K31)/5 -> 0.6
B32: 134 | E32: 남 | G32: 7 | H32: 6 | I32: 3 | J32: 1 | K32: 10 | L32: =SUM(G32:K32) -> 27 | M32: ='1주차'!L39 -> 25 | N32: =SUM(L32,M32) -> 52 | O32: =RANK(N32,N$6:N$107) -> 52 | P32: =COUNTA(G32,H32,I32,J32,K32)/5 -> 1
B33: 135 | E33: 남 | G33: 12 | H33: 13 | I33: 12 | J33: 10 | K33: 18 | L33: =SUM(G33:K33) -> 65 | M33: ='1주차'!L40 -> 61 | N33: =SUM(L33,M33) -> 126 | O33: =RANK(N33,N$6:N$107) -> 1 | P33: =COUNTA(G33,H33,I33,J33,K33)/5 -> 1
B34: 136 | E34: 남 | G34: 9 | H34: 6 | J34: 2 | L34: =SUM(G34:K34) -> 17 | M34: ='1주차'!L41 -> 0 | N34: =SUM(L34,M34) -> 17 | O34: =RANK(N34,N$6:N$107) -> 85 | P34: =COUNTA(G34,H34,I34,J34,K34)/5 -> 0.6
B35: 137 | E35: 남 | G35: 4 | H35: 11 | I35: 5 | J35: 6 | K35: 11 | L35: =SUM(G35:K35) -> 37 | M35: ='1주차'!L42 -> 21 | N35: =SUM(L35,M35) -> 58 | O35: =RANK(N35,N$6:N$107) -> 42 | P35: =COUNTA(G35,H35,I35,J35,K35)/5 -> 1
B36: 139 | E36: 남 | G36: 7 | H36: 7 | I36: 6 | J36: 5 | K36: 10 | L36: =SUM(G36:K36) -> 35 | M36: ='1주차'!L44 -> 16 | N36: =SUM(L36,M36) -> 51 | O36: =RANK(N36,N$6:N$107) -> 53 | P36: =COUNTA(G36,H36,I36,J36,K36)/5 -> 1
B37: 140 | E37: 남 | G37: 5 | H37: 7 | I37: 1 | J37: 3 | K37: 4 | L37: =SUM(G37:K37) -> 20 | M37: ='1주차'!L45 -> 13 | N37: =SUM(L37,M37) -> 33 | O37: =RANK(N37,N$6:N$107) -> 68 | P37: =COUNTA(G37,H37,I37,J37,K37)/5 -> 1
B38: 230 | E38: 남 | L38: =SUM(G38:K38) -> 0 | M38: ='1주차'!L46 -> 26 | N38: =SUM(L38,M38) -> 26 | O38: =RANK(N38,N$6:N$107) -> 78 | P38: =COUNTA(G38,H38,I38,J38,K38)/5 -> 0 | Q38: 1차 경고
B39: 231 | E39: 남 | G39: 10 | H39: 6 | I39: 9 | J39: 3 | K39: 14 | L39: =SUM(G39:K39) -> 42 | M39: ='1주차'!L47 -> 37 | N39: =SUM(L39,M39) -> 79 | O39: =RANK(N39,N$6:N$107) -> 26 | P39: =COUNTA(G39,H39,I39,J39,K39)/5 -> 1
B40: 232 | E40: 남 | G40: 5 | H40: 7 | I40: 3 | J40: 4 | K40: 9 | L40: =SUM(G40:K40) -> 28 | M40: ='1주차'!L48 -> 26 | N40: =SUM(L40,M40) -> 54 | O40: =RANK(N40,N$6:N$107) -> 48 | P40: =COUNTA(G40,H40,I40,J40,K40)/5 -> 1
B41: 233 | E41: 여 | L41: =SUM(G41:K41) -> 0 | M41: ='1주차'!L49 -> 0 | N41: =SUM(L41,M41) -> 0 | O41: =RANK(N41,N$6:N$107) -> 98 | P41: =COUNTA(G41,H41,I41,J41,K41)/5 -> 0 | Q41: 1차 경고
...

Sheet 3주차
B2: 5월 아침 모의고사 성적현황
B3: 시험 3주차 : 5월 28일 ~ 6월 2일
G4: 28 | H4: 29 | I4: 30 | J4: 1 | K4: 2 | L4: 주간성적 | P4: 모의고사 참여율 | Q4: 비고
A5: 수험 번호 | B5: 수험 번호 | C5: 유/무 | D5: 이름 | E5: 성별 | G5: 국사 | H5: 형소법 | I5: 경찰학 | J5: 형법 | K5: 영어 | L5: 이번주 총점 | M5: 누적 총점 | N5: 전체 총점 | O5: 등수
B6: 100 | E6: 남 | G6: 6 | H6: 12 | I6: 8 | J6: 8 | K6: 8 | L6: =SUM(G6:K6) -> 42 | M6: ='2주차'!N6 -> 99 | N6: =SUM(L6,M6) -> 141 | O6: =RANK(N6,N$6:N$107) -> 10 | P6: =COUNTA(G6,H6,I6,J6,K6)/5 -> 1
B7: 103 | E7: 남 | L7: =SUM(G7:K7) -> 0 | M7: ='2주차'!N7 -> 13 | N7: =SUM(L7,M7) -> 13 | O7: =RANK(N7,N$6:N$107) -> 94 | P7: =COUNTA(G7,H7,I7,J7,K7)/5 -> 0 | Q7: 1차 경고
B8: 106 | E8: 여 | G8: 7 | H8: 12 | I8: 10 | J8: 7 | K8: 6 | L8: =SUM(G8:K8) -> 42 | M8: ='2주차'!N8 -> 82 | N8: =SUM(L8,M8) -> 124 | O8: =RANK(N8,N$6:N$107) -> 17 | P8: =COUNTA(G8,H8,I8,J8,K8)/5 -> 1
B9: 107 | E9: 여 | G9: 4 | H9: 7 | I9: 6 | K9: 4 | L9: =SUM(G9:K9) -> 21 | M9: ='2주차'!N9 -> 64 | N9: =SUM(L9,M9) -> 85 | O9: =RANK(N9,N$6:N$107) -> 36 | P9: =COUNTA(G9,H9,I9,J9,K9)/5 -> 0.8
B10: 108 | E10: 여 | G10: 6 | H10: 6 | J10: 2 | K10: 3 | L10: =SUM(G10:K10) -> 17 | M10: ='2주차'!N10 -> 60 | N10: =SUM(L10,M10) -> 77 | O10: =RANK(N10,N$6:N$107) -> 45 | P10: =COUNTA(G10,H10,I10,J10,K10)/5 -> 0.8
B11: 109 | E11: 남 | G11: 8 | H11: 9 | I11: 7 | J11: 8 | K11: 8 | L11: =SUM(G11:K11) -> 40 | M11: ='2주차'!N11 -> 84 | N11: =SUM(L11,M11) -> 124 | O11: =RANK(N11,N$6:N$107) -> 17 | P11: =COUNTA(G11,H11,I11,J11,K11)/5 -> 1
B12: 110 | E12: 남 | H12: 9 | I12: 7 | J12: 3 | K12: 9 | L12: =SUM(G12:K12) -> 28 | M12: ='2주차'!N12 -> 91 | N12: =SUM(L12,M12) -> 119 | O12: =RANK(N12,N$6:N$107) -> 20 | P12: =COUNTA(G12,H12,I12,J12,K12)/5 -> 0.8
B13: 111 | E13: 남 | I13: 3 | L13: =SUM(G13:K13) -> 3 | M13: ='2주차'!N13 -> 63 | N13: =SUM(L13,M13) -> 66 | O13: =RANK(N13,N$6:N$107) -> 53 | P13: =COUNTA(G13,H13,I13,J13,K13)/5 -> 0.2
B14: 113 | E14: 남 | L14: =SUM(G14:K14) -> 0 | M14: ='2주차'!N15 -> 9 | N14: =SUM(L14,M14) -> 9 | O14: =RANK(N14,N$6:N$107) -> 97 | P14: =COUNTA(G14,H14,I14,J14,K14)/5 -> 0 | Q14: 1차 경고
B15: 114 | E15: 남 | G15: 4 | H15: 8 | I15: 6 | J15: 8 | K15: 3 | L15: =SUM(G15:K15) -> 29 | M15: ='2주차'!N16 -> 65 | N15: =SUM(L15,M15) -> 94 | O15: =RANK(N15,N$6:N$107) -> 33 | P15: =COUNTA(G15,H15,I15,J15,K15)/5 -> 1
B16: 116 | E16: 남 | H16: 5 | I16: 3 | J16: 1 | K16: 7 | L16: =SUM(G16:K16) -> 16 | M16: ='2주차'!N17 -> 51 | N16: =SUM(L16,M16) -> 67 | O16: =RANK(N16,N$6:N$107) -> 52 | P16: =COUNTA(G16,H16,I16,J16,K16)/5 -> 0.8
B17: 117 | E17: 여 | G17: 5 | H17: 4 | L17: =SUM(G17:K17) -> 9 | M17: ='2주차'!N18 -> 49 | N17: =SUM(L17,M17) -> 58 | O17: =RANK(N17,N$6:N$107) -> 60 | P17: =COUNTA(G17,H17,I17,J17,K17)/5 -> 0.4
B18: 118 | E18: 남 | G18: 3 | H18: 13 | I18: 9 | J18: 2 | K18: 9 | L18: =SUM(G18:K18) -> 36 | M18: ='2주차'!N19 -> 98 | N18: =SUM(L18,M18) -> 134 | O18: =RANK(N18,N$6:N$107) -> 12 | P18: =COUNTA(G18,H18,I18,J18,K18)/5 -> 1
B19: 119 | E19: 남 | G19: 5 | H19: 9 | I19: 2 | J19: 3 | K19: 9 | L19: =SUM(G19:K19) -> 28 | M19: ='2주차'!N20 -> 56 | N19: =SUM(L19,M19) -> 84 | O19: =RANK(N19,N$6:N$107) -> 39 | P19: =COUNTA(G19,H19,I19,J19,K19)/5 -> 1
B20: 121 | E20: 남 | H20: 4 | I20: 2 | J20: 3 | K20: 3 | L20: =SUM(G20:K20) -> 12 | M20: ='2주차'!N21 -> 44 | N20: =SUM(L20,M20) -> 56 | O20: =RANK(N20,N$6:N$107) -> 61 | P20: =COUNTA(G20,H20,I20,J20,K20)/5 -> 0.8
B21: 122 | E21: 남 | G21: 8 | H21: 3 | I21: 3 | L21: =SUM(G21:K21) -> 14 | M21: ='2주차'!N22 -> 31 | N21: =SUM(L21,M21) -> 45 | O21: =RANK(N21,N$6:N$107) -> 67 | P21: =COUNTA(G21,H21,I21,J21,K21)/5 -> 0.6
B22: 123 | E22: 남 | G22: 6 | K22: 7 | L22: =SUM(G22:K22) -> 13 | M22: ='2주차'!N23 -> 125 | N22: =SUM(L22,M22) -> 138 | O22: =RANK(N22,N$6:N$107) -> 11 | P22: =COUNTA(G22,H22,I22,J22,K22)/5 -> 0.4
B23: 124 | E23: 남 | G23: 8 | K23: 8 | L23: =SUM(G23:K23) -> 16 | M23: ='2주차'!N24 -> 68 | N23: =SUM(L23,M23) -> 84 | O23: =RANK(N23,N$6:N$107) -> 39 | P23: =COUNTA(G23,H23,I23,J23,K23)/5 -> 0.4
B24: 126 | E24: 남 | G24: 5 | H24: 6 | I24: 8 | J24: 4 | K24: 8 | L24: =SUM(G24:K24) -> 31 | M24: ='2주차'!N25 -> 85 | N24: =SUM(L24,M24) -> 116 | O24: =RANK(N24,N$6:N$107) -> 21 | P24: =COUNTA(G24,H24,I24,J24,K24)/5 -> 1
B25: 128 | E25: 남 | L25: =SUM(G25:K25) -> 0 | M25: ='2주차'!N26 -> 21 | N25: =SUM(L25,M25) -> 21 | O25: =RANK(N25,N$6:N$107) -> 85 | P25: =COUNTA(G25,H25,I25,J25,K25)/5 -> 0 | Q25: 1차 경고
B26: 129 | E26: 여 | L26: =SUM(G26:K26) -> 0 | M26: ='2주차'!N27 -> 25 | N26: =SUM(L26,M26) -> 25 | O26: =RANK(N26,N$6:N$107) -> 82 | P26: =COUNTA(G26,H26,I26,J26,K26)/5 -> 0 | Q26: 1차 경고
B27: 130 | E27: 남 | G27: 5 | H27: 5 | I27: 5 | J27: 3 | K27: 2 | L27: =SUM(G27:K27) -> 20 | M27: ='2주차'!N28 -> 35 | N27: =SUM(L27,M27) -> 55 | O27: =RANK(N27,N$6:N$107) -> 63 | P27: =COUNTA(G27,H27,I27,J27,K27)/5 -> 1
B28: 131 | E28: 남 | G28: 7 | H28: 14 | I28: 12 | J28: 8 | K28: 10 | L28: =SUM(G28:K28) -> 51 | M28: ='2주차'!N29 -> 118 | N28: =SUM(L28,M28) -> 169 | O28: =RANK(N28,N$6:N$107) -> 3 | P28: =COUNTA(G28,H28,I28,J28,K28)/5 -> 1
B29: 132 | E29: 남 | G29: 6 | H29: 7 | I29: 4 | J29: 6 | K29: 6 | L29: =SUM(G29:K29) -> 29 | M29: ='2주차'!N30 -> 74 | N29: =SUM(L29,M29) -> 103 | O29: =RANK(N29,N$6:N$107) -> 30 | P29: =COUNTA(G29,H29,I29,J29,K29)/5 -> 1
B30: 133 | E30: 남 | G30: 12 | H30: 11 | K30: 7 | L30: =SUM(G30:K30) -> 30 | M30: ='2주차'!N31 -> 44 | N30: =SUM(L30,M30) -> 74 | O30: =RANK(N30,N$6:N$107) -> 48 | P30: =COUNTA(G30,H30,I30,J30,K30)/5 -> 0.6
B31: 134 | E31: 남 | G31: 7 | H31: 8 | I31: 3 | J31: 1 | K31: 8 | L31: =SUM(G31:K31) -> 27 | M31: ='2주차'!N32 -> 52 | N31: =SUM(L31,M31) -> 79 | O31: =RANK(N31,N$6:N$107) -> 43 | P31: =COUNTA(G31,H31,I31,J31,K31)/5 -> 1
B32: 135 | E32: 남 | G32: 7 | H32: 14 | I32: 12 | J32: 8 | K32: 7 | L32: =SUM(G32:K32) -> 48 | M32: ='2주차'!N33 -> 126 | N32: =SUM(L32,M32) -> 174 | O32: =RANK(N32,N$6:N$107) -> 1 | P32: =COUNTA(G32,H32,I32,J32,K32)/5 -> 1
B33: 136 | E33: 남 | G33: 5 | L33: =SUM(G33:K33) -> 5 | M33: ='2주차'!N34 -> 17 | N33: =SUM(L33,M33) -> 22 | O33: =RANK(N33,N$6:N$107) -> 84 | P33: =COUNTA(G33,H33,I33,J33,K33)/5 -> 0.2
B34: 137 | E34: 남 | G34: 6 | H34: 11 | I34: 5 | J34: 6 | K34: 3 | L34: =SUM(G34:K34) -> 31 | M34: ='2주차'!N35 -> 58 | N34: =SUM(L34,M34) -> 89 | O34: =RANK(N34,N$6:N$107) -> 35 | P34: =COUNTA(G34,H34,I34,J34,K34)/5 -> 1
B35: 139 | E35: 남 | G35: 5 | H35: 7 | I35: 4 | J35: 5 | K35: 7 | L35: =SUM(G35:K35) -> 28 | M35: ='2주차'!N36 -> 51 | N35: =SUM(L35,M35) -> 79 | O35: =RANK(N35,N$6:N$107) -> 43 | P35: =COUNTA(G35,H35,I35,J35,K35)/5 -> 1
B36: 140 | E36: 남 | I36: 4 | K36: 8 | L36: =SUM(G36:K36) -> 12 | M36: ='2주차'!N37 -> 33 | N36: =SUM(L36,M36) -> 45 | O36: =RANK(N36,N$6:N$107) -> 67 | P36: =COUNTA(G36,H36,I36,J36,K36)/5 -> 0.4
B37: 230 | E37: 남 | J37: 6 | L37: =SUM(G37:K37) -> 6 | M37: ='2주차'!N38 -> 26 | N37: =SUM(L37,M37) -> 32 | O37: =RANK(N37,N$6:N$107) -> 74 | P37: =COUNTA(G37,H37,I37,J37,K37)/5 -> 0.2
B38: 231 | E38: 남 | G38: 7 | H38: 3 | I38: 8 | J38: 3 | K38: 11 | L38: =SUM(G38:K38) -> 32 | M38: ='2주차'!N39 -> 79 | N38: =SUM(L38,M38) -> 111 | O38: =RANK(N38,N$6:N$107) -> 25 | P38: =COUNTA(G38,H38,I38,J38,K38)/5 -> 1
B39: 232 | E39: 남 | G39: 6 | H39: 6 | I39: 8 | J39: 2 | K39: 7 | L39: =SUM(G39:K39) -> 29 | M39: ='2주차'!N40 -> 54 | N39: =SUM(L39,M39) -> 83 | O39: =RANK(N39,N$6:N$107) -> 42 | P39: =COUNTA(G39,H39,I39,J39,K39)/5 -> 1
B40: 236 | E40: 남 | G40: 4 | H40: 10 | J40: 5 | K40: 9 | L40: =SUM(G40:K40) -> 28 | M40: ='2주차'!N44 -> 38 | N40: =SUM(L40,M40) -> 66 | O40: =RANK(N40,N$6:N$107) -> 53 | P40: =COUNTA(G40,H40,I40,J40,K40)/5 -> 0.8
B41: 151 | E41: 여 | K41: 3 | L41: =SUM(G41:K41) -> 3 | M41: ='2주차'!N45 -> 29 | N41: =SUM(L41,M41) -> 32 | O41: =RANK(N41,N$6:N$107) -> 74 | P41: =COUNTA(G41,H41,I41,J41,K41)/5 -> 0.2
...

Sheet 4주차
B2: 5월 아침 모의고사 성적현황
B3: 시험 4주차 : 6월 4일 ~ 6월 8일
G4: 4 | H4: 5 | I4: 6 | J4: 7 | K4: 8 | L4: 주간성적 | P4: 모의고사 참여율 | Q4: 비고
A5: 수험 번호 | B5: 수험 번호 | C5: 유/무 | E5: 성별 | F5: 연락처 | G5: 국사 | H5: 형소법 | I5: 경찰학 | J5: 형법 | K5: 영어 | L5: 이번주 총점 | M5: 누적 총점 | N5: 전체 총점 | O5: 등수
B6: 100 | E6: 남 | G6: 8 | H6: 9 | I6: 11 | J6: 8 | K6: 8 | L6: =SUM(G6:K6) -> 44 | M6: ='3주차'!N6 -> 141 | N6: =SUM(L6,M6) -> 185 | O6: =RANK(N6,N$6:N$107) -> 10 | P6: =COUNTA(G6,H6,I6,J6,K6)/5 -> 1
B7: 106 | E7: 여 | G7: 5 | H7: 12 | I7: 12 | J7: 8 | K7: 15 | L7: =SUM(G7:K7) -> 52 | M7: ='3주차'!N8 -> 124 | N7: =SUM(L7,M7) -> 176 | O7: =RANK(N7,N$6:N$107) -> 13 | P7: =COUNTA(G7,H7,I7,J7,K7)/5 -> 1
B8: 107 | E8: 여 | G8: 5 | H8: 8 | I8: 10 | J8: 4 | K8: 9 | L8: =SUM(G8:K8) -> 36 | M8: ='3주차'!N9 -> 85 | N8: =SUM(L8,M8) -> 121 | O8: =RANK(N8,N$6:N$107) -> 34 | P8: =COUNTA(G8,H8,I8,J8,K8)/5 -> 1
B9: 108 | E9: 여 | G9: 3 | H9: 5 | I9: 5 | J9: 3 | K9: 6 | L9: =SUM(G9:K9) -> 22 | M9: ='3주차'!N10 -> 77 | N9: =SUM(L9,M9) -> 99 | O9: =RANK(N9,N$6:N$107) -> 49 | P9: =COUNTA(G9,H9,I9,J9,K9)/5 -> 1
B10: 109 | E10: 남 | G10: 10 | H10: 9 | I10: 7 | J10: 3 | L10: =SUM(G10:K10) -> 29 | M10: ='3주차'!N11 -> 124 | N10: =SUM(L10,M10) -> 153 | O10: =RANK(N10,N$6:N$107) -> 20 | P10: =COUNTA(G10,H10,I10,J10,K10)/5 -> 0.8
B11: 110 | E11: 남 | G11: 8 | H11: 11 | I11: 11 | J11: 4 | K11: 11 | L11: =SUM(G11:K11) -> 45 | M11: ='3주차'!N12 -> 119 | N11: =SUM(L11,M11) -> 164 | O11: =RANK(N11,N$6:N$107) -> 16 | P11: =COUNTA(G11,H11,I11,J11,K11)/5 -> 1
B12: 111 | E12: 남 | L12: =SUM(G12:K12) -> 0 | M12: ='3주차'!N13 -> 66 | N12: =SUM(L12,M12) -> 66 | O12: =RANK(N12,N$6:N$107) -> 61 | P12: =COUNTA(G12,H12,I12,J12,K12)/5 -> 0
B13: 113 | E13: 남 | J13: 3 | L13: =SUM(G13:K13) -> 3 | M13: ='3주차'!N14 -> 9 | N13: =SUM(L13,M13) -> 12 | O13: =RANK(N13,N$6:N$107) -> 98 | P13: =COUNTA(G13,H13,I13,J13,K13)/5 -> 0.2
B14: 114 | E14: 남 | G14: 8 | H14: 9 | I14: 8 | J14: 8 | L14: =SUM(G14:K14) -> 33 | M14: ='3주차'!N15 -> 94 | N14: =SUM(L14,M14) -> 127 | O14: =RANK(N14,N$6:N$107) -> 31 | P14: =COUNTA(G14,H14,I14,J14,K14)/5 -> 0.8
B15: 116 | E15: 남 | G15: 7 | H15: 4 | I15: 7 | J15: 4 | K15: 7 | L15: =SUM(G15:K15) -> 29 | M15: ='3주차'!N16 -> 67 | N15: =SUM(L15,M15) -> 96 | O15: =RANK(N15,N$6:N$107) -> 50 | P15: =COUNTA(G15,H15,I15,J15,K15)/5 -> 1
B16: 117 | E16: 여 | K16: 8 | L16: =SUM(G16:K16) -> 8 | M16: ='3주차'!N17 -> 58 | N16: =SUM(L16,M16) -> 66 | O16: =RANK(N16,N$6:N$107) -> 61 | P16: =COUNTA(G16,H16,I16,J16,K16)/5 -> 0.2
B17: 118 | E17: 남 | G17: 8 | H17: 12 | I17: 12 | J17: 8 | K17: 13 | L17: =SUM(G17:K17) -> 53 | M17: ='3주차'!N18 -> 134 | N17: =SUM(L17,M17) -> 187 | O17: =RANK(N17,N$6:N$107) -> 9 | P17: =COUNTA(G17,H17,I17,J17,K17)/5 -> 1
B18: 119 | E18: 남 | I18: 7 | J18: 7 | K18: 7 | L18: =SUM(G18:K18) -> 21 | M18: ='3주차'!N19 -> 84 | N18: =SUM(L18,M18) -> 105 | O18: =RANK(N18,N$6:N$107) -> 46 | P18: =COUNTA(G18,H18,I18,J18,K18)/5 -> 0.6
B19: 121 | E19: 남 | G19: 1 | H19: 5 | J19: 5 | K19: 8 | L19: =SUM(G19:K19) -> 19 | M19: ='3주차'!N20 -> 56 | N19: =SUM(L19,M19) -> 75 | O19: =RANK(N19,N$6:N$107) -> 58 | P19: =COUNTA(G19,H19,I19,J19,K19)/5 -> 0.8
B20: 122 | E20: 남 | G20: 9 | H20: 5 | L20: =SUM(G20:K20) -> 14 | M20: ='3주차'!N21 -> 45 | N20: =SUM(L20,M20) -> 59 | O20: =RANK(N20,N$6:N$107) -> 68 | P20: =COUNTA(G20,H20,I20,J20,K20)/5 -> 0.4
B21: 123 | E21: 남 | G21: 12 | H21: 14 | I21: 10 | J21: 6 | K21: 3 | L21: =SUM(G21:K21) -> 45 | M21: ='3주차'!N22 -> 138 | N21: =SUM(L21,M21) -> 183 | O21: =RANK(N21,N$6:N$107) -> 11 | P21: =COUNTA(G21,H21,I21,J21,K21)/5 -> 1
B22: 124 | E22: 남 | G22: 7 | H22: 11 | I22: 8 | J22: 2 | K22: 4 | L22: =SUM(G22:K22) -> 32 | M22: ='3주차'!N23 -> 84 | N22: =SUM(L22,M22) -> 116 | O22: =RANK(N22,N$6:N$107) -> 37 | P22: =COUNTA(G22,H22,I22,J22,K22)/5 -> 1
B23: 126 | E23: 남 | G23: 9 | H23: 10 | I23: 5 | J23: 5 | K23: 12 | L23: =SUM(G23:K23) -> 41 | M23: ='3주차'!N24 -> 116 | N23: =SUM(L23,M23) -> 157 | O23: =RANK(N23,N$6:N$107) -> 18 | P23: =COUNTA(G23,H23,I23,J23,K23)/5 -> 1
B24: 128 | E24: 남 | H24: 7 | L24: =SUM(G24:K24) -> 7 | M24: ='3주차'!N25 -> 21 | N24: =SUM(L24,M24) -> 28 | O24: =RANK(N24,N$6:N$107) -> 83 | P24: =COUNTA(G24,H24,I24,J24,K24)/5 -> 0.2
B25: 129 | E25: 여 | G25: 2 | L25: =SUM(G25:K25) -> 2 | M25: ='3주차'!N26 -> 25 | N25: =SUM(L25,M25) -> 27 | O25: =RANK(N25,N$6:N$107) -> 85 | P25: =COUNTA(G25,H25,I25,J25,K25)/5 -> 0.2
B26: 130 | E26: 남 | G26: 7 | H26: 6 | I26: 9 | L26: =SUM(G26:K26) -> 22 | M26: ='3주차'!N27 -> 55 | N26: =SUM(L26,M26) -> 77 | O26: =RANK(N26,N$6:N$107) -> 57 | P26: =COUNTA(G26,H26,I26,J26,K26)/5 -> 0.6
B27: 131 | E27: 남 | H27: 11 | I27: 13 | J27: 9 | K27: 12 | L27: =SUM(G27:K27) -> 45 | M27: ='3주차'!N28 -> 169 | N27: =SUM(L27,M27) -> 214 | O27: =RANK(N27,N$6:N$107) -> 4 | P27: =COUNTA(G27,H27,I27,J27,K27)/5 -> 0.8
B28: 132 | E28: 남 | G28: 4 | H28: 12 | I28: 6 | J28: 3 | K28: 7 | L28: =SUM(G28:K28) -> 32 | M28: ='3주차'!N29 -> 103 | N28: =SUM(L28,M28) -> 135 | O28: =RANK(N28,N$6:N$107) -> 27 | P28: =COUNTA(G28,H28,I28,J28,K28)/5 -> 1
B29: 133 | E29: 남 | G29: 10 | H29: 8 | I29: 7 | J29: 6 | K29: 9 | L29: =SUM(G29:K29) -> 40 | M29: ='3주차'!N30 -> 74 | N29: =SUM(L29,M29) -> 114 | O29: =RANK(N29,N$6:N$107) -> 39 | P29: =COUNTA(G29,H29,I29,J29,K29)/5 -> 1
B30: 134 | E30: 남 | G30: 6 | H30: 6 | I30: 3 | J30: 3 | K30: 6 | L30: =SUM(G30:K30) -> 24 | M30: ='3주차'!N31 -> 79 | N30: =SUM(L30,M30) -> 103 | O30: =RANK(N30,N$6:N$107) -> 47 | P30: =COUNTA(G30,H30,I30,J30,K30)/5 -> 1
B31: 135 | E31: 남 | G31: 11 | H31: 14 | I31: 11 | J31: 9 | K31: 12 | L31: =SUM(G31:K31) -> 57 | M31: ='3주차'!N32 -> 174 | N31: =SUM(L31,M31) -> 231 | O31: =RANK(N31,N$6:N$107) -> 1 | P31: =COUNTA(G31,H31,I31,J31,K31)/5 -> 1
B32: 136 | E32: 남 | G32: 5 | L32: =SUM(G32:K32) -> 5 | M32: ='3주차'!N33 -> 22 | N32: =SUM(L32,M32) -> 27 | O32: =RANK(N32,N$6:N$107) -> 85 | P32: =COUNTA(G32,H32,I32,J32,K32)/5 -> 0.2
B33: 137 | E33: 남 | G33: 6 | H33: 8 | I33: 12 | K33: 8 | L33: =SUM(G33:K33) -> 34 | M33: ='3주차'!N34 -> 89 | N33: =SUM(L33,M33) -> 123 | O33: =RANK(N33,N$6:N$107) -> 32 | P33: =COUNTA(G33,H33,I33,J33,K33)/5 -> 0.8
B34: 139 | E34: 남 | G34: 7 | H34: 7 | I34: 6 | J34: 6 | K34: 9 | L34: =SUM(G34:K34) -> 35 | M34: ='3주차'!N35 -> 79 | N34: =SUM(L34,M34) -> 114 | O34: =RANK(N34,N$6:N$107) -> 39 | P34: =COUNTA(G34,H34,I34,J34,K34)/5 -> 1
B35: 140 | E35: 남 | G35: 4 | H35: 4 | I35: 6 | J35: 4 | L35: =SUM(G35:K35) -> 18 | M35: ='3주차'!N36 -> 45 | N35: =SUM(L35,M35) -> 63 | O35: =RANK(N35,N$6:N$107) -> 66 | P35: =COUNTA(G35,H35,I35,J35,K35)/5 -> 0.8
B36: 230 | E36: 남 | L36: =SUM(G36:K36) -> 0 | M36: ='3주차'!N37 -> 32 | N36: =SUM(L36,M36) -> 32 | O36: =RANK(N36,N$6:N$107) -> 82 | P36: =COUNTA(G36,H36,I36,J36,K36)/5 -> 0
B37: 231 | E37: 남 | G37: 6 | H37: 8 | I37: 10 | J37: 5 | K37: 11 | L37: =SUM(G37:K37) -> 40 | M37: ='3주차'!N38 -> 111 | N37: =SUM(L37,M37) -> 151 | O37: =RANK(N37,N$6:N$107) -> 21 | P37: =COUNTA(G37,H37,I37,J37,K37)/5 -> 1
B38: 232 | E38: 남 | G38: 7 | H38: 6 | I38: 9 | J38: 5 | K38: 5 | L38: =SUM(G38:K38) -> 32 | M38: ='3주차'!N39 -> 83 | N38: =SUM(L38,M38) -> 115 | O38: =RANK(N38,N$6:N$107) -> 38 | P38: =COUNTA(G38,H38,I38,J38,K38)/5 -> 1
B39: 236 | E39: 남 | G39: 7 | H39: 11 | J39: 7 | K39: 11 | L39: =SUM(G39:K39) -> 36 | M39: ='3주차'!N40 -> 66 | N39: =SUM(L39,M39) -> 102 | O39: =RANK(N39,N$6:N$107) -> 48 | P39: =COUNTA(G39,H39,I39,J39,K39)/5 -> 0.8
B40: 151 | E40: 여 | H40: 10 | K40: 10 | L40: =SUM(G40:K40) -> 20 | M40: ='3주차'!N41 -> 32 | N40: =SUM(L40,M40) -> 52 | O40: =RANK(N40,N$6:N$107) -> 72 | P40: =COUNTA(G40,H40,I40,J40,K40)/5 -> 0.4
B41: 152 | E41: 여 | L41: =SUM(G41:K41) -> 0 | M41: ='3주차'!N42 -> 9 | N41: =SUM(L41,M41) -> 9 | O41: =RANK(N41,N$6:N$107) -> 100 | P41: =COUNTA(G41,H41,I41,J41,K41)/5 -> 0 | Q41: 1차 경고
...

Sheet 5주차
B2: 5월 아침 모의고사 성적현황
B3: 시험 5주차 : 6월 11일 ~ 6월 15일
G4: 11 | H4: 12 | I4: 13 | J4: 14 | K4: 15 | L4: 주간성적 | P4: 모의고사 참여율 | Q4: 비고
A5: 수험 번호 | B5: 수험 번호 | C5: 유/무 | E5: 성별 | F5: 연락처 | G5: 국사 | H5: 형소법 | I5: 경찰학 | J5: 형법 | K5: 영어 | L5: 이번주 총점 | M5: 누적 총점 | N5: 전체 총점 | O5: 등수
B6: 100 | E6: 남 | G6: 9 | H6: 12 | I6: 6 | J6: 3 | K6: 8 | L6: =SUM(G6:K6) -> 38 | M6: ='4주차'!N6 -> 185 | N6: =SUM(L6,M6) -> 223 | O6: =RANK(N6,N$6:N$99) -> 12 | P6: =COUNTA(G6,H6,I6,J6,K6)/5 -> 1
B7: 106 | E7: 여 | G7: 8 | H7: 13 | I7: 9 | J7: 5 | K7: 8 | L7: =SUM(G7:K7) -> 43 | M7: ='4주차'!N7 -> 176 | N7: =SUM(L7,M7) -> 219 | O7: =RANK(N7,N$6:N$99) -> 13 | P7: =COUNTA(G7,H7,I7,J7,K7)/5 -> 1
B8: 107 | E8: 여 | L8: =SUM(G8:K8) -> 0 | M8: ='4주차'!N8 -> 121 | N8: =SUM(L8,M8) -> 121 | O8: =RANK(N8,N$6:N$99) -> 49 | P8: =COUNTA(G8,H8,I8,J8,K8)/5 -> 0 | Q8: 1차 경고
B9: 108 | E9: 여 | G9: 9 | H9: 10 | I9: 6 | J9: 2 | K9: 5 | L9: =SUM(G9:K9) -> 32 | M9: ='4주차'!N9 -> 99 | N9: =SUM(L9,M9) -> 131 | O9: =RANK(N9,N$6:N$99) -> 43 | P9: =COUNTA(G9,H9,I9,J9,K9)/5 -> 1
B10: 109 | E10: 남 | G10: 10 | H10: 12 | I10: 7 | J10: 4 | K10: 8 | L10: =SUM(G10:K10) -> 41 | M10: ='4주차'!N10 -> 153 | N10: =SUM(L10,M10) -> 194 | O10: =RANK(N10,N$6:N$99) -> 19 | P10: =COUNTA(G10,H10,I10,J10,K10)/5 -> 1
B11: 110 | E11: 남 | G11: 8 | H11: 13 | I11: 5 | J11: 7 | K11: 6 | L11: =SUM(G11:K11) -> 39 | M11: ='4주차'!N11 -> 164 | N11: =SUM(L11,M11) -> 203 | O11: =RANK(N11,N$6:N$99) -> 15 | P11: =COUNTA(G11,H11,I11,J11,K11)/5 -> 1
B12: 111 | E12: 남 | L12: =SUM(G12:K12) -> 0 | M12: ='4주차'!N12 -> 66 | N12: =SUM(L12,M12) -> 66 | O12: =RANK(N12,N$6:N$99) -> 67 | P12: =COUNTA(G12,H12,I12,J12,K12)/5 -> 0 | Q12: 1차 경고
B13: 113 | E13: 남 | L13: =SUM(G13:K13) -> 0 | M13: ='4주차'!N13 -> 12 | N13: =SUM(L13,M13) -> 12 | O13: =RANK(N13,N$6:N$99) -> 93 | P13: =COUNTA(G13,H13,I13,J13,K13)/5 -> 0 | Q13: 1차 경고
B14: 114 | E14: 남 | G14: 6 | H14: 11 | I14: 4 | J14: 6 | K14: 5 | L14: =SUM(G14:K14) -> 32 | M14: ='4주차'!N14 -> 127 | N14: =SUM(L14,M14) -> 159 | O14: =RANK(N14,N$6:N$99) -> 27 | P14: =COUNTA(G14,H14,I14,J14,K14)/5 -> 1
B15: 116 | E15: 남 | G15: 4 | H15: 10 | I15: 5 | J15: 2 | K15: 4 | L15: =SUM(G15:K15) -> 25 | M15: ='4주차'!N15 -> 96 | N15: =SUM(L15,M15) -> 121 | O15: =RANK(N15,N$6:N$99) -> 49 | P15: =COUNTA(G15,H15,I15,J15,K15)/5 -> 1
B16: 117 | E16: 여 | G16: 5 | J16: 3 | K16: 8 | L16: =SUM(G16:K16) -> 16 | M16: ='4주차'!N16 -> 66 | N16: =SUM(L16,M16) -> 82 | O16: =RANK(N16,N$6:N$99) -> 61 | P16: =COUNTA(G16,H16,I16,J16,K16)/5 -> 0.6
B17: 118 | E17: 남 | G17: 9 | H17: 12 | I17: 11 | J17: 6 | L17: =SUM(G17:K17) -> 38 | M17: ='4주차'!N17 -> 187 | N17: =SUM(L17,M17) -> 225 | O17: =RANK(N17,N$6:N$99) -> 11 | P17: =COUNTA(G17,H17,I17,J17,K17)/5 -> 0.8
B18: 119 | E18: 남 | G18: 6 | H18: 12 | J18: 3 | K18: 7 | L18: =SUM(G18:K18) -> 28 | M18: ='4주차'!N18 -> 105 | N18: =SUM(L18,M18) -> 133 | O18: =RANK(N18,N$6:N$99) -> 41 | P18: =COUNTA(G18,H18,I18,J18,K18)/5 -> 0.8
B19: 121 | E19: 남 | G19: 7 | H19: 7 | I19: 3 | J19: 2 | K19: 2 | L19: =SUM(G19:K19) -> 21 | M19: ='4주차'!N19 -> 75 | N19: =SUM(L19,M19) -> 96 | O19: =RANK(N19,N$6:N$99) -> 56 | P19: =COUNTA(G19,H19,I19,J19,K19)/5 -> 1
B20: 122 | E20: 남 | G20: 6 | H20: 8 | L20: =SUM(G20:K20) -> 14 | M20: ='4주차'!N20 -> 59 | N20: =SUM(L20,M20) -> 73 | O20: =RANK(N20,N$6:N$99) -> 65 | P20: =COUNTA(G20,H20,I20,J20,K20)/5 -> 0.4
B21: 123 | E21: 남 | G21: 12 | H21: 15 | I21: 9 | J21: 4 | K21: 4 | L21: =SUM(G21:K21) -> 44 | M21: ='4주차'!N21 -> 183 | N21: =SUM(L21,M21) -> 227 | O21: =RANK(N21,N$6:N$99) -> 10 | P21: =COUNTA(G21,H21,I21,J21,K21)/5 -> 1
B22: 124 | E22: 남 | G22: 9 | H22: 10 | I22: 7 | J22: 4 | K22: 2 | L22: =SUM(G22:K22) -> 32 | M22: ='4주차'!N22 -> 116 | N22: =SUM(L22,M22) -> 148 | O22: =RANK(N22,N$6:N$99) -> 33 | P22: =COUNTA(G22,H22,I22,J22,K22)/5 -> 1
B23: 126 | E23: 남 | G23: 8 | H23: 12 | I23: 7 | J23: 1 | K23: 7 | L23: =SUM(G23:K23) -> 35 | M23: ='4주차'!N23 -> 157 | N23: =SUM(L23,M23) -> 192 | O23: =RANK(N23,N$6:N$99) -> 20 | P23: =COUNTA(G23,H23,I23,J23,K23)/5 -> 1
B24: 128 | E24: 남 | G24: 4 | L24: =SUM(G24:K24) -> 4 | M24: ='4주차'!N24 -> 28 | N24: =SUM(L24,M24) -> 32 | O24: =RANK(N24,N$6:N$99) -> 84 | P24: =COUNTA(G24,H24,I24,J24,K24)/5 -> 0.2
B25: 129 | E25: 여 | J25: 5 | L25: =SUM(G25:K25) -> 5 | M25: ='4주차'!N25 -> 27 | N25: =SUM(L25,M25) -> 32 | O25: =RANK(N25,N$6:N$99) -> 84 | P25: =COUNTA(G25,H25,I25,J25,K25)/5 -> 0.2
B26: 130 | E26: 남 | G26: 6 | H26: 10 | I26: 3 | J26: 3 | K26: 1 | L26: =SUM(G26:K26) -> 23 | M26: ='4주차'!N26 -> 77 | N26: =SUM(L26,M26) -> 100 | O26: =RANK(N26,N$6:N$99) -> 55 | P26: =COUNTA(G26,H26,I26,J26,K26)/5 -> 1
B27: 131 | E27: 남 | G27: 10 | H27: 14 | I27: 10 | J27: 3 | K27: 9 | L27: =SUM(G27:K27) -> 46 | M27: ='4주차'!N27 -> 214 | N27: =SUM(L27,M27) -> 260 | O27: =RANK(N27,N$6:N$99) -> 4 | P27: =COUNTA(G27,H27,I27,J27,K27)/5 -> 1
B28: 132 | E28: 남 | G28: 3 | I28: 4 | J28: 4 | K28: 8 | L28: =SUM(G28:K28) -> 19 | M28: ='4주차'!N28 -> 135 | N28: =SUM(L28,M28) -> 154 | O28: =RANK(N28,N$6:N$99) -> 30 | P28: =COUNTA(G28,H28,I28,J28,K28)/5 -> 0.8
B29: 133 | E29: 남 | G29: 10 | H29: 12 | I29: 3 | J29: 7 | K29: 13 | L29: =SUM(G29:K29) -> 45 | M29: ='4주차'!N29 -> 114 | N29: =SUM(L29,M29) -> 159 | O29: =RANK(N29,N$6:N$99) -> 27 | P29: =COUNTA(G29,H29,I29,J29,K29)/5 -> 1
B30: 134 | E30: 남 | G30: 7 | H30: 6 | I30: 3 | J30: 3 | K30: 0 | L30: =SUM(G30:K30) -> 19 | M30: ='4주차'!N30 -> 103 | N30: =SUM(L30,M30) -> 122 | O30: =RANK(N30,N$6:N$99) -> 47 | P30: =COUNTA(G30,H30,I30,J30,K30)/5 -> 1
B31: 135 | E31: 남 | G31: 11 | H31: 12 | I31: 12 | J31: 8 | K31: 14 | L31: =SUM(G31:K31) -> 57 | M31: ='4주차'!N31 -> 231 | N31: =SUM(L31,M31) -> 288 | O31: =RANK(N31,N$6:N$99) -> 1 | P31: =COUNTA(G31,H31,I31,J31,K31)/5 -> 1
B32: 136 | E32: 남 | L32: =SUM(G32:K32) -> 0 | M32: ='4주차'!N32 -> 27 | N32: =SUM(L32,M32) -> 27 | O32: =RANK(N32,N$6:N$99) -> 87 | P32: =COUNTA(G32,H32,I32,J32,K32)/5 -> 0 | Q32: 1차 경고
B33: 137 | E33: 남 | G33: 10 | H33: 12 | I33: 5 | J33: 8 | K33: 4 | L33: =SUM(G33:K33) -> 39 | M33: ='4주차'!N33 -> 123 | N33: =SUM(L33,M33) -> 162 | O33: =RANK(N33,N$6:N$99) -> 26 | P33: =COUNTA(G33,H33,I33,J33,K33)/5 -> 1
B34: 139 | E34: 남 | G34: 5 | H34: 8 | I34: 7 | K34: 6 | L34: =SUM(G34:K34) -> 26 | M34: ='4주차'!N34 -> 114 | N34: =SUM(L34,M34) -> 140 | O34: =RANK(N34,N$6:N$99) -> 35 | P34: =COUNTA(G34,H34,I34,J34,K34)/5 -> 0.8
B35: 140 | E35: 남 | H35: 9 | I35: 5 | J35: 3 | L35: =SUM(G35:K35) -> 17 | M35: ='4주차'!N35 -> 63 | N35: =SUM(L35,M35) -> 80 | O35: =RANK(N35,N$6:N$99) -> 63 | P35: =COUNTA(G35,H35,I35,J35,K35)/5 -> 0.6
B36: 230 | E36: 남 | L36: =SUM(G36:K36) -> 0 | M36: ='4주차'!N36 -> 32 | N36: =SUM(L36,M36) -> 32 | O36: =RANK(N36,N$6:N$99) -> 84 | P36: =COUNTA(G36,H36,I36,J36,K36)/5 -> 0
B37: 231 | E37: 남 | G37: 11 | H37: 11 | I37: 7 | J37: 4 | K37: 8 | L37: =SUM(G37:K37) -> 41 | M37: ='4주차'!N37 -> 151 | N37: =SUM(L37,M37) -> 192 | O37: =RANK(N37,N$6:N$99) -> 20 | P37: =COUNTA(G37,H37,I37,J37,K37)/5 -> 1
B38: 232 | E38: 남 | G38: 6 | H38: 11 | I38: 7 | J38: 6 | K38: 4 | L38: =SUM(G38:K38) -> 34 | M38: ='4주차'!N38 -> 115 | N38: =SUM(L38,M38) -> 149 | O38: =RANK(N38,N$6:N$99) -> 32 | P38: =COUNTA(G38,H38,I38,J38,K38)/5 -> 1
B39: 236 | E39: 남 | G39: 10 | H39: 14 | J39: 7 | K39: 7 | L39: =SUM(G39:K39) -> 38 | M39: ='4주차'!N39 -> 102 | N39: =SUM(L39,M39) -> 140 | O39: =RANK(N39,N$6:N$99) -> 35 | P39: =COUNTA(G39,H39,I39,J39,K39)/5 -> 0.8
B40: 151 | E40: 여 | K40: 5 | L40: =SUM(G40:K40) -> 5 | M40: ='4주차'!N40 -> 52 | N40: =SUM(L40,M40) -> 57 | O40: =RANK(N40,N$6:N$99) -> 72 | P40: =COUNTA(G40,H40,I40,J40,K40)/5 -> 0.2
B41: 153 | E41: 여 | G41: 1 | I41: 3 | K41: 9 | L41: =SUM(G41:K41) -> 13 | M41: ='4주차'!N42 -> 64 | N41: =SUM(L41,M41) -> 77 | O41: =RANK(N41,N$6:N$99) -> 64 | P41: =COUNTA(G41,H41,I41,J41,K41)/5 -> 0.6
...

Sheet 5주차 공개
B2: 5월 아침 모의고사 성적현황
B3: 시험 5주차 : 6월 11일 ~ 6월 15일
D4: 11 | E4: 12 | F4: 13 | G4: 14 | H4: 15 | I4: 주간성적 | M4: 모의고사 참여율 | N4: 비고
A5: 수험 번호 | B5: 수험 번호 | C5: 성별 | D5: 국사 | E5: 형소법 | F5: 경찰학 | G5: 형법 | H5: 영어 | I5: 이번주 총점 | J5: 누적 총점 | K5: 전체 총점 | L5: 등수
B6: 100 | C6: 남 | D6: 9 | E6: 12 | F6: 6 | G6: 3 | H6: 8 | I6: =SUM(D6:H6) -> 38 | J6: ='4주차'!N6 -> 185 | K6: =SUM(I6,J6) -> 223 | L6: =RANK(K6,K$6:K$99) -> 12 | M6: =COUNTA(D6,E6,F6,G6,H6)/5 -> 1
B7: 106 | C7: 여 | D7: 8 | E7: 13 | F7: 9 | G7: 5 | H7: 8 | I7: =SUM(D7:H7) -> 43 | J7: ='4주차'!N7 -> 176 | K7: =SUM(I7,J7) -> 219 | L7: =RANK(K7,K$6:K$99) -> 13 | M7: =COUNTA(D7,E7,F7,G7,H7)/5 -> 1
B8: 107 | C8: 여 | I8: =SUM(D8:H8) -> 0 | J8: ='4주차'!N8 -> 121 | K8: =SUM(I8,J8) -> 121 | L8: =RANK(K8,K$6:K$99) -> 49 | M8: =COUNTA(D8,E8,F8,G8,H8)/5 -> 0 | N8: 1차 경고
B9: 108 | C9: 여 | D9: 9 | E9: 10 | F9: 6 | G9: 2 | H9: 5 | I9: =SUM(D9:H9) -> 32 | J9: ='4주차'!N9 -> 99 | K9: =SUM(I9,J9) -> 131 | L9: =RANK(K9,K$6:K$99) -> 43 | M9: =COUNTA(D9,E9,F9,G9,H9)/5 -> 1
B10: 109 | C10: 남 | D10: 10 | E10: 12 | F10: 7 | G10: 4 | H10: 8 | I10: =SUM(D10:H10) -> 41 | J10: ='4주차'!N10 -> 153 | K10: =SUM(I10,J10) -> 194 | L10: =RANK(K10,K$6:K$99) -> 19 | M10: =COUNTA(D10,E10,F10,G10,H10)/5 -> 1
B11: 110 | C11: 남 | D11: 8 | E11: 13 | F11: 5 | G11: 7 | H11: 6 | I11: =SUM(D11:H11) -> 39 | J11: ='4주차'!N11 -> 164 | K11: =SUM(I11,J11) -> 203 | L11: =RANK(K11,K$6:K$99) -> 15 | M11: =COUNTA(D11,E11,F11,G11,H11)/5 -> 1
B12: 111 | C12: 남 | I12: =SUM(D12:H12) -> 0 | J12: ='4주차'!N12 -> 66 | K12: =SUM(I12,J12) -> 66 | L12: =RANK(K12,K$6:K$99) -> 67 | M12: =COUNTA(D12,E12,F12,G12,H12)/5 -> 0 | N12: 1차 경고
B13: 113 | C13: 남 | I13: =SUM(D13:H13) -> 0 | J13: ='4주차'!N13 -> 12 | K13: =SUM(I13,J13) -> 12 | L13: =RANK(K13,K$6:K$99) -> 93 | M13: =COUNTA(D13,E13,F13,G13,H13)/5 -> 0 | N13: 1차 경고
B14: 114 | C14: 남 | D14: 6 | E14: 11 | F14: 4 | G14: 6 | H14: 5 | I14: =SUM(D14:H14) -> 32 | J14: ='4주차'!N14 -> 127 | K14: =SUM(I14,J14) -> 159 | L14: =RANK(K14,K$6:K$99) -> 27 | M14: =COUNTA(D14,E14,F14,G14,H14)/5 -> 1
B15: 116 | C15: 남 | D15: 4 | E15: 10 | F15: 5 | G15: 2 | H15: 4 | I15: =SUM(D15:H15) -> 25 | J15: ='4주차'!N15 -> 96 | K15: =SUM(I15,J15) -> 121 | L15: =RANK(K15,K$6:K$99) -> 49 | M15: =COUNTA(D15,E15,F15,G15,H15)/5 -> 1
B16: 117 | C16: 여 | D16: 5 | G16: 3 | H16: 8 | I16: =SUM(D16:H16) -> 16 | J16: ='4주차'!N16 -> 66 | K16: =SUM(I16,J16) -> 82 | L16: =RANK(K16,K$6:K$99) -> 61 | M16: =COUNTA(D16,E16,F16,G16,H16)/5 -> 0.6
B17: 118 | C17: 남 | D17: 9 | E17: 12 | F17: 11 | G17: 6 | I17: =SUM(D17:H17) -> 38 | J17: ='4주차'!N17 -> 187 | K17: =SUM(I17,J17) -> 225 | L17: =RANK(K17,K$6:K$99) -> 11 | M17: =COUNTA(D17,E17,F17,G17,H17)/5 -> 0.8
B18: 119 | C18: 남 | D18: 6 | E18: 12 | G18: 3 | H18: 7 | I18: =SUM(D18:H18) -> 28 | J18: ='4주차'!N18 -> 105 | K18: =SUM(I18,J18) -> 133 | L18: =RANK(K18,K$6:K$99) -> 41 | M18: =COUNTA(D18,E18,F18,G18,H18)/5 -> 0.8
B19: 121 | C19: 남 | D19: 7 | E19: 7 | F19: 3 | G19: 2 | H19: 2 | I19: =SUM(D19:H19) -> 21 | J19: ='4주차'!N19 -> 75 | K19: =SUM(I19,J19) -> 96 | L19: =RANK(K19,K$6:K$99) -> 56 | M19: =COUNTA(D19,E19,F19,G19,H19)/5 -> 1
B20: 122 | C20: 남 | D20: 6 | E20: 8 | I20: =SUM(D20:H20) -> 14 | J20: ='4주차'!N20 -> 59 | K20: =SUM(I20,J20) -> 73 | L20: =RANK(K20,K$6:K$99) -> 65 | M20: =COUNTA(D20,E20,F20,G20,H20)/5 -> 0.4
B21: 123 | C21: 남 | D21: 12 | E21: 15 | F21: 9 | G21: 4 | H21: 4 | I21: =SUM(D21:H21) -> 44 | J21: ='4주차'!N21 -> 183 | K21: =SUM(I21,J21) -> 227 | L21: =RANK(K21,K$6:K$99) -> 10 | M21: =COUNTA(D21,E21,F21,G21,H21)/5 -> 1
B22: 124 | C22: 남 | D22: 9 | E22: 10 | F22: 7 | G22: 4 | H22: 2 | I22: =SUM(D22:H22) -> 32 | J22: ='4주차'!N22 -> 116 | K22: =SUM(I22,J22) -> 148 | L22: =RANK(K22,K$6:K$99) -> 33 | M22: =COUNTA(D22,E22,F22,G22,H22)/5 -> 1
B23: 126 | C23: 남 | D23: 8 | E23: 12 | F23: 7 | G23: 1 | H23: 7 | I23: =SUM(D23:H23) -> 35 | J23: ='4주차'!N23 -> 157 | K23: =SUM(I23,J23) -> 192 | L23: =RANK(K23,K$6:K$99) -> 20 | M23: =COUNTA(D23,E23,F23,G23,H23)/5 -> 1
B24: 128 | C24: 남 | D24: 4 | I24: =SUM(D24:H24) -> 4 | J24: ='4주차'!N24 -> 28 | K24: =SUM(I24,J24) -> 32 | L24: =RANK(K24,K$6:K$99) -> 84 | M24: =COUNTA(D24,E24,F24,G24,H24)/5 -> 0.2
B25: 129 | C25: 여 | G25: 5 | I25: =SUM(D25:H25) -> 5 | J25: ='4주차'!N25 -> 27 | K25: =SUM(I25,J25) -> 32 | L25: =RANK(K25,K$6:K$99) -> 84 | M25: =COUNTA(D25,E25,F25,G25,H25)/5 -> 0.2
B26: 130 | C26: 남 | D26: 6 | E26: 10 | F26: 3 | G26: 3 | H26: 1 | I26: =SUM(D26:H26) -> 23 | J26: ='4주차'!N26 -> 77 | K26: =SUM(I26,J26) -> 100 | L26: =RANK(K26,K$6:K$99) -> 55 | M26: =COUNTA(D26,E26,F26,G26,H26)/5 -> 1
B27: 131 | C27: 남 | D27: 10 | E27: 14 | F27: 10 | G27: 3 | H27: 9 | I27: =SUM(D27:H27) -> 46 | J27: ='4주차'!N27 -> 214 | K27: =SUM(I27,J27) -> 260 | L27: =RANK(K27,K$6:K$99) -> 4 | M27: =COUNTA(D27,E27,F27,G27,H27)/5 -> 1
B28: 132 | C28: 남 | D28: 3 | F28: 4 | G28: 4 | H28: 8 | I28: =SUM(D28:H28) -> 19 | J28: ='4주차'!N28 -> 135 | K28: =SUM(I28,J28) -> 154 | L28: =RANK(K28,K$6:K$99) -> 30 | M28: =COUNTA(D28,E28,F28,G28,H28)/5 -> 0.8
B29: 133 | C29: 남 | D29: 10 | E29: 12 | F29: 3 | G29: 7 | H29: 13 | I29: =SUM(D29:H29) -> 45 | J29: ='4주차'!N29 -> 114 | K29: =SUM(I29,J29) -> 159 | L29: =RANK(K29,K$6:K$99) -> 27 | M29: =COUNTA(D29,E29,F29,G29,H29)/5 -> 1
B30: 134 | C30: 남 | D30: 7 | E30: 6 | F30: 3 | G30: 3 | H30: 0 | I30: =SUM(D30:H30) -> 19 | J30: ='4주차'!N30 -> 103 | K30: =SUM(I30,J30) -> 122 | L30: =RANK(K30,K$6:K$99) -> 47 | M30: =COUNTA(D30,E30,F30,G30,H30)/5 -> 1
B31: 135 | C31: 남 | D31: 11 | E31: 12 | F31: 12 | G31: 8 | H31: 14 | I31: =SUM(D31:H31) -> 57 | J31: ='4주차'!N31 -> 231 | K31: =SUM(I31,J31) -> 288 | L31: =RANK(K31,K$6:K$99) -> 1 | M31: =COUNTA(D31,E31,F31,G31,H31)/5 -> 1
B32: 136 | C32: 남 | I32: =SUM(D32:H32) -> 0 | J32: ='4주차'!N32 -> 27 | K32: =SUM(I32,J32) -> 27 | L32: =RANK(K32,K$6:K$99) -> 87 | M32: =COUNTA(D32,E32,F32,G32,H32)/5 -> 0 | N32: 1차 경고
B33: 137 | C33: 남 | D33: 10 | E33: 12 | F33: 5 | G33: 8 | H33: 4 | I33: =SUM(D33:H33) -> 39 | J33: ='4주차'!N33 -> 123 | K33: =SUM(I33,J33) -> 162 | L33: =RANK(K33,K$6:K$99) -> 26 | M33: =COUNTA(D33,E33,F33,G33,H33)/5 -> 1
B34: 139 | C34: 남 | D34: 5 | E34: 8 | F34: 7 | H34: 6 | I34: =SUM(D34:H34) -> 26 | J34: ='4주차'!N34 -> 114 | K34: =SUM(I34,J34) -> 140 | L34: =RANK(K34,K$6:K$99) -> 35 | M34: =COUNTA(D34,E34,F34,G34,H34)/5 -> 0.8
B35: 140 | C35: 남 | E35: 9 | F35: 5 | G35: 3 | I35: =SUM(D35:H35) -> 17 | J35: ='4주차'!N35 -> 63 | K35: =SUM(I35,J35) -> 80 | L35: =RANK(K35,K$6:K$99) -> 63 | M35: =COUNTA(D35,E35,F35,G35,H35)/5 -> 0.6
B36: 230 | C36: 남 | I36: =SUM(D36:H36) -> 0 | J36: ='4주차'!N36 -> 32 | K36: =SUM(I36,J36) -> 32 | L36: =RANK(K36,K$6:K$99) -> 84 | M36: =COUNTA(D36,E36,F36,G36,H36)/5 -> 0
B37: 231 | C37: 남 | D37: 11 | E37: 11 | F37: 7 | G37: 4 | H37: 8 | I37: =SUM(D37:H37) -> 41 | J37: ='4주차'!N37 -> 151 | K37: =SUM(I37,J37) -> 192 | L37: =RANK(K37,K$6:K$99) -> 20 | M37: =COUNTA(D37,E37,F37,G37,H37)/5 -> 1
B38: 232 | C38: 남 | D38: 6 | E38: 11 | F38: 7 | G38: 6 | H38: 4 | I38: =SUM(D38:H38) -> 34 | J38: ='4주차'!N38 -> 115 | K38: =SUM(I38,J38) -> 149 | L38: =RANK(K38,K$6:K$99) -> 32 | M38: =COUNTA(D38,E38,F38,G38,H38)/5 -> 1
B39: 236 | C39: 남 | D39: 10 | E39: 14 | G39: 7 | H39: 7 | I39: =SUM(D39:H39) -> 38 | J39: ='4주차'!N39 -> 102 | K39: =SUM(I39,J39) -> 140 | L39: =RANK(K39,K$6:K$99) -> 35 | M39: =COUNTA(D39,E39,F39,G39,H39)/5 -> 0.8
B40: 151 | C40: 여 | H40: 5 | I40: =SUM(D40:H40) -> 5 | J40: ='4주차'!N40 -> 52 | K40: =SUM(I40,J40) -> 57 | L40: =RANK(K40,K$6:K$99) -> 72 | M40: =COUNTA(D40,E40,F40,G40,H40)/5 -> 0.2
B41: 153 | C41: 여 | D41: 1 | F41: 3 | H41: 9 | I41: =SUM(D41:H41) -> 13 | J41: ='4주차'!N42 -> 64 | K41: =SUM(I41,J41) -> 77 | L41: =RANK(K41,K$6:K$99) -> 64 | M41: =COUNTA(D41,E41,F41,G41,H41)/5 -> 0.6
...

Sheet Sheet2
