Workbook

Sheet 1주차
B2: 5월 아침 모의고사 성적현황
B3: 시험 1주차 : 5월 14일 ~ 18일
G4: 14 | H4: 15 | I4: 16 | J4: 17 | K4: 18 | L4: 주간성적 | N4: 모의고사 참여율 | O4: 비고
A5: 수험 번호 | B5: 수험 번호 | E5: 성별 | F5: 연락처 | G5: 국사 | H5: 형소법 | I5: 경찰학 | J5: 형법 | K5: 영어 | L5: 전체 총점 | M5: 등수
B6: 100 | E6: 남 | G6: 9 | H6: 10 | I6: 7 | J6: 8 | K6: 9 | L6: =SUM(G6,H6,I6,J6,K6) -> 43 | M6: =RANK(L6,L$6:L$115) -> 17 | N6: =COUNTA(G6,H6,I6,J6,K6)/5 -> 1
B7: 101 | E7: 여 | L7: =SUM(G7,H7,I7,J7,K7) -> 0 | M7: =RANK(L7,L$6:L$115) -> 94 | N7: =COUNTA(G7,H7,I7,J7,K7)/5 -> 0
B8: 102 | E8: 남 | L8: =SUM(G8,H8,I8,J8,K8) -> 0 | M8: =RANK(L8,L$6:L$115) -> 94 | N8: =COUNTA(G8,H8,I8,J8,K8)/5 -> 0
B9: 103 | E9: 남 | K9: 6 | L9: =SUM(G9,H9,I9,J9,K9) -> 6 | M9: =RANK(L9,L$6:L$115) -> 91 | N9: =COUNTA(G9,H9,I9,J9,K9)/5 -> 0.2
B10: 105 | E10: 여 | L10: =SUM(G10,H10,I10,J10,K10) -> 0 | M10: =RANK(L10,L$6:L$115) -> 94 | N10: =COUNTA(G10,H10,I10,J10,K10)/5 -> 0
B11: 106 | E11: 여 | G11: 12 | H11: 11 | I11: 9 | L11: =SUM(G11,H11,I11,J11,K11) -> 32 | M11: =RANK(L11,L$6:L$115) -> 39 | N11: =COUNTA(G11,H11,I11,J11,K11)/5 -> 0.6
B12: 107 | E12: 여 | G12: 7 | H12: 8 | I12: 6 | J12: 6 | K12: 3 | L12: =SUM(G12,H12,I12,J12,K12) -> 30 | M12: =RANK(L12,L$6:L$115) -> 46 | N12: =COUNTA(G12,H12,I12,J12,K12)/5 -> 1
B13: 108 | E13: 여 | G13: 8 | H13: 10 | I13: 8 | J13: 2 | K13: 6 | L13: =SUM(G13,H13,I13,J13,K13) -> 34 | M13: =RANK(L13,L$6:L$115) -> 35 | N13: =COUNTA(G13,H13,I13,J13,K13)/5 -> 1
B14: 109 | E14: 남 | G14: 11 | H14: 8 | I14: 8 | J14: 8 | K14: 6 | L14: =SUM(G14,H14,I14,J14,K14) -> 41 | M14: =RANK(L14,L$6:L$115) -> 20 | N14: =COUNTA(G14,H14,I14,J14,K14)/5 -> 1
B15: 110 | E15: 남 | G15: 8 | H15: 12 | I15: 8 | J15: 6 | K15: 9 | L15: =SUM(G15,H15,I15,J15,K15) -> 43 | M15: =RANK(L15,L$6:L$115) -> 17 | N15: =COUNTA(G15,H15,I15,J15,K15)/5 -> 1
B16: 111 | E16: 남 | G16: 8 | H16: 7 | I16: 11 | J16: 8 | K16: 7 | L16: =SUM(G16,H16,I16,J16,K16) -> 41 | M16: =RANK(L16,L$6:L$115) -> 20 | N16: =COUNTA(G16,H16,I16,J16,K16)/5 -> 1
B17: 112 | E17: 여 | G17: 4 | J17: 6 | L17: =SUM(G17,H17,I17,J17,K17) -> 10 | M17: =RANK(L17,L$6:L$115) -> 87 | N17: =COUNTA(G17,H17,I17,J17,K17)/5 -> 0.4
B18: 113 | E18: 남 | K18: 4 | L18: =SUM(G18,H18,I18,J18,K18) -> 4 | M18: =RANK(L18,L$6:L$115) -> 93 | N18: =COUNTA(G18,H18,I18,J18,K18)/5 -> 0.2
B19: 114 | E19: 남 | G19: 9 | H19: 10 | I19: 7 | J19: 6 | K19: 5 | L19: =SUM(G19,H19,I19,J19,K19) -> 37 | M19: =RANK(L19,L$6:L$115) -> 28 | N19: =COUNTA(G19,H19,I19,J19,K19)/5 -> 1
B20: 115 | E20: 남 | L20: =SUM(G20,H20,I20,J20,K20) -> 0 | M20: =RANK(L20,L$6:L$115) -> 94 | N20: =COUNTA(G20,H20,I20,J20,K20)/5 -> 0
B21: 116 | E21: 남 | G21: 8 | H21: 7 | I21: 5 | J21: 4 | K21: 6 | L21: =SUM(G21,H21,I21,J21,K21) -> 30 | M21: =RANK(L21,L$6:L$115) -> 46 | N21: =COUNTA(G21,H21,I21,J21,K21)/5 -> 1
B22: 117 | E22: 여 | G22: 10 | H22: 9 | I22: 8 | J22: 4 | K22: 9 | L22: =SUM(G22,H22,I22,J22,K22) -> 40 | M22: =RANK(L22,L$6:L$115) -> 24 | N22: =COUNTA(G22,H22,I22,J22,K22)/5 -> 1
B23: 118 | E23: 남 | G23: 12 | H23: 13 | I23: 8 | J23: 11 | K23: 8 | L23: =SUM(G23,H23,I23,J23,K23) -> 52 | M23: =RANK(L23,L$6:L$115) -> 10 | N23: =COUNTA(G23,H23,I23,J23,K23)/5 -> 1
B24: 119 | E24: 남 | G24: 10 | H24: 4 | K24: 7 | L24: =SUM(G24,H24,I24,J24,K24) -> 21 | M24: =RANK(L24,L$6:L$115) -> 66 | N24: =COUNTA(G24,H24,I24,J24,K24)/5 -> 0.6
B25: 120 | E25: 여 | L25: =SUM(G25,H25,I25,J25,K25) -> 0 | M25: =RANK(L25,L$6:L$115) -> 94 | N25: =COUNTA(G25,H25,I25,J25,K25)/5 -> 0
B26: 121 | E26: 남 | G26: 6 | H26: 5 | I26: 4 | J26: 8 | K26: 4 | L26: =SUM(G26,H26,I26,J26,K26) -> 27 | M26: =RANK(L26,L$6:L$115) -> 50 | N26: =COUNTA(G26,H26,I26,J26,K26)/5 -> 1
B27: 122 | E27: 남 | G27: 7 | H27: 4 | I27: 7 | J27: 7 | L27: =SUM(G27,H27,I27,J27,K27) -> 25 | M27: =RANK(L27,L$6:L$115) -> 58 | N27: =COUNTA(G27,H27,I27,J27,K27)/5 -> 0.8
B28: 123 | E28: 남 | G28: 14 | H28: 15 | I28: 15 | J28: 10 | K28: 6 | L28: =SUM(G28,H28,I28,J28,K28) -> 60 | M28: =RANK(L28,L$6:L$115) -> 3 | N28: =COUNTA(G28,H28,I28,J28,K28)/5 -> 1
B29: 124 | E29: 남 | G29: 10 | H29: 2 | I29: 5 | J29: 8 | K29: 4 | L29: =SUM(G29,H29,I29,J29,K29) -> 29 | M29: =RANK(L29,L$6:L$115) -> 48 | N29: =COUNTA(G29,H29,I29,J29,K29)/5 -> 1
B30: 125 | E30: 남 | L30: =SUM(G30,H30,I30,J30,K30) -> 0 | M30: =RANK(L30,L$6:L$115) -> 94 | N30: =COUNTA(G30,H30,I30,J30,K30)/5 -> 0
B31: 126 | E31: 남 | G31: 9 | H31: 11 | I31: 8 | J31: 3 | K31: 6 | L31: =SUM(G31,H31,I31,J31,K31) -> 37 | M31: =RANK(L31,L$6:L$115) -> 28 | N31: =COUNTA(G31,H31,I31,J31,K31)/5 -> 1
B32: 127 | E32: 남 | L32: =SUM(G32,H32,I32,J32,K32) -> 0 | M32: =RANK(L32,L$6:L$115) -> 94 | N32: =COUNTA(G32,H32,I32,J32,K32)/5 -> 0
B33: 128 | E33: 남 | H33: 9 | I33: 6 | L33: =SUM(G33,H33,I33,J33,K33) -> 15 | M33: =RANK(L33,L$6:L$115) -> 76 | N33: =COUNTA(G33,H33,I33,J33,K33)/5 -> 0.4
B34: 129 | E34: 여 | G34: 7 | J34: 5 | L34: =SUM(G34,H34,I34,J34,K34) -> 12 | M34: =RANK(L34,L$6:L$115) -> 82 | N34: =COUNTA(G34,H34,I34,J34,K34)/5 -> 0.4
B35: 130 | E35: 남 | G35: 5 | H35: 4 | I35: 5 | J35: 3 | K35: 5 | L35: =SUM(G35,H35,I35,J35,K35) -> 22 | M35: =RANK(L35,L$6:L$115) -> 64 | N35: =COUNTA(G35,H35,I35,J35,K35)/5 -> 1
B36: 131 | E36: 남 | G36: 14 | H36: 13 | I36: 9 | J36: 10 | K36: 7 | L36: =SUM(G36,H36,I36,J36,K36) -> 53 | M36: =RANK(L36,L$6:L$115) -> 7 | N36: =COUNTA(G36,H36,I36,J36,K36)/5 -> 1
B37: 132 | E37: 남 | G37: 8 | H37: 6 | I37: 9 | J37: 8 | K37: 6 | L37: =SUM(G37,H37,I37,J37,K37) -> 37 | M37: =RANK(L37,L$6:L$115) -> 28 | N37: =COUNTA(G37,H37,I37,J37,K37)/5 -> 1
B38: 133 | E38: 남 | I38: 11 | L38: =SUM(G38,H38,I38,J38,K38) -> 11 | M38: =RANK(L38,L$6:L$115) -> 86 | N38: =COUNTA(G38,H38,I38,J38,K38)/5 -> 0.2
B39: 134 | E39: 남 | G39: 6 | H39: 4 | I39: 4 | J39: 4 | K39: 7 | L39: =SUM(G39,H39,I39,J39,K39) -> 25 | M39: =RANK(L39,L$6:L$115) -> 58 | N39: =COUNTA(G39,H39,I39,J39,K39)/5 -> 1
B40: 135 | E40: 남 | G40: 12 | H40: 13 | I40: 12 | J40: 13 | K40: 11 | L40: =SUM(G40,H40,I40,J40,K40) -> 61 | M40: =RANK(L40,L$6:L$115) -> 2 | N40: =COUNTA(G40,H40,I40,J40,K40)/5 -> 1
B41: 136 | E41: 남 | L41: =SUM(G41,H41,I41,J41,K41) -> 0 | M41: =RANK(L41,L$6:L$115) -> 94 | N41: =COUNTA(G41,H41,I41,J41,K41)/5 -> 0
B42: 137 | E42: 남 | G42: 9 | I42: 8 | K42: 4 | L42: =SUM(G42,H42,I42,J42,K42) -> 21 | M42: =RANK(L42,L$6:L$115) -> 66 | N42: =COUNTA(G42,H42,I42,J42,K42)/5 -> 0.6
B43: 138 | E43: 남 | L43: =SUM(G43,H43,I43,J43,K43) -> 0 | M43: =RANK(L43,L$6:L$115) -> 94 | N43: =COUNTA(G43,H43,I43,J43,K43)/5 -> 0
B44: 139 | E44: 남 | H44: 4 | I44: 8 | J44: 3 | K44: 1 | L44: =SUM(G44,H44,I44,J44,K44) -> 16 | M44: =RANK(L44,L$6:L$115) -> 75 | N44: =COUNTA(G44,H44,I44,J44,K44)/5 -> 0.8
B45: 140 | E45: 남 | G45: 5 | J45: 4 | K45: 4 | L45: =SUM(G45,H45,I45,J45,K45) -> 13 | M45: =RANK(L45,L$6:L$115) -> 80 | N45: =COUNTA(G45,H45,I45,J45,K45)/5 -> 0.6
B46: 230 | E46: 남 | I46: 10 | J46: 10 | K46: 6 | L46: =SUM(G46,H46,I46,J46,K46) -> 26 | M46: =RANK(L46,L$6:L$115) -> 55 | N46: =COUNTA(G46,H46,I46,J46,K46)/5 -> 0.6
B47: 231 | E47: 남 | G47: 11 | H47: 10 | I47: 6 | J47: 5 | K47: 5 | L47: =SUM(G47,H47,I47,J47,K47) -> 37 | M47: =RANK(L47,L$6:L$115) -> 28 | N47: =COUNTA(G47,H47,I47,J47,K47)/5 -> 1
B48: 232 | E48: 남 | G48: 6 | H48: 5 | I48: 6 | J48: 3 | K48: 6 | L48: =SUM(G48,H48,I48,J48,K48) -> 26 | M48: =RANK(L48,L$6:L$115) -> 55 | N48: =COUNTA(G48,H48,I48,J48,K48)/5 -> 1
B49: 233 | E49: 여 | L49: =SUM(G49,H49,I49,J49,K49) -> 0 | M49: =RANK(L49,L$6:L$115) -> 94 | N49: =COUNTA(G49,H49,I49,J49,K49)/5 -> 0
B50: 234 | E50: 남 | L50: =SUM(G50,H50,I50,J50,K50) -> 0 | M50: =RANK(L50,L$6:L$115) -> 94 | N50: =COUNTA(G50,H50,I50,J50,K50)/5 -> 0
B51: 235 | E51: 남 | L51: =SUM(G51,H51,I51,J51,K51) -> 0 | M51: =RANK(L51,L$6:L$115) -> 94 | N51: =COUNTA(G51,H51,I51,J51,K51)/5 -> 0
B52: 236 | E52: 남 | L52: =SUM(G52,H52,I52,J52,K52) -> 0 | M52: =RANK(L52,L$6:L$115) -> 94 | N52: =COUNTA(G52,H52,I52,J52,K52)/5 -> 0
B53: 151 | E53: 여 | G53: 9 | H53: 9 | I53: 5 | K53: 6 | L53: =SUM(G53,H53,I53,J53,K53) -> 29 | M53: =RANK(L53,L$6:L$115) -> 48 | N53: =COUNTA(G53,H53,I53,J53,K53)/5 -> 0.8 | R53: 슴지훈 | S53: 6.00
B54: 152 | E54: 여 | H54: 9 | L54: =SUM(G54,H54,I54,J54,K54) -> 9 | M54: =RANK(L54,L$6:L$115) -> 89 | N54: =COUNTA(G54,H54,I54,J54,K54)/5 -> 0.2
B55: 153 | E55: 여 | G55: 6 | H55: 9 | J55: 5 | K55: 7 | L55: =SUM(G55,H55,I55,J55,K55) -> 27 | M55: =RANK(L55,L$6:L$115) -> 50 | N55: =COUNTA(G55,H55,I55,J55,K55)/5 -> 0.8
B56: 154 | E56: 남 | G56: 10 | H56: 9 | I56: 13 | J56: 9 | L56: =SUM(G56,H56,I56,J56,K56) -> 41 | M56: =RANK(L56,L$6:L$115) -> 20 | N56: =COUNTA(G56,H56,I56,J56,K56)/5 -> 0.8
B57: 155 | E57: 여 | G57: 13 | H57: 9 | I57: 10 | J57: 13 | K57: 8 | L57: =SUM(G57,H57,I57,J57,K57) -> 53 | M57: =RANK(L57,L$6:L$115) -> 7 | N57: =COUNTA(G57,H57,I57,J57,K57)/5 -> 1
B58: 156 | E58: 여 | G58: 11 | H58: 9 | I58: 13 | J58: 12 | K58: 10 | L58: =SUM(G58,H58,I58,J58,K58) -> 55 | M58: =RANK(L58,L$6:L$115) -> 5 | N58: =COUNTA(G58,H58,I58,J58,K58)/5 -> 1
B59: 157 | E59: 남 | G59: 12 | H59: 14 | I59: 10 | J59: 7 | K59: 8 | L59: =SUM(G59,H59,I59,J59,K59) -> 51 | M59: =RANK(L59,L$6:L$115) -> 12 | N59: =COUNTA(G59,H59,I59,J59,K59)/5 -> 1
B60: 158 | E60: 여 | G60: 10 | H60: 8 | I60: 4 | J60: 6 | K60: 5 | L60: =SUM(G60,H60,I60,J60,K60) -> 33 | M60: =RANK(L60,L$6:L$115) -> 37 | N60: =COUNTA(G60,H60,I60,J60,K60)/5 -> 1
B61: 159 | E61: 여 | H61: 10 | I61: 4 | J61: 7 | K61: 6 | L61: =SUM(G61,H61,I61,J61,K61) -> 27 | M61: =RANK(L61,L$6:L$115) -> 50 | N61: =COUNTA(G61,H61,I61,J61,K61)/5 -> 0.8
B62: 160 | E62: 여 | G62: 13 | H62: 10 | I62: 7 | J62: 7 | K62: 6 | L62: =SUM(G62,H62,I62,J62,K62) -> 43 | M62: =RANK(L62,L$6:L$115) -> 17 | N62: =COUNTA(G62,H62,I62,J62,K62)/5 -> 1
B63: 161 | E63: 남 | G63: 11 | H63: 6 | I63: 10 | J63: 6 | K63: 5 | L63: =SUM(G63,H63,I63,J63,K63) -> 38 | M63: =RANK(L63,L$6:L$115) -> 26 | N63: =COUNTA(G63,H63,I63,J63,K63)/5 -> 1
B64: 162 | E64: 남 | G64: 7 | I64: 5 | L64: =SUM(G64,H64,I64,J64,K64) -> 12 | M64: =RANK(L64,L$6:L$115) -> 82 | N64: =COUNTA(G64,H64,I64,J64,K64)/5 -> 0.4
B65: 163 | E65: 남 | G65: 8 | H65: 14 | J65: 9 | L65: =SUM(G65,H65,I65,J65,K65) -> 31 | M65: =RANK(L65,L$6:L$115) -> 41 | N65: =COUNTA(G65,H65,I65,J65,K65)/5 -> 0.6
B66: 164 | E66: 남 | H66: 9 | I66: 9 | J66: 10 | K66: 8 | L66: =SUM(G66,H66,I66,J66,K66) -> 36 | M66: =RANK(L66,L$6:L$115) -> 33 | N66: =COUNTA(G66,H66,I66,J66,K66)/5 -> 0.8
B67: 165 | E67: 여 | H67: 6 | I67: 10 | J67: 7 | K67: 10 | L67: =SUM(G67,H67,I67,J67,K67) -> 33 | M67: =RANK(L67,L$6:L$115) -> 37 | N67: =COUNTA(G67,H67,I67,J67,K67)/5 -> 0.8
B68: 166 | E68: 남 | H68: 12 | K68: 8 | L68: =SUM(G68,H68,I68,J68,K68) -> 20 | M68: =RANK(L68,L$6:L$115) -> 69 | N68: =COUNTA(G68,H68,I68,J68,K68)/5 -> 0.4
B69: 167 | E69: 여 | G69: 8 | H69: 11 | I69: 7 | L69: =SUM(G69,H69,I69,J69,K69) -> 26 | M69: =RANK(L69,L$6:L$115) -> 55 | N69: =COUNTA(G69,H69,I69,J69,K69)/5 -> 0.6
B70: 168 | E70: 남 | G70: 11 | H70: 14 | I70: 9 | J70: 11 | K70: 10 | L70: =SUM(G70,H70,I70,J70,K70) -> 55 | M70: =RANK(L70,L$6:L$115) -> 5 | N70: =COUNTA(G70,H70,I70,J70,K70)/5 -> 1
B71: 169 | E71: 남 | H71: 6 | I71: 5 | J71: 7 | K71: 4 | L71: =SUM(G71,H71,I71,J71,K71) -> 22 | M71: =RANK(L71,L$6:L$115) -> 64 | N71: =COUNTA(G71,H71,I71,J71,K71)/5 -> 0.8
B72: 170 | E72: 남 | H72: 7 | I72: 3 | J72: 8 | L72: =SUM(G72,H72,I72,J72,K72) -> 18 | M72: =RANK(L72,L$6:L$115) -> 71 | N72: =COUNTA(G72,H72,I72,J72,K72)/5 -> 0.6
B73: 171 | E73: 남 | I73: 10 | L73: =SUM(G73,H73,I73,J73,K73) -> 10 | M73: =RANK(L73,L$6:L$115) -> 87 | N73: =COUNTA(G73,H73,I73,J73,K73)/5 -> 0.2
B74: 172 | E74: 남 | G74: 7 | H74: 7 | L74: =SUM(G74,H74,I74,J74,K74) -> 14 | M74: =RANK(L74,L$6:L$115) -> 78 | N74: =COUNTA(G74,H74,I74,J74,K74)/5 -> 0.4
B75: 173 | E75: 여 | G75: 8 | H75: 12 | I75: 10 | J75: 8 | K75: 7 | L75: =SUM(G75,H75,I75,J75,K75) -> 45 | M75: =RANK(L75,L$6:L$115) -> 15 | N75: =COUNTA(G75,H75,I75,J75,K75)/5 -> 1
B76: 174 | E76: 남 | G76: 10 | I76: 9 | J76: 9 | K76: 6 | L76: =SUM(G76,H76,I76,J76,K76) -> 34 | M76: =RANK(L76,L$6:L$115) -> 35 | N76: =COUNTA(G76,H76,I76,J76,K76)/5 -> 0.8
B77: 175 | E77: 남 | G77: 7 | H77: 6 | I77: 5 | J77: 7 | K77: 6 | L77: =SUM(G77,H77,I77,J77,K77) -> 31 | M77: =RANK(L77,L$6:L$115) -> 41 | N77: =COUNTA(G77,H77,I77,J77,K77)/5 -> 1
B78: 176 | E78: 여 | G78: 6 | L78: =SUM(G78,H78,I78,J78,K78) -> 6 | M78: =RANK(L78,L$6:L$115) -> 91 | N78: =COUNTA(G78,H78,I78,J78,K78)/5 -> 0.2
B79: 177 | E79: 남 | I79: 9 | K79: 10 | L79: =SUM(G79,H79,I79,J79,K79) -> 19 | M79: =RANK(L79,L$6:L$115) -> 70 | N79: =COUNTA(G79,H79,I79,J79,K79)/5 -> 0.4
B80: 178 | E80: 남 | G80: 10 | H80: 11 | I80: 9 | J80: 8 | K80: 6 | L80: =SUM(G80,H80,I80,J80,K80) -> 44 | M80: =RANK(L80,L$6:L$115) -> 16 | N80: =COUNTA(G80,H80,I80,J80,K80)/5 -> 1
B81: 179 | E81: 남 | G81: 13 | H81: 12 | I81: 14 | J81: 14 | K81: 9 | L81: =SUM(G81,H81,I81,J81,K81) -> 62 | M81: =RANK(L81,L$6:L$115) -> 1 | N81: =COUNTA(G81,H81,I81,J81,K81)/5 -> 1
B82: 180 | E82: 여 | G82: 11 | H82: 12 | I82: 12 | J82: 13 | K82: 8 | L82: =SUM(G82,H82,I82,J82,K82) -> 56 | M82: =RANK(L82,L$6:L$115) -> 4 | N82: =COUNTA(G82,H82,I82,J82,K82)/5 -> 1
B83: 181 | E83: 남 | G83: 10 | H83: 6 | I83: 5 | J83: 3 | K83: 7 | L83: =SUM(G83,H83,I83,J83,K83) -> 31 | M83: =RANK(L83,L$6:L$115) -> 41 | N83: =COUNTA(G83,H83,I83,J83,K83)/5 -> 1
B84: 182 | E84: 남 | G84: 12 | H84: 13 | I84: 11 | J84: 9 | K84: 8 | L84: =SUM(G84,H84,I84,J84,K84) -> 53 | M84: =RANK(L84,L$6:L$115) -> 7 | N84: =COUNTA(G84,H84,I84,J84,K84)/5 -> 1
B85: 183 | E85: 여 | L85: =SUM(G85,H85,I85,J85,K85) -> 0 | M85: =RANK(L85,L$6:L$115) -> 94 | N85: =COUNTA(G85,H85,I85,J85,K85)/5 -> 0
B86: 184 | E86: 여 | G86: 3 | H86: 7 | I86: 4 | J86: 1 | K86: 3 | L86: =SUM(G86,H86,I86,J86,K86) -> 18 | M86: =RANK(L86,L$6:L$115) -> 71 | N86: =COUNTA(G86,H86,I86,J86,K86)/5 -> 1
B87: 185 | E87: 여 | H87: 11 | I87: 10 | J87: 9 | K87: 2 | L87: =SUM(G87,H87,I87,J87,K87) -> 32 | M87: =RANK(L87,L$6:L$115) -> 39 | N87: =COUNTA(G87,H87,I87,J87,K87)/5 -> 0.8
B88: 186 | E88: 남 | G88: 10 | H88: 9 | I88: 4 | J88: 9 | K88: 7 | L88: =SUM(G88,H88,I88,J88,K88) -> 39 | M88: =RANK(L88,L$6:L$115) -> 25 | N88: =COUNTA(G88,H88,I88,J88,K88)/5 -> 1
B89: 187 | E89: 여 | G89: 10 | H89: 12 | I89: 8 | J89: 9 | K89: 7 | L89: =SUM(G89,H89,I89,J89,K89) -> 46 | M89: =RANK(L89,L$6:L$115) -> 14 | N89: =COUNTA(G89,H89,I89,J89,K89)/5 -> 1
B90: 188 | E90: 남 | H90: 13 | I90: 5 | J90: 10 | K90: 9 | L90: =SUM(G90,H90,I90,J90,K90) -> 37 | M90: =RANK(L90,L$6:L$115) -> 28 | N90: =COUNTA(G90,H90,I90,J90,K90)/5 -> 0.8
B91: 189 | E91: 남 | G91: 13 | H91: 9 | I91: 5 | J91: 6 | K91: 5 | L91: =SUM(G91,H91,I91,J91,K91) -> 38 | M91: =RANK(L91,L$6:L$115) -> 26 | N91: =COUNTA(G91,H91,I91,J91,K91)/5 -> 1
B92: 190 | E92: 남 | G92: 9 | H92: 4 | I92: 6 | J92: 6 | K92: 6 | L92: =SUM(G92,H92,I92,J92,K92) -> 31 | M92: =RANK(L92,L$6:L$115) -> 41 | N92: =COUNTA(G92,H92,I92,J92,K92)/5 -> 1
B93: 191 | E93: 여 | L93: =SUM(G93,H93,I93,J93,K93) -> 0 | M93: =RANK(L93,L$6:L$115) -> 94 | N93: =COUNTA(G93,H93,I93,J93,K93)/5 -> 0
B94: 192 | E94: 남 | I94: 8 | J94: 4 | L94: =SUM(G94,H94,I94,J94,K94) -> 12 | M94: =RANK(L94,L$6:L$115) -> 82 | N94: =COUNTA(G94,H94,I94,J94,K94)/5 -> 0.4
B95: 193 | E95: 여 | G95: 12 | I95: 7 | K95: 5 | L95: =SUM(G95,H95,I95,J95,K95) -> 24 | M95: =RANK(L95,L$6:L$115) -> 61 | N95: =COUNTA(G95,H95,I95,J95,K95)/5 -> 0.6
B96: 194 | E96: 여 | G96: 9 | H96: 10 | I96: 11 | J96: 7 | K96: 4 | L96: =SUM(G96,H96,I96,J96,K96) -> 41 | M96: =RANK(L96,L$6:L$115) -> 20 | N96: =COUNTA(G96,H96,I96,J96,K96)/5 -> 1
B97: 195 | E97: 남 | G97: 7 | H97: 8 | J97: 9 | L97: =SUM(G97,H97,I97,J97,K97) -> 24 | M97: =RANK(L97,L$6:L$115) -> 61 | N97: =COUNTA(G97,H97,I97,J97,K97)/5 -> 0.6
B98: 196 | E98: 남 | H98: 8 | I98: 6 | J98: 9 | K98: 4 | L98: =SUM(G98,H98,I98,J98,K98) -> 27 | M98: =RANK(L98,L$6:L$115) -> 50 | N98: =COUNTA(G98,H98,I98,J98,K98)/5 -> 0.8
B99: 197 | E99: 여 | G99: 6 | H99: 6 | I99: 7 | J99: 2 | K99: 6 | L99: =SUM(G99,H99,I99,J99,K99) -> 27 | M99: =RANK(L99,L$6:L$115) -> 50 | N99: =COUNTA(G99,H99,I99,J99,K99)/5 -> 1
B100: 198 | E100: 남 | G100: 6 | H100: 3 | L100: =SUM(G100,H100,I100,J100,K100) -> 9 | M100: =RANK(L100,L$6:L$115) -> 89 | N100: =COUNTA(G100,H100,I100,J100,K100)/5 -> 0.4
B101: 199 | L101: =SUM(G101,H101,I101,J101,K101) -> 0 | M101: =RANK(L101,L$6:L$115) -> 94 | N101: =COUNTA(G101,H101,I101,J101,K101)/5 -> 0
...

Sheet 2주차
B2: 5월 아침 모의고사 성적현황
B3: 시험 2주차 : 5월 21일 ~ 25일
G4: 21 | H4: 22 | I4: 23 | J4: 24 | K4: 25 | L4: 주간성적 | P4: 모의고사 참여율 | Q4: 비고
A5: 수험 번호 | B5: 수험 번호 | C5: 유/무 | D5: 이름 | E5: 성별 | F5: 연락처 | G5: 국사 | H5: 형소법 | I5: 경찰학 | J5: 형법 | K5: 영어 | L5: 이번주 총점 | M5: 누적 총점 | N5: 전체 총점 | O5: 등수
B6: 100 | E6: 남 | G6: 10 | H6: 13 | I6: 10 | J6: 10 | K6: 13 | L6: =SUM(G6:K6) -> 56 | M6: ='1주차'!L6 -> 43 | N6: =SUM(L6,M6) -> 99 | O6: =RANK(N6,N$6:N$107) -> 11 | P6: =COUNTA(G6,H6,I6,J6,K6)/5 -> 1
B7: 103 | E7: 남 | G7: 7 | L7: =SUM(G7:K7) -> 7 | M7: ='1주차'!L9 -> 6 | N7: =SUM(L7,M7) -> 13 | O7: =RANK(N7,N$6:N$107) -> 91 | P7: =COUNTA(G7,H7,I7,J7,K7)/5 -> 0.2
B8: 106 | E8: 여 | G8: 11 | H8: 9 | I8: 10 | J8: 4 | K8: 16 | L8: =SUM(G8:K8) -> 50 | M8: ='1주차'!L11 -> 32 | N8: =SUM(L8,M8) -> 82 | O8: =RANK(N8,N$6:N$107) -> 24 | P8: =COUNTA(G8,H8,I8,J8,K8)/5 -> 1
B9: 107 | E9: 여 | G9: 5 | H9: 8 | I9: 6 | J9: 4 | K9: 11 | L9: =SUM(G9:K9) -> 34 | M9: ='1주차'!L12 -> 30 | N9: =SUM(L9,M9) -> 64 | O9: =RANK(N9,N$6:N$107) -> 36 | P9: =COUNTA(G9,H9,I9,J9,K9)/5 -> 1
B10: 108 | E10: 여 | G10: 4 | H10: 2 | I10: 6 | J10: 4 | K10: 10 | L10: =SUM(G10:K10) -> 26 | M10: ='1주차'!L13 -> 34 | N10: =SUM(L10,M10) -> 60 | O10: =RANK(N10,N$6:N$107) -> 41 | P10: =COUNTA(G10,H10,I10,J10,K10)/5 -> 1
B11: 109 | E11: 남 | G11: 7 | H11: 8 | I11: 6 | J11: 8 | K11: 14 | L11: =SUM(G11:K11) -> 43 | M11: ='1주차'!L14 -> 41 | N11: =SUM(L11,M11) -> 84 | O11: =RANK(N11,N$6:N$107) -> 23 | P11: =COUNTA(G11,H11,I11,J11,K11)/5 -> 1
B12: 110 | E12: 남 | G12: 5 | H12: 11 | I12: 9 | J12: 7 | K12: 16 | L12: =SUM(G12:K12) -> 48 | M12: ='1주차'!L15 -> 43 | N12: =SUM(L12,M12) -> 91 | O12: =RANK(N12,N$6:N$107) -> 17 | P12: =COUNTA(G12,H12,I12,J12,K12)/5 -> 1
B13: 111 | E13: 남 | H13: 11 | I13: 5 | J13: 6 | L13: =SUM(G13:K13) -> 22 | M13: ='1주차'!L16 -> 41 | N13: =SUM(L13,M13) -> 63 | O13: =RANK(N13,N$6:N$107) -> 37 | P13: =COUNTA(G13,H13,I13,J13,K13)/5 -> 0.6
B14: 112 | E14: 여 | L14: =SUM(G14:K14) -> 0 | M14: ='1주차'!L17 -> 10 | N14: =SUM(L14,M14) -> 10 | O14: =RANK(N14,N$6:N$107) -> 93 | P14: =COUNTA(G14,H14,I14,J14,K14)/5 -> 0 | Q14: 1차 경고
B15: 113 | E15: 남 | G15: 5 | L15: =SUM(G15:K15) -> 5 | M15: ='1주차'!L18 -> 4 | N15: =SUM(L15,M15) -> 9 | O15: =RANK(N15,N$6:N$107) -> 95 | P15: =COUNTA(G15,H15,I15,J15,K15)/5 -> 0.2
B16: 114 | E16: 남 | H16: 7 | I16: 6 | J16: 7 | K16: 8 | L16: =SUM(G16:K16) -> 28 | M16: ='1주차'!L19 -> 37 | N16: =SUM(L16,M16) -> 65 | O16: =RANK(N16,N$6:N$107) -> 35 | P16: =COUNTA(G16,H16,I16,J16,K16)/5 -> 0.8
B17: 116 | E17: 남 | G17: 7 | H17: 3 | I17: 3 | J17: 1 | K17: 7 | L17: =SUM(G17:K17) -> 21 | M17: ='1주차'!L21 -> 30 | N17: =SUM(L17,M17) -> 51 | O17: =RANK(N17,N$6:N$107) -> 53 | P17: =COUNTA(G17,H17,I17,J17,K17)/5 -> 1
B18: 117 | E18: 여 | G18: 9 | L18: =SUM(G18:K18) -> 9 | M18: ='1주차'!L22 -> 40 | N18: =SUM(L18,M18) -> 49 | O18: =RANK(N18,N$6:N$107) -> 56 | P18: =COUNTA(G18,H18,I18,J18,K18)/5 -> 0.2
B19: 118 | E19: 남 | G19: 14 | H19: 11 | I19: 7 | K19: 14 | L19: =SUM(G19:K19) -> 46 | M19: ='1주차'!L23 -> 52 | N19: =SUM(L19,M19) -> 98 | O19: =RANK(N19,N$6:N$107) -> 12 | P19: =COUNTA(G19,H19,I19,J19,K19)/5 -> 0.8
B20: 119 | E20: 남 | G20: 8 | H20: 8 | J20: 8 | K20: 11 | L20: =SUM(G20:K20) -> 35 | M20: ='1주차'!L24 -> 21 | N20: =SUM(L20,M20) -> 56 | O20: =RANK(N20,N$6:N$107) -> 46 | P20: =COUNTA(G20,H20,I20,J20,K20)/5 -> 0.8
B21: 121 | E21: 남 | G21: 2 | H21: 7 | I21: 3 | J21: 4 | K21: 1 | L21: =SUM(G21:K21) -> 17 | M21: ='1주차'!L26 -> 27 | N21: =SUM(L21,M21) -> 44 | O21: =RANK(N21,N$6:N$107) -> 60 | P21: =COUNTA(G21,H21,I21,J21,K21)/5 -> 1
B22: 122 | E22: 남 | G22: 6 | L22: =SUM(G22:K22) -> 6 | M22: ='1주차'!L27 -> 25 | N22: =SUM(L22,M22) -> 31 | O22: =RANK(N22,N$6:N$107) -> 70 | P22: =COUNTA(G22,H22,I22,J22,K22)/5 -> 0.2
B23: 123 | E23: 남 | G23: 15 | H23: 15 | I23: 14 | J23: 11 | K23: 10 | L23: =SUM(G23:K23) -> 65 | M23: ='1주차'!L28 -> 60 | N23: =SUM(L23,M23) -> 125 | O23: =RANK(N23,N$6:N$107) -> 2 | P23: =COUNTA(G23,H23,I23,J23,K23)/5 -> 1
B24: 124 | E24: 남 | G24: 8 | H24: 11 | I24: 9 | J24: 4 | K24: 7 | L24: =SUM(G24:K24) -> 39 | M24: ='1주차'!L29 -> 29 | N24: =SUM(L24,M24) -> 68 | O24: =RANK(N24,N$6:N$107) -> 33 | P24: =COUNTA(G24,H24,I24,J24,K24)/5 -> 1
B25: 126 | E25: 남 | G25: 9 | H25: 10 | I25: 6 | J25: 9 | K25: 14 | L25: =SUM(G25:K25) -> 48 | M25: ='1주차'!L31 -> 37 | N25: =SUM(L25,M25) -> 85 | O25: =RANK(N25,N$6:N$107) -> 21 | P25: =COUNTA(G25,H25,I25,J25,K25)/5 -> 1
B26: 128 | E26: 남 | H26: 6 | L26: =SUM(G26:K26) -> 6 | M26: ='1주차'!L33 -> 15 | N26: =SUM(L26,M26) -> 21 | O26: =RANK(N26,N$6:N$107) -> 82 | P26: =COUNTA(G26,H26,I26,J26,K26)/5 -> 0.2
B27: 129 | E27: 여 | H27: 5 | I27: 4 | J27: 4 | L27: =SUM(G27:K27) -> 13 | M27: ='1주차'!L34 -> 12 | N27: =SUM(L27,M27) -> 25 | O27: =RANK(N27,N$6:N$107) -> 79 | P27: =COUNTA(G27,H27,I27,J27,K27)/5 -> 0.6
B28: 130 | E28: 남 | H28: 2 | I28: 2 | J28: 5 | K28: 4 | L28: =SUM(G28:K28) -> 13 | M28: ='1주차'!L35 -> 22 | N28: =SUM(L28,M28) -> 35 | O28: =RANK(N28,N$6:N$107) -> 66 | P28: =COUNTA(G28,H28,I28,J28,K28)/5 -> 0.8
B29: 131 | E29: 남 | G29: 15 | H29: 14 | I29: 11 | J29: 12 | K29: 13 | L29: =SUM(G29:K29) -> 65 | M29: ='1주차'!L36 -> 53 | N29: =SUM(L29,M29) -> 118 | O29: =RANK(N29,N$6:N$107) -> 4 | P29: =COUNTA(G29,H29,I29,J29,K29)/5 -> 1
B30: 132 | E30: 남 | G30: 6 | H30: 9 | I30: 10 | J30: 2 | K30: 10 | L30: =SUM(G30:K30) -> 37 | M30: ='1주차'!L37 -> 37 | N30: =SUM(L30,M30) -> 74 | O30: =RANK(N30,N$6:N$107) -> 31 | P30: =COUNTA(G30,H30,I30,J30,K30)/5 -> 1
B31: 133 | E31: 남 | G31: 13 | J31: 9 | K31: 11 | L31: =SUM(G31:K31) -> 33 | M31: ='1주차'!L38 -> 11 | N31: =SUM(L31,M31) -> 44 | O31: =RANK(N31,N$6:N$107) -> 60 | P31: =COUNTA(G31,H31,I31,J31,K31)/5 -> 0.6
B32: 134 | E32: 남 | G32: 7 | H32: 6 | I32: 3 | J32: 1 | K32: 10 | L32: =SUM(G32:K32) -> 27 | M32: ='1주차'!L39 -> 25 | N32: =SUM(L32,M32) -> 52 | O32: =RANK(N32,N$6:N$107) -> 52 | P32: =COUNTA(G32,H32,I32,J32,K32)/5 -> 1
B33: 135 | E33: 남 | G33: 12 | H33: 13 | I33: 12 | J33: 10 | K33: 18 | L33: =SUM(G33:K33) -> 65 | M33: ='1주차'!L40 -> 61 | N33: =SUM(L33,M33) -> 126 | O33: =RANK(N33,N$6:N$107) -> 1 | P33: =COUNTA(G33,H33,I33,J33,K33)/5 -> 1
B34: 136 | E34: 남 | G34: 9 | H34: 6 | J34: 2 | L34: =SUM(G34:K34) -> 17 | M34: ='1주차'!L41 -> 0 | N34: =SUM(L34,M34) -> 17 | O34: =RANK(N34,N$6:N$107) -> 85 | P34: =COUNTA(G34,H34,I34,J34,K34)/5 -> 0.6
B35: 137 | E35: 남 | G35: 4 | H35: 11 | I35: 5 | J35: 6 | K35: 11 | L35: =SUM(G35:K35) -> 37 | M35: ='1주차'!L42 -> 21 | N35: =SUM(L35,M35) -> 58 | O35: =RANK(N35,N$6:N$107) -> 42 | P35: =COUNTA(G35,H35,I35,J35,K35)/5 -> 1
B36: 139 | E36: 남 | G36: 7 | H36: 7 | I36: 6 | J36: 5 | K36: 10 | L36: =SUM(G36:K36) -> 35 | M36: ='1주차'!L44 -> 16 | N36: =SUM(L36,M36) -> 51 | O36: =RANK(N36,N$6:N$107) -> 53 | P36: =COUNTA(G36,H36,I36,J36,K36)/5 -> 1
B37: 140 | E37: 남 | G37: 5 | H37: 7 | I37: 1 | J37: 3 | K37: 4 | L37: =SUM(G37:K37) -> 20 | M37: ='1주차'!L45 -> 13 | N37: =SUM(L37,M37) -> 33 | O37: =RANK(N37,N$6:N$107) -> 68 | P37: =COUNTA(G37,H37,I37,J37,K37)/5 -> 1
B38: 230 | E38: 남 | L38: =SUM(G38:K38) -> 0 | M38: ='1주차'!L46 -> 26 | N38: =SUM(L38,M38) -> 26 | O38: =RANK(N38,N$6:N$107) -> 78 | P38: =COUNTA(G38,H38,I38,J38,K38)/5 -> 0 | Q38: 1차 경고
B39: 231 | E39: 남 | G39: 10 | H39: 6 | I39: 9 | J39: 3 | K39: 14 | L39: =SUM(G39:K39) -> 42 | M39: ='1주차'!L47 -> 37 | N39: =SUM(L39,M39) -> 79 | O39: =RANK(N39,N$6:N$107) -> 26 | P39: =COUNTA(G39,H39,I39,J39,K39)/5 -> 1
B40: 232 | E40: 남 | G40: 5 | H40: 7 | I40: 3 | J40: 4 | K40: 9 | L40: =SUM(G40:K40) -> 28 | M40: ='1주차'!L48 -> 26 | N40: =SUM(L40,M40) -> 54 | O40: =RANK(N40,N$6:N$107) -> 48 | P40: =COUNTA(G40,H40,I40,J40,K40)/5 -> 1
B41: 233 | E41: 여 | L41: =SUM(G41:K41) -> 0 | M41: ='1주차'!L49 -> 0 | N41: =SUM(L41,M41) -> 0 | O41: =RANK(N41,N$6:N$107) -> 98 | P41: =COUNTA(G41,H41,I41,J41,K41)/5 -> 0 | Q41: 1차 경고
B42: 234 | E42: 남 | L42: =SUM(G42:K42) -> 0 | M42: ='1주차'!L50 -> 0 | N42: =SUM(L42,M42) -> 0 | O42: =RANK(N42,N$6:N$107) -> 98 | P42: =COUNTA(G42,H42,I42,J42,K42)/5 -> 0 | Q42: 1차 경고
B43: 235 | E43: 남 | L43: =SUM(G43:K43) -> 0 | M43: ='1주차'!L51 -> 0 | N43: =SUM(L43,M43) -> 0 | O43: =RANK(N43,N$6:N$107) -> 98 | P43: =COUNTA(G43,H43,I43,J43,K43)/5 -> 0 | Q43: 1차 경고
B44: 236 | E44: 남 | G44: 9 | H44: 14 | J44: 5 | K44: 10 | L44: =SUM(G44:K44) -> 38 | M44: ='1주차'!L52 -> 0 | N44: =SUM(L44,M44) -> 38 | O44: =RANK(N44,N$6:N$107) -> 64 | P44: =COUNTA(G44,H44,I44,J44,K44)/5 -> 0.8
B45: 151 | E45: 여 | L45: =SUM(G45:K45) -> 0 | M45: ='1주차'!L53 -> 29 | N45: =SUM(L45,M45) -> 29 | O45: =RANK(N45,N$6:N$107) -> 73 | P45: =COUNTA(G45,H45,I45,J45,K45)/5 -> 0 | Q45: 1차 경고
B46: 152 | E46: 여 | L46: =SUM(G46:K46) -> 0 | M46: ='1주차'!L54 -> 9 | N46: =SUM(L46,M46) -> 9 | O46: =RANK(N46,N$6:N$107) -> 95 | P46: =COUNTA(G46,H46,I46,J46,K46)/5 -> 0 | Q46: 1차 경고
B47: 153 | E47: 여 | G47: 6 | H47: 6 | I47: 5 | J47: 3 | L47: =SUM(G47:K47) -> 20 | M47: ='1주차'!L55 -> 27 | N47: =SUM(L47,M47) -> 47 | O47: =RANK(N47,N$6:N$107) -> 59 | P47: =COUNTA(G47,H47,I47,J47,K47)/5 -> 0.8
B48: 154 | E48: 남 | G48: 11 | H48: 14 | I48: 9 | J48: 9 | K48: 10 | L48: =SUM(G48:K48) -> 53 | M48: ='1주차'!L56 -> 41 | N48: =SUM(L48,M48) -> 94 | O48: =RANK(N48,N$6:N$107) -> 15 | P48: =COUNTA(G48,H48,I48,J48,K48)/5 -> 1
B49: 155 | E49: 여 | G49: 13 | H49: 14 | I49: 7 | J49: 10 | K49: 15 | L49: =SUM(G49:K49) -> 59 | M49: ='1주차'!L57 -> 53 | N49: =SUM(L49,M49) -> 112 | O49: =RANK(N49,N$6:N$107) -> 8 | P49: =COUNTA(G49,H49,I49,J49,K49)/5 -> 1
B50: 156 | E50: 여 | G50: 11 | H50: 11 | I50: 11 | J50: 11 | K50: 15 | L50: =SUM(G50:K50) -> 59 | M50: ='1주차'!L58 -> 55 | N50: =SUM(L50,M50) -> 114 | O50: =RANK(N50,N$6:N$107) -> 7 | P50: =COUNTA(G50,H50,I50,J50,K50)/5 -> 1
B51: 157 | E51: 남 | G51: 12 | H51: 9 | I51: 8 | J51: 9 | L51: =SUM(G51:K51) -> 38 | M51: ='1주차'!L59 -> 51 | N51: =SUM(L51,M51) -> 89 | O51: =RANK(N51,N$6:N$107) -> 20 | P51: =COUNTA(G51,H51,I51,J51,K51)/5 -> 0.8
B52: 158 | E52: 여 | G52: 6 | H52: 9 | I52: 5 | K52: 13 | L52: =SUM(G52:K52) -> 33 | M52: ='1주차'!L60 -> 33 | N52: =SUM(L52,M52) -> 66 | O52: =RANK(N52,N$6:N$107) -> 34 | P52: =COUNTA(G52,H52,I52,J52,K52)/5 -> 0.8
B53: 159 | E53: 여 | G53: 8 | H53: 7 | I53: 6 | J53: 8 | K53: 6 | L53: =SUM(G53:K53) -> 35 | M53: ='1주차'!L61 -> 27 | N53: =SUM(L53,M53) -> 62 | O53: =RANK(N53,N$6:N$107) -> 38 | P53: =COUNTA(G53,H53,I53,J53,K53)/5 -> 1
B54: 160 | E54: 여 | G54: 13 | H54: 12 | I54: 8 | J54: 7 | K54: 8 | L54: =SUM(G54:K54) -> 48 | M54: ='1주차'!L62 -> 43 | N54: =SUM(L54,M54) -> 91 | O54: =RANK(N54,N$6:N$107) -> 17 | P54: =COUNTA(G54,H54,I54,J54,K54)/5 -> 1
B55: 161 | E55: 남 | G55: 10 | H55: 9 | I55: 7 | J55: 4 | K55: 8 | L55: =SUM(G55:K55) -> 38 | M55: ='1주차'!L63 -> 38 | N55: =SUM(L55,M55) -> 76 | O55: =RANK(N55,N$6:N$107) -> 29 | P55: =COUNTA(G55,H55,I55,J55,K55)/5 -> 1
B56: 162 | E56: 남 | I56: 7 | J56: 4 | K56: 11 | L56: =SUM(G56:K56) -> 22 | M56: ='1주차'!L64 -> 12 | N56: =SUM(L56,M56) -> 34 | O56: =RANK(N56,N$6:N$107) -> 67 | P56: =COUNTA(G56,H56,I56,J56,K56)/5 -> 0.6
B57: 163 | E57: 남 | G57: 10 | H57: 13 | L57: =SUM(G57:K57) -> 23 | M57: ='1주차'!L65 -> 31 | N57: =SUM(L57,M57) -> 54 | O57: =RANK(N57,N$6:N$107) -> 48 | P57: =COUNTA(G57,H57,I57,J57,K57)/5 -> 0.4
B58: 164 | E58: 남 | G58: 8 | H58: 8 | I58: 5 | L58: =SUM(G58:K58) -> 21 | M58: ='1주차'!L66 -> 36 | N58: =SUM(L58,M58) -> 57 | O58: =RANK(N58,N$6:N$107) -> 44 | P58: =COUNTA(G58,H58,I58,J58,K58)/5 -> 0.6
B59: 165 | E59: 여 | G59: 11 | H59: 9 | I59: 7 | J59: 12 | K59: 13 | L59: =SUM(G59:K59) -> 52 | M59: ='1주차'!L67 -> 33 | N59: =SUM(L59,M59) -> 85 | O59: =RANK(N59,N$6:N$107) -> 21 | P59: =COUNTA(G59,H59,I59,J59,K59)/5 -> 1
B60: 166 | E60: 남 | G60: 14 | H60: 13 | J60: 10 | K60: 14 | L60: =SUM(G60:K60) -> 51 | M60: ='1주차'!L68 -> 20 | N60: =SUM(L60,M60) -> 71 | O60: =RANK(N60,N$6:N$107) -> 32 | P60: =COUNTA(G60,H60,I60,J60,K60)/5 -> 0.8
B61: 167 | E61: 여 | G61: 3 | L61: =SUM(G61:K61) -> 3 | M61: ='1주차'!L69 -> 26 | N61: =SUM(L61,M61) -> 29 | O61: =RANK(N61,N$6:N$107) -> 73 | P61: =COUNTA(G61,H61,I61,J61,K61)/5 -> 0.2
B62: 168 | E62: 남 | G62: 5 | H62: 13 | I62: 5 | J62: 7 | K62: 13 | L62: =SUM(G62:K62) -> 43 | M62: ='1주차'!L70 -> 55 | N62: =SUM(L62,M62) -> 98 | O62: =RANK(N62,N$6:N$107) -> 12 | P62: =COUNTA(G62,H62,I62,J62,K62)/5 -> 1
B63: 169 | E63: 남 | G63: 9 | H63: 8 | I63: 6 | J63: 1 | K63: 8 | L63: =SUM(G63:K63) -> 32 | M63: ='1주차'!L71 -> 22 | N63: =SUM(L63,M63) -> 54 | O63: =RANK(N63,N$6:N$107) -> 48 | P63: =COUNTA(G63,H63,I63,J63,K63)/5 -> 1
B64: 170 | E64: 남 | L64: =SUM(G64:K64) -> 0 | M64: ='1주차'!L72 -> 18 | N64: =SUM(L64,M64) -> 18 | O64: =RANK(N64,N$6:N$107) -> 84 | P64: =COUNTA(G64,H64,I64,J64,K64)/5 -> 0 | Q64: 1차 경고
B65: 171 | E65: 남 | L65: =SUM(G65:K65) -> 0 | M65: ='1주차'!L73 -> 10 | N65: =SUM(L65,M65) -> 10 | O65: =RANK(N65,N$6:N$107) -> 93 | P65: =COUNTA(G65,H65,I65,J65,K65)/5 -> 0 | Q65: 1차 경고
B66: 172 | E66: 남 | L66: =SUM(G66:K66) -> 0 | M66: ='1주차'!L74 -> 14 | N66: =SUM(L66,M66) -> 14 | O66: =RANK(N66,N$6:N$107) -> 88 | P66: =COUNTA(G66,H66,I66,J66,K66)/5 -> 0 | Q66: 1차 경고
B67: 173 | E67: 여 | H67: 13 | L67: =SUM(G67:K67) -> 13 | M67: ='1주차'!L75 -> 45 | N67: =SUM(L67,M67) -> 58 | O67: =RANK(N67,N$6:N$107) -> 42 | P67: =COUNTA(G67,H67,I67,J67,K67)/5 -> 0.2
B68: 174 | E68: 남 | G68: 11 | H68: 13 | I68: 5 | J68: 6 | K68: 9 | L68: =SUM(G68:K68) -> 44 | M68: ='1주차'!L76 -> 34 | N68: =SUM(L68,M68) -> 78 | O68: =RANK(N68,N$6:N$107) -> 27 | P68: =COUNTA(G68,H68,I68,J68,K68)/5 -> 1
B69: 175 | E69: 남 | G69: 8 | H69: 5 | I69: 7 | J69: 3 | L69: =SUM(G69:K69) -> 23 | M69: ='1주차'!L77 -> 31 | N69: =SUM(L69,M69) -> 54 | O69: =RANK(N69,N$6:N$107) -> 48 | P69: =COUNTA(G69,H69,I69,J69,K69)/5 -> 0.8
B70: 176 | E70: 여 | L70: =SUM(G70:K70) -> 0 | M70: ='1주차'!L78 -> 6 | N70: =SUM(L70,M70) -> 6 | O70: =RANK(N70,N$6:N$107) -> 97 | P70: =COUNTA(G70,H70,I70,J70,K70)/5 -> 0 | Q70: 1차 경고
B71: 177 | E71: 남 | H71: 10 | I71: 6 | J71: 7 | K71: 9 | L71: =SUM(G71:K71) -> 32 | M71: ='1주차'!L79 -> 19 | N71: =SUM(L71,M71) -> 51 | O71: =RANK(N71,N$6:N$107) -> 53 | P71: =COUNTA(G71,H71,I71,J71,K71)/5 -> 0.8
B72: 178 | E72: 남 | G72: 12 | H72: 14 | I72: 5 | J72: 7 | K72: 11 | L72: =SUM(G72:K72) -> 49 | M72: ='1주차'!L80 -> 44 | N72: =SUM(L72,M72) -> 93 | O72: =RANK(N72,N$6:N$107) -> 16 | P72: =COUNTA(G72,H72,I72,J72,K72)/5 -> 1
B73: 179 | E73: 남 | G73: 13 | H73: 14 | J73: 13 | K73: 15 | L73: =SUM(G73:K73) -> 55 | M73: ='1주차'!L81 -> 62 | N73: =SUM(L73,M73) -> 117 | O73: =RANK(N73,N$6:N$107) -> 5 | P73: =COUNTA(G73,H73,I73,J73,K73)/5 -> 0.8
B74: 180 | E74: 여 | G74: 12 | H74: 14 | I74: 12 | J74: 11 | K74: 16 | L74: =SUM(G74:K74) -> 65 | M74: ='1주차'!L82 -> 56 | N74: =SUM(L74,M74) -> 121 | O74: =RANK(N74,N$6:N$107) -> 3 | P74: =COUNTA(G74,H74,I74,J74,K74)/5 -> 1
B75: 181 | E75: 남 | G75: 11 | H75: 8 | I75: 7 | J75: 8 | K75: 11 | L75: =SUM(G75:K75) -> 45 | M75: ='1주차'!L83 -> 31 | N75: =SUM(L75,M75) -> 76 | O75: =RANK(N75,N$6:N$107) -> 29 | P75: =COUNTA(G75,H75,I75,J75,K75)/5 -> 1
B76: 182 | E76: 남 | G76: 12 | H76: 13 | I76: 8 | J76: 9 | K76: 15 | L76: =SUM(G76:K76) -> 57 | M76: ='1주차'!L84 -> 53 | N76: =SUM(L76,M76) -> 110 | O76: =RANK(N76,N$6:N$107) -> 9 | P76: =COUNTA(G76,H76,I76,J76,K76)/5 -> 1
B77: 183 | E77: 여 | L77: =SUM(G77:K77) -> 0 | M77: ='1주차'!L85 -> 0 | N77: =SUM(L77,M77) -> 0 | O77: =RANK(N77,N$6:N$107) -> 98 | P77: =COUNTA(G77,H77,I77,J77,K77)/5 -> 0 | Q77: 1차 경고
B78: 184 | E78: 여 | G78: 3 | H78: 7 | I78: 4 | J78: 5 | K78: 6 | L78: =SUM(G78:K78) -> 25 | M78: ='1주차'!L86 -> 18 | N78: =SUM(L78,M78) -> 43 | O78: =RANK(N78,N$6:N$107) -> 63 | P78: =COUNTA(G78,H78,I78,J78,K78)/5 -> 1
B79: 185 | E79: 여 | G79: 9 | H79: 11 | J79: 9 | L79: =SUM(G79:K79) -> 29 | M79: ='1주차'!L87 -> 32 | N79: =SUM(L79,M79) -> 61 | O79: =RANK(N79,N$6:N$107) -> 40 | P79: =COUNTA(G79,H79,I79,J79,K79)/5 -> 0.6
B80: 186 | E80: 남 | G80: 9 | H80: 6 | I80: 11 | J80: 6 | K80: 11 | L80: =SUM(G80:K80) -> 43 | M80: ='1주차'!L88 -> 39 | N80: =SUM(L80,M80) -> 82 | O80: =RANK(N80,N$6:N$107) -> 24 | P80: =COUNTA(G80,H80,I80,J80,K80)/5 -> 1
B81: 187 | E81: 여 | G81: 12 | H81: 14 | I81: 7 | J81: 9 | K81: 14 | L81: =SUM(G81:K81) -> 56 | M81: ='1주차'!L89 -> 46 | N81: =SUM(L81,M81) -> 102 | O81: =RANK(N81,N$6:N$107) -> 10 | P81: =COUNTA(G81,H81,I81,J81,K81)/5 -> 1
B82: 188 | E82: 남 | G82: 13 | H82: 13 | J82: 11 | K82: 16 | L82: =SUM(G82:K82) -> 53 | M82: ='1주차'!L90 -> 37 | N82: =SUM(L82,M82) -> 90 | O82: =RANK(N82,N$6:N$107) -> 19 | P82: =COUNTA(G82,H82,I82,J82,K82)/5 -> 0.8
B83: 189 | E83: 남 | G83: 8 | H83: 6 | J83: 5 | L83: =SUM(G83:K83) -> 19 | M83: ='1주차'!L91 -> 38 | N83: =SUM(L83,M83) -> 57 | O83: =RANK(N83,N$6:N$107) -> 44 | P83: =COUNTA(G83,H83,I83,J83,K83)/5 -> 0.6
B84: 190 | E84: 남 | G84: 5 | H84: 8 | I84: 5 | J84: 3 | K84: 10 | L84: =SUM(G84:K84) -> 31 | M84: ='1주차'!L92 -> 31 | N84: =SUM(L84,M84) -> 62 | O84: =RANK(N84,N$6:N$107) -> 38 | P84: =COUNTA(G84,H84,I84,J84,K84)/5 -> 1
B85: 191 | E85: 여 | L85: =SUM(G85:K85) -> 0 | M85: ='1주차'!L93 -> 0 | N85: =SUM(L85,M85) -> 0 | O85: =RANK(N85,N$6:N$107) -> 98 | P85: =COUNTA(G85,H85,I85,J85,K85)/5 -> 0 | Q85: 1차 경고
B86: 192 | E86: 남 | G86: 11 | H86: 13 | J86: 8 | K86: 11 | L86: =SUM(G86:K86) -> 43 | M86: ='1주차'!L94 -> 12 | N86: =SUM(L86,M86) -> 55 | O86: =RANK(N86,N$6:N$107) -> 47 | P86: =COUNTA(G86,H86,I86,J86,K86)/5 -> 0.8
B87: 193 | E87: 여 | I87: 7 | J87: 5 | K87: 12 | L87: =SUM(G87:K87) -> 24 | M87: ='1주차'!L95 -> 24 | N87: =SUM(L87,M87) -> 48 | O87: =RANK(N87,N$6:N$107) -> 57 | P87: =COUNTA(G87,H87,I87,J87,K87)/5 -> 0.6
B88: 194 | E88: 여 | G88: 8 | H88: 7 | I88: 8 | J88: 8 | K88: 5 | L88: =SUM(G88:K88) -> 36 | M88: ='1주차'!L96 -> 41 | N88: =SUM(L88,M88) -> 77 | O88: =RANK(N88,N$6:N$107) -> 28 | P88: =COUNTA(G88,H88,I88,J88,K88)/5 -> 1
B89: 195 | E89: 남 | L89: =SUM(G89:K89) -> 0 | M89: ='1주차'!L97 -> 24 | N89: =SUM(L89,M89) -> 24 | O89: =RANK(N89,N$6:N$107) -> 80 | P89: =COUNTA(G89,H89,I89,J89,K89)/5 -> 0 | Q89: 1차 경고
B90: 196 | E90: 남 | G90: 8 | H90: 9 | I90: 4 | L90: =SUM(G90:K90) -> 21 | M90: ='1주차'!L98 -> 27 | N90: =SUM(L90,M90) -> 48 | O90: =RANK(N90,N$6:N$107) -> 57 | P90: =COUNTA(G90,H90,I90,J90,K90)/5 -> 0.6
B91: 197 | E91: 여 | L91: =SUM(G91:K91) -> 0 | M91: ='1주차'!L99 -> 27 | N91: =SUM(L91,M91) -> 27 | O91: =RANK(N91,N$6:N$107) -> 77 | P91: =COUNTA(G91,H91,I91,J91,K91)/5 -> 0 | Q91: 1차 경고
B92: 198 | E92: 남 | G92: 5 | L92: =SUM(G92:K92) -> 5 | M92: ='1주차'!L100 -> 9 | N92: =SUM(L92,M92) -> 14 | O92: =RANK(N92,N$6:N$107) -> 88 | P92: =COUNTA(G92,H92,I92,J92,K92)/5 -> 0.2
B93: 200 | E93: 남 | L93: =SUM(G93:K93) -> 0 | M93: ='1주차'!L102 -> 36 | N93: =SUM(L93,M93) -> 36 | O93: =RANK(N93,N$6:N$107) -> 65 | P93: =COUNTA(G93,H93,I93,J93,K93)/5 -> 0 | Q93: 1차 경고
B94: 201 | E94: 여 | G94: 8 | L94: =SUM(G94:K94) -> 8 | M94: ='1주차'!L103 -> 23 | N94: =SUM(L94,M94) -> 31 | O94: =RANK(N94,N$6:N$107) -> 70 | P94: =COUNTA(G94,H94,I94,J94,K94)/5 -> 0.2
B95: 202 | E95: 여 | G95: 1 | H95: 10 | K95: 8 | L95: =SUM(G95:K95) -> 19 | M95: ='1주차'!L104 -> 25 | N95: =SUM(L95,M95) -> 44 | O95: =RANK(N95,N$6:N$107) -> 60 | P95: =COUNTA(G95,H95,I95,J95,K95)/5 -> 0.6
B96: 203 | E96: 여 | L96: =SUM(G96:K96) -> 0 | M96: ='1주차'!L105 -> 14 | N96: =SUM(L96,M96) -> 14 | O96: =RANK(N96,N$6:N$107) -> 88 | P96: =COUNTA(G96,H96,I96,J96,K96)/5 -> 0 | Q96: 1차 경고
B97: 204 | E97: 남 | H97: 7 | I97: 10 | J97: 6 | L97: =SUM(G97:K97) -> 23 | M97: ='1주차'!L106 -> 0 | N97: =SUM(L97,M97) -> 23 | O97: =RANK(N97,N$6:N$107) -> 81 | P97: =COUNTA(G97,H97,I97,J97,K97)/5 -> 0.6
B98: 205 | E98: 여 | L98: =SUM(G98:K98) -> 0 | M98: ='1주차'!L107 -> 15 | N98: =SUM(L98,M98) -> 15 | O98: =RANK(N98,N$6:N$107) -> 87 | P98: =COUNTA(G98,H98,I98,J98,K98)/5 -> 0 | Q98: 1차 경고
B99: 210 | E99: 여 | G99: 10 | H99: 13 | I99: 9 | J99: 9 | K99: 6 | L99: =SUM(G99:K99) -> 47 | M99: ='1주차'!L108 -> 48 | N99: =SUM(L99,M99) -> 95 | O99: =RANK(N99,N$6:N$107) -> 14 | P99: =COUNTA(G99,H99,I99,J99,K99)/5 -> 1
B100: 211 | E100: 여 | L100: =SUM(G100:K100) -> 0 | M100: ='1주차'!L109 -> 21 | N100: =SUM(L100,M100) -> 21 | O100: =RANK(N100,N$6:N$107) -> 82 | P100: =COUNTA(G100,H100,I100,J100,K100)/5 -> 0 | Q100: 1차 경고
B101: 212 | E101: 남 | G101: 13 | H101: 13 | I101: 12 | J101: 11 | K101: 15 | L101: =SUM(G101:K101) -> 64 | M101: ='1주차'!L110 -> 52 | N101: =SUM(L101,M101) -> 116 | O101: =RANK(N101,N$6:N$107) -> 6 | P101: =COUNTA(G101,H101,I101,J101,K101)/5 -> 1
...

Sheet 3주차
B2: 5월 아침 모의고사 성적현황
B3: 시험 3주차 : 5월 28일 ~ 6월 2일
G4: 28 | H4: 29 | I4: 30 | J4: 1 | K4: 2 | L4: 주간성적 | P4: 모의고사 참여율 | Q4: 비고
A5: 수험 번호 | B5: 수험 번호 | C5: 유/무 | D5: 이름 | E5: 성별 | G5: 국사 | H5: 형소법 | I5: 경찰학 | J5: 형법 | K5: 영어 | L5: 이번주 총점 | M5: 누적 총점 | N5: 전체 총점 | O5: 등수
B6: 100 | E6: 남 | G6: 6 | H6: 12 | I6: 8 | J6: 8 | K6: 8 | L6: =SUM(G6:K6) -> 42 | M6: ='2주차'!N6 -> 99 | N6: =SUM(L6,M6) -> 141 | O6: =RANK(N6,N$6:N$107) -> 10 | P6: =COUNTA(G6,H6,I6,J6,K6)/5 -> 1
B7: 103 | E7: 남 | L7: =SUM(G7:K7) -> 0 | M7: ='2주차'!N7 -> 13 | N7: =SUM(L7,M7) -> 13 | O7: =RANK(N7,N$6:N$107) -> 94 | P7: =COUNTA(G7,H7,I7,J7,K7)/5 -> 0 | Q7: 1차 경고
B8: 106 | E8: 여 | G8: 7 | H8: 12 | I8: 10 | J8: 7 | K8: 6 | L8: =SUM(G8:K8) -> 42 | M8: ='2주차'!N8 -> 82 | N8: =SUM(L8,M8) -> 124 | O8: =RANK(N8,N$6:N$107) -> 17 | P8: =COUNTA(G8,H8,I8,J8,K8)/5 -> 1
B9: 107 | E9: 여 | G9: 4 | H9: 7 | I9: 6 | K9: 4 | L9: =SUM(G9:K9) -> 21 | M9: ='2주차'!N9 -> 64 | N9: =SUM(L9,M9) -> 85 | O9: =RANK(N9,N$6:N$107) -> 36 | P9: =COUNTA(G9,H9,I9,J9,K9)/5 -> 0.8
B10: 108 | E10: 여 | G10: 6 | H10: 6 | J10: 2 | K10: 3 | L10: =SUM(G10:K10) -> 17 | M10: ='2주차'!N10 -> 60 | N10: =SUM(L10,M10) -> 77 | O10: =RANK(N10,N$6:N$107) -> 45 | P10: =COUNTA(G10,H10,I10,J10,K10)/5 -> 0.8
B11: 109 | E11: 남 | G11: 8 | H11: 9 | I11: 7 | J11: 8 | K11: 8 | L11: =SUM(G11:K11) -> 40 | M11: ='2주차'!N11 -> 84 | N11: =SUM(L11,M11) -> 124 | O11: =RANK(N11,N$6:N$107) -> 17 | P11: =COUNTA(G11,H11,I11,J11,K11)/5 -> 1
B12: 110 | E12: 남 | H12: 9 | I12: 7 | J12: 3 | K12: 9 | L12: =SUM(G12:K12) -> 28 | M12: ='2주차'!N12 -> 91 | N12: =SUM(L12,M12) -> 119 | O12: =RANK(N12,N$6:N$107) -> 20 | P12: =COUNTA(G12,H12,I12,J12,K12)/5 -> 0.8
B13: 111 | E13: 남 | I13: 3 | L13: =SUM(G13:K13) -> 3 | M13: ='2주차'!N13 -> 63 | N13: =SUM(L13,M13) -> 66 | O13: =RANK(N13,N$6:N$107) -> 53 | P13: =COUNTA(G13,H13,I13,J13,K13)/5 -> 0.2
B14: 113 | E14: 남 | L14: =SUM(G14:K14) -> 0 | M14: ='2주차'!N15 -> 9 | N14: =SUM(L14,M14) -> 9 | O14: =RANK(N14,N$6:N$107) -> 97 | P14: =COUNTA(G14,H14,I14,J14,K14)/5 -> 0 | Q14: 1차 경고
B15: 114 | E15: 남 | G15: 4 | H15: 8 | I15: 6 | J15: 8 | K15: 3 | L15: =SUM(G15:K15) -> 29 | M15: ='2주차'!N16 -> 65 | N15: =SUM(L15,M15) -> 94 | O15: =RANK(N15,N$6:N$107) -> 33 | P15: =COUNTA(G15,H15,I15,J15,K15)/5 -> 1
B16: 116 | E16: 남 | H16: 5 | I16: 3 | J16: 1 | K16: 7 | L16: =SUM(G16:K16) -> 16 | M16: ='2주차'!N17 -> 51 | N16: =SUM(L16,M16) -> 67 | O16: =RANK(N16,N$6:N$107) -> 52 | P16: =COUNTA(G16,H16,I16,J16,K16)/5 -> 0.8
B17: 117 | E17: 여 | G17: 5 | H17: 4 | L17: =SUM(G17:K17) -> 9 | M17: ='2주차'!N18 -> 49 | N17: =SUM(L17,M17) -> 58 | O17: =RANK(N17,N$6:N$107) -> 60 | P17: =COUNTA(G17,H17,I17,J17,K17)/5 -> 0.4
B18: 118 | E18: 남 | G18: 3 | H18: 13 | I18: 9 | J18: 2 | K18: 9 | L18: =SUM(G18:K18) -> 36 | M18: ='2주차'!N19 -> 98 | N18: =SUM(L18,M18) -> 134 | O18: =RANK(N18,N$6:N$107) -> 12 | P18: =COUNTA(G18,H18,I18,J18,K18)/5 -> 1
B19: 119 | E19: 남 | G19: 5 | H19: 9 | I19: 2 | J19: 3 | K19: 9 | L19: =SUM(G19:K19) -> 28 | M19: ='2주차'!N20 -> 56 | N19: =SUM(L19,M19) -> 84 | O19: =RANK(N19,N$6:N$107) -> 39 | P19: =COUNTA(G19,H19,I19,J19,K19)/5 -> 1
B20: 121 | E20: 남 | H20: 4 | I20: 2 | J20: 3 | K20: 3 | L20: =SUM(G20:K20) -> 12 | M20: ='2주차'!N21 -> 44 | N20: =SUM(L20,M20) -> 56 | O20: =RANK(N20,N$6:N$107) -> 61 | P20: =COUNTA(G20,H20,I20,J20,K20)/5 -> 0.8
B21: 122 | E21: 남 | G21: 8 | H21: 3 | I21: 3 | L21: =SUM(G21:K21) -> 14 | M21: ='2주차'!N22 -> 31 | N21: =SUM(L21,M21) -> 45 | O21: =RANK(N21,N$6:N$107) -> 67 | P21: =COUNTA(G21,H21,I21,J21,K21)/5 -> 0.6
B22: 123 | E22: 남 | G22: 6 | K22: 7 | L22: =SUM(G22:K22) -> 13 | M22: ='2주차'!N23 -> 125 | N22: =SUM(L22,M22) -> 138 | O22: =RANK(N22,N$6:N$107) -> 11 | P22: =COUNTA(G22,H22,I22,J22,K22)/5 -> 0.4
B23: 124 | E23: 남 | G23: 8 | K23: 8 | L23: =SUM(G23:K23) -> 16 | M23: ='2주차'!N24 -> 68 | N23: =SUM(L23,M23) -> 84 | O23: =RANK(N23,N$6:N$107) -> 39 | P23: =COUNTA(G23,H23,I23,J23,K23)/5 -> 0.4
B24: 126 | E24: 남 | G24: 5 | H24: 6 | I24: 8 | J24: 4 | K24: 8 | L24: =SUM(G24:K24) -> 31 | M24: ='2주차'!N25 -> 85 | N24: =SUM(L24,M24) -> 116 | O24: =RANK(N24,N$6:N$107) -> 21 | P24: =COUNTA(G24,H24,I24,J24,K24)/5 -> 1
B25: 128 | E25: 남 | L25: =SUM(G25:K25) -> 0 | M25: ='2주차'!N26 -> 21 | N25: =SUM(L25,M25) -> 21 | O25: =RANK(N25,N$6:N$107) -> 85 | P25: =COUNTA(G25,H25,I25,J25,K25)/5 -> 0 | Q25: 1차 경고
B26: 129 | E26: 여 | L26: =SUM(G26:K26) -> 0 | M26: ='2주차'!N27 -> 25 | N26: =SUM(L26,M26) -> 25 | O26: =RANK(N26,N$6:N$107) -> 82 | P26: =COUNTA(G26,H26,I26,J26,K26)/5 -> 0 | Q26: 1차 경고
B27: 130 | E27: 남 | G27: 5 | H27: 5 | I27: 5 | J27: 3 | K27: 2 | L27: =SUM(G27:K27) -> 20 | M27: ='2주차'!N28 -> 35 | N27: =SUM(L27,M27) -> 55 | O27: =RANK(N27,N$6:N$107) -> 63 | P27: =COUNTA(G27,H27,I27,J27,K27)/5 -> 1
B28: 131 | E28: 남 | G28: 7 | H28: 14 | I28: 12 | J28: 8 | K28: 10 | L28: =SUM(G28:K28) -> 51 | M28: ='2주차'!N29 -> 118 | N28: =SUM(L28,M28) -> 169 | O28: =RANK(N28,N$6:N$107) -> 3 | P28: =COUNTA(G28,H28,I28,J28,K28)/5 -> 1
B29: 132 | E29: 남 | G29: 6 | H29: 7 | I29: 4 | J29: 6 | K29: 6 | L29: =SUM(G29:K29) -> 29 | M29: ='2주차'!N30 -> 74 | N29: =SUM(L29,M29) -> 103 | O29: =RANK(N29,N$6:N$107) -> 30 | P29: =COUNTA(G29,H29,I29,J29,K29)/5 -> 1
B30: 133 | E30: 남 | G30: 12 | H30: 11 | K30: 7 | L30: =SUM(G30:K30) -> 30 | M30: ='2주차'!N31 -> 44 | N30: =SUM(L30,M30) -> 74 | O30: =RANK(N30,N$6:N$107) -> 48 | P30: =COUNTA(G30,H30,I30,J30,K30)/5 -> 0.6
B31: 134 | E31: 남 | G31: 7 | H31: 8 | I31: 3 | J31: 1 | K31: 8 | L31: =SUM(G31:K31) -> 27 | M31: ='2주차'!N32 -> 52 | N31: =SUM(L31,M31) -> 79 | O31: =RANK(N31,N$6:N$107) -> 43 | P31: =COUNTA(G31,H31,I31,J31,K31)/5 -> 1
B32: 135 | E32: 남 | G32: 7 | H32: 14 | I32: 12 | J32: 8 | K32: 7 | L32: =SUM(G32:K32) -> 48 | M32: ='2주차'!N33 -> 126 | N32: =SUM(L32,M32) -> 174 | O32: =RANK(N32,N$6:N$107) -> 1 | P32: =COUNTA(G32,H32,I32,J32,K32)/5 -> 1
B33: 136 | E33: 남 | G33: 5 | L33: =SUM(G33:K33) -> 5 | M33: ='2주차'!N34 -> 17 | N33: =SUM(L33,M33) -> 22 | O33: =RANK(N33,N$6:N$107) -> 84 | P33: =COUNTA(G33,H33,I33,J33,K33)/5 -> 0.2
B34: 137 | E34: 남 | G34: 6 | H34: 11 | I34: 5 | J34: 6 | K34: 3 | L34: =SUM(G34:K34) -> 31 | M34: ='2주차'!N35 -> 58 | N34: =SUM(L34,M34) -> 89 | O34: =RANK(N34,N$6:N$107) -> 35 | P34: =COUNTA(G34,H34,I34,J34,K34)/5 -> 1
B35: 139 | E35: 남 | G35: 5 | H35: 7 | I35: 4 | J35: 5 | K35: 7 | L35: =SUM(G35:K35) -> 28 | M35: ='2주차'!N36 -> 51 | N35: =SUM(L35,M35) -> 79 | O35: =RANK(N35,N$6:N$107) -> 43 | P35: =COUNTA(G35,H35,I35,J35,K35)/5 -> 1
B36: 140 | E36: 남 | I36: 4 | K36: 8 | L36: =SUM(G36:K36) -> 12 | M36: ='2주차'!N37 -> 33 | N36: =SUM(L36,M36) -> 45 | O36: =RANK(N36,N$6:N$107) -> 67 | P36: =COUNTA(G36,H36,I36,J36,K36)/5 -> 0.4
B37: 230 | E37: 남 | J37: 6 | L37: =SUM(G37:K37) -> 6 | M37: ='2주차'!N38 -> 26 | N37: =SUM(L37,M37) -> 32 | O37: =RANK(N37,N$6:N$107) -> 74 | P37: =COUNTA(G37,H37,I37,J37,K37)/5 -> 0.2
B38: 231 | E38: 남 | G38: 7 | H38: 3 | I38: 8 | J38: 3 | K38: 11 | L38: =SUM(G38:K38) -> 32 | M38: ='2주차'!N39 -> 79 | N38: =SUM(L38,M38) -> 111 | O38: =RANK(N38,N$6:N$107) -> 25 | P38: =COUNTA(G38,H38,I38,J38,K38)/5 -> 1
B39: 232 | E39: 남 | G39: 6 | H39: 6 | I39: 8 | J39: 2 | K39: 7 | L39: =SUM(G39:K39) -> 29 | M39: ='2주차'!N40 -> 54 | N39: =SUM(L39,M39) -> 83 | O39: =RANK(N39,N$6:N$107) -> 42 | P39: =COUNTA(G39,H39,I39,J39,K39)/5 -> 1
B40: 236 | E40: 남 | G40: 4 | H40: 10 | J40: 5 | K40: 9 | L40: =SUM(G40:K40) -> 28 | M40: ='2주차'!N44 -> 38 | N40: =SUM(L40,M40) -> 66 | O40: =RANK(N40,N$6:N$107) -> 53 | P40: =COUNTA(G40,H40,I40,J40,K40)/5 -> 0.8
B41: 151 | E41: 여 | K41: 3 | L41: =SUM(G41:K41) -> 3 | M41: ='2주차'!N45 -> 29 | N41: =SUM(L41,M41) -> 32 | O41: =RANK(N41,N$6:N$107) -> 74 | P41: =COUNTA(G41,H41,I41,J41,K41)/5 -> 0.2
B42: 152 | E42: 여 | L42: =SUM(G42:K42) -> 0 | M42: ='2주차'!N46 -> 9 | N42: =SUM(L42,M42) -> 9 | O42: =RANK(N42,N$6:N$107) -> 97 | P42: =COUNTA(G42,H42,I42,J42,K42)/5 -> 0 | Q42: 1차 경고
B43: 153 | E43: 여 | I43: 6 | J43: 5 | K43: 6 | L43: =SUM(G43:K43) -> 17 | M43: ='2주차'!N47 -> 47 | N43: =SUM(L43,M43) -> 64 | O43: =RANK(N43,N$6:N$107) -> 57 | P43: =COUNTA(G43,H43,I43,J43,K43)/5 -> 0.6
B44: 154 | E44: 남 | G44: 8 | K44: 11 | L44: =SUM(G44:K44) -> 19 | M44: ='2주차'!N48 -> 94 | N44: =SUM(L44,M44) -> 113 | O44: =RANK(N44,N$6:N$107) -> 23 | P44: =COUNTA(G44,H44,I44,J44,K44)/5 -> 0.4
B45: 155 | E45: 여 | G45: 6 | H45: 9 | I45: 9 | J45: 6 | K45: 7 | L45: =SUM(G45:K45) -> 37 | M45: ='2주차'!N49 -> 112 | N45: =SUM(L45,M45) -> 149 | O45: =RANK(N45,N$6:N$107) -> 7 | P45: =COUNTA(G45,H45,I45,J45,K45)/5 -> 1
B46: 156 | E46: 여 | G46: 9 | H46: 14 | K46: 10 | L46: =SUM(G46:K46) -> 33 | M46: ='2주차'!N50 -> 114 | N46: =SUM(L46,M46) -> 147 | O46: =RANK(N46,N$6:N$107) -> 8 | P46: =COUNTA(G46,H46,I46,J46,K46)/5 -> 0.6
B47: 157 | E47: 남 | G47: 8 | H47: 13 | I47: 8 | J47: 8 | K47: 7 | L47: =SUM(G47:K47) -> 44 | M47: ='2주차'!N51 -> 89 | N47: =SUM(L47,M47) -> 133 | O47: =RANK(N47,N$6:N$107) -> 13 | P47: =COUNTA(G47,H47,I47,J47,K47)/5 -> 1
B48: 158 | E48: 여 | G48: 7 | H48: 11 | I48: 5 | K48: 9 | L48: =SUM(G48:K48) -> 32 | M48: ='2주차'!N52 -> 66 | N48: =SUM(L48,M48) -> 98 | O48: =RANK(N48,N$6:N$107) -> 32 | P48: =COUNTA(G48,H48,I48,J48,K48)/5 -> 0.8
B49: 159 | E49: 여 | H49: 7 | I49: 9 | J49: 5 | K49: 8 | L49: =SUM(G49:K49) -> 29 | M49: ='2주차'!N53 -> 62 | N49: =SUM(L49,M49) -> 91 | O49: =RANK(N49,N$6:N$107) -> 34 | P49: =COUNTA(G49,H49,I49,J49,K49)/5 -> 0.8
B50: 160 | E50: 여 | G50: 7 | H50: 11 | I50: 5 | J50: 6 | K50: 7 | L50: =SUM(G50:K50) -> 36 | M50: ='2주차'!N54 -> 91 | N50: =SUM(L50,M50) -> 127 | O50: =RANK(N50,N$6:N$107) -> 15 | P50: =COUNTA(G50,H50,I50,J50,K50)/5 -> 1
B51: 161 | E51: 남 | G51: 5 | H51: 7 | I51: 8 | J51: 3 | L51: =SUM(G51:K51) -> 23 | M51: ='2주차'!N55 -> 76 | N51: =SUM(L51,M51) -> 99 | O51: =RANK(N51,N$6:N$107) -> 31 | P51: =COUNTA(G51,H51,I51,J51,K51)/5 -> 0.8
B52: 162 | E52: 남 | I52: 4 | L52: =SUM(G52:K52) -> 4 | M52: ='2주차'!N56 -> 34 | N52: =SUM(L52,M52) -> 38 | O52: =RANK(N52,N$6:N$107) -> 70 | P52: =COUNTA(G52,H52,I52,J52,K52)/5 -> 0.2
B53: 163 | E53: 남 | L53: =SUM(G53:K53) -> 0 | M53: ='2주차'!N57 -> 54 | N53: =SUM(L53,M53) -> 54 | O53: =RANK(N53,N$6:N$107) -> 65 | P53: =COUNTA(G53,H53,I53,J53,K53)/5 -> 0 | Q53: 1차 경고
B54: 164 | E54: 남 | H54: 11 | I54: 10 | J54: 7 | L54: =SUM(G54:K54) -> 28 | M54: ='2주차'!N58 -> 57 | N54: =SUM(L54,M54) -> 85 | O54: =RANK(N54,N$6:N$107) -> 36 | P54: =COUNTA(G54,H54,I54,J54,K54)/5 -> 0.6
B55: 165 | E55: 여 | G55: 9 | H55: 9 | I55: 11 | J55: 9 | K55: 9 | L55: =SUM(G55:K55) -> 47 | M55: ='2주차'!N59 -> 85 | N55: =SUM(L55,M55) -> 132 | O55: =RANK(N55,N$6:N$107) -> 14 | P55: =COUNTA(G55,H55,I55,J55,K55)/5 -> 1
B56: 166 | E56: 남 | L56: =SUM(G56:K56) -> 0 | M56: ='2주차'!N60 -> 71 | N56: =SUM(L56,M56) -> 71 | O56: =RANK(N56,N$6:N$107) -> 50 | P56: =COUNTA(G56,H56,I56,J56,K56)/5 -> 0 | Q56: 1차 경고
B57: 167 | E57: 여 | L57: =SUM(G57:K57) -> 0 | M57: ='2주차'!N61 -> 29 | N57: =SUM(L57,M57) -> 29 | O57: =RANK(N57,N$6:N$107) -> 79 | P57: =COUNTA(G57,H57,I57,J57,K57)/5 -> 0 | Q57: 1차 경고
B58: 168 | E58: 남 | H58: 8 | J58: 5 | L58: =SUM(G58:K58) -> 13 | M58: ='2주차'!N62 -> 98 | N58: =SUM(L58,M58) -> 111 | O58: =RANK(N58,N$6:N$107) -> 25 | P58: =COUNTA(G58,H58,I58,J58,K58)/5 -> 0.4
B59: 169 | E59: 남 | G59: 8 | H59: 6 | I59: 7 | J59: 3 | K59: 6 | L59: =SUM(G59:K59) -> 30 | M59: ='2주차'!N63 -> 54 | N59: =SUM(L59,M59) -> 84 | O59: =RANK(N59,N$6:N$107) -> 39 | P59: =COUNTA(G59,H59,I59,J59,K59)/5 -> 1
B60: 170 | E60: 남 | L60: =SUM(G60:K60) -> 0 | M60: ='2주차'!N64 -> 18 | N60: =SUM(L60,M60) -> 18 | O60: =RANK(N60,N$6:N$107) -> 88 | P60: =COUNTA(G60,H60,I60,J60,K60)/5 -> 0 | Q60: 1차 경고
B61: 171 | E61: 남 | L61: =SUM(G61:K61) -> 0 | M61: ='2주차'!N65 -> 10 | N61: =SUM(L61,M61) -> 10 | O61: =RANK(N61,N$6:N$107) -> 96 | P61: =COUNTA(G61,H61,I61,J61,K61)/5 -> 0 | Q61: 1차 경고
B62: 172 | E62: 남 | L62: =SUM(G62:K62) -> 0 | M62: ='2주차'!N66 -> 14 | N62: =SUM(L62,M62) -> 14 | O62: =RANK(N62,N$6:N$107) -> 91 | P62: =COUNTA(G62,H62,I62,J62,K62)/5 -> 0 | Q62: 1차 경고
B63: 173 | E63: 여 | G63: 3 | H63: 11 | L63: =SUM(G63:K63) -> 14 | M63: ='2주차'!N67 -> 58 | N63: =SUM(L63,M63) -> 72 | O63: =RANK(N63,N$6:N$107) -> 49 | P63: =COUNTA(G63,H63,I63,J63,K63)/5 -> 0.4
B64: 174 | E64: 남 | G64: 9 | H64: 8 | I64: 5 | J64: 4 | K64: 4 | L64: =SUM(G64:K64) -> 30 | M64: ='2주차'!N68 -> 78 | N64: =SUM(L64,M64) -> 108 | O64: =RANK(N64,N$6:N$107) -> 28 | P64: =COUNTA(G64,H64,I64,J64,K64)/5 -> 1
B65: 175 | E65: 남 | G65: 5 | H65: 7 | L65: =SUM(G65:K65) -> 12 | M65: ='2주차'!N69 -> 54 | N65: =SUM(L65,M65) -> 66 | O65: =RANK(N65,N$6:N$107) -> 53 | P65: =COUNTA(G65,H65,I65,J65,K65)/5 -> 0.4
B66: 176 | E66: 여 | L66: =SUM(G66:K66) -> 0 | M66: ='2주차'!N70 -> 6 | N66: =SUM(L66,M66) -> 6 | O66: =RANK(N66,N$6:N$107) -> 99 | P66: =COUNTA(G66,H66,I66,J66,K66)/5 -> 0 | Q66: 1차 경고
B67: 177 | E67: 남 | G67: 5 | H67: 8 | J67: 5 | K67: 8 | L67: =SUM(G67:K67) -> 26 | M67: ='2주차'!N71 -> 51 | N67: =SUM(L67,M67) -> 77 | O67: =RANK(N67,N$6:N$107) -> 45 | P67: =COUNTA(G67,H67,I67,J67,K67)/5 -> 0.8
B68: 178 | E68: 남 | G68: 6 | H68: 9 | I68: 8 | J68: 4 | K68: 6 | L68: =SUM(G68:K68) -> 33 | M68: ='2주차'!N72 -> 93 | N68: =SUM(L68,M68) -> 126 | O68: =RANK(N68,N$6:N$107) -> 16 | P68: =COUNTA(G68,H68,I68,J68,K68)/5 -> 1
B69: 179 | E69: 남 | G69: 5 | H69: 11 | I69: 11 | J69: 8 | K69: 9 | L69: =SUM(G69:K69) -> 44 | M69: ='2주차'!N73 -> 117 | N69: =SUM(L69,M69) -> 161 | O69: =RANK(N69,N$6:N$107) -> 4 | P69: =COUNTA(G69,H69,I69,J69,K69)/5 -> 1
B70: 180 | E70: 여 | G70: 9 | H70: 12 | I70: 13 | J70: 8 | K70: 8 | L70: =SUM(G70:K70) -> 50 | M70: ='2주차'!N74 -> 121 | N70: =SUM(L70,M70) -> 171 | O70: =RANK(N70,N$6:N$107) -> 2 | P70: =COUNTA(G70,H70,I70,J70,K70)/5 -> 1
B71: 181 | E71: 남 | G71: 5 | H71: 8 | I71: 6 | J71: 4 | K71: 8 | L71: =SUM(G71:K71) -> 31 | M71: ='2주차'!N75 -> 76 | N71: =SUM(L71,M71) -> 107 | O71: =RANK(N71,N$6:N$107) -> 29 | P71: =COUNTA(G71,H71,I71,J71,K71)/5 -> 1
B72: 182 | E72: 남 | G72: 9 | H72: 14 | I72: 10 | J72: 8 | K72: 10 | L72: =SUM(G72:K72) -> 51 | M72: ='2주차'!N76 -> 110 | N72: =SUM(L72,M72) -> 161 | O72: =RANK(N72,N$6:N$107) -> 4 | P72: =COUNTA(G72,H72,I72,J72,K72)/5 -> 1
B73: 183 | E73: 여 | L73: =SUM(G73:K73) -> 0 | M73: ='2주차'!N77 -> 0 | N73: =SUM(L73,M73) -> 0 | O73: =RANK(N73,N$6:N$107) -> 102 | P73: =COUNTA(G73,H73,I73,J73,K73)/5 -> 0 | Q73: 1차 경고
B74: 184 | E74: 여 | G74: 4 | H74: 6 | I74: 7 | J74: 4 | K74: 5 | L74: =SUM(G74:K74) -> 26 | M74: ='2주차'!N78 -> 43 | N74: =SUM(L74,M74) -> 69 | O74: =RANK(N74,N$6:N$107) -> 51 | P74: =COUNTA(G74,H74,I74,J74,K74)/5 -> 1
B75: 185 | E75: 여 | G75: 7 | H75: 9 | I75: 8 | L75: =SUM(G75:K75) -> 24 | M75: ='2주차'!N79 -> 61 | N75: =SUM(L75,M75) -> 85 | O75: =RANK(N75,N$6:N$107) -> 36 | P75: =COUNTA(G75,H75,I75,J75,K75)/5 -> 0.6
B76: 186 | E76: 남 | G76: 8 | H76: 7 | I76: 8 | K76: 5 | L76: =SUM(G76:K76) -> 28 | M76: ='2주차'!N80 -> 82 | N76: =SUM(L76,M76) -> 110 | O76: =RANK(N76,N$6:N$107) -> 27 | P76: =COUNTA(G76,H76,I76,J76,K76)/5 -> 0.8
B77: 187 | E77: 여 | G77: 6 | H77: 13 | I77: 13 | J77: 9 | K77: 10 | L77: =SUM(G77:K77) -> 51 | M77: ='2주차'!N81 -> 102 | N77: =SUM(L77,M77) -> 153 | O77: =RANK(N77,N$6:N$107) -> 6 | P77: =COUNTA(G77,H77,I77,J77,K77)/5 -> 1
B78: 188 | E78: 남 | G78: 10 | J78: 5 | K78: 9 | L78: =SUM(G78:K78) -> 24 | M78: ='2주차'!N82 -> 90 | N78: =SUM(L78,M78) -> 114 | O78: =RANK(N78,N$6:N$107) -> 22 | P78: =COUNTA(G78,H78,I78,J78,K78)/5 -> 0.6
B79: 189 | E79: 남 | G79: 8 | H79: 6 | J79: 4 | L79: =SUM(G79:K79) -> 18 | M79: ='2주차'!N83 -> 57 | N79: =SUM(L79,M79) -> 75 | O79: =RANK(N79,N$6:N$107) -> 47 | P79: =COUNTA(G79,H79,I79,J79,K79)/5 -> 0.6
B80: 190 | E80: 남 | L80: =SUM(G80:K80) -> 0 | M80: ='2주차'!N84 -> 62 | N80: =SUM(L80,M80) -> 62 | O80: =RANK(N80,N$6:N$107) -> 58 | P80: =COUNTA(G80,H80,I80,J80,K80)/5 -> 0
B81: 191 | E81: 여 | J81: 3 | L81: =SUM(G81:K81) -> 3 | M81: ='2주차'!N85 -> 0 | N81: =SUM(L81,M81) -> 3 | O81: =RANK(N81,N$6:N$107) -> 101 | P81: =COUNTA(G81,H81,I81,J81,K81)/5 -> 0.2
B82: 192 | E82: 남 | L82: =SUM(G82:K82) -> 0 | M82: ='2주차'!N86 -> 55 | N82: =SUM(L82,M82) -> 55 | O82: =RANK(N82,N$6:N$107) -> 63 | P82: =COUNTA(G82,H82,I82,J82,K82)/5 -> 0
B83: 193 | E83: 여 | G83: 8 | L83: =SUM(G83:K83) -> 8 | M83: ='2주차'!N87 -> 48 | N83: =SUM(L83,M83) -> 56 | O83: =RANK(N83,N$6:N$107) -> 61 | P83: =COUNTA(G83,H83,I83,J83,K83)/5 -> 0.2
B84: 194 | E84: 여 | G84: 7 | H84: 13 | I84: 9 | J84: 2 | K84: 4 | L84: =SUM(G84:K84) -> 35 | M84: ='2주차'!N88 -> 77 | N84: =SUM(L84,M84) -> 112 | O84: =RANK(N84,N$6:N$107) -> 24 | P84: =COUNTA(G84,H84,I84,J84,K84)/5 -> 1
B85: 195 | E85: 남 | H85: 5 | L85: =SUM(G85:K85) -> 5 | M85: ='2주차'!N89 -> 24 | N85: =SUM(L85,M85) -> 29 | O85: =RANK(N85,N$6:N$107) -> 79 | P85: =COUNTA(G85,H85,I85,J85,K85)/5 -> 0.2
B86: 196 | E86: 남 | H86: 10 | J86: 7 | L86: =SUM(G86:K86) -> 17 | M86: ='2주차'!N90 -> 48 | N86: =SUM(L86,M86) -> 65 | O86: =RANK(N86,N$6:N$107) -> 56 | P86: =COUNTA(G86,H86,I86,J86,K86)/5 -> 0.4
B87: 197 | E87: 여 | H87: 3 | L87: =SUM(G87:K87) -> 3 | M87: ='2주차'!N91 -> 27 | N87: =SUM(L87,M87) -> 30 | O87: =RANK(N87,N$6:N$107) -> 78 | P87: =COUNTA(G87,H87,I87,J87,K87)/5 -> 0.2
B88: 198 | E88: 남 | L88: =SUM(G88:K88) -> 0 | M88: ='2주차'!N92 -> 14 | N88: =SUM(L88,M88) -> 14 | O88: =RANK(N88,N$6:N$107) -> 91 | P88: =COUNTA(G88,H88,I88,J88,K88)/5 -> 0
B89: 200 | E89: 남 | L89: =SUM(G89:K89) -> 0 | M89: ='2주차'!N93 -> 36 | N89: =SUM(L89,M89) -> 36 | O89: =RANK(N89,N$6:N$107) -> 72 | P89: =COUNTA(G89,H89,I89,J89,K89)/5 -> 0
B90: 201 | E90: 여 | L90: =SUM(G90:K90) -> 0 | M90: ='2주차'!N94 -> 31 | N90: =SUM(L90,M90) -> 31 | O90: =RANK(N90,N$6:N$107) -> 77 | P90: =COUNTA(G90,H90,I90,J90,K90)/5 -> 0
B91: 202 | E91: 여 | G91: 4 | H91: 6 | I91: 6 | L91: =SUM(G91:K91) -> 16 | M91: ='2주차'!N95 -> 44 | N91: =SUM(L91,M91) -> 60 | O91: =RANK(N91,N$6:N$107) -> 59 | P91: =COUNTA(G91,H91,I91,J91,K91)/5 -> 0.6
B92: 203 | E92: 여 | L92: =SUM(G92:K92) -> 0 | M92: ='2주차'!N96 -> 14 | N92: =SUM(L92,M92) -> 14 | O92: =RANK(N92,N$6:N$107) -> 91 | P92: =COUNTA(G92,H92,I92,J92,K92)/5 -> 0
B93: 204 | E93: 남 | I93: 7 | J93: 3 | K93: 3 | L93: =SUM(G93:K93) -> 13 | M93: ='2주차'!N97 -> 23 | N93: =SUM(L93,M93) -> 36 | O93: =RANK(N93,N$6:N$107) -> 72 | P93: =COUNTA(G93,H93,I93,J93,K93)/5 -> 0.6
B94: 205 | E94: 여 | L94: =SUM(G94:K94) -> 0 | M94: ='2주차'!N98 -> 15 | N94: =SUM(L94,M94) -> 15 | O94: =RANK(N94,N$6:N$107) -> 90 | P94: =COUNTA(G94,H94,I94,J94,K94)/5 -> 0 | Q94: 1차 경고
B95: 210 | E95: 여 | G95: 7 | H95: 6 | I95: 7 | K95: 6 | L95: =SUM(G95:K95) -> 26 | M95: ='2주차'!N99 -> 95 | N95: =SUM(L95,M95) -> 121 | O95: =RANK(N95,N$6:N$107) -> 19 | P95: =COUNTA(G95,H95,I95,J95,K95)/5 -> 0.8
B96: 211 | E96: 여 | L96: =SUM(G96:K96) -> 0 | M96: ='2주차'!N100 -> 21 | N96: =SUM(L96,M96) -> 21 | O96: =RANK(N96,N$6:N$107) -> 85 | P96: =COUNTA(G96,H96,I96,J96,K96)/5 -> 0 | Q96: 1차 경고
B97: 212 | E97: 남 | G97: 6 | H97: 10 | J97: 6 | K97: 6 | L97: =SUM(G97:K97) -> 28 | M97: ='2주차'!N101 -> 116 | N97: =SUM(L97,M97) -> 144 | O97: =RANK(N97,N$6:N$107) -> 9 | P97: =COUNTA(G97,H97,I97,J97,K97)/5 -> 0.8
B98: 213 | E98: 남 | J98: 5 | K98: 11 | L98: =SUM(G98:K98) -> 16 | M98: ='2주차'!N102 -> 31 | N98: =SUM(L98,M98) -> 47 | O98: =RANK(N98,N$6:N$107) -> 66 | P98: =COUNTA(G98,H98,I98,J98,K98)/5 -> 0.4
B99: 214 | E99: 여 | J99: 5 | K99: 7 | L99: =SUM(G99:K99) -> 12 | M99: ='2주차'!N103 -> 28 | N99: =SUM(L99,M99) -> 40 | O99: =RANK(N99,N$6:N$107) -> 69 | P99: =COUNTA(G99,H99,I99,J99,K99)/5 -> 0.4
B100: 215 | E100: 남 | G100: 5 | L100: =SUM(G100:K100) -> 5 | M100: ='2주차'!N104 -> 32 | N100: =SUM(L100,M100) -> 37 | O100: =RANK(N100,N$6:N$107) -> 71 | P100: =COUNTA(G100,H100,I100,J100,K100)/5 -> 0.2
B101: 216 | E101: 남 | L101: =SUM(G101:K101) -> 0 | M101: ='2주차'!N105 -> 17 | N101: =SUM(L101,M101) -> 17 | O101: =RANK(N101,N$6:N$107) -> 89 | P101: =COUNTA(G101,H101,I101,J101,K101)/5 -> 0 | Q101: 1차 경고
...

Sheet 4주차
B2: 5월 아침 모의고사 성적현황
B3: 시험 4주차 : 6월 4일 ~ 6월 8일
G4: 4 | H4: 5 | I4: 6 | J4: 7 | K4: 8 | L4: 주간성적 | P4: 모의고사 참여율 | Q4: 비고
A5: 수험 번호 | B5: 수험 번호 | C5: 유/무 | E5: 성별 | F5: 연락처 | G5: 국사 | H5: 형소법 | I5: 경찰학 | J5: 형법 | K5: 영어 | L5: 이번주 총점 | M5: 누적 총점 | N5: 전체 총점 | O5: 등수
B6: 100 | E6: 남 | G6: 8 | H6: 9 | I6: 11 | J6: 8 | K6: 8 | L6: =SUM(G6:K6) -> 44 | M6: ='3주차'!N6 -> 141 | N6: =SUM(L6,M6) -> 185 | O6: =RANK(N6,N$6:N$107) -> 10 | P6: =COUNTA(G6,H6,I6,J6,K6)/5 -> 1
B7: 106 | E7: 여 | G7: 5 | H7: 12 | I7: 12 | J7: 8 | K7: 15 | L7: =SUM(G7:K7) -> 52 | M7: ='3주차'!N8 -> 124 | N7: =SUM(L7,M7) -> 176 | O7: =RANK(N7,N$6:N$107) -> 13 | P7: =COUNTA(G7,H7,I7,J7,K7)/5 -> 1
B8: 107 | E8: 여 | G8: 5 | H8: 8 | I8: 10 | J8: 4 | K8: 9 | L8: =SUM(G8:K8) -> 36 | M8: ='3주차'!N9 -> 85 | N8: =SUM(L8,M8) -> 121 | O8: =RANK(N8,N$6:N$107) -> 34 | P8: =COUNTA(G8,H8,I8,J8,K8)/5 -> 1
B9: 108 | E9: 여 | G9: 3 | H9: 5 | I9: 5 | J9: 3 | K9: 6 | L9: =SUM(G9:K9) -> 22 | M9: ='3주차'!N10 -> 77 | N9: =SUM(L9,M9) -> 99 | O9: =RANK(N9,N$6:N$107) -> 49 | P9: =COUNTA(G9,H9,I9,J9,K9)/5 -> 1
B10: 109 | E10: 남 | G10: 10 | H10: 9 | I10: 7 | J10: 3 | L10: =SUM(G10:K10) -> 29 | M10: ='3주차'!N11 -> 124 | N10: =SUM(L10,M10) -> 153 | O10: =RANK(N10,N$6:N$107) -> 20 | P10: =COUNTA(G10,H10,I10,J10,K10)/5 -> 0.8
B11: 110 | E11: 남 | G11: 8 | H11: 11 | I11: 11 | J11: 4 | K11: 11 | L11: =SUM(G11:K11) -> 45 | M11: ='3주차'!N12 -> 119 | N11: =SUM(L11,M11) -> 164 | O11: =RANK(N11,N$6:N$107) -> 16 | P11: =COUNTA(G11,H11,I11,J11,K11)/5 -> 1
B12: 111 | E12: 남 | L12: =SUM(G12:K12) -> 0 | M12: ='3주차'!N13 -> 66 | N12: =SUM(L12,M12) -> 66 | O12: =RANK(N12,N$6:N$107) -> 61 | P12: =COUNTA(G12,H12,I12,J12,K12)/5 -> 0
B13: 113 | E13: 남 | J13: 3 | L13: =SUM(G13:K13) -> 3 | M13: ='3주차'!N14 -> 9 | N13: =SUM(L13,M13) -> 12 | O13: =RANK(N13,N$6:N$107) -> 98 | P13: =COUNTA(G13,H13,I13,J13,K13)/5 -> 0.2
B14: 114 | E14: 남 | G14: 8 | H14: 9 | I14: 8 | J14: 8 | L14: =SUM(G14:K14) -> 33 | M14: ='3주차'!N15 -> 94 | N14: =SUM(L14,M14) -> 127 | O14: =RANK(N14,N$6:N$107) -> 31 | P14: =COUNTA(G14,H14,I14,J14,K14)/5 -> 0.8
B15: 116 | E15: 남 | G15: 7 | H15: 4 | I15: 7 | J15: 4 | K15: 7 | L15: =SUM(G15:K15) -> 29 | M15: ='3주차'!N16 -> 67 | N15: =SUM(L15,M15) -> 96 | O15: =RANK(N15,N$6:N$107) -> 50 | P15: =COUNTA(G15,H15,I15,J15,K15)/5 -> 1
B16: 117 | E16: 여 | K16: 8 | L16: =SUM(G16:K16) -> 8 | M16: ='3주차'!N17 -> 58 | N16: =SUM(L16,M16) -> 66 | O16: =RANK(N16,N$6:N$107) -> 61 | P16: =COUNTA(G16,H16,I16,J16,K16)/5 -> 0.2
B17: 118 | E17: 남 | G17: 8 | H17: 12 | I17: 12 | J17: 8 | K17: 13 | L17: =SUM(G17:K17) -> 53 | M17: ='3주차'!N18 -> 134 | N17: =SUM(L17,M17) -> 187 | O17: =RANK(N17,N$6:N$107) -> 9 | P17: =COUNTA(G17,H17,I17,J17,K17)/5 -> 1
B18: 119 | E18: 남 | I18: 7 | J18: 7 | K18: 7 | L18: =SUM(G18:K18) -> 21 | M18: ='3주차'!N19 -> 84 | N18: =SUM(L18,M18) -> 105 | O18: =RANK(N18,N$6:N$107) -> 46 | P18: =COUNTA(G18,H18,I18,J18,K18)/5 -> 0.6
B19: 121 | E19: 남 | G19: 1 | H19: 5 | J19: 5 | K19: 8 | L19: =SUM(G19:K19) -> 19 | M19: ='3주차'!N20 -> 56 | N19: =SUM(L19,M19) -> 75 | O19: =RANK(N19,N$6:N$107) -> 58 | P19: =COUNTA(G19,H19,I19,J19,K19)/5 -> 0.8
B20: 122 | E20: 남 | G20: 9 | H20: 5 | L20: =SUM(G20:K20) -> 14 | M20: ='3주차'!N21 -> 45 | N20: =SUM(L20,M20) -> 59 | O20: =RANK(N20,N$6:N$107) -> 68 | P20: =COUNTA(G20,H20,I20,J20,K20)/5 -> 0.4
B21: 123 | E21: 남 | G21: 12 | H21: 14 | I21: 10 | J21: 6 | K21: 3 | L21: =SUM(G21:K21) -> 45 | M21: ='3주차'!N22 -> 138 | N21: =SUM(L21,M21) -> 183 | O21: =RANK(N21,N$6:N$107) -> 11 | P21: =COUNTA(G21,H21,I21,J21,K21)/5 -> 1
B22: 124 | E22: 남 | G22: 7 | H22: 11 | I22: 8 | J22: 2 | K22: 4 | L22: =SUM(G22:K22) -> 32 | M22: ='3주차'!N23 -> 84 | N22: =SUM(L22,M22) -> 116 | O22: =RANK(N22,N$6:N$107) -> 37 | P22: =COUNTA(G22,H22,I22,J22,K22)/5 -> 1
B23: 126 | E23: 남 | G23: 9 | H23: 10 | I23: 5 | J23: 5 | K23: 12 | L23: =SUM(G23:K23) -> 41 | M23: ='3주차'!N24 -> 116 | N23: =SUM(L23,M23) -> 157 | O23: =RANK(N23,N$6:N$107) -> 18 | P23: =COUNTA(G23,H23,I23,J23,K23)/5 -> 1
B24: 128 | E24: 남 | H24: 7 | L24: =SUM(G24:K24) -> 7 | M24: ='3주차'!N25 -> 21 | N24: =SUM(L24,M24) -> 28 | O24: =RANK(N24,N$6:N$107) -> 83 | P24: =COUNTA(G24,H24,I24,J24,K24)/5 -> 0.2
B25: 129 | E25: 여 | G25: 2 | L25: =SUM(G25:K25) -> 2 | M25: ='3주차'!N26 -> 25 | N25: =SUM(L25,M25) -> 27 | O25: =RANK(N25,N$6:N$107) -> 85 | P25: =COUNTA(G25,H25,I25,J25,K25)/5 -> 0.2
B26: 130 | E26: 남 | G26: 7 | H26: 6 | I26: 9 | L26: =SUM(G26:K26) -> 22 | M26: ='3주차'!N27 -> 55 | N26: =SUM(L26,M26) -> 77 | O26: =RANK(N26,N$6:N$107) -> 57 | P26: =COUNTA(G26,H26,I26,J26,K26)/5 -> 0.6
B27: 131 | E27: 남 | H27: 11 | I27: 13 | J27: 9 | K27: 12 | L27: =SUM(G27:K27) -> 45 | M27: ='3주차'!N28 -> 169 | N27: =SUM(L27,M27) -> 214 | O27: =RANK(N27,N$6:N$107) -> 4 | P27: =COUNTA(G27,H27,I27,J27,K27)/5 -> 0.8
B28: 132 | E28: 남 | G28: 4 | H28: 12 | I28: 6 | J28: 3 | K28: 7 | L28: =SUM(G28:K28) -> 32 | M28: ='3주차'!N29 -> 103 | N28: =SUM(L28,M28) -> 135 | O28: =RANK(N28,N$6:N$107) -> 27 | P28: =COUNTA(G28,H28,I28,J28,K28)/5 -> 1
B29: 133 | E29: 남 | G29: 10 | H29: 8 | I29: 7 | J29: 6 | K29: 9 | L29: =SUM(G29:K29) -> 40 | M29: ='3주차'!N30 -> 74 | N29: =SUM(L29,M29) -> 114 | O29: =RANK(N29,N$6:N$107) -> 39 | P29: =COUNTA(G29,H29,I29,J29,K29)/5 -> 1
B30: 134 | E30: 남 | G30: 6 | H30: 6 | I30: 3 | J30: 3 | K30: 6 | L30: =SUM(G30:K30) -> 24 | M30: ='3주차'!N31 -> 79 | N30: =SUM(L30,M30) -> 103 | O30: =RANK(N30,N$6:N$107) -> 47 | P30: =COUNTA(G30,H30,I30,J30,K30)/5 -> 1
B31: 135 | E31: 남 | G31: 11 | H31: 14 | I31: 11 | J31: 9 | K31: 12 | L31: =SUM(G31:K31) -> 57 | M31: ='3주차'!N32 -> 174 | N31: =SUM(L31,M31) -> 231 | O31: =RANK(N31,N$6:N$107) -> 1 | P31: =COUNTA(G31,H31,I31,J31,K31)/5 -> 1
B32: 136 | E32: 남 | G32: 5 | L32: =SUM(G32:K32) -> 5 | M32: ='3주차'!N33 -> 22 | N32: =SUM(L32,M32) -> 27 | O32: =RANK(N32,N$6:N$107) -> 85 | P32: =COUNTA(G32,H32,I32,J32,K32)/5 -> 0.2
B33: 137 | E33: 남 | G33: 6 | H33: 8 | I33: 12 | K33: 8 | L33: =SUM(G33:K33) -> 34 | M33: ='3주차'!N34 -> 89 | N33: =SUM(L33,M33) -> 123 | O33: =RANK(N33,N$6:N$107) -> 32 | P33: =COUNTA(G33,H33,I33,J33,K33)/5 -> 0.8
B34: 139 | E34: 남 | G34: 7 | H34: 7 | I34: 6 | J34: 6 | K34: 9 | L34: =SUM(G34:K34) -> 35 | M34: ='3주차'!N35 -> 79 | N34: =SUM(L34,M34) -> 114 | O34: =RANK(N34,N$6:N$107) -> 39 | P34: =COUNTA(G34,H34,I34,J34,K34)/5 -> 1
B35: 140 | E35: 남 | G35: 4 | H35: 4 | I35: 6 | J35: 4 | L35: =SUM(G35:K35) -> 18 | M35: ='3주차'!N36 -> 45 | N35: =SUM(L35,M35) -> 63 | O35: =RANK(N35,N$6:N$107) -> 66 | P35: =COUNTA(G35,H35,I35,J35,K35)/5 -> 0.8
B36: 230 | E36: 남 | L36: =SUM(G36:K36) -> 0 | M36: ='3주차'!N37 -> 32 | N36: =SUM(L36,M36) -> 32 | O36: =RANK(N36,N$6:N$107) -> 82 | P36: =COUNTA(G36,H36,I36,J36,K36)/5 -> 0
B37: 231 | E37: 남 | G37: 6 | H37: 8 | I37: 10 | J37: 5 | K37: 11 | L37: =SUM(G37:K37) -> 40 | M37: ='3주차'!N38 -> 111 | N37: =SUM(L37,M37) -> 151 | O37: =RANK(N37,N$6:N$107) -> 21 | P37: =COUNTA(G37,H37,I37,J37,K37)/5 -> 1
B38: 232 | E38: 남 | G38: 7 | H38: 6 | I38: 9 | J38: 5 | K38: 5 | L38: =SUM(G38:K38) -> 32 | M38: ='3주차'!N39 -> 83 | N38: =SUM(L38,M38) -> 115 | O38: =RANK(N38,N$6:N$107) -> 38 | P38: =COUNTA(G38,H38,I38,J38,K38)/5 -> 1
B39: 236 | E39: 남 | G39: 7 | H39: 11 | J39: 7 | K39: 11 | L39: =SUM(G39:K39) -> 36 | M39: ='3주차'!N40 -> 66 | N39: =SUM(L39,M39) -> 102 | O39: =RANK(N39,N$6:N$107) -> 48 | P39: =COUNTA(G39,H39,I39,J39,K39)/5 -> 0.8
B40: 151 | E40: 여 | H40: 10 | K40: 10 | L40: =SUM(G40:K40) -> 20 | M40: ='3주차'!N41 -> 32 | N40: =SUM(L40,M40) -> 52 | O40: =RANK(N40,N$6:N$107) -> 72 | P40: =COUNTA(G40,H40,I40,J40,K40)/5 -> 0.4
B41: 152 | E41: 여 | L41: =SUM(G41:K41) -> 0 | M41: ='3주차'!N42 -> 9 | N41: =SUM(L41,M41) -> 9 | O41: =RANK(N41,N$6:N$107) -> 100 | P41: =COUNTA(G41,H41,I41,J41,K41)/5 -> 0 | Q41: 1차 경고
B42: 153 | E42: 여 | L42: =SUM(G42:K42) -> 0 | M42: ='3주차'!N43 -> 64 | N42: =SUM(L42,M42) -> 64 | O42: =RANK(N42,N$6:N$107) -> 65 | P42: =COUNTA(G42,H42,I42,J42,K42)/5 -> 0
B43: 154 | E43: 남 | G43: 13 | H43: 10 | I43: 10 | J43: 6 | K43: 5 | L43: =SUM(G43:K43) -> 44 | M43: ='3주차'!N44 -> 113 | N43: =SUM(L43,M43) -> 157 | O43: =RANK(N43,N$6:N$107) -> 18 | P43: =COUNTA(G43,H43,I43,J43,K43)/5 -> 1
B44: 155 | E44: 여 | G44: 13 | H44: 10 | I44: 7 | J44: 7 | K44: 12 | L44: =SUM(G44:K44) -> 49 | M44: ='3주차'!N45 -> 149 | N44: =SUM(L44,M44) -> 198 | O44: =RANK(N44,N$6:N$107) -> 8 | P44: =COUNTA(G44,H44,I44,J44,K44)/5 -> 1
B45: 156 | E45: 여 | G45: 14 | H45: 12 | I45: 13 | J45: 6 | K45: 11 | L45: =SUM(G45:K45) -> 56 | M45: ='3주차'!N46 -> 147 | N45: =SUM(L45,M45) -> 203 | O45: =RANK(N45,N$6:N$107) -> 6 | P45: =COUNTA(G45,H45,I45,J45,K45)/5 -> 1
B46: 157 | E46: 남 | L46: =SUM(G46:K46) -> 0 | M46: ='3주차'!N47 -> 133 | N46: =SUM(L46,M46) -> 133 | O46: =RANK(N46,N$6:N$107) -> 28 | P46: =COUNTA(G46,H46,I46,J46,K46)/5 -> 0
B47: 158 | E47: 여 | G47: 10 | H47: 10 | I47: 10 | K47: 11 | L47: =SUM(G47:K47) -> 41 | M47: ='3주차'!N48 -> 98 | N47: =SUM(L47,M47) -> 139 | O47: =RANK(N47,N$6:N$107) -> 25 | P47: =COUNTA(G47,H47,I47,J47,K47)/5 -> 0.8
B48: 159 | E48: 여 | H48: 10 | I48: 6 | J48: 1 | K48: 9 | L48: =SUM(G48:K48) -> 26 | M48: ='3주차'!N49 -> 91 | N48: =SUM(L48,M48) -> 117 | O48: =RANK(N48,N$6:N$107) -> 35 | P48: =COUNTA(G48,H48,I48,J48,K48)/5 -> 0.8
B49: 160 | E49: 여 | G49: 10 | H49: 11 | I49: 10 | J49: 5 | K49: 8 | L49: =SUM(G49:K49) -> 44 | M49: ='3주차'!N50 -> 127 | N49: =SUM(L49,M49) -> 171 | O49: =RANK(N49,N$6:N$107) -> 14 | P49: =COUNTA(G49,H49,I49,J49,K49)/5 -> 1
B50: 161 | E50: 남 | I50: 8 | J50: 5 | L50: =SUM(G50:K50) -> 13 | M50: ='3주차'!N51 -> 99 | N50: =SUM(L50,M50) -> 112 | O50: =RANK(N50,N$6:N$107) -> 42 | P50: =COUNTA(G50,H50,I50,J50,K50)/5 -> 0.4
B51: 162 | E51: 남 | G51: 7 | L51: =SUM(G51:K51) -> 7 | M51: ='3주차'!N52 -> 38 | N51: =SUM(L51,M51) -> 45 | O51: =RANK(N51,N$6:N$107) -> 74 | P51: =COUNTA(G51,H51,I51,J51,K51)/5 -> 0.2
B52: 163 | E52: 남 | G52: 6 | H52: 12 | I52: 12 | L52: =SUM(G52:K52) -> 30 | M52: ='3주차'!N53 -> 54 | N52: =SUM(L52,M52) -> 84 | O52: =RANK(N52,N$6:N$107) -> 55 | P52: =COUNTA(G52,H52,I52,J52,K52)/5 -> 0.6
B53: 164 | E53: 남 | G53: 8 | H53: 11 | J53: 6 | K53: 7 | L53: =SUM(G53:K53) -> 32 | M53: ='3주차'!N54 -> 85 | N53: =SUM(L53,M53) -> 117 | O53: =RANK(N53,N$6:N$107) -> 35 | P53: =COUNTA(G53,H53,I53,J53,K53)/5 -> 0.8
B54: 165 | E54: 여 | G54: 10 | H54: 8 | K54: 11 | L54: =SUM(G54:K54) -> 29 | M54: ='3주차'!N55 -> 132 | N54: =SUM(L54,M54) -> 161 | O54: =RANK(N54,N$6:N$107) -> 17 | P54: =COUNTA(G54,H54,I54,J54,K54)/5 -> 0.6
B55: 166 | E55: 남 | G55: 12 | H55: 13 | J55: 5 | K55: 13 | L55: =SUM(G55:K55) -> 43 | M55: ='3주차'!N56 -> 71 | N55: =SUM(L55,M55) -> 114 | O55: =RANK(N55,N$6:N$107) -> 39 | P55: =COUNTA(G55,H55,I55,J55,K55)/5 -> 0.8
B56: 167 | E56: 여 | H56: 10 | L56: =SUM(G56:K56) -> 10 | M56: ='3주차'!N57 -> 29 | N56: =SUM(L56,M56) -> 39 | O56: =RANK(N56,N$6:N$107) -> 77 | P56: =COUNTA(G56,H56,I56,J56,K56)/5 -> 0.2
B57: 168 | E57: 남 | H57: 11 | L57: =SUM(G57:K57) -> 11 | M57: ='3주차'!N58 -> 111 | N57: =SUM(L57,M57) -> 122 | O57: =RANK(N57,N$6:N$107) -> 33 | P57: =COUNTA(G57,H57,I57,J57,K57)/5 -> 0.2
B58: 169 | E58: 남 | G58: 8 | H58: 5 | I58: 7 | J58: 4 | L58: =SUM(G58:K58) -> 24 | M58: ='3주차'!N59 -> 84 | N58: =SUM(L58,M58) -> 108 | O58: =RANK(N58,N$6:N$107) -> 44 | P58: =COUNTA(G58,H58,I58,J58,K58)/5 -> 0.8
B59: 170 | E59: 남 | L59: =SUM(G59:K59) -> 0 | M59: ='3주차'!N60 -> 18 | N59: =SUM(L59,M59) -> 18 | O59: =RANK(N59,N$6:N$107) -> 89 | P59: =COUNTA(G59,H59,I59,J59,K59)/5 -> 0 | Q59: 1차 경고
B60: 171 | E60: 남 | L60: =SUM(G60:K60) -> 0 | M60: ='3주차'!N61 -> 10 | N60: =SUM(L60,M60) -> 10 | O60: =RANK(N60,N$6:N$107) -> 99 | P60: =COUNTA(G60,H60,I60,J60,K60)/5 -> 0 | Q60: 1차 경고
B61: 172 | E61: 남 | L61: =SUM(G61:K61) -> 0 | M61: ='3주차'!N62 -> 14 | N61: =SUM(L61,M61) -> 14 | O61: =RANK(N61,N$6:N$107) -> 93 | P61: =COUNTA(G61,H61,I61,J61,K61)/5 -> 0 | Q61: 1차 경고
B62: 173 | E62: 여 | L62: =SUM(G62:K62) -> 0 | M62: ='3주차'!N63 -> 72 | N62: =SUM(L62,M62) -> 72 | O62: =RANK(N62,N$6:N$107) -> 60 | P62: =COUNTA(G62,H62,I62,J62,K62)/5 -> 0
B63: 174 | E63: 남 | G63: 8 | H63: 8 | I63: 7 | J63: 6 | K63: 5 | L63: =SUM(G63:K63) -> 34 | M63: ='3주차'!N64 -> 108 | N63: =SUM(L63,M63) -> 142 | O63: =RANK(N63,N$6:N$107) -> 23 | P63: =COUNTA(G63,H63,I63,J63,K63)/5 -> 1
B64: 175 | E64: 남 | G64: 6 | H64: 6 | J64: 5 | K64: 6 | L64: =SUM(G64:K64) -> 23 | M64: ='3주차'!N65 -> 66 | N64: =SUM(L64,M64) -> 89 | O64: =RANK(N64,N$6:N$107) -> 53 | P64: =COUNTA(G64,H64,I64,J64,K64)/5 -> 0.8
B65: 176 | E65: 여 | L65: =SUM(G65:K65) -> 0 | M65: ='3주차'!N66 -> 6 | N65: =SUM(L65,M65) -> 6 | O65: =RANK(N65,N$6:N$107) -> 101 | P65: =COUNTA(G65,H65,I65,J65,K65)/5 -> 0 | Q65: 1차 경고
B66: 177 | E66: 남 | H66: 12 | I66: 11 | K66: 7 | L66: =SUM(G66:K66) -> 30 | M66: ='3주차'!N67 -> 77 | N66: =SUM(L66,M66) -> 107 | O66: =RANK(N66,N$6:N$107) -> 45 | P66: =COUNTA(G66,H66,I66,J66,K66)/5 -> 0.6
B67: 178 | E67: 남 | G67: 12 | H67: 10 | I67: 7 | J67: 4 | K67: 8 | L67: =SUM(G67:K67) -> 41 | M67: ='3주차'!N68 -> 126 | N67: =SUM(L67,M67) -> 167 | O67: =RANK(N67,N$6:N$107) -> 15 | P67: =COUNTA(G67,H67,I67,J67,K67)/5 -> 1
B68: 179 | E68: 남 | G68: 11 | H68: 9 | I68: 12 | J68: 7 | K68: 7 | L68: =SUM(G68:K68) -> 46 | M68: ='3주차'!N69 -> 161 | N68: =SUM(L68,M68) -> 207 | O68: =RANK(N68,N$6:N$107) -> 5 | P68: =COUNTA(G68,H68,I68,J68,K68)/5 -> 1
B69: 180 | E69: 여 | G69: 10 | H69: 10 | I69: 9 | J69: 8 | K69: 12 | L69: =SUM(G69:K69) -> 49 | M69: ='3주차'!N70 -> 171 | N69: =SUM(L69,M69) -> 220 | O69: =RANK(N69,N$6:N$107) -> 2 | P69: =COUNTA(G69,H69,I69,J69,K69)/5 -> 1
B70: 181 | E70: 남 | G70: 8 | H70: 8 | I70: 7 | J70: 5 | K70: 6 | L70: =SUM(G70:K70) -> 34 | M70: ='3주차'!N71 -> 107 | N70: =SUM(L70,M70) -> 141 | O70: =RANK(N70,N$6:N$107) -> 24 | P70: =COUNTA(G70,H70,I70,J70,K70)/5 -> 1
B71: 182 | E71: 남 | G71: 12 | H71: 15 | I71: 13 | J71: 8 | K71: 11 | L71: =SUM(G71:K71) -> 59 | M71: ='3주차'!N72 -> 161 | N71: =SUM(L71,M71) -> 220 | O71: =RANK(N71,N$6:N$107) -> 2 | P71: =COUNTA(G71,H71,I71,J71,K71)/5 -> 1
B72: 183 | E72: 여 | L72: =SUM(G72:K72) -> 0 | M72: ='3주차'!N73 -> 0 | N72: =SUM(L72,M72) -> 0 | O72: =RANK(N72,N$6:N$107) -> 102 | P72: =COUNTA(G72,H72,I72,J72,K72)/5 -> 0 | Q72: 1차 경고
B73: 184 | E73: 여 | G73: 4 | H73: 5 | I73: 7 | J73: 4 | K73: 4 | L73: =SUM(G73:K73) -> 24 | M73: ='3주차'!N74 -> 69 | N73: =SUM(L73,M73) -> 93 | O73: =RANK(N73,N$6:N$107) -> 51 | P73: =COUNTA(G73,H73,I73,J73,K73)/5 -> 1
B74: 185 | E74: 여 | H74: 9 | I74: 9 | J74: 7 | L74: =SUM(G74:K74) -> 25 | M74: ='3주차'!N75 -> 85 | N74: =SUM(L74,M74) -> 110 | O74: =RANK(N74,N$6:N$107) -> 43 | P74: =COUNTA(G74,H74,I74,J74,K74)/5 -> 0.6
B75: 186 | E75: 남 | G75: 7 | J75: 3 | K75: 9 | L75: =SUM(G75:K75) -> 19 | M75: ='3주차'!N76 -> 110 | N75: =SUM(L75,M75) -> 129 | O75: =RANK(N75,N$6:N$107) -> 30 | P75: =COUNTA(G75,H75,I75,J75,K75)/5 -> 0.6
B76: 187 | E76: 여 | G76: 9 | H76: 11 | I76: 13 | J76: 8 | K76: 9 | L76: =SUM(G76:K76) -> 50 | M76: ='3주차'!N77 -> 153 | N76: =SUM(L76,M76) -> 203 | O76: =RANK(N76,N$6:N$107) -> 6 | P76: =COUNTA(G76,H76,I76,J76,K76)/5 -> 1
B77: 188 | E77: 남 | H77: 10 | J77: 8 | K77: 12 | L77: =SUM(G77:K77) -> 30 | M77: ='3주차'!N78 -> 114 | N77: =SUM(L77,M77) -> 144 | O77: =RANK(N77,N$6:N$107) -> 22 | P77: =COUNTA(G77,H77,I77,J77,K77)/5 -> 0.6
B78: 189 | E78: 남 | G78: 6 | H78: 7 | L78: =SUM(G78:K78) -> 13 | M78: ='3주차'!N79 -> 75 | N78: =SUM(L78,M78) -> 88 | O78: =RANK(N78,N$6:N$107) -> 54 | P78: =COUNTA(G78,H78,I78,J78,K78)/5 -> 0.4
B79: 190 | E79: 남 | L79: =SUM(G79:K79) -> 0 | M79: ='3주차'!N80 -> 62 | N79: =SUM(L79,M79) -> 62 | O79: =RANK(N79,N$6:N$107) -> 67 | P79: =COUNTA(G79,H79,I79,J79,K79)/5 -> 0
B80: 191 | E80: 여 | G80: 5 | H80: 6 | J80: 4 | K80: 4 | L80: =SUM(G80:K80) -> 19 | M80: ='3주차'!N81 -> 3 | N80: =SUM(L80,M80) -> 22 | O80: =RANK(N80,N$6:N$107) -> 87 | P80: =COUNTA(G80,H80,I80,J80,K80)/5 -> 0.8
B81: 192 | E81: 남 | H81: 10 | K81: 9 | L81: =SUM(G81:K81) -> 19 | M81: ='3주차'!N82 -> 55 | N81: =SUM(L81,M81) -> 74 | O81: =RANK(N81,N$6:N$107) -> 59 | P81: =COUNTA(G81,H81,I81,J81,K81)/5 -> 0.4
B82: 193 | E82: 여 | L82: =SUM(G82:K82) -> 0 | M82: ='3주차'!N83 -> 56 | N82: =SUM(L82,M82) -> 56 | O82: =RANK(N82,N$6:N$107) -> 70 | P82: =COUNTA(G82,H82,I82,J82,K82)/5 -> 0
B83: 194 | E83: 여 | G83: 7 | H83: 8 | I83: 3 | J83: 4 | K83: 5 | L83: =SUM(G83:K83) -> 27 | M83: ='3주차'!N84 -> 112 | N83: =SUM(L83,M83) -> 139 | O83: =RANK(N83,N$6:N$107) -> 25 | P83: =COUNTA(G83,H83,I83,J83,K83)/5 -> 1
B84: 195 | E84: 남 | G84: 4 | H84: 3 | L84: =SUM(G84:K84) -> 7 | M84: ='3주차'!N85 -> 29 | N84: =SUM(L84,M84) -> 36 | O84: =RANK(N84,N$6:N$107) -> 79 | P84: =COUNTA(G84,H84,I84,J84,K84)/5 -> 0.4
B85: 196 | E85: 남 | L85: =SUM(G85:K85) -> 0 | M85: ='3주차'!N86 -> 65 | N85: =SUM(L85,M85) -> 65 | O85: =RANK(N85,N$6:N$107) -> 64 | P85: =COUNTA(G85,H85,I85,J85,K85)/5 -> 0
B86: 197 | E86: 여 | H86: 5 | I86: 4 | J86: 2 | L86: =SUM(G86:K86) -> 11 | M86: ='3주차'!N87 -> 30 | N86: =SUM(L86,M86) -> 41 | O86: =RANK(N86,N$6:N$107) -> 76 | P86: =COUNTA(G86,H86,I86,J86,K86)/5 -> 0.6
B87: 198 | E87: 남 | L87: =SUM(G87:K87) -> 0 | M87: ='3주차'!N88 -> 14 | N87: =SUM(L87,M87) -> 14 | O87: =RANK(N87,N$6:N$107) -> 93 | P87: =COUNTA(G87,H87,I87,J87,K87)/5 -> 0
B88: 200 | E88: 남 | L88: =SUM(G88:K88) -> 0 | M88: ='3주차'!N89 -> 36 | N88: =SUM(L88,M88) -> 36 | O88: =RANK(N88,N$6:N$107) -> 79 | P88: =COUNTA(G88,H88,I88,J88,K88)/5 -> 0
B89: 201 | E89: 여 | G89: 4 | L89: =SUM(G89:K89) -> 4 | M89: ='3주차'!N90 -> 31 | N89: =SUM(L89,M89) -> 35 | O89: =RANK(N89,N$6:N$107) -> 81 | P89: =COUNTA(G89,H89,I89,J89,K89)/5 -> 0.2
B90: 202 | E90: 여 | G90: 7 | H90: 8 | J90: 7 | K90: 10 | L90: =SUM(G90:K90) -> 32 | M90: ='3주차'!N91 -> 60 | N90: =SUM(L90,M90) -> 92 | O90: =RANK(N90,N$6:N$107) -> 52 | P90: =COUNTA(G90,H90,I90,J90,K90)/5 -> 0.8
B91: 203 | E91: 여 | L91: =SUM(G91:K91) -> 0 | M91: ='3주차'!N92 -> 14 | N91: =SUM(L91,M91) -> 14 | O91: =RANK(N91,N$6:N$107) -> 93 | P91: =COUNTA(G91,H91,I91,J91,K91)/5 -> 0
B92: 204 | E92: 남 | H92: 4 | I92: 6 | J92: 4 | K92: 7 | L92: =SUM(G92:K92) -> 21 | M92: ='3주차'!N93 -> 36 | N92: =SUM(L92,M92) -> 57 | O92: =RANK(N92,N$6:N$107) -> 69 | P92: =COUNTA(G92,H92,I92,J92,K92)/5 -> 0.8
B93: 205 | E93: 남 | L93: =SUM(G93:K93) -> 0 | M93: ='3주차'!N94 -> 15 | N93: =SUM(L93,M93) -> 15 | O93: =RANK(N93,N$6:N$107) -> 92 | P93: =COUNTA(G93,H93,I93,J93,K93)/5 -> 0
B94: 210 | E94: 여 | I94: 7 | J94: 3 | L94: =SUM(G94:K94) -> 10 | M94: ='3주차'!N95 -> 121 | N94: =SUM(L94,M94) -> 131 | O94: =RANK(N94,N$6:N$107) -> 29 | P94: =COUNTA(G94,H94,I94,J94,K94)/5 -> 0.4
B95: 211 | E95: 여 | L95: =SUM(G95:K95) -> 0 | M95: ='3주차'!N96 -> 21 | N95: =SUM(L95,M95) -> 21 | O95: =RANK(N95,N$6:N$107) -> 88 | P95: =COUNTA(G95,H95,I95,J95,K95)/5 -> 0 | Q95: 1차 경고
B96: 212 | E96: 남 | G96: 7 | H96: 12 | I96: 7 | J96: 6 | K96: 7 | L96: =SUM(G96:K96) -> 39 | M96: ='3주차'!N97 -> 144 | N96: =SUM(L96,M96) -> 183 | O96: =RANK(N96,N$6:N$107) -> 11 | P96: =COUNTA(G96,H96,I96,J96,K96)/5 -> 1
B97: 213 | E97: 남 | H97: 6 | J97: 6 | K97: 7 | L97: =SUM(G97:K97) -> 19 | M97: ='3주차'!N98 -> 47 | N97: =SUM(L97,M97) -> 66 | O97: =RANK(N97,N$6:N$107) -> 61 | P97: =COUNTA(G97,H97,I97,J97,K97)/5 -> 0.6
B98: 214 | E98: 여 | G98: 4 | L98: =SUM(G98:K98) -> 4 | M98: ='3주차'!N99 -> 40 | N98: =SUM(L98,M98) -> 44 | O98: =RANK(N98,N$6:N$107) -> 75 | P98: =COUNTA(G98,H98,I98,J98,K98)/5 -> 0.2
B99: 215 | E99: 남 | L99: =SUM(G99:K99) -> 0 | M99: ='3주차'!N100 -> 37 | N99: =SUM(L99,M99) -> 37 | O99: =RANK(N99,N$6:N$107) -> 78 | P99: =COUNTA(G99,H99,I99,J99,K99)/5 -> 0
B100: 216 | E100: 남 | L100: =SUM(G100:K100) -> 0 | M100: ='3주차'!N101 -> 17 | N100: =SUM(L100,M100) -> 17 | O100: =RANK(N100,N$6:N$107) -> 90 | P100: =COUNTA(G100,H100,I100,J100,K100)/5 -> 0 | Q100: 1차 경고
B101: 217 | E101: 여 | L101: =SUM(G101:K101) -> 0 | M101: ='3주차'!N102 -> 13 | N101: =SUM(L101,M101) -> 13 | O101: =RANK(N101,N$6:N$107) -> 96 | P101: =COUNTA(G101,H101,I101,J101,K101)/5 -> 0 | Q101: 1차 경고
...

Sheet 5주차
B2: 5월 아침 모의고사 성적현황
B3: 시험 5주차 : 6월 11일 ~ 6월 15일
G4: 11 | H4: 12 | I4: 13 | J4: 14 | K4: 15 | L4: 주간성적 | P4: 모의고사 참여율 | Q4: 비고
A5: 수험 번호 | B5: 수험 번호 | C5: 유/무 | E5: 성별 | F5: 연락처 | G5: 국사 | H5: 형소법 | I5: 경찰학 | J5: 형법 | K5: 영어 | L5: 이번주 총점 | M5: 누적 총점 | N5: 전체 총점 | O5: 등수
B6: 100 | E6: 남 | G6: 9 | H6: 12 | I6: 6 | J6: 3 | K6: 8 | L6: =SUM(G6:K6) -> 38 | M6: ='4주차'!N6 -> 185 | N6: =SUM(L6,M6) -> 223 | O6: =RANK(N6,N$6:N$99) -> 12 | P6: =COUNTA(G6,H6,I6,J6,K6)/5 -> 1
B7: 106 | E7: 여 | G7: 8 | H7: 13 | I7: 9 | J7: 5 | K7: 8 | L7: =SUM(G7:K7) -> 43 | M7: ='4주차'!N7 -> 176 | N7: =SUM(L7,M7) -> 219 | O7: =RANK(N7,N$6:N$99) -> 13 | P7: =COUNTA(G7,H7,I7,J7,K7)/5 -> 1
B8: 107 | E8: 여 | L8: =SUM(G8:K8) -> 0 | M8: ='4주차'!N8 -> 121 | N8: =SUM(L8,M8) -> 121 | O8: =RANK(N8,N$6:N$99) -> 49 | P8: =COUNTA(G8,H8,I8,J8,K8)/5 -> 0 | Q8: 1차 경고
B9: 108 | E9: 여 | G9: 9 | H9: 10 | I9: 6 | J9: 2 | K9: 5 | L9: =SUM(G9:K9) -> 32 | M9: ='4주차'!N9 -> 99 | N9: =SUM(L9,M9) -> 131 | O9: =RANK(N9,N$6:N$99) -> 43 | P9: =COUNTA(G9,H9,I9,J9,K9)/5 -> 1
B10: 109 | E10: 남 | G10: 10 | H10: 12 | I10: 7 | J10: 4 | K10: 8 | L10: =SUM(G10:K10) -> 41 | M10: ='4주차'!N10 -> 153 | N10: =SUM(L10,M10) -> 194 | O10: =RANK(N10,N$6:N$99) -> 19 | P10: =COUNTA(G10,H10,I10,J10,K10)/5 -> 1
B11: 110 | E11: 남 | G11: 8 | H11: 13 | I11: 5 | J11: 7 | K11: 6 | L11: =SUM(G11:K11) -> 39 | M11: ='4주차'!N11 -> 164 | N11: =SUM(L11,M11) -> 203 | O11: =RANK(N11,N$6:N$99) -> 15 | P11: =COUNTA(G11,H11,I11,J11,K11)/5 -> 1
B12: 111 | E12: 남 | L12: =SUM(G12:K12) -> 0 | M12: ='4주차'!N12 -> 66 | N12: =SUM(L12,M12) -> 66 | O12: =RANK(N12,N$6:N$99) -> 67 | P12: =COUNTA(G12,H12,I12,J12,K12)/5 -> 0 | Q12: 1차 경고
B13: 113 | E13: 남 | L13: =SUM(G13:K13) -> 0 | M13: ='4주차'!N13 -> 12 | N13: =SUM(L13,M13) -> 12 | O13: =RANK(N13,N$6:N$99) -> 93 | P13: =COUNTA(G13,H13,I13,J13,K13)/5 -> 0 | Q13: 1차 경고
B14: 114 | E14: 남 | G14: 6 | H14: 11 | I14: 4 | J14: 6 | K14: 5 | L14: =SUM(G14:K14) -> 32 | M14: ='4주차'!N14 -> 127 | N14: =SUM(L14,M14) -> 159 | O14: =RANK(N14,N$6:N$99) -> 27 | P14: =COUNTA(G14,H14,I14,J14,K14)/5 -> 1
B15: 116 | E15: 남 | G15: 4 | H15: 10 | I15: 5 | J15: 2 | K15: 4 | L15: =SUM(G15:K15) -> 25 | M15: ='4주차'!N15 -> 96 | N15: =SUM(L15,M15) -> 121 | O15: =RANK(N15,N$6:N$99) -> 49 | P15: =COUNTA(G15,H15,I15,J15,K15)/5 -> 1
B16: 117 | E16: 여 | G16: 5 | J16: 3 | K16: 8 | L16: =SUM(G16:K16) -> 16 | M16: ='4주차'!N16 -> 66 | N16: =SUM(L16,M16) -> 82 | O16: =RANK(N16,N$6:N$99) -> 61 | P16: =COUNTA(G16,H16,I16,J16,K16)/5 -> 0.6
B17: 118 | E17: 남 | G17: 9 | H17: 12 | I17: 11 | J17: 6 | L17: =SUM(G17:K17) -> 38 | M17: ='4주차'!N17 -> 187 | N17: =SUM(L17,M17) -> 225 | O17: =RANK(N17,N$6:N$99) -> 11 | P17: =COUNTA(G17,H17,I17,J17,K17)/5 -> 0.8
B18: 119 | E18: 남 | G18: 6 | H18: 12 | J18: 3 | K18: 7 | L18: =SUM(G18:K18) -> 28 | M18: ='4주차'!N18 -> 105 | N18: =SUM(L18,M18) -> 133 | O18: =RANK(N18,N$6:N$99) -> 41 | P18: =COUNTA(G18,H18,I18,J18,K18)/5 -> 0.8
B19: 121 | E19: 남 | G19: 7 | H19: 7 | I19: 3 | J19: 2 | K19: 2 | L19: =SUM(G19:K19) -> 21 | M19: ='4주차'!N19 -> 75 | N19: =SUM(L19,M19) -> 96 | O19: =RANK(N19,N$6:N$99) -> 56 | P19: =COUNTA(G19,H19,I19,J19,K19)/5 -> 1
B20: 122 | E20: 남 | G20: 6 | H20: 8 | L20: =SUM(G20:K20) -> 14 | M20: ='4주차'!N20 -> 59 | N20: =SUM(L20,M20) -> 73 | O20: =RANK(N20,N$6:N$99) -> 65 | P20: =COUNTA(G20,H20,I20,J20,K20)/5 -> 0.4
B21: 123 | E21: 남 | G21: 12 | H21: 15 | I21: 9 | J21: 4 | K21: 4 | L21: =SUM(G21:K21) -> 44 | M21: ='4주차'!N21 -> 183 | N21: =SUM(L21,M21) -> 227 | O21: =RANK(N21,N$6:N$99) -> 10 | P21: =COUNTA(G21,H21,I21,J21,K21)/5 -> 1
B22: 124 | E22: 남 | G22: 9 | H22: 10 | I22: 7 | J22: 4 | K22: 2 | L22: =SUM(G22:K22) -> 32 | M22: ='4주차'!N22 -> 116 | N22: =SUM(L22,M22) -> 148 | O22: =RANK(N22,N$6:N$99) -> 33 | P22: =COUNTA(G22,H22,I22,J22,K22)/5 -> 1
B23: 126 | E23: 남 | G23: 8 | H23: 12 | I23: 7 | J23: 1 | K23: 7 | L23: =SUM(G23:K23) -> 35 | M23: ='4주차'!N23 -> 157 | N23: =SUM(L23,M23) -> 192 | O23: =RANK(N23,N$6:N$99) -> 20 | P23: =COUNTA(G23,H23,I23,J23,K23)/5 -> 1
B24: 128 | E24: 남 | G24: 4 | L24: =SUM(G24:K24) -> 4 | M24: ='4주차'!N24 -> 28 | N24: =SUM(L24,M24) -> 32 | O24: =RANK(N24,N$6:N$99) -> 84 | P24: =COUNTA(G24,H24,I24,J24,K24)/5 -> 0.2
B25: 129 | E25: 여 | J25: 5 | L25: =SUM(G25:K25) -> 5 | M25: ='4주차'!N25 -> 27 | N25: =SUM(L25,M25) -> 32 | O25: =RANK(N25,N$6:N$99) -> 84 | P25: =COUNTA(G25,H25,I25,J25,K25)/5 -> 0.2
B26: 130 | E26: 남 | G26: 6 | H26: 10 | I26: 3 | J26: 3 | K26: 1 | L26: =SUM(G26:K26) -> 23 | M26: ='4주차'!N26 -> 77 | N26: =SUM(L26,M26) -> 100 | O26: =RANK(N26,N$6:N$99) -> 55 | P26: =COUNTA(G26,H26,I26,J26,K26)/5 -> 1
B27: 131 | E27: 남 | G27: 10 | H27: 14 | I27: 10 | J27: 3 | K27: 9 | L27: =SUM(G27:K27) -> 46 | M27: ='4주차'!N27 -> 214 | N27: =SUM(L27,M27) -> 260 | O27: =RANK(N27,N$6:N$99) -> 4 | P27: =COUNTA(G27,H27,I27,J27,K27)/5 -> 1
B28: 132 | E28: 남 | G28: 3 | I28: 4 | J28: 4 | K28: 8 | L28: =SUM(G28:K28) -> 19 | M28: ='4주차'!N28 -> 135 | N28: =SUM(L28,M28) -> 154 | O28: =RANK(N28,N$6:N$99) -> 30 | P28: =COUNTA(G28,H28,I28,J28,K28)/5 -> 0.8
B29: 133 | E29: 남 | G29: 10 | H29: 12 | I29: 3 | J29: 7 | K29: 13 | L29: =SUM(G29:K29) -> 45 | M29: ='4주차'!N29 -> 114 | N29: =SUM(L29,M29) -> 159 | O29: =RANK(N29,N$6:N$99) -> 27 | P29: =COUNTA(G29,H29,I29,J29,K29)/5 -> 1
B30: 134 | E30: 남 | G30: 7 | H30: 6 | I30: 3 | J30: 3 | K30: 0 | L30: =SUM(G30:K30) -> 19 | M30: ='4주차'!N30 -> 103 | N30: =SUM(L30,M30) -> 122 | O30: =RANK(N30,N$6:N$99) -> 47 | P30: =COUNTA(G30,H30,I30,J30,K30)/5 -> 1
B31: 135 | E31: 남 | G31: 11 | H31: 12 | I31: 12 | J31: 8 | K31: 14 | L31: =SUM(G31:K31) -> 57 | M31: ='4주차'!N31 -> 231 | N31: =SUM(L31,M31) -> 288 | O31: =RANK(N31,N$6:N$99) -> 1 | P31: =COUNTA(G31,H31,I31,J31,K31)/5 -> 1
B32: 136 | E32: 남 | L32: =SUM(G32:K32) -> 0 | M32: ='4주차'!N32 -> 27 | N32: =SUM(L32,M32) -> 27 | O32: =RANK(N32,N$6:N$99) -> 87 | P32: =COUNTA(G32,H32,I32,J32,K32)/5 -> 0 | Q32: 1차 경고
B33: 137 | E33: 남 | G33: 10 | H33: 12 | I33: 5 | J33: 8 | K33: 4 | L33: =SUM(G33:K33) -> 39 | M33: ='4주차'!N33 -> 123 | N33: =SUM(L33,M33) -> 162 | O33: =RANK(N33,N$6:N$99) -> 26 | P33: =COUNTA(G33,H33,I33,J33,K33)/5 -> 1
B34: 139 | E34: 남 | G34: 5 | H34: 8 | I34: 7 | K34: 6 | L34: =SUM(G34:K34) -> 26 | M34: ='4주차'!N34 -> 114 | N34: =SUM(L34,M34) -> 140 | O34: =RANK(N34,N$6:N$99) -> 35 | P34: =COUNTA(G34,H34,I34,J34,K34)/5 -> 0.8
B35: 140 | E35: 남 | H35: 9 | I35: 5 | J35: 3 | L35: =SUM(G35:K35) -> 17 | M35: ='4주차'!N35 -> 63 | N35: =SUM(L35,M35) -> 80 | O35: =RANK(N35,N$6:N$99) -> 63 | P35: =COUNTA(G35,H35,I35,J35,K35)/5 -> 0.6
B36: 230 | E36: 남 | L36: =SUM(G36:K36) -> 0 | M36: ='4주차'!N36 -> 32 | N36: =SUM(L36,M36) -> 32 | O36: =RANK(N36,N$6:N$99) -> 84 | P36: =COUNTA(G36,H36,I36,J36,K36)/5 -> 0
B37: 231 | E37: 남 | G37: 11 | H37: 11 | I37: 7 | J37: 4 | K37: 8 | L37: =SUM(G37:K37) -> 41 | M37: ='4주차'!N37 -> 151 | N37: =SUM(L37,M37) -> 192 | O37: =RANK(N37,N$6:N$99) -> 20 | P37: =COUNTA(G37,H37,I37,J37,K37)/5 -> 1
B38: 232 | E38: 남 | G38: 6 | H38: 11 | I38: 7 | J38: 6 | K38: 4 | L38: =SUM(G38:K38) -> 34 | M38: ='4주차'!N38 -> 115 | N38: =SUM(L38,M38) -> 149 | O38: =RANK(N38,N$6:N$99) -> 32 | P38: =COUNTA(G38,H38,I38,J38,K38)/5 -> 1
B39: 236 | E39: 남 | G39: 10 | H39: 14 | J39: 7 | K39: 7 | L39: =SUM(G39:K39) -> 38 | M39: ='4주차'!N39 -> 102 | N39: =SUM(L39,M39) -> 140 | O39: =RANK(N39,N$6:N$99) -> 35 | P39: =COUNTA(G39,H39,I39,J39,K39)/5 -> 0.8
B40: 151 | E40: 여 | K40: 5 | L40: =SUM(G40:K40) -> 5 | M40: ='4주차'!N40 -> 52 | N40: =SUM(L40,M40) -> 57 | O40: =RANK(N40,N$6:N$99) -> 72 | P40: =COUNTA(G40,H40,I40,J40,K40)/5 -> 0.2
B41: 153 | E41: 여 | G41: 1 | I41: 3 | K41: 9 | L41: =SUM(G41:K41) -> 13 | M41: ='4주차'!N42 -> 64 | N41: =SUM(L41,M41) -> 77 | O41: =RANK(N41,N$6:N$99) -> 64 | P41: =COUNTA(G41,H41,I41,J41,K41)/5 -> 0.6
B42: 154 | E42: 남 | G42: 10 | H42: 11 | I42: 5 | J42: 6 | K42: 12 | L42: =SUM(G42:K42) -> 44 | M42: ='4주차'!N43 -> 157 | N42: =SUM(L42,M42) -> 201 | O42: =RANK(N42,N$6:N$99) -> 16 | P42: =COUNTA(G42,H42,I42,J42,K42)/5 -> 1
B43: 155 | E43: 여 | G43: 10 | H43: 11 | I43: 5 | J43: 5 | K43: 10 | L43: =SUM(G43:K43) -> 41 | M43: ='4주차'!N44 -> 198 | N43: =SUM(L43,M43) -> 239 | O43: =RANK(N43,N$6:N$99) -> 8 | P43: =COUNTA(G43,H43,I43,J43,K43)/5 -> 1
B44: 156 | E44: 여 | G44: 14 | H44: 14 | I44: 10 | J44: 6 | K44: 15 | L44: =SUM(G44:K44) -> 59 | M44: ='4주차'!N45 -> 203 | N44: =SUM(L44,M44) -> 262 | O44: =RANK(N44,N$6:N$99) -> 3 | P44: =COUNTA(G44,H44,I44,J44,K44)/5 -> 1
B45: 157 | E45: 남 | L45: =SUM(G45:K45) -> 0 | M45: ='4주차'!N46 -> 133 | N45: =SUM(L45,M45) -> 133 | O45: =RANK(N45,N$6:N$99) -> 41 | P45: =COUNTA(G45,H45,I45,J45,K45)/5 -> 0 | Q45: 1차 경고
B46: 158 | E46: 여 | H46: 10 | I46: 7 | K46: 9 | L46: =SUM(G46:K46) -> 26 | M46: ='4주차'!N47 -> 139 | N46: =SUM(L46,M46) -> 165 | O46: =RANK(N46,N$6:N$99) -> 25 | P46: =COUNTA(G46,H46,I46,J46,K46)/5 -> 0.6
B47: 159 | E47: 여 | H47: 11 | I47: 7 | L47: =SUM(G47:K47) -> 18 | M47: ='4주차'!N48 -> 117 | N47: =SUM(L47,M47) -> 135 | O47: =RANK(N47,N$6:N$99) -> 40 | P47: =COUNTA(G47,H47,I47,J47,K47)/5 -> 0.4
B48: 160 | E48: 여 | G48: 9 | H48: 13 | I48: 9 | J48: 4 | K48: 6 | L48: =SUM(G48:K48) -> 41 | M48: ='4주차'!N49 -> 171 | N48: =SUM(L48,M48) -> 212 | O48: =RANK(N48,N$6:N$99) -> 14 | P48: =COUNTA(G48,H48,I48,J48,K48)/5 -> 1
B49: 161 | E49: 남 | K49: 4 | L49: =SUM(G49:K49) -> 4 | M49: ='4주차'!N50 -> 112 | N49: =SUM(L49,M49) -> 116 | O49: =RANK(N49,N$6:N$99) -> 52 | P49: =COUNTA(G49,H49,I49,J49,K49)/5 -> 0.2
B50: 162 | E50: 남 | L50: =SUM(G50:K50) -> 0 | M50: ='4주차'!N51 -> 45 | N50: =SUM(L50,M50) -> 45 | O50: =RANK(N50,N$6:N$99) -> 75 | P50: =COUNTA(G50,H50,I50,J50,K50)/5 -> 0 | Q50: 1차 경고
B51: 163 | E51: 남 | L51: =SUM(G51:K51) -> 0 | M51: ='4주차'!N52 -> 84 | N51: =SUM(L51,M51) -> 84 | O51: =RANK(N51,N$6:N$99) -> 60 | P51: =COUNTA(G51,H51,I51,J51,K51)/5 -> 0 | Q51: 1차 경고
B52: 164 | E52: 남 | H52: 15 | I52: 6 | J52: 6 | L52: =SUM(G52:K52) -> 27 | M52: ='4주차'!N53 -> 117 | N52: =SUM(L52,M52) -> 144 | O52: =RANK(N52,N$6:N$99) -> 34 | P52: =COUNTA(G52,H52,I52,J52,K52)/5 -> 0.6
B53: 165 | E53: 여 | G53: 9 | H53: 12 | I53: 3 | J53: 6 | K53: 6 | L53: =SUM(G53:K53) -> 36 | M53: ='4주차'!N54 -> 161 | N53: =SUM(L53,M53) -> 197 | O53: =RANK(N53,N$6:N$99) -> 18 | P53: =COUNTA(G53,H53,I53,J53,K53)/5 -> 1
B54: 166 | E54: 남 | G54: 11 | H54: 12 | J54: 7 | K54: 11 | L54: =SUM(G54:K54) -> 41 | M54: ='4주차'!N55 -> 114 | N54: =SUM(L54,M54) -> 155 | O54: =RANK(N54,N$6:N$99) -> 29 | P54: =COUNTA(G54,H54,I54,J54,K54)/5 -> 0.8
B55: 167 | E55: 여 | L55: =SUM(G55:K55) -> 0 | M55: ='4주차'!N56 -> 39 | N55: =SUM(L55,M55) -> 39 | O55: =RANK(N55,N$6:N$99) -> 78 | P55: =COUNTA(G55,H55,I55,J55,K55)/5 -> 0 | Q55: 1차 경고
B56: 168 | E56: 남 | L56: =SUM(G56:K56) -> 0 | M56: ='4주차'!N57 -> 122 | N56: =SUM(L56,M56) -> 122 | O56: =RANK(N56,N$6:N$99) -> 47 | P56: =COUNTA(G56,H56,I56,J56,K56)/5 -> 0 | Q56: 1차 경고
B57: 169 | E57: 남 | G57: 6 | H57: 12 | I57: 5 | J57: 5 | K57: 3 | L57: =SUM(G57:K57) -> 31 | M57: ='4주차'!N58 -> 108 | N57: =SUM(L57,M57) -> 139 | O57: =RANK(N57,N$6:N$99) -> 37 | P57: =COUNTA(G57,H57,I57,J57,K57)/5 -> 1
B58: 173 | E58: 여 | L58: =SUM(G58:K58) -> 0 | M58: ='4주차'!N62 -> 72 | N58: =SUM(L58,M58) -> 72 | O58: =RANK(N58,N$6:N$99) -> 66 | P58: =COUNTA(G58,H58,I58,J58,K58)/5 -> 0
B59: 174 | E59: 남 | G59: 11 | H59: 12 | I59: 0 | J59: 3 | K59: 4 | L59: =SUM(G59:K59) -> 30 | M59: ='4주차'!N63 -> 142 | N59: =SUM(L59,M59) -> 172 | O59: =RANK(N59,N$6:N$99) -> 23 | P59: =COUNTA(G59,H59,I59,J59,K59)/5 -> 1
B60: 175 | E60: 남 | G60: 7 | H60: 4 | J60: 2 | K60: 6 | L60: =SUM(G60:K60) -> 19 | M60: ='4주차'!N64 -> 89 | N60: =SUM(L60,M60) -> 108 | O60: =RANK(N60,N$6:N$99) -> 53 | P60: =COUNTA(G60,H60,I60,J60,K60)/5 -> 0.8
B61: 176 | E61: 여 | L61: =SUM(G61:K61) -> 0 | M61: ='4주차'!N65 -> 6 | N61: =SUM(L61,M61) -> 6 | O61: =RANK(N61,N$6:N$99) -> 94 | P61: =COUNTA(G61,H61,I61,J61,K61)/5 -> 0 | Q61: 1차 경고
B62: 177 | E62: 남 | I62: 12 | L62: =SUM(G62:K62) -> 12 | M62: ='4주차'!N66 -> 107 | N62: =SUM(L62,M62) -> 119 | O62: =RANK(N62,N$6:N$99) -> 51 | P62: =COUNTA(G62,H62,I62,J62,K62)/5 -> 0.2
B63: 178 | E63: 남 | G63: 7 | H63: 12 | I63: 9 | J63: 3 | L63: =SUM(G63:K63) -> 31 | M63: ='4주차'!N67 -> 167 | N63: =SUM(L63,M63) -> 198 | O63: =RANK(N63,N$6:N$99) -> 17 | P63: =COUNTA(G63,H63,I63,J63,K63)/5 -> 0.8
B64: 179 | E64: 남 | G64: 7 | H64: 14 | J64: 8 | K64: 11 | L64: =SUM(G64:K64) -> 40 | M64: ='4주차'!N68 -> 207 | N64: =SUM(L64,M64) -> 247 | O64: =RANK(N64,N$6:N$99) -> 6 | P64: =COUNTA(G64,H64,I64,J64,K64)/5 -> 0.8
B65: 180 | E65: 여 | G65: 10 | H65: 15 | I65: 10 | J65: 10 | K65: 13 | L65: =SUM(G65:K65) -> 58 | M65: ='4주차'!N69 -> 220 | N65: =SUM(L65,M65) -> 278 | O65: =RANK(N65,N$6:N$99) -> 2 | P65: =COUNTA(G65,H65,I65,J65,K65)/5 -> 1
B66: 181 | E66: 남 | J66: 3 | K66: 6 | L66: =SUM(G66:K66) -> 9 | M66: ='4주차'!N70 -> 141 | N66: =SUM(L66,M66) -> 150 | O66: =RANK(N66,N$6:N$99) -> 31 | P66: =COUNTA(G66,H66,I66,J66,K66)/5 -> 0.4
B67: 182 | E67: 남 | J67: 9 | K67: 15 | L67: =SUM(G67:K67) -> 24 | M67: ='4주차'!N71 -> 220 | N67: =SUM(L67,M67) -> 244 | O67: =RANK(N67,N$6:N$99) -> 7 | P67: =COUNTA(G67,H67,I67,J67,K67)/5 -> 0.4
B68: 184 | E68: 여 | G68: 4 | H68: 11 | I68: 12 | J68: 5 | K68: 5 | L68: =SUM(G68:K68) -> 37 | M68: ='4주차'!N73 -> 93 | N68: =SUM(L68,M68) -> 130 | O68: =RANK(N68,N$6:N$99) -> 45 | P68: =COUNTA(G68,H68,I68,J68,K68)/5 -> 1
B69: 185 | E69: 여 | G69: 6 | I69: 6 | J69: 5 | L69: =SUM(G69:K69) -> 17 | M69: ='4주차'!N74 -> 110 | N69: =SUM(L69,M69) -> 127 | O69: =RANK(N69,N$6:N$99) -> 46 | P69: =COUNTA(G69,H69,I69,J69,K69)/5 -> 0.6
B70: 186 | E70: 남 | G70: 10 | L70: =SUM(G70:K70) -> 10 | M70: ='4주차'!N75 -> 129 | N70: =SUM(L70,M70) -> 139 | O70: =RANK(N70,N$6:N$99) -> 37 | P70: =COUNTA(G70,H70,I70,J70,K70)/5 -> 0.2
B71: 187 | E71: 여 | G71: 11 | H71: 11 | I71: 12 | J71: 6 | K71: 15 | L71: =SUM(G71:K71) -> 55 | M71: ='4주차'!N76 -> 203 | N71: =SUM(L71,M71) -> 258 | O71: =RANK(N71,N$6:N$99) -> 5 | P71: =COUNTA(G71,H71,I71,J71,K71)/5 -> 1
B72: 188 | E72: 남 | G72: 9 | H72: 14 | J72: 6 | K72: 10 | L72: =SUM(G72:K72) -> 39 | M72: ='4주차'!N77 -> 144 | N72: =SUM(L72,M72) -> 183 | O72: =RANK(N72,N$6:N$99) -> 22 | P72: =COUNTA(G72,H72,I72,J72,K72)/5 -> 0.8
B73: 189 | E73: 남 | G73: 8 | H73: 10 | L73: =SUM(G73:K73) -> 18 | M73: ='4주차'!N78 -> 88 | N73: =SUM(L73,M73) -> 106 | O73: =RANK(N73,N$6:N$99) -> 54 | P73: =COUNTA(G73,H73,I73,J73,K73)/5 -> 0.4
B74: 190 | E74: 남 | L74: =SUM(G74:K74) -> 0 | M74: ='4주차'!N79 -> 62 | N74: =SUM(L74,M74) -> 62 | O74: =RANK(N74,N$6:N$99) -> 70 | P74: =COUNTA(G74,H74,I74,J74,K74)/5 -> 0 | Q74: 1차 경고
B75: 191 | E75: 여 | G75: 5 | J75: 2 | K75: 5 | L75: =SUM(G75:K75) -> 12 | M75: ='4주차'!N80 -> 22 | N75: =SUM(L75,M75) -> 34 | O75: =RANK(N75,N$6:N$99) -> 83 | P75: =COUNTA(G75,H75,I75,J75,K75)/5 -> 0.6
B76: 192 | E76: 남 | G76: 7 | L76: =SUM(G76:K76) -> 7 | M76: ='4주차'!N81 -> 74 | N76: =SUM(L76,M76) -> 81 | O76: =RANK(N76,N$6:N$99) -> 62 | P76: =COUNTA(G76,H76,I76,J76,K76)/5 -> 0.2
B77: 193 | E77: 여 | H77: 6 | L77: =SUM(G77:K77) -> 6 | M77: ='4주차'!N82 -> 56 | N77: =SUM(L77,M77) -> 62 | O77: =RANK(N77,N$6:N$99) -> 70 | P77: =COUNTA(G77,H77,I77,J77,K77)/5 -> 0.2
B78: 194 | E78: 여 | G78: 8 | H78: 9 | I78: 3 | J78: 2 | K78: 7 | L78: =SUM(G78:K78) -> 29 | M78: ='4주차'!N83 -> 139 | N78: =SUM(L78,M78) -> 168 | O78: =RANK(N78,N$6:N$99) -> 24 | P78: =COUNTA(G78,H78,I78,J78,K78)/5 -> 1
B79: 195 | E79: 남 | G79: 3 | L79: =SUM(G79:K79) -> 3 | M79: ='4주차'!N84 -> 36 | N79: =SUM(L79,M79) -> 39 | O79: =RANK(N79,N$6:N$99) -> 78 | P79: =COUNTA(G79,H79,I79,J79,K79)/5 -> 0.2
B80: 196 | E80: 남 | G80: 9 | H80: 14 | L80: =SUM(G80:K80) -> 23 | M80: ='4주차'!N85 -> 65 | N80: =SUM(L80,M80) -> 88 | O80: =RANK(N80,N$6:N$99) -> 58 | P80: =COUNTA(G80,H80,I80,J80,K80)/5 -> 0.4
B81: 197 | E81: 여 | L81: =SUM(G81:K81) -> 0 | M81: ='4주차'!N86 -> 41 | N81: =SUM(L81,M81) -> 41 | O81: =RANK(N81,N$6:N$99) -> 77 | P81: =COUNTA(G81,H81,I81,J81,K81)/5 -> 0 | Q81: 1차 경고
B82: 198 | E82: 남 | L82: =SUM(G82:K82) -> 0 | M82: ='4주차'!N87 -> 14 | N82: =SUM(L82,M82) -> 14 | O82: =RANK(N82,N$6:N$99) -> 91 | P82: =COUNTA(G82,H82,I82,J82,K82)/5 -> 0 | Q82: 1차 경고
B83: 200 | E83: 남 | L83: =SUM(G83:K83) -> 0 | M83: ='4주차'!N88 -> 36 | N83: =SUM(L83,M83) -> 36 | O83: =RANK(N83,N$6:N$99) -> 81 | P83: =COUNTA(G83,H83,I83,J83,K83)/5 -> 0 | Q83: 1차 경고
B84: 201 | E84: 여 | L84: =SUM(G84:K84) -> 0 | M84: ='4주차'!N89 -> 35 | N84: =SUM(L84,M84) -> 35 | O84: =RANK(N84,N$6:N$99) -> 82 | P84: =COUNTA(G84,H84,I84,J84,K84)/5 -> 0 | Q84: 1차 경고
B85: 202 | E85: 여 | J85: 4 | L85: =SUM(G85:K85) -> 4 | M85: ='4주차'!N90 -> 92 | N85: =SUM(L85,M85) -> 96 | O85: =RANK(N85,N$6:N$99) -> 56 | P85: =COUNTA(G85,H85,I85,J85,K85)/5 -> 0.2
B86: 203 | E86: 여 | L86: =SUM(G86:K86) -> 0 | M86: ='4주차'!N91 -> 14 | N86: =SUM(L86,M86) -> 14 | O86: =RANK(N86,N$6:N$99) -> 91 | P86: =COUNTA(G86,H86,I86,J86,K86)/5 -> 0 | Q86: 1차 경고
B87: 204 | E87: 남 | L87: =SUM(G87:K87) -> 0 | M87: ='4주차'!N92 -> 57 | N87: =SUM(L87,M87) -> 57 | O87: =RANK(N87,N$6:N$99) -> 72 | P87: =COUNTA(G87,H87,I87,J87,K87)/5 -> 0 | Q87: 1차 경고
B88: 205 | E88: 남 | L88: =SUM(G88:K88) -> 0 | M88: ='4주차'!N93 -> 15 | N88: =SUM(L88,M88) -> 15 | O88: =RANK(N88,N$6:N$99) -> 90 | P88: =COUNTA(G88,H88,I88,J88,K88)/5 -> 0 | Q88: 1차 경고
B89: 210 | E89: 여 | G89: 8 | L89: =SUM(G89:K89) -> 8 | M89: ='4주차'!N94 -> 131 | N89: =SUM(L89,M89) -> 139 | O89: =RANK(N89,N$6:N$99) -> 37 | P89: =COUNTA(G89,H89,I89,J89,K89)/5 -> 0.2
B90: 211 | E90: 여 | L90: =SUM(G90:K90) -> 0 | M90: ='4주차'!N95 -> 21 | N90: =SUM(L90,M90) -> 21 | O90: =RANK(N90,N$6:N$99) -> 89 | P90: =COUNTA(G90,H90,I90,J90,K90)/5 -> 0 | Q90: 1차 경고
B91: 212 | E91: 남 | G91: 8 | H91: 15 | I91: 11 | J91: 7 | K91: 9 | L91: =SUM(G91:K91) -> 50 | M91: ='4주차'!N96 -> 183 | N91: =SUM(L91,M91) -> 233 | O91: =RANK(N91,N$6:N$99) -> 9 | P91: =COUNTA(G91,H91,I91,J91,K91)/5 -> 1
B92: 213 | E92: 남 | L92: =SUM(G92:K92) -> 0 | M92: ='4주차'!N97 -> 66 | N92: =SUM(L92,M92) -> 66 | O92: =RANK(N92,N$6:N$99) -> 67 | P92: =COUNTA(G92,H92,I92,J92,K92)/5 -> 0 | Q92: 1차 경고
B93: 214 | E93: 여 | L93: =SUM(G93:K93) -> 0 | M93: ='4주차'!N98 -> 44 | N93: =SUM(L93,M93) -> 44 | O93: =RANK(N93,N$6:N$99) -> 76 | P93: =COUNTA(G93,H93,I93,J93,K93)/5 -> 0 | Q93: 1차 경고
B94: 215 | E94: 남 | L94: =SUM(G94:K94) -> 0 | M94: ='4주차'!N99 -> 37 | N94: =SUM(L94,M94) -> 37 | O94: =RANK(N94,N$6:N$99) -> 80 | P94: =COUNTA(G94,H94,I94,J94,K94)/5 -> 0 | Q94: 1차 경고
B95: 238 | E95: 남 | G95: 6 | H95: 8 | I95: 7 | J95: 7 | K95: 4 | L95: =SUM(G95:K95) -> 32 | M95: ='4주차'!N103 -> 54 | N95: =SUM(L95,M95) -> 86 | O95: =RANK(N95,N$6:N$99) -> 59 | P95: =COUNTA(G95,H95,I95,J95,K95)/5 -> 1
B96: 240 | E96: 남 | J96: 8 | K96: 6 | L96: =SUM(G96:K96) -> 14 | M96: ='4주차'!N104 -> 51 | N96: =SUM(L96,M96) -> 65 | O96: =RANK(N96,N$6:N$99) -> 69 | P96: =COUNTA(G96,H96,I96,J96,K96)/5 -> 0.4
B97: 241 | E97: 남 | H97: 12 | L97: =SUM(G97:K97) -> 12 | M97: ='4주차'!N105 -> 13 | N97: =SUM(L97,M97) -> 25 | O97: =RANK(N97,N$6:N$99) -> 88 | P97: =COUNTA(G97,H97,I97,J97,K97)/5 -> 0.2
B98: 245 | E98: 남 | G98: 10 | H98: 14 | I98: 10 | J98: 8 | K98: 9 | L98: =SUM(G98:K98) -> 51 | M98: ='4주차'!N106 -> 80 | N98: =SUM(L98,M98) -> 131 | O98: =RANK(N98,N$6:N$99) -> 43 | P98: =COUNTA(G98,H98,I98,J98,K98)/5 -> 1
B99: 243 | E99: 남 | G99: 11 | H99: 15 | K99: 3 | L99: =SUM(G99:K99) -> 29 | M99: ='4주차'!N107 -> 17 | N99: =SUM(L99,M99) -> 46 | O99: =RANK(N99,N$6:N$99) -> 74 | P99: =COUNTA(G99,H99,I99,J99,K99)/5 -> 0.6
B100: * 이상이 있으신 분은 1층 사무실로 오시길 바랍니다.
B101: 최고의 장학생을 선발합니다. ^^ 누적점수 1위가 바로 장학생 입니다.^^
...

Sheet 5주차 공개
B2: 5월 아침 모의고사 성적현황
B3: 시험 5주차 : 6월 11일 ~ 6월 15일
D4: 11 | E4: 12 | F4: 13 | G4: 14 | H4: 15 | I4: 주간성적 | M4: 모의고사 참여율 | N4: 비고
A5: 수험 번호 | B5: 수험 번호 | C5: 성별 | D5: 국사 | E5: 형소법 | F5: 경찰학 | G5: 형법 | H5: 영어 | I5: 이번주 총점 | J5: 누적 총점 | K5: 전체 총점 | L5: 등수
B6: 100 | C6: 남 | D6: 9 | E6: 12 | F6: 6 | G6: 3 | H6: 8 | I6: =SUM(D6:H6) -> 38 | J6: ='4주차'!N6 -> 185 | K6: =SUM(I6,J6) -> 223 | L6: =RANK(K6,K$6:K$99) -> 12 | M6: =COUNTA(D6,E6,F6,G6,H6)/5 -> 1
B7: 106 | C7: 여 | D7: 8 | E7: 13 | F7: 9 | G7: 5 | H7: 8 | I7: =SUM(D7:H7) -> 43 | J7: ='4주차'!N7 -> 176 | K7: =SUM(I7,J7) -> 219 | L7: =RANK(K7,K$6:K$99) -> 13 | M7: =COUNTA(D7,E7,F7,G7,H7)/5 -> 1
B8: 107 | C8: 여 | I8: =SUM(D8:H8) -> 0 | J8: ='4주차'!N8 -> 121 | K8: =SUM(I8,J8) -> 121 | L8: =RANK(K8,K$6:K$99) -> 49 | M8: =COUNTA(D8,E8,F8,G8,H8)/5 -> 0 | N8: 1차 경고
B9: 108 | C9: 여 | D9: 9 | E9: 10 | F9: 6 | G9: 2 | H9: 5 | I9: =SUM(D9:H9) -> 32 | J9: ='4주차'!N9 -> 99 | K9: =SUM(I9,J9) -> 131 | L9: =RANK(K9,K$6:K$99) -> 43 | M9: =COUNTA(D9,E9,F9,G9,H9)/5 -> 1
B10: 109 | C10: 남 | D10: 10 | E10: 12 | F10: 7 | G10: 4 | H10: 8 | I10: =SUM(D10:H10) -> 41 | J10: ='4주차'!N10 -> 153 | K10: =SUM(I10,J10) -> 194 | L10: =RANK(K10,K$6:K$99) -> 19 | M10: =COUNTA(D10,E10,F10,G10,H10)/5 -> 1
B11: 110 | C11: 남 | D11: 8 | E11: 13 | F11: 5 | G11: 7 | H11: 6 | I11: =SUM(D11:H11) -> 39 | J11: ='4주차'!N11 -> 164 | K11: =SUM(I11,J11) -> 203 | L11: =RANK(K11,K$6:K$99) -> 15 | M11: =COUNTA(D11,E11,F11,G11,H11)/5 -> 1
B12: 111 | C12: 남 | I12: =SUM(D12:H12) -> 0 | J12: ='4주차'!N12 -> 66 | K12: =SUM(I12,J12) -> 66 | L12: =RANK(K12,K$6:K$99) -> 67 | M12: =COUNTA(D12,E12,F12,G12,H12)/5 -> 0 | N12: 1차 경고
B13: 113 | C13: 남 | I13: =SUM(D13:H13) -> 0 | J13: ='4주차'!N13 -> 12 | K13: =SUM(I13,J13) -> 12 | L13: =RANK(K13,K$6:K$99) -> 93 | M13: =COUNTA(D13,E13,F13,G13,H13)/5 -> 0 | N13: 1차 경고
B14: 114 | C14: 남 | D14: 6 | E14: 11 | F14: 4 | G14: 6 | H14: 5 | I14: =SUM(D14:H14) -> 32 | J14: ='4주차'!N14 -> 127 | K14: =SUM(I14,J14) -> 159 | L14: =RANK(K14,K$6:K$99) -> 27 | M14: =COUNTA(D14,E14,F14,G14,H14)/5 -> 1
B15: 116 | C15: 남 | D15: 4 | E15: 10 | F15: 5 | G15: 2 | H15: 4 | I15: =SUM(D15:H15) -> 25 | J15: ='4주차'!N15 -> 96 | K15: =SUM(I15,J15) -> 121 | L15: =RANK(K15,K$6:K$99) -> 49 | M15: =COUNTA(D15,E15,F15,G15,H15)/5 -> 1
B16: 117 | C16: 여 | D16: 5 | G16: 3 | H16: 8 | I16: =SUM(D16:H16) -> 16 | J16: ='4주차'!N16 -> 66 | K16: =SUM(I16,J16) -> 82 | L16: =RANK(K16,K$6:K$99) -> 61 | M16: =COUNTA(D16,E16,F16,G16,H16)/5 -> 0.6
B17: 118 | C17: 남 | D17: 9 | E17: 12 | F17: 11 | G17: 6 | I17: =SUM(D17:H17) -> 38 | J17: ='4주차'!N17 -> 187 | K17: =SUM(I17,J17) -> 225 | L17: =RANK(K17,K$6:K$99) -> 11 | M17: =COUNTA(D17,E17,F17,G17,H17)/5 -> 0.8
B18: 119 | C18: 남 | D18: 6 | E18: 12 | G18: 3 | H18: 7 | I18: =SUM(D18:H18) -> 28 | J18: ='4주차'!N18 -> 105 | K18: =SUM(I18,J18) -> 133 | L18: =RANK(K18,K$6:K$99) -> 41 | M18: =COUNTA(D18,E18,F18,G18,H18)/5 -> 0.8
B19: 121 | C19: 남 | D19: 7 | E19: 7 | F19: 3 | G19: 2 | H19: 2 | I19: =SUM(D19:H19) -> 21 | J19: ='4주차'!N19 -> 75 | K19: =SUM(I19,J19) -> 96 | L19: =RANK(K19,K$6:K$99) -> 56 | M19: =COUNTA(D19,E19,F19,G19,H19)/5 -> 1
B20: 122 | C20: 남 | D20: 6 | E20: 8 | I20: =SUM(D20:H20) -> 14 | J20: ='4주차'!N20 -> 59 | K20: =SUM(I20,J20) -> 73 | L20: =RANK(K20,K$6:K$99) -> 65 | M20: =COUNTA(D20,E20,F20,G20,H20)/5 -> 0.4
B21: 123 | C21: 남 | D21: 12 | E21: 15 | F21: 9 | G21: 4 | H21: 4 | I21: =SUM(D21:H21) -> 44 | J21: ='4주차'!N21 -> 183 | K21: =SUM(I21,J21) -> 227 | L21: =RANK(K21,K$6:K$99) -> 10 | M21: =COUNTA(D21,E21,F21,G21,H21)/5 -> 1
B22: 124 | C22: 남 | D22: 9 | E22: 10 | F22: 7 | G22: 4 | H22: 2 | I22: =SUM(D22:H22) -> 32 | J22: ='4주차'!N22 -> 116 | K22: =SUM(I22,J22) -> 148 | L22: =RANK(K22,K$6:K$99) -> 33 | M22: =COUNTA(D22,E22,F22,G22,H22)/5 -> 1
B23: 126 | C23: 남 | D23: 8 | E23: 12 | F23: 7 | G23: 1 | H23: 7 | I23: =SUM(D23:H23) -> 35 | J23: ='4주차'!N23 -> 157 | K23: =SUM(I23,J23) -> 192 | L23: =RANK(K23,K$6:K$99) -> 20 | M23: =COUNTA(D23,E23,F23,G23,H23)/5 -> 1
B24: 128 | C24: 남 | D24: 4 | I24: =SUM(D24:H24) -> 4 | J24: ='4주차'!N24 -> 28 | K24: =SUM(I24,J24) -> 32 | L24: =RANK(K24,K$6:K$99) -> 84 | M24: =COUNTA(D24,E24,F24,G24,H24)/5 -> 0.2
B25: 129 | C25: 여 | G25: 5 | I25: =SUM(D25:H25) -> 5 | J25: ='4주차'!N25 -> 27 | K25: =SUM(I25,J25) -> 32 | L25: =RANK(K25,K$6:K$99) -> 84 | M25: =COUNTA(D25,E25,F25,G25,H25)/5 -> 0.2
B26: 130 | C26: 남 | D26: 6 | E26: 10 | F26: 3 | G26: 3 | H26: 1 | I26: =SUM(D26:H26) -> 23 | J26: ='4주차'!N26 -> 77 | K26: =SUM(I26,J26) -> 100 | L26: =RANK(K26,K$6:K$99) -> 55 | M26: =COUNTA(D26,E26,F26,G26,H26)/5 -> 1
B27: 131 | C27: 남 | D27: 10 | E27: 14 | F27: 10 | G27: 3 | H27: 9 | I27: =SUM(D27:H27) -> 46 | J27: ='4주차'!N27 -> 214 | K27: =SUM(I27,J27) -> 260 | L27: =RANK(K27,K$6:K$99) -> 4 | M27: =COUNTA(D27,E27,F27,G27,H27)/5 -> 1
B28: 132 | C28: 남 | D28: 3 | F28: 4 | G28: 4 | H28: 8 | I28: =SUM(D28:H28) -> 19 | J28: ='4주차'!N28 -> 135 | K28: =SUM(I28,J28) -> 154 | L28: =RANK(K28,K$6:K$99) -> 30 | M28: =COUNTA(D28,E28,F28,G28,H28)/5 -> 0.8
B29: 133 | C29: 남 | D29: 10 | E29: 12 | F29: 3 | G29: 7 | H29: 13 | I29: =SUM(D29:H29) -> 45 | J29: ='4주차'!N29 -> 114 | K29: =SUM(I29,J29) -> 159 | L29: =RANK(K29,K$6:K$99) -> 27 | M29: =COUNTA(D29,E29,F29,G29,H29)/5 -> 1
B30: 134 | C30: 남 | D30: 7 | E30: 6 | F30: 3 | G30: 3 | H30: 0 | I30: =SUM(D30:H30) -> 19 | J30: ='4주차'!N30 -> 103 | K30: =SUM(I30,J30) -> 122 | L30: =RANK(K30,K$6:K$99) -> 47 | M30: =COUNTA(D30,E30,F30,G30,H30)/5 -> 1
B31: 135 | C31: 남 | D31: 11 | E31: 12 | F31: 12 | G31: 8 | H31: 14 | I31: =SUM(D31:H31) -> 57 | J31: ='4주차'!N31 -> 231 | K31: =SUM(I31,J31) -> 288 | L31: =RANK(K31,K$6:K$99) -> 1 | M31: =COUNTA(D31,E31,F31,G31,H31)/5 -> 1
B32: 136 | C32: 남 | I32: =SUM(D32:H32) -> 0 | J32: ='4주차'!N32 -> 27 | K32: =SUM(I32,J32) -> 27 | L32: =RANK(K32,K$6:K$99) -> 87 | M32: =COUNTA(D32,E32,F32,G32,H32)/5 -> 0 | N32: 1차 경고
B33: 137 | C33: 남 | D33: 10 | E33: 12 | F33: 5 | G33: 8 | H33: 4 | I33: =SUM(D33:H33) -> 39 | J33: ='4주차'!N33 -> 123 | K33: =SUM(I33,J33) -> 162 | L33: =RANK(K33,K$6:K$99) -> 26 | M33: =COUNTA(D33,E33,F33,G33,H33)/5 -> 1
B34: 139 | C34: 남 | D34: 5 | E34: 8 | F34: 7 | H34: 6 | I34: =SUM(D34:H34) -> 26 | J34: ='4주차'!N34 -> 114 | K34: =SUM(I34,J34) -> 140 | L34: =RANK(K34,K$6:K$99) -> 35 | M34: =COUNTA(D34,E34,F34,G34,H34)/5 -> 0.8
B35: 140 | C35: 남 | E35: 9 | F35: 5 | G35: 3 | I35: =SUM(D35:H35) -> 17 | J35: ='4주차'!N35 -> 63 | K35: =SUM(I35,J35) -> 80 | L35: =RANK(K35,K$6:K$99) -> 63 | M35: =COUNTA(D35,E35,F35,G35,H35)/5 -> 0.6
B36: 230 | C36: 남 | I36: =SUM(D36:H36) -> 0 | J36: ='4주차'!N36 -> 32 | K36: =SUM(I36,J36) -> 32 | L36: =RANK(K36,K$6:K$99) -> 84 | M36: =COUNTA(D36,E36,F36,G36,H36)/5 -> 0
B37: 231 | C37: 남 | D37: 11 | E37: 11 | F37: 7 | G37: 4 | H37: 8 | I37: =SUM(D37:H37) -> 41 | J37: ='4주차'!N37 -> 151 | K37: =SUM(I37,J37) -> 192 | L37: =RANK(K37,K$6:K$99) -> 20 | M37: =COUNTA(D37,E37,F37,G37,H37)/5 -> 1
B38: 232 | C38: 남 | D38: 6 | E38: 11 | F38: 7 | G38: 6 | H38: 4 | I38: =SUM(D38:H38) -> 34 | J38: ='4주차'!N38 -> 115 | K38: =SUM(I38,J38) -> 149 | L38: =RANK(K38,K$6:K$99) -> 32 | M38: =COUNTA(D38,E38,F38,G38,H38)/5 -> 1
B39: 236 | C39: 남 | D39: 10 | E39: 14 | G39: 7 | H39: 7 | I39: =SUM(D39:H39) -> 38 | J39: ='4주차'!N39 -> 102 | K39: =SUM(I39,J39) -> 140 | L39: =RANK(K39,K$6:K$99) -> 35 | M39: =COUNTA(D39,E39,F39,G39,H39)/5 -> 0.8
B40: 151 | C40: 여 | H40: 5 | I40: =SUM(D40:H40) -> 5 | J40: ='4주차'!N40 -> 52 | K40: =SUM(I40,J40) -> 57 | L40: =RANK(K40,K$6:K$99) -> 72 | M40: =COUNTA(D40,E40,F40,G40,H40)/5 -> 0.2
B41: 153 | C41: 여 | D41: 1 | F41: 3 | H41: 9 | I41: =SUM(D41:H41) -> 13 | J41: ='4주차'!N42 -> 64 | K41: =SUM(I41,J41) -> 77 | L41: =RANK(K41,K$6:K$99) -> 64 | M41: =COUNTA(D41,E41,F41,G41,H41)/5 -> 0.6
B42: 154 | C42: 남 | D42: 10 | E42: 11 | F42: 5 | G42: 6 | H42: 12 | I42: =SUM(D42:H42) -> 44 | J42: ='4주차'!N43 -> 157 | K42: =SUM(I42,J42) -> 201 | L42: =RANK(K42,K$6:K$99) -> 16 | M42: =COUNTA(D42,E42,F42,G42,H42)/5 -> 1
B43: 155 | C43: 여 | D43: 10 | E43: 11 | F43: 5 | G43: 5 | H43: 10 | I43: =SUM(D43:H43) -> 41 | J43: ='4주차'!N44 -> 198 | K43: =SUM(I43,J43) -> 239 | L43: =RANK(K43,K$6:K$99) -> 8 | M43: =COUNTA(D43,E43,F43,G43,H43)/5 -> 1
B44: 156 | C44: 여 | D44: 14 | E44: 14 | F44: 10 | G44: 6 | H44: 15 | I44: =SUM(D44:H44) -> 59 | J44: ='4주차'!N45 -> 203 | K44: =SUM(I44,J44) -> 262 | L44: =RANK(K44,K$6:K$99) -> 3 | M44: =COUNTA(D44,E44,F44,G44,H44)/5 -> 1
B45: 157 | C45: 남 | I45: =SUM(D45:H45) -> 0 | J45: ='4주차'!N46 -> 133 | K45: =SUM(I45,J45) -> 133 | L45: =RANK(K45,K$6:K$99) -> 41 | M45: =COUNTA(D45,E45,F45,G45,H45)/5 -> 0 | N45: 1차 경고
B46: 158 | C46: 여 | E46: 10 | F46: 7 | H46: 9 | I46: =SUM(D46:H46) -> 26 | J46: ='4주차'!N47 -> 139 | K46: =SUM(I46,J46) -> 165 | L46: =RANK(K46,K$6:K$99) -> 25 | M46: =COUNTA(D46,E46,F46,G46,H46)/5 -> 0.6
B47: 159 | C47: 여 | E47: 11 | F47: 7 | I47: =SUM(D47:H47) -> 18 | J47: ='4주차'!N48 -> 117 | K47: =SUM(I47,J47) -> 135 | L47: =RANK(K47,K$6:K$99) -> 40 | M47: =COUNTA(D47,E47,F47,G47,H47)/5 -> 0.4
B48: 160 | C48: 여 | D48: 9 | E48: 13 | F48: 9 | G48: 4 | H48: 6 | I48: =SUM(D48:H48) -> 41 | J48: ='4주차'!N49 -> 171 | K48: =SUM(I48,J48) -> 212 | L48: =RANK(K48,K$6:K$99) -> 14 | M48: =COUNTA(D48,E48,F48,G48,H48)/5 -> 1
B49: 161 | C49: 남 | H49: 4 | I49: =SUM(D49:H49) -> 4 | J49: ='4주차'!N50 -> 112 | K49: =SUM(I49,J49) -> 116 | L49: =RANK(K49,K$6:K$99) -> 52 | M49: =COUNTA(D49,E49,F49,G49,H49)/5 -> 0.2
B50: 162 | C50: 남 | I50: =SUM(D50:H50) -> 0 | J50: ='4주차'!N51 -> 45 | K50: =SUM(I50,J50) -> 45 | L50: =RANK(K50,K$6:K$99) -> 75 | M50: =COUNTA(D50,E50,F50,G50,H50)/5 -> 0 | N50: 1차 경고
B51: 163 | C51: 남 | I51: =SUM(D51:H51) -> 0 | J51: ='4주차'!N52 -> 84 | K51: =SUM(I51,J51) -> 84 | L51: =RANK(K51,K$6:K$99) -> 60 | M51: =COUNTA(D51,E51,F51,G51,H51)/5 -> 0 | N51: 1차 경고
B52: 164 | C52: 남 | E52: 15 | F52: 6 | G52: 6 | I52: =SUM(D52:H52) -> 27 | J52: ='4주차'!N53 -> 117 | K52: =SUM(I52,J52) -> 144 | L52: =RANK(K52,K$6:K$99) -> 34 | M52: =COUNTA(D52,E52,F52,G52,H52)/5 -> 0.6
B53: 165 | C53: 여 | D53: 9 | E53: 12 | F53: 3 | G53: 6 | H53: 6 | I53: =SUM(D53:H53) -> 36 | J53: ='4주차'!N54 -> 161 | K53: =SUM(I53,J53) -> 197 | L53: =RANK(K53,K$6:K$99) -> 18 | M53: =COUNTA(D53,E53,F53,G53,H53)/5 -> 1
B54: 166 | C54: 남 | D54: 11 | E54: 12 | G54: 7 | H54: 11 | I54: =SUM(D54:H54) -> 41 | J54: ='4주차'!N55 -> 114 | K54: =SUM(I54,J54) -> 155 | L54: =RANK(K54,K$6:K$99) -> 29 | M54: =COUNTA(D54,E54,F54,G54,H54)/5 -> 0.8
B55: 167 | C55: 여 | I55: =SUM(D55:H55) -> 0 | J55: ='4주차'!N56 -> 39 | K55: =SUM(I55,J55) -> 39 | L55: =RANK(K55,K$6:K$99) -> 78 | M55: =COUNTA(D55,E55,F55,G55,H55)/5 -> 0 | N55: 1차 경고
B56: 168 | C56: 남 | I56: =SUM(D56:H56) -> 0 | J56: ='4주차'!N57 -> 122 | K56: =SUM(I56,J56) -> 122 | L56: =RANK(K56,K$6:K$99) -> 47 | M56: =COUNTA(D56,E56,F56,G56,H56)/5 -> 0 | N56: 1차 경고
B57: 169 | C57: 남 | D57: 6 | E57: 12 | F57: 5 | G57: 5 | H57: 3 | I57: =SUM(D57:H57) -> 31 | J57: ='4주차'!N58 -> 108 | K57: =SUM(I57,J57) -> 139 | L57: =RANK(K57,K$6:K$99) -> 37 | M57: =COUNTA(D57,E57,F57,G57,H57)/5 -> 1
B58: 173 | C58: 여 | I58: =SUM(D58:H58) -> 0 | J58: ='4주차'!N62 -> 72 | K58: =SUM(I58,J58) -> 72 | L58: =RANK(K58,K$6:K$99) -> 66 | M58: =COUNTA(D58,E58,F58,G58,H58)/5 -> 0
B59: 174 | C59: 남 | D59: 11 | E59: 12 | F59: 0 | G59: 3 | H59: 4 | I59: =SUM(D59:H59) -> 30 | J59: ='4주차'!N63 -> 142 | K59: =SUM(I59,J59) -> 172 | L59: =RANK(K59,K$6:K$99) -> 23 | M59: =COUNTA(D59,E59,F59,G59,H59)/5 -> 1
B60: 175 | C60: 남 | D60: 7 | E60: 4 | G60: 2 | H60: 6 | I60: =SUM(D60:H60) -> 19 | J60: ='4주차'!N64 -> 89 | K60: =SUM(I60,J60) -> 108 | L60: =RANK(K60,K$6:K$99) -> 53 | M60: =COUNTA(D60,E60,F60,G60,H60)/5 -> 0.8
B61: 176 | C61: 여 | I61: =SUM(D61:H61) -> 0 | J61: ='4주차'!N65 -> 6 | K61: =SUM(I61,J61) -> 6 | L61: =RANK(K61,K$6:K$99) -> 94 | M61: =COUNTA(D61,E61,F61,G61,H61)/5 -> 0 | N61: 1차 경고
B62: 177 | C62: 남 | F62: 12 | I62: =SUM(D62:H62) -> 12 | J62: ='4주차'!N66 -> 107 | K62: =SUM(I62,J62) -> 119 | L62: =RANK(K62,K$6:K$99) -> 51 | M62: =COUNTA(D62,E62,F62,G62,H62)/5 -> 0.2
B63: 178 | C63: 남 | D63: 7 | E63: 12 | F63: 9 | G63: 3 | I63: =SUM(D63:H63) -> 31 | J63: ='4주차'!N67 -> 167 | K63: =SUM(I63,J63) -> 198 | L63: =RANK(K63,K$6:K$99) -> 17 | M63: =COUNTA(D63,E63,F63,G63,H63)/5 -> 0.8
B64: 179 | C64: 남 | D64: 7 | E64: 14 | G64: 8 | H64: 11 | I64: =SUM(D64:H64) -> 40 | J64: ='4주차'!N68 -> 207 | K64: =SUM(I64,J64) -> 247 | L64: =RANK(K64,K$6:K$99) -> 6 | M64: =COUNTA(D64,E64,F64,G64,H64)/5 -> 0.8
B65: 180 | C65: 여 | D65: 10 | E65: 15 | F65: 10 | G65: 10 | H65: 13 | I65: =SUM(D65:H65) -> 58 | J65: ='4주차'!N69 -> 220 | K65: =SUM(I65,J65) -> 278 | L65: =RANK(K65,K$6:K$99) -> 2 | M65: =COUNTA(D65,E65,F65,G65,H65)/5 -> 1
B66: 181 | C66: 남 | G66: 3 | H66: 6 | I66: =SUM(D66:H66) -> 9 | J66: ='4주차'!N70 -> 141 | K66: =SUM(I66,J66) -> 150 | L66: =RANK(K66,K$6:K$99) -> 31 | M66: =COUNTA(D66,E66,F66,G66,H66)/5 -> 0.4
B67: 182 | C67: 남 | G67: 9 | H67: 15 | I67: =SUM(D67:H67) -> 24 | J67: ='4주차'!N71 -> 220 | K67: =SUM(I67,J67) -> 244 | L67: =RANK(K67,K$6:K$99) -> 7 | M67: =COUNTA(D67,E67,F67,G67,H67)/5 -> 0.4
B68: 184 | C68: 여 | D68: 4 | E68: 11 | F68: 12 | G68: 5 | H68: 5 | I68: =SUM(D68:H68) -> 37 | J68: ='4주차'!N73 -> 93 | K68: =SUM(I68,J68) -> 130 | L68: =RANK(K68,K$6:K$99) -> 45 | M68: =COUNTA(D68,E68,F68,G68,H68)/5 -> 1
B69: 185 | C69: 여 | D69: 6 | F69: 6 | G69: 5 | I69: =SUM(D69:H69) -> 17 | J69: ='4주차'!N74 -> 110 | K69: =SUM(I69,J69) -> 127 | L69: =RANK(K69,K$6:K$99) -> 46 | M69: =COUNTA(D69,E69,F69,G69,H69)/5 -> 0.6
B70: 186 | C70: 남 | D70: 10 | I70: =SUM(D70:H70) -> 10 | J70: ='4주차'!N75 -> 129 | K70: =SUM(I70,J70) -> 139 | L70: =RANK(K70,K$6:K$99) -> 37 | M70: =COUNTA(D70,E70,F70,G70,H70)/5 -> 0.2
B71: 187 | C71: 여 | D71: 11 | E71: 11 | F71: 12 | G71: 6 | H71: 15 | I71: =SUM(D71:H71) -> 55 | J71: ='4주차'!N76 -> 203 | K71: =SUM(I71,J71) -> 258 | L71: =RANK(K71,K$6:K$99) -> 5 | M71: =COUNTA(D71,E71,F71,G71,H71)/5 -> 1
B72: 188 | C72: 남 | D72: 9 | E72: 14 | G72: 6 | H72: 10 | I72: =SUM(D72:H72) -> 39 | J72: ='4주차'!N77 -> 144 | K72: =SUM(I72,J72) -> 183 | L72: =RANK(K72,K$6:K$99) -> 22 | M72: =COUNTA(D72,E72,F72,G72,H72)/5 -> 0.8
B73: 189 | C73: 남 | D73: 8 | E73: 10 | I73: =SUM(D73:H73) -> 18 | J73: ='4주차'!N78 -> 88 | K73: =SUM(I73,J73) -> 106 | L73: =RANK(K73,K$6:K$99) -> 54 | M73: =COUNTA(D73,E73,F73,G73,H73)/5 -> 0.4
B74: 190 | C74: 남 | I74: =SUM(D74:H74) -> 0 | J74: ='4주차'!N79 -> 62 | K74: =SUM(I74,J74) -> 62 | L74: =RANK(K74,K$6:K$99) -> 70 | M74: =COUNTA(D74,E74,F74,G74,H74)/5 -> 0 | N74: 1차 경고
B75: 191 | C75: 여 | D75: 5 | G75: 2 | H75: 5 | I75: =SUM(D75:H75) -> 12 | J75: ='4주차'!N80 -> 22 | K75: =SUM(I75,J75) -> 34 | L75: =RANK(K75,K$6:K$99) -> 83 | M75: =COUNTA(D75,E75,F75,G75,H75)/5 -> 0.6
B76: 192 | C76: 남 | D76: 7 | I76: =SUM(D76:H76) -> 7 | J76: ='4주차'!N81 -> 74 | K76: =SUM(I76,J76) -> 81 | L76: =RANK(K76,K$6:K$99) -> 62 | M76: =COUNTA(D76,E76,F76,G76,H76)/5 -> 0.2
B77: 193 | C77: 여 | E77: 6 | I77: =SUM(D77:H77) -> 6 | J77: ='4주차'!N82 -> 56 | K77: =SUM(I77,J77) -> 62 | L77: =RANK(K77,K$6:K$99) -> 70 | M77: =COUNTA(D77,E77,F77,G77,H77)/5 -> 0.2
B78: 194 | C78: 여 | D78: 8 | E78: 9 | F78: 3 | G78: 2 | H78: 7 | I78: =SUM(D78:H78) -> 29 | J78: ='4주차'!N83 -> 139 | K78: =SUM(I78,J78) -> 168 | L78: =RANK(K78,K$6:K$99) -> 24 | M78: =COUNTA(D78,E78,F78,G78,H78)/5 -> 1
B79: 195 | C79: 남 | D79: 3 | I79: =SUM(D79:H79) -> 3 | J79: ='4주차'!N84 -> 36 | K79: =SUM(I79,J79) -> 39 | L79: =RANK(K79,K$6:K$99) -> 78 | M79: =COUNTA(D79,E79,F79,G79,H79)/5 -> 0.2
B80: 196 | C80: 남 | D80: 9 | E80: 14 | I80: =SUM(D80:H80) -> 23 | J80: ='4주차'!N85 -> 65 | K80: =SUM(I80,J80) -> 88 | L80: =RANK(K80,K$6:K$99) -> 58 | M80: =COUNTA(D80,E80,F80,G80,H80)/5 -> 0.4
B81: 197 | C81: 여 | I81: =SUM(D81:H81) -> 0 | J81: ='4주차'!N86 -> 41 | K81: =SUM(I81,J81) -> 41 | L81: =RANK(K81,K$6:K$99) -> 77 | M81: =COUNTA(D81,E81,F81,G81,H81)/5 -> 0 | N81: 1차 경고
B82: 198 | C82: 남 | I82: =SUM(D82:H82) -> 0 | J82: ='4주차'!N87 -> 14 | K82: =SUM(I82,J82) -> 14 | L82: =RANK(K82,K$6:K$99) -> 91 | M82: =COUNTA(D82,E82,F82,G82,H82)/5 -> 0 | N82: 1차 경고
B83: 200 | C83: 남 | I83: =SUM(D83:H83) -> 0 | J83: ='4주차'!N88 -> 36 | K83: =SUM(I83,J83) -> 36 | L83: =RANK(K83,K$6:K$99) -> 81 | M83: =COUNTA(D83,E83,F83,G83,H83)/5 -> 0 | N83: 1차 경고
B84: 201 | C84: 여 | I84: =SUM(D84:H84) -> 0 | J84: ='4주차'!N89 -> 35 | K84: =SUM(I84,J84) -> 35 | L84: =RANK(K84,K$6:K$99) -> 82 | M84: =COUNTA(D84,E84,F84,G84,H84)/5 -> 0 | N84: 1차 경고
B85: 202 | C85: 여 | G85: 4 | I85: =SUM(D85:H85) -> 4 | J85: ='4주차'!N90 -> 92 | K85: =SUM(I85,J85) -> 96 | L85: =RANK(K85,K$6:K$99) -> 56 | M85: =COUNTA(D85,E85,F85,G85,H85)/5 -> 0.2
B86: 203 | C86: 여 | I86: =SUM(D86:H86) -> 0 | J86: ='4주차'!N91 -> 14 | K86: =SUM(I86,J86) -> 14 | L86: =RANK(K86,K$6:K$99) -> 91 | M86: =COUNTA(D86,E86,F86,G86,H86)/5 -> 0 | N86: 1차 경고
B87: 204 | C87: 남 | I87: =SUM(D87:H87) -> 0 | J87: ='4주차'!N92 -> 57 | K87: =SUM(I87,J87) -> 57 | L87: =RANK(K87,K$6:K$99) -> 72 | M87: =COUNTA(D87,E87,F87,G87,H87)/5 -> 0 | N87: 1차 경고
B88: 205 | C88: 남 | I88: =SUM(D88:H88) -> 0 | J88: ='4주차'!N93 -> 15 | K88: =SUM(I88,J88) -> 15 | L88: =RANK(K88,K$6:K$99) -> 90 | M88: =COUNTA(D88,E88,F88,G88,H88)/5 -> 0 | N88: 1차 경고
B89: 210 | C89: 여 | D89: 8 | I89: =SUM(D89:H89) -> 8 | J89: ='4주차'!N94 -> 131 | K89: =SUM(I89,J89) -> 139 | L89: =RANK(K89,K$6:K$99) -> 37 | M89: =COUNTA(D89,E89,F89,G89,H89)/5 -> 0.2
B90: 211 | C90: 여 | I90: =SUM(D90:H90) -> 0 | J90: ='4주차'!N95 -> 21 | K90: =SUM(I90,J90) -> 21 | L90: =RANK(K90,K$6:K$99) -> 89 | M90: =COUNTA(D90,E90,F90,G90,H90)/5 -> 0 | N90: 1차 경고
B91: 212 | C91: 남 | D91: 8 | E91: 15 | F91: 11 | G91: 7 | H91: 9 | I91: =SUM(D91:H91) -> 50 | J91: ='4주차'!N96 -> 183 | K91: =SUM(I91,J91) -> 233 | L91: =RANK(K91,K$6:K$99) -> 9 | M91: =COUNTA(D91,E91,F91,G91,H91)/5 -> 1
B92: 213 | C92: 남 | I92: =SUM(D92:H92) -> 0 | J92: ='4주차'!N97 -> 66 | K92: =SUM(I92,J92) -> 66 | L92: =RANK(K92,K$6:K$99) -> 67 | M92: =COUNTA(D92,E92,F92,G92,H92)/5 -> 0 | N92: 1차 경고
B93: 214 | C93: 여 | I93: =SUM(D93:H93) -> 0 | J93: ='4주차'!N98 -> 44 | K93: =SUM(I93,J93) -> 44 | L93: =RANK(K93,K$6:K$99) -> 76 | M93: =COUNTA(D93,E93,F93,G93,H93)/5 -> 0 | N93: 1차 경고
B94: 215 | C94: 남 | I94: =SUM(D94:H94) -> 0 | J94: ='4주차'!N99 -> 37 | K94: =SUM(I94,J94) -> 37 | L94: =RANK(K94,K$6:K$99) -> 80 | M94: =COUNTA(D94,E94,F94,G94,H94)/5 -> 0 | N94: 1차 경고
B95: 238 | C95: 남 | D95: 6 | E95: 8 | F95: 7 | G95: 7 | H95: 4 | I95: =SUM(D95:H95) -> 32 | J95: ='4주차'!N103 -> 54 | K95: =SUM(I95,J95) -> 86 | L95: =RANK(K95,K$6:K$99) -> 59 | M95: =COUNTA(D95,E95,F95,G95,H95)/5 -> 1
B96: 240 | C96: 남 | G96: 8 | H96: 6 | I96: =SUM(D96:H96) -> 14 | J96: ='4주차'!N104 -> 51 | K96: =SUM(I96,J96) -> 65 | L96: =RANK(K96,K$6:K$99) -> 69 | M96: =COUNTA(D96,E96,F96,G96,H96)/5 -> 0.4
B97: 241 | C97: 남 | E97: 12 | I97: =SUM(D97:H97) -> 12 | J97: ='4주차'!N105 -> 13 | K97: =SUM(I97,J97) -> 25 | L97: =RANK(K97,K$6:K$99) -> 88 | M97: =COUNTA(D97,E97,F97,G97,H97)/5 -> 0.2
B98: 245 | C98: 남 | D98: 10 | E98: 14 | F98: 10 | G98: 8 | H98: 9 | I98: =SUM(D98:H98) -> 51 | J98: ='4주차'!N106 -> 80 | K98: =SUM(I98,J98) -> 131 | L98: =RANK(K98,K$6:K$99) -> 43 | M98: =COUNTA(D98,E98,F98,G98,H98)/5 -> 1
B99: 243 | C99: 남 | D99: 11 | E99: 15 | H99: 3 | I99: =SUM(D99:H99) -> 29 | J99: ='4주차'!N107 -> 17 | K99: =SUM(I99,J99) -> 46 | L99: =RANK(K99,K$6:K$99) -> 74 | M99: =COUNTA(D99,E99,F99,G99,H99)/5 -> 0.6
B100: * 이상이 있으신 분은 1층 사무실로 오시길 바랍니다.
B101: 최고의 장학생을 선발합니다. ^^ 누적점수 1위가 바로 장학생 입니다.^^
...

Sheet Sheet2
