Workbook

Sheet 3월 1주차
A1: 5월 아침 모의고사 성적현황
A2: 시험 1주차 : 5월 14일 ~ 18일
C3: 14 | D3: 15 | E3: 16 | F3: 17 | G3: 18 | H3: 주간성적 | J3: 모의고사 참여율 | K3: 비고
A4: 수험 번호 | B4: 성별 | C4: 국사 | D4: 형소법 | E4: 경찰학 | F4: 형법 | G4: 영어 | H4: 전체 총점 | I4: 등수
A5: 100 | B5: 남 | C5: 9 | D5: 10 | E5: 7 | F5: 8 | G5: 9 | H5: =SUM(C5,D5,E5,F5,G5) -> 43 | I5: =RANK(H5,H$4:H$112) -> 17 | J5: =COUNTA(C5,D5,E5,F5,G5)/5 -> 1
A6: 101 | B6: 여 | H6: =SUM(C6,D6,E6,F6,G6) -> 0 | I6: =RANK(H6,H$4:H$112) -> 93 | J6: =COUNTA(C6,D6,E6,F6,G6)/5 -> 0 | K6: 1차 경고
A7: 102 | B7: 남 | H7: =SUM(C7,D7,E7,F7,G7) -> 0 | I7: =RANK(H7,H$4:H$112) -> 93 | J7: =COUNTA(C7,D7,E7,F7,G7)/5 -> 0 | K7: 1차 경고
A8: 103 | B8: 남 | G8: 6 | H8: =SUM(C8,D8,E8,F8,G8) -> 6 | I8: =RANK(H8,H$4:H$112) -> 90 | J8: =COUNTA(C8,D8,E8,F8,G8)/5 -> 0.2
A9: 105 | B9: 여 | H9: =SUM(C9,D9,E9,F9,G9) -> 0 | I9: =RANK(H9,H$4:H$112) -> 93 | J9: =COUNTA(C9,D9,E9,F9,G9)/5 -> 0 | K9: 1차 경고
A10: 106 | B10: 여 | C10: 12 | D10: 11 | E10: 9 | H10: =SUM(C10,D10,E10,F10,G10) -> 32 | I10: =RANK(H10,H$4:H$112) -> 39 | J10: =COUNTA(C10,D10,E10,F10,G10)/5 -> 0.6
A11: 107 | B11: 여 | C11: 7 | D11: 8 | E11: 6 | F11: 6 | G11: 3 | H11: =SUM(C11,D11,E11,F11,G11) -> 30 | I11: =RANK(H11,H$4:H$112) -> 46 | J11: =COUNTA(C11,D11,E11,F11,G11)/5 -> 1
A12: 108 | B12: 여 | C12: 8 | D12: 10 | E12: 8 | F12: 2 | G12: 6 | H12: =SUM(C12,D12,E12,F12,G12) -> 34 | I12: =RANK(H12,H$4:H$112) -> 35 | J12: =COUNTA(C12,D12,E12,F12,G12)/5 -> 1
A13: 109 | B13: 남 | C13: 11 | D13: 8 | E13: 8 | F13: 8 | G13: 6 | H13: =SUM(C13,D13,E13,F13,G13) -> 41 | I13: =RANK(H13,H$4:H$112) -> 20 | J13: =COUNTA(C13,D13,E13,F13,G13)/5 -> 1
A14: 110 | B14: 남 | C14: 8 | D14: 12 | E14: 8 | F14: 6 | G14: 9 | H14: =SUM(C14,D14,E14,F14,G14) -> 43 | I14: =RANK(H14,H$4:H$112) -> 17 | J14: =COUNTA(C14,D14,E14,F14,G14)/5 -> 1
A15: 111 | B15: 남 | C15: 8 | D15: 7 | E15: 11 | F15: 8 | G15: 7 | H15: =SUM(C15,D15,E15,F15,G15) -> 41 | I15: =RANK(H15,H$4:H$112) -> 20 | J15: =COUNTA(C15,D15,E15,F15,G15)/5 -> 1
A16: 112 | B16: 여 | C16: 4 | F16: 6 | H16: =SUM(C16,D16,E16,F16,G16) -> 10 | I16: =RANK(H16,H$4:H$112) -> 86 | J16: =COUNTA(C16,D16,E16,F16,G16)/5 -> 0.4
A17: 113 | B17: 남 | G17: 4 | H17: =SUM(C17,D17,E17,F17,G17) -> 4 | I17: =RANK(H17,H$4:H$112) -> 92 | J17: =COUNTA(C17,D17,E17,F17,G17)/5 -> 0.2
A18: 114 | B18: 남 | C18: 9 | D18: 10 | E18: 7 | F18: 6 | G18: 5 | H18: =SUM(C18,D18,E18,F18,G18) -> 37 | I18: =RANK(H18,H$4:H$112) -> 28 | J18: =COUNTA(C18,D18,E18,F18,G18)/5 -> 1
A19: 115 | B19: 남 | H19: =SUM(C19,D19,E19,F19,G19) -> 0 | I19: =RANK(H19,H$4:H$112) -> 93 | J19: =COUNTA(C19,D19,E19,F19,G19)/5 -> 0
A20: 116 | B20: 남 | C20: 8 | D20: 7 | E20: 5 | F20: 4 | G20: 6 | H20: =SUM(C20,D20,E20,F20,G20) -> 30 | I20: =RANK(H20,H$4:H$112) -> 46 | J20: =COUNTA(C20,D20,E20,F20,G20)/5 -> 1
A21: 117 | B21: 여 | C21: 10 | D21: 9 | E21: 8 | F21: 4 | G21: 9 | H21: =SUM(C21,D21,E21,F21,G21) -> 40 | I21: =RANK(H21,H$4:H$112) -> 24 | J21: =COUNTA(C21,D21,E21,F21,G21)/5 -> 1
A22: 118 | B22: 남 | C22: 12 | D22: 13 | E22: 8 | F22: 11 | G22: 8 | H22: =SUM(C22,D22,E22,F22,G22) -> 52 | I22: =RANK(H22,H$4:H$112) -> 10 | J22: =COUNTA(C22,D22,E22,F22,G22)/5 -> 1
A23: 119 | B23: 남 | C23: 10 | D23: 4 | G23: 7 | H23: =SUM(C23,D23,E23,F23,G23) -> 21 | I23: =RANK(H23,H$4:H$112) -> 66 | J23: =COUNTA(C23,D23,E23,F23,G23)/5 -> 0.6
A24: 120 | B24: 여 | H24: =SUM(C24,D24,E24,F24,G24) -> 0 | I24: =RANK(H24,H$4:H$112) -> 93 | J24: =COUNTA(C24,D24,E24,F24,G24)/5 -> 0
A25: 121 | B25: 남 | C25: 6 | D25: 5 | E25: 4 | F25: 8 | G25: 4 | H25: =SUM(C25,D25,E25,F25,G25) -> 27 | I25: =RANK(H25,H$4:H$112) -> 50 | J25: =COUNTA(C25,D25,E25,F25,G25)/5 -> 1
A26: 122 | B26: 남 | C26: 7 | D26: 4 | E26: 7 | F26: 7 | H26: =SUM(C26,D26,E26,F26,G26) -> 25 | I26: =RANK(H26,H$4:H$112) -> 58 | J26: =COUNTA(C26,D26,E26,F26,G26)/5 -> 0.8
A27: 123 | B27: 남 | C27: 14 | D27: 15 | E27: 15 | F27: 10 | G27: 6 | H27: =SUM(C27,D27,E27,F27,G27) -> 60 | I27: =RANK(H27,H$4:H$112) -> 3 | J27: =COUNTA(C27,D27,E27,F27,G27)/5 -> 1
A28: 124 | B28: 남 | C28: 10 | D28: 2 | E28: 5 | F28: 8 | G28: 4 | H28: =SUM(C28,D28,E28,F28,G28) -> 29 | I28: =RANK(H28,H$4:H$112) -> 48 | J28: =COUNTA(C28,D28,E28,F28,G28)/5 -> 1
A29: 125 | B29: 남 | H29: =SUM(C29,D29,E29,F29,G29) -> 0 | I29: =RANK(H29,H$4:H$112) -> 93 | J29: =COUNTA(C29,D29,E29,F29,G29)/5 -> 0 | K29: 1차 경고
A30: 126 | B30: 남 | C30: 9 | D30: 11 | E30: 8 | F30: 3 | G30: 6 | H30: =SUM(C30,D30,E30,F30,G30) -> 37 | I30: =RANK(H30,H$4:H$112) -> 28 | J30: =COUNTA(C30,D30,E30,F30,G30)/5 -> 1
A31: 127 | B31: 남 | H31: =SUM(C31,D31,E31,F31,G31) -> 0 | I31: =RANK(H31,H$4:H$112) -> 93 | J31: =COUNTA(C31,D31,E31,F31,G31)/5 -> 0 | K31: 1차 경고
A32: 128 | B32: 남 | D32: 9 | E32: 6 | H32: =SUM(C32,D32,E32,F32,G32) -> 15 | I32: =RANK(H32,H$4:H$112) -> 76 | J32: =COUNTA(C32,D32,E32,F32,G32)/5 -> 0.4
A33: 129 | B33: 여 | C33: 7 | F33: 5 | H33: =SUM(C33,D33,E33,F33,G33) -> 12 | I33: =RANK(H33,H$4:H$112) -> 82 | J33: =COUNTA(C33,D33,E33,F33,G33)/5 -> 0.4
A34: 130 | B34: 남 | C34: 5 | D34: 4 | E34: 5 | F34: 3 | G34: 5 | H34: =SUM(C34,D34,E34,F34,G34) -> 22 | I34: =RANK(H34,H$4:H$112) -> 64 | J34: =COUNTA(C34,D34,E34,F34,G34)/5 -> 1
A35: 131 | B35: 남 | C35: 14 | D35: 13 | E35: 9 | F35: 10 | G35: 7 | H35: =SUM(C35,D35,E35,F35,G35) -> 53 | I35: =RANK(H35,H$4:H$112) -> 7 | J35: =COUNTA(C35,D35,E35,F35,G35)/5 -> 1
A36: 132 | B36: 남 | C36: 8 | D36: 6 | E36: 9 | F36: 8 | G36: 6 | H36: =SUM(C36,D36,E36,F36,G36) -> 37 | I36: =RANK(H36,H$4:H$112) -> 28 | J36: =COUNTA(C36,D36,E36,F36,G36)/5 -> 1
A37: 133 | B37: 남 | E37: 11 | H37: =SUM(C37,D37,E37,F37,G37) -> 11 | I37: =RANK(H37,H$4:H$112) -> 85 | J37: =COUNTA(C37,D37,E37,F37,G37)/5 -> 0.2
A38: 134 | B38: 남 | C38: 6 | D38: 4 | E38: 4 | F38: 4 | G38: 7 | H38: =SUM(C38,D38,E38,F38,G38) -> 25 | I38: =RANK(H38,H$4:H$112) -> 58 | J38: =COUNTA(C38,D38,E38,F38,G38)/5 -> 1
A39: 135 | B39: 남 | C39: 12 | D39: 13 | E39: 12 | F39: 13 | G39: 11 | H39: =SUM(C39,D39,E39,F39,G39) -> 61 | I39: =RANK(H39,H$4:H$112) -> 2 | J39: =COUNTA(C39,D39,E39,F39,G39)/5 -> 1
A40: 136 | B40: 남 | H40: =SUM(C40,D40,E40,F40,G40) -> 0 | I40: =RANK(H40,H$4:H$112) -> 93 | J40: =COUNTA(C40,D40,E40,F40,G40)/5 -> 0 | K40: 1차 경고
A41: 137 | B41: 남 | C41: 9 | E41: 8 | G41: 4 | H41: =SUM(C41,D41,E41,F41,G41) -> 21 | I41: =RANK(H41,H$4:H$112) -> 66 | J41: =COUNTA(C41,D41,E41,F41,G41)/5 -> 0.6
A42: 138 | B42: 남 | H42: =SUM(C42,D42,E42,F42,G42) -> 0 | I42: =RANK(H42,H$4:H$112) -> 93 | J42: =COUNTA(C42,D42,E42,F42,G42)/5 -> 0 | K42: 1차 경고
A43: 139 | B43: 남 | D43: 4 | E43: 8 | F43: 3 | G43: 1 | H43: =SUM(C43,D43,E43,F43,G43) -> 16 | I43: =RANK(H43,H$4:H$112) -> 75 | J43: =COUNTA(C43,D43,E43,F43,G43)/5 -> 0.8
A44: 140 | B44: 남 | C44: 5 | F44: 4 | G44: 4 | H44: =SUM(C44,D44,E44,F44,G44) -> 13 | I44: =RANK(H44,H$4:H$112) -> 80 | J44: =COUNTA(C44,D44,E44,F44,G44)/5 -> 0.6
A45: 230 | B45: 남 | E45: 10 | F45: 10 | G45: 6 | H45: =SUM(C45,D45,E45,F45,G45) -> 26 | I45: =RANK(H45,H$4:H$112) -> 55 | J45: =COUNTA(C45,D45,E45,F45,G45)/5 -> 0.6
A46: 231 | B46: 남 | C46: 11 | D46: 10 | E46: 6 | F46: 5 | G46: 5 | H46: =SUM(C46,D46,E46,F46,G46) -> 37 | I46: =RANK(H46,H$4:H$112) -> 28 | J46: =COUNTA(C46,D46,E46,F46,G46)/5 -> 1
A47: 232 | B47: 남 | C47: 6 | D47: 5 | E47: 6 | F47: 3 | G47: 6 | H47: =SUM(C47,D47,E47,F47,G47) -> 26 | I47: =RANK(H47,H$4:H$112) -> 55 | J47: =COUNTA(C47,D47,E47,F47,G47)/5 -> 1
A48: 233 | B48: 여 | H48: =SUM(C48,D48,E48,F48,G48) -> 0 | I48: =RANK(H48,H$4:H$112) -> 93 | J48: =COUNTA(C48,D48,E48,F48,G48)/5 -> 0 | K48: 1차 경고
A49: 234 | B49: 남 | H49: =SUM(C49,D49,E49,F49,G49) -> 0 | I49: =RANK(H49,H$4:H$112) -> 93 | J49: =COUNTA(C49,D49,E49,F49,G49)/5 -> 0 | K49: 1차 경고
A50: 235 | B50: 남 | H50: =SUM(C50,D50,E50,F50,G50) -> 0 | I50: =RANK(H50,H$4:H$112) -> 93 | J50: =COUNTA(C50,D50,E50,F50,G50)/5 -> 0 | K50: 1차 경고
A51: 236 | B51: 남 | H51: =SUM(C51,D51,E51,F51,G51) -> 0 | I51: =RANK(H51,H$4:H$112) -> 93 | J51: =COUNTA(C51,D51,E51,F51,G51)/5 -> 0 | K51: 1차 경고
A52: 151 | B52: 여 | C52: 9 | D52: 9 | E52: 5 | G52: 6 | H52: =SUM(C52,D52,E52,F52,G52) -> 29 | I52: =RANK(H52,H$4:H$112) -> 48 | J52: =COUNTA(C52,D52,E52,F52,G52)/5 -> 0.8
A53: 152 | B53: 여 | D53: 9 | H53: =SUM(C53,D53,E53,F53,G53) -> 9 | I53: =RANK(H53,H$4:H$112) -> 88 | J53: =COUNTA(C53,D53,E53,F53,G53)/5 -> 0.2
A54: 153 | B54: 여 | C54: 6 | D54: 9 | F54: 5 | G54: 7 | H54: =SUM(C54,D54,E54,F54,G54) -> 27 | I54: =RANK(H54,H$4:H$112) -> 50 | J54: =COUNTA(C54,D54,E54,F54,G54)/5 -> 0.8
A55: 154 | B55: 남 | C55: 10 | D55: 9 | E55: 13 | F55: 9 | H55: =SUM(C55,D55,E55,F55,G55) -> 41 | I55: =RANK(H55,H$4:H$112) -> 20 | J55: =COUNTA(C55,D55,E55,F55,G55)/5 -> 0.8
A56: 155 | B56: 여 | C56: 13 | D56: 9 | E56: 10 | F56: 13 | G56: 8 | H56: =SUM(C56,D56,E56,F56,G56) -> 53 | I56: =RANK(H56,H$4:H$112) -> 7 | J56: =COUNTA(C56,D56,E56,F56,G56)/5 -> 1
A57: 156 | B57: 여 | C57: 11 | D57: 9 | E57: 13 | F57: 12 | G57: 10 | H57: =SUM(C57,D57,E57,F57,G57) -> 55 | I57: =RANK(H57,H$4:H$112) -> 5 | J57: =COUNTA(C57,D57,E57,F57,G57)/5 -> 1
A58: 157 | B58: 남 | C58: 12 | D58: 14 | E58: 10 | F58: 7 | G58: 8 | H58: =SUM(C58,D58,E58,F58,G58) -> 51 | I58: =RANK(H58,H$4:H$112) -> 12 | J58: =COUNTA(C58,D58,E58,F58,G58)/5 -> 1
A59: 158 | B59: 여 | C59: 10 | D59: 8 | E59: 4 | F59: 6 | G59: 5 | H59: =SUM(C59,D59,E59,F59,G59) -> 33 | I59: =RANK(H59,H$4:H$112) -> 37 | J59: =COUNTA(C59,D59,E59,F59,G59)/5 -> 1
A60: 159 | B60: 여 | D60: 10 | E60: 4 | F60: 7 | G60: 6 | H60: =SUM(C60,D60,E60,F60,G60) -> 27 | I60: =RANK(H60,H$4:H$112) -> 50 | J60: =COUNTA(C60,D60,E60,F60,G60)/5 -> 0.8
A61: 160 | B61: 여 | C61: 13 | D61: 10 | E61: 7 | F61: 7 | G61: 6 | H61: =SUM(C61,D61,E61,F61,G61) -> 43 | I61: =RANK(H61,H$4:H$112) -> 17 | J61: =COUNTA(C61,D61,E61,F61,G61)/5 -> 1
A62: 161 | B62: 남 | C62: 11 | D62: 6 | E62: 10 | F62: 6 | G62: 5 | H62: =SUM(C62,D62,E62,F62,G62) -> 38 | I62: =RANK(H62,H$4:H$112) -> 26 | J62: =COUNTA(C62,D62,E62,F62,G62)/5 -> 1
A63: 162 | B63: 남 | C63: 7 | E63: 5 | H63: =SUM(C63,D63,E63,F63,G63) -> 12 | I63: =RANK(H63,H$4:H$112) -> 82 | J63: =COUNTA(C63,D63,E63,F63,G63)/5 -> 0.4
A64: 163 | B64: 남 | C64: 8 | D64: 14 | F64: 9 | H64: =SUM(C64,D64,E64,F64,G64) -> 31 | I64: =RANK(H64,H$4:H$112) -> 41 | J64: =COUNTA(C64,D64,E64,F64,G64)/5 -> 0.6
A65: 164 | B65: 남 | D65: 9 | E65: 9 | F65: 10 | G65: 8 | H65: =SUM(C65,D65,E65,F65,G65) -> 36 | I65: =RANK(H65,H$4:H$112) -> 33 | J65: =COUNTA(C65,D65,E65,F65,G65)/5 -> 0.8
A66: 165 | B66: 여 | D66: 6 | E66: 10 | F66: 7 | G66: 10 | H66: =SUM(C66,D66,E66,F66,G66) -> 33 | I66: =RANK(H66,H$4:H$112) -> 37 | J66: =COUNTA(C66,D66,E66,F66,G66)/5 -> 0.8
A67: 166 | B67: 남 | D67: 12 | G67: 8 | H67: =SUM(C67,D67,E67,F67,G67) -> 20 | I67: =RANK(H67,H$4:H$112) -> 69 | J67: =COUNTA(C67,D67,E67,F67,G67)/5 -> 0.4
A68: 167 | B68: 여 | C68: 8 | D68: 11 | E68: 7 | H68: =SUM(C68,D68,E68,F68,G68) -> 26 | I68: =RANK(H68,H$4:H$112) -> 55 | J68: =COUNTA(C68,D68,E68,F68,G68)/5 -> 0.6
A69: 168 | B69: 남 | C69: 11 | D69: 14 | E69: 9 | F69: 11 | G69: 10 | H69: =SUM(C69,D69,E69,F69,G69) -> 55 | I69: =RANK(H69,H$4:H$112) -> 5 | J69: =COUNTA(C69,D69,E69,F69,G69)/5 -> 1
A70: 169 | B70: 남 | D70: 6 | E70: 5 | F70: 7 | G70: 4 | H70: =SUM(C70,D70,E70,F70,G70) -> 22 | I70: =RANK(H70,H$4:H$112) -> 64 | J70: =COUNTA(C70,D70,E70,F70,G70)/5 -> 0.8
A71: 170 | B71: 남 | D71: 7 | E71: 3 | F71: 8 | H71: =SUM(C71,D71,E71,F71,G71) -> 18 | I71: =RANK(H71,H$4:H$112) -> 71 | J71: =COUNTA(C71,D71,E71,F71,G71)/5 -> 0.6
A72: 171 | B72: 남 | E72: 10 | H72: =SUM(C72,D72,E72,F72,G72) -> 10 | I72: =RANK(H72,H$4:H$112) -> 86 | J72: =COUNTA(C72,D72,E72,F72,G72)/5 -> 0.2
A73: 172 | B73: 남 | C73: 7 | D73: 7 | H73: =SUM(C73,D73,E73,F73,G73) -> 14 | I73: =RANK(H73,H$4:H$112) -> 78 | J73: =COUNTA(C73,D73,E73,F73,G73)/5 -> 0.4
A74: 173 | B74: 여 | C74: 8 | D74: 12 | E74: 10 | F74: 8 | G74: 7 | H74: =SUM(C74,D74,E74,F74,G74) -> 45 | I74: =RANK(H74,H$4:H$112) -> 15 | J74: =COUNTA(C74,D74,E74,F74,G74)/5 -> 1
A75: 174 | B75: 남 | C75: 10 | E75: 9 | F75: 9 | G75: 6 | H75: =SUM(C75,D75,E75,F75,G75) -> 34 | I75: =RANK(H75,H$4:H$112) -> 35 | J75: =COUNTA(C75,D75,E75,F75,G75)/5 -> 0.8
A76: 175 | B76: 남 | C76: 7 | D76: 6 | E76: 5 | F76: 7 | G76: 6 | H76: =SUM(C76,D76,E76,F76,G76) -> 31 | I76: =RANK(H76,H$4:H$112) -> 41 | J76: =COUNTA(C76,D76,E76,F76,G76)/5 -> 1
A77: 176 | B77: 여 | C77: 6 | H77: =SUM(C77,D77,E77,F77,G77) -> 6 | I77: =RANK(H77,H$4:H$112) -> 90 | J77: =COUNTA(C77,D77,E77,F77,G77)/5 -> 0.2
A78: 177 | B78: 남 | E78: 9 | G78: 10 | H78: =SUM(C78,D78,E78,F78,G78) -> 19 | I78: =RANK(H78,H$4:H$112) -> 70 | J78: =COUNTA(C78,D78,E78,F78,G78)/5 -> 0.4
A79: 178 | B79: 남 | C79: 10 | D79: 11 | E79: 9 | F79: 8 | G79: 6 | H79: =SUM(C79,D79,E79,F79,G79) -> 44 | I79: =RANK(H79,H$4:H$112) -> 16 | J79: =COUNTA(C79,D79,E79,F79,G79)/5 -> 1
A80: 179 | B80: 남 | C80: 13 | D80: 12 | E80: 14 | F80: 14 | G80: 9 | H80: =SUM(C80,D80,E80,F80,G80) -> 62 | I80: =RANK(H80,H$4:H$112) -> 1 | J80: =COUNTA(C80,D80,E80,F80,G80)/5 -> 1
A81: 180 | B81: 여 | C81: 11 | D81: 12 | E81: 12 | F81: 13 | G81: 8 | H81: =SUM(C81,D81,E81,F81,G81) -> 56 | I81: =RANK(H81,H$4:H$112) -> 4 | J81: =COUNTA(C81,D81,E81,F81,G81)/5 -> 1
A82: 181 | B82: 남 | C82: 10 | D82: 6 | E82: 5 | F82: 3 | G82: 7 | H82: =SUM(C82,D82,E82,F82,G82) -> 31 | I82: =RANK(H82,H$4:H$112) -> 41 | J82: =COUNTA(C82,D82,E82,F82,G82)/5 -> 1
A83: 182 | B83: 여 | C83: 12 | D83: 13 | E83: 11 | F83: 9 | G83: 8 | H83: =SUM(C83,D83,E83,F83,G83) -> 53 | I83: =RANK(H83,H$4:H$112) -> 7 | J83: =COUNTA(C83,D83,E83,F83,G83)/5 -> 1
A84: 183 | B84: 여 | H84: =SUM(C84,D84,E84,F84,G84) -> 0 | I84: =RANK(H84,H$4:H$112) -> 93 | J84: =COUNTA(C84,D84,E84,F84,G84)/5 -> 0
A85: 184 | B85: 여 | C85: 3 | D85: 7 | E85: 4 | F85: 1 | G85: 3 | H85: =SUM(C85,D85,E85,F85,G85) -> 18 | I85: =RANK(H85,H$4:H$112) -> 71 | J85: =COUNTA(C85,D85,E85,F85,G85)/5 -> 1
A86: 185 | B86: 여 | D86: 11 | E86: 10 | F86: 9 | G86: 2 | H86: =SUM(C86,D86,E86,F86,G86) -> 32 | I86: =RANK(H86,H$4:H$112) -> 39 | J86: =COUNTA(C86,D86,E86,F86,G86)/5 -> 0.8
A87: 186 | B87: 남 | C87: 10 | D87: 9 | E87: 4 | F87: 9 | G87: 7 | H87: =SUM(C87,D87,E87,F87,G87) -> 39 | I87: =RANK(H87,H$4:H$112) -> 25 | J87: =COUNTA(C87,D87,E87,F87,G87)/5 -> 1
A88: 187 | B88: 여 | C88: 10 | D88: 12 | E88: 8 | F88: 9 | G88: 7 | H88: =SUM(C88,D88,E88,F88,G88) -> 46 | I88: =RANK(H88,H$4:H$112) -> 14 | J88: =COUNTA(C88,D88,E88,F88,G88)/5 -> 1
A89: 188 | B89: 남 | D89: 13 | E89: 5 | F89: 10 | G89: 9 | H89: =SUM(C89,D89,E89,F89,G89) -> 37 | I89: =RANK(H89,H$4:H$112) -> 28 | J89: =COUNTA(C89,D89,E89,F89,G89)/5 -> 0.8
A90: 189 | B90: 남 | C90: 13 | D90: 9 | E90: 5 | F90: 6 | G90: 5 | H90: =SUM(C90,D90,E90,F90,G90) -> 38 | I90: =RANK(H90,H$4:H$112) -> 26 | J90: =COUNTA(C90,D90,E90,F90,G90)/5 -> 1
A91: 190 | B91: 남 | C91: 9 | D91: 4 | E91: 6 | F91: 6 | G91: 6 | H91: =SUM(C91,D91,E91,F91,G91) -> 31 | I91: =RANK(H91,H$4:H$112) -> 41 | J91: =COUNTA(C91,D91,E91,F91,G91)/5 -> 1
A92: 191 | B92: 여 | H92: =SUM(C92,D92,E92,F92,G92) -> 0 | I92: =RANK(H92,H$4:H$112) -> 93 | J92: =COUNTA(C92,D92,E92,F92,G92)/5 -> 0 | K92: 1차 경고
A93: 192 | B93: 남 | E93: 8 | F93: 4 | H93: =SUM(C93,D93,E93,F93,G93) -> 12 | I93: =RANK(H93,H$4:H$112) -> 82 | J93: =COUNTA(C93,D93,E93,F93,G93)/5 -> 0.4
A94: 193 | B94: 여 | C94: 12 | E94: 7 | G94: 5 | H94: =SUM(C94,D94,E94,F94,G94) -> 24 | I94: =RANK(H94,H$4:H$112) -> 61 | J94: =COUNTA(C94,D94,E94,F94,G94)/5 -> 0.6
A95: 194 | B95: 여 | C95: 9 | D95: 10 | E95: 11 | F95: 7 | G95: 4 | H95: =SUM(C95,D95,E95,F95,G95) -> 41 | I95: =RANK(H95,H$4:H$112) -> 20 | J95: =COUNTA(C95,D95,E95,F95,G95)/5 -> 1
A96: 195 | B96: 남 | C96: 7 | D96: 8 | F96: 9 | H96: =SUM(C96,D96,E96,F96,G96) -> 24 | I96: =RANK(H96,H$4:H$112) -> 61 | J96: =COUNTA(C96,D96,E96,F96,G96)/5 -> 0.6
A97: 196 | B97: 남 | D97: 8 | E97: 6 | F97: 9 | G97: 4 | H97: =SUM(C97,D97,E97,F97,G97) -> 27 | I97: =RANK(H97,H$4:H$112) -> 50 | J97: =COUNTA(C97,D97,E97,F97,G97)/5 -> 0.8
A98: 197 | B98: 여 | C98: 6 | D98: 6 | E98: 7 | F98: 2 | G98: 6 | H98: =SUM(C98,D98,E98,F98,G98) -> 27 | I98: =RANK(H98,H$4:H$112) -> 50 | J98: =COUNTA(C98,D98,E98,F98,G98)/5 -> 1
A99: 198 | B99: 남 | C99: 6 | D99: 3 | H99: =SUM(C99,D99,E99,F99,G99) -> 9 | I99: =RANK(H99,H$4:H$112) -> 88 | J99: =COUNTA(C99,D99,E99,F99,G99)/5 -> 0.4
A100: 200 | B100: 남 | C100: 13 | D100: 14 | G100: 9 | H100: =SUM(C100,D100,E100,F100,G100) -> 36 | I100: =RANK(H100,H$4:H$112) -> 33 | J100: =COUNTA(C100,D100,E100,F100,G100)/5 -> 0.6
...

Sheet 3월 2주차
A2: 5월 아침 모의고사 성적현황
A3: 시험 2주차 : 5월 21일 ~ 25일
C4: 21 | D4: 22 | E4: 23 | F4: 24 | G4: 25 | H4: 주간성적 | L4: 모의고사 참여율 | M4: 비고
A5: 수험 번호 | B5: 성별 | C5: 국사 | D5: 형소법 | E5: 경찰학 | F5: 형법 | G5: 영어 | H5: 이번주 총점 | I5: 누적 총점 | J5: 전체 총점 | K5: 등수
A6: 100 | B6: 남 | C6: 10 | D6: 13 | E6: 10 | F6: 10 | G6: 13 | H6: =SUM(C6:G6) -> 56 | I6: ='3월 1주차'!H5 -> 43 | J6: =SUM(H6,I6) -> 99 | K6: =RANK(J6,J$6:J$107) -> 11 | L6: =COUNTA(C6,D6,E6,F6,G6)/5 -> 1
A7: 103 | B7: 남 | C7: 7 | H7: =SUM(C7:G7) -> 7 | I7: ='3월 1주차'!H8 -> 6 | J7: =SUM(H7,I7) -> 13 | K7: =RANK(J7,J$6:J$107) -> 90 | L7: =COUNTA(C7,D7,E7,F7,G7)/5 -> 0.2
A8: 106 | B8: 여 | C8: 11 | D8: 9 | E8: 10 | F8: 4 | G8: 16 | H8: =SUM(C8:G8) -> 50 | I8: ='3월 1주차'!H10 -> 32 | J8: =SUM(H8,I8) -> 82 | K8: =RANK(J8,J$6:J$107) -> 24 | L8: =COUNTA(C8,D8,E8,F8,G8)/5 -> 1
A9: 107 | B9: 여 | C9: 5 | D9: 8 | E9: 6 | F9: 4 | G9: 11 | H9: =SUM(C9:G9) -> 34 | I9: ='3월 1주차'!H11 -> 30 | J9: =SUM(H9,I9) -> 64 | K9: =RANK(J9,J$6:J$107) -> 36 | L9: =COUNTA(C9,D9,E9,F9,G9)/5 -> 1
A10: 108 | B10: 여 | C10: 4 | D10: 2 | E10: 6 | F10: 4 | G10: 10 | H10: =SUM(C10:G10) -> 26 | I10: ='3월 1주차'!H12 -> 34 | J10: =SUM(H10,I10) -> 60 | K10: =RANK(J10,J$6:J$107) -> 41 | L10: =COUNTA(C10,D10,E10,F10,G10)/5 -> 1
A11: 109 | B11: 남 | C11: 7 | D11: 8 | E11: 6 | F11: 8 | G11: 14 | H11: =SUM(C11:G11) -> 43 | I11: ='3월 1주차'!H13 -> 41 | J11: =SUM(H11,I11) -> 84 | K11: =RANK(J11,J$6:J$107) -> 23 | L11: =COUNTA(C11,D11,E11,F11,G11)/5 -> 1
A12: 110 | B12: 남 | C12: 5 | D12: 11 | E12: 9 | F12: 7 | G12: 16 | H12: =SUM(C12:G12) -> 48 | I12: ='3월 1주차'!H14 -> 43 | J12: =SUM(H12,I12) -> 91 | K12: =RANK(J12,J$6:J$107) -> 17 | L12: =COUNTA(C12,D12,E12,F12,G12)/5 -> 1
A13: 111 | B13: 남 | D13: 11 | E13: 5 | F13: 6 | H13: =SUM(C13:G13) -> 22 | I13: ='3월 1주차'!H15 -> 41 | J13: =SUM(H13,I13) -> 63 | K13: =RANK(J13,J$6:J$107) -> 37 | L13: =COUNTA(C13,D13,E13,F13,G13)/5 -> 0.6
A14: 112 | B14: 여 | H14: =SUM(C14:G14) -> 0 | I14: ='3월 1주차'!H16 -> 10 | J14: =SUM(H14,I14) -> 10 | K14: =RANK(J14,J$6:J$107) -> 93 | L14: =COUNTA(C14,D14,E14,F14,G14)/5 -> 0 | M14: 1차 경고
A15: 113 | B15: 남 | C15: 5 | H15: =SUM(C15:G15) -> 5 | I15: ='3월 1주차'!H17 -> 4 | J15: =SUM(H15,I15) -> 9 | K15: =RANK(J15,J$6:J$107) -> 95 | L15: =COUNTA(C15,D15,E15,F15,G15)/5 -> 0.2
A16: 114 | B16: 남 | D16: 7 | E16: 6 | F16: 7 | G16: 8 | H16: =SUM(C16:G16) -> 28 | I16: ='3월 1주차'!H18 -> 37 | J16: =SUM(H16,I16) -> 65 | K16: =RANK(J16,J$6:J$107) -> 35 | L16: =COUNTA(C16,D16,E16,F16,G16)/5 -> 0.8
A17: 116 | B17: 남 | C17: 7 | D17: 3 | E17: 3 | F17: 1 | G17: 7 | H17: =SUM(C17:G17) -> 21 | I17: ='3월 1주차'!H20 -> 30 | J17: =SUM(H17,I17) -> 51 | K17: =RANK(J17,J$6:J$107) -> 53 | L17: =COUNTA(C17,D17,E17,F17,G17)/5 -> 1
A18: 117 | B18: 여 | C18: 9 | H18: =SUM(C18:G18) -> 9 | I18: ='3월 1주차'!H21 -> 40 | J18: =SUM(H18,I18) -> 49 | K18: =RANK(J18,J$6:J$107) -> 56 | L18: =COUNTA(C18,D18,E18,F18,G18)/5 -> 0.2
A19: 118 | B19: 남 | C19: 14 | D19: 11 | E19: 7 | G19: 14 | H19: =SUM(C19:G19) -> 46 | I19: ='3월 1주차'!H22 -> 52 | J19: =SUM(H19,I19) -> 98 | K19: =RANK(J19,J$6:J$107) -> 12 | L19: =COUNTA(C19,D19,E19,F19,G19)/5 -> 0.8
A20: 119 | B20: 남 | C20: 8 | D20: 8 | F20: 8 | G20: 11 | H20: =SUM(C20:G20) -> 35 | I20: ='3월 1주차'!H23 -> 21 | J20: =SUM(H20,I20) -> 56 | K20: =RANK(J20,J$6:J$107) -> 46 | L20: =COUNTA(C20,D20,E20,F20,G20)/5 -> 0.8
A21: 121 | B21: 남 | C21: 2 | D21: 7 | E21: 3 | F21: 4 | G21: 1 | H21: =SUM(C21:G21) -> 17 | I21: ='3월 1주차'!H25 -> 27 | J21: =SUM(H21,I21) -> 44 | K21: =RANK(J21,J$6:J$107) -> 60 | L21: =COUNTA(C21,D21,E21,F21,G21)/5 -> 1
A22: 122 | B22: 남 | C22: 6 | H22: =SUM(C22:G22) -> 6 | I22: ='3월 1주차'!H26 -> 25 | J22: =SUM(H22,I22) -> 31 | K22: =RANK(J22,J$6:J$107) -> 70 | L22: =COUNTA(C22,D22,E22,F22,G22)/5 -> 0.2
A23: 123 | B23: 남 | C23: 15 | D23: 15 | E23: 14 | F23: 11 | G23: 10 | H23: =SUM(C23:G23) -> 65 | I23: ='3월 1주차'!H27 -> 60 | J23: =SUM(H23,I23) -> 125 | K23: =RANK(J23,J$6:J$107) -> 2 | L23: =COUNTA(C23,D23,E23,F23,G23)/5 -> 1
A24: 124 | B24: 남 | C24: 8 | D24: 11 | E24: 9 | F24: 4 | G24: 7 | H24: =SUM(C24:G24) -> 39 | I24: ='3월 1주차'!H28 -> 29 | J24: =SUM(H24,I24) -> 68 | K24: =RANK(J24,J$6:J$107) -> 33 | L24: =COUNTA(C24,D24,E24,F24,G24)/5 -> 1
A25: 126 | B25: 남 | C25: 9 | D25: 10 | E25: 6 | F25: 9 | G25: 14 | H25: =SUM(C25:G25) -> 48 | I25: ='3월 1주차'!H30 -> 37 | J25: =SUM(H25,I25) -> 85 | K25: =RANK(J25,J$6:J$107) -> 21 | L25: =COUNTA(C25,D25,E25,F25,G25)/5 -> 1
A26: 128 | B26: 남 | D26: 6 | H26: =SUM(C26:G26) -> 6 | I26: ='3월 1주차'!H32 -> 15 | J26: =SUM(H26,I26) -> 21 | K26: =RANK(J26,J$6:J$107) -> 81 | L26: =COUNTA(C26,D26,E26,F26,G26)/5 -> 0.2
A27: 129 | B27: 여 | D27: 5 | E27: 4 | F27: 4 | H27: =SUM(C27:G27) -> 13 | I27: ='3월 1주차'!H33 -> 12 | J27: =SUM(H27,I27) -> 25 | K27: =RANK(J27,J$6:J$107) -> 78 | L27: =COUNTA(C27,D27,E27,F27,G27)/5 -> 0.6
A28: 130 | B28: 남 | D28: 2 | E28: 2 | F28: 5 | G28: 4 | H28: =SUM(C28:G28) -> 13 | I28: ='3월 1주차'!H34 -> 22 | J28: =SUM(H28,I28) -> 35 | K28: =RANK(J28,J$6:J$107) -> 66 | L28: =COUNTA(C28,D28,E28,F28,G28)/5 -> 0.8
A29: 131 | B29: 남 | C29: 15 | D29: 14 | E29: 11 | F29: 12 | G29: 13 | H29: =SUM(C29:G29) -> 65 | I29: ='3월 1주차'!H35 -> 53 | J29: =SUM(H29,I29) -> 118 | K29: =RANK(J29,J$6:J$107) -> 4 | L29: =COUNTA(C29,D29,E29,F29,G29)/5 -> 1
A30: 132 | B30: 남 | C30: 6 | D30: 9 | E30: 10 | F30: 2 | G30: 10 | H30: =SUM(C30:G30) -> 37 | I30: ='3월 1주차'!H36 -> 37 | J30: =SUM(H30,I30) -> 74 | K30: =RANK(J30,J$6:J$107) -> 31 | L30: =COUNTA(C30,D30,E30,F30,G30)/5 -> 1
A31: 133 | B31: 남 | C31: 13 | F31: 9 | G31: 11 | H31: =SUM(C31:G31) -> 33 | I31: ='3월 1주차'!H37 -> 11 | J31: =SUM(H31,I31) -> 44 | K31: =RANK(J31,J$6:J$107) -> 60 | L31: =COUNTA(C31,D31,E31,F31,G31)/5 -> 0.6
A32: 134 | B32: 남 | C32: 7 | D32: 6 | E32: 3 | F32: 1 | G32: 10 | H32: =SUM(C32:G32) -> 27 | I32: ='3월 1주차'!H38 -> 25 | J32: =SUM(H32,I32) -> 52 | K32: =RANK(J32,J$6:J$107) -> 52 | L32: =COUNTA(C32,D32,E32,F32,G32)/5 -> 1
A33: 135 | B33: 남 | C33: 12 | D33: 13 | E33: 12 | F33: 10 | G33: 18 | H33: =SUM(C33:G33) -> 65 | I33: ='3월 1주차'!H39 -> 61 | J33: =SUM(H33,I33) -> 126 | K33: =RANK(J33,J$6:J$107) -> 1 | L33: =COUNTA(C33,D33,E33,F33,G33)/5 -> 1
A34: 136 | B34: 남 | C34: 9 | D34: 6 | F34: 2 | H34: =SUM(C34:G34) -> 17 | I34: ='3월 1주차'!H40 -> 0 | J34: =SUM(H34,I34) -> 17 | K34: =RANK(J34,J$6:J$107) -> 84 | L34: =COUNTA(C34,D34,E34,F34,G34)/5 -> 0.6
A35: 137 | B35: 남 | C35: 4 | D35: 11 | E35: 5 | F35: 6 | G35: 11 | H35: =SUM(C35:G35) -> 37 | I35: ='3월 1주차'!H41 -> 21 | J35: =SUM(H35,I35) -> 58 | K35: =RANK(J35,J$6:J$107) -> 42 | L35: =COUNTA(C35,D35,E35,F35,G35)/5 -> 1
A36: 139 | B36: 남 | C36: 7 | D36: 7 | E36: 6 | F36: 5 | G36: 10 | H36: =SUM(C36:G36) -> 35 | I36: ='3월 1주차'!H43 -> 16 | J36: =SUM(H36,I36) -> 51 | K36: =RANK(J36,J$6:J$107) -> 53 | L36: =COUNTA(C36,D36,E36,F36,G36)/5 -> 1
A37: 140 | B37: 남 | C37: 5 | D37: 7 | E37: 1 | F37: 3 | G37: 4 | H37: =SUM(C37:G37) -> 20 | I37: ='3월 1주차'!H44 -> 13 | J37: =SUM(H37,I37) -> 33 | K37: =RANK(J37,J$6:J$107) -> 68 | L37: =COUNTA(C37,D37,E37,F37,G37)/5 -> 1
A38: 230 | B38: 남 | H38: =SUM(C38:G38) -> 0 | I38: ='3월 1주차'!H45 -> 26 | J38: =SUM(H38,I38) -> 26 | K38: =RANK(J38,J$6:J$107) -> 77 | L38: =COUNTA(C38,D38,E38,F38,G38)/5 -> 0 | M38: 1차 경고
A39: 231 | B39: 남 | C39: 10 | D39: 6 | E39: 9 | F39: 3 | G39: 14 | H39: =SUM(C39:G39) -> 42 | I39: ='3월 1주차'!H46 -> 37 | J39: =SUM(H39,I39) -> 79 | K39: =RANK(J39,J$6:J$107) -> 26 | L39: =COUNTA(C39,D39,E39,F39,G39)/5 -> 1
A40: 232 | B40: 남 | C40: 5 | D40: 7 | E40: 3 | F40: 4 | G40: 9 | H40: =SUM(C40:G40) -> 28 | I40: ='3월 1주차'!H47 -> 26 | J40: =SUM(H40,I40) -> 54 | K40: =RANK(J40,J$6:J$107) -> 48 | L40: =COUNTA(C40,D40,E40,F40,G40)/5 -> 1
A41: 233 | B41: 여 | H41: =SUM(C41:G41) -> 0 | I41: ='3월 1주차'!H48 -> 0 | J41: =SUM(H41,I41) -> 0 | K41: =RANK(J41,J$6:J$107) -> 98 | L41: =COUNTA(C41,D41,E41,F41,G41)/5 -> 0 | M41: 1차 경고
A42: 234 | B42: 남 | H42: =SUM(C42:G42) -> 0 | I42: ='3월 1주차'!H49 -> 0 | J42: =SUM(H42,I42) -> 0 | K42: =RANK(J42,J$6:J$107) -> 98 | L42: =COUNTA(C42,D42,E42,F42,G42)/5 -> 0 | M42: 1차 경고
A43: 235 | B43: 남 | H43: =SUM(C43:G43) -> 0 | I43: ='3월 1주차'!H50 -> 0 | J43: =SUM(H43,I43) -> 0 | K43: =RANK(J43,J$6:J$107) -> 98 | L43: =COUNTA(C43,D43,E43,F43,G43)/5 -> 0 | M43: 1차 경고
A44: 236 | B44: 남 | C44: 9 | D44: 14 | F44: 5 | G44: 10 | H44: =SUM(C44:G44) -> 38 | I44: ='3월 1주차'!H51 -> 0 | J44: =SUM(H44,I44) -> 38 | K44: =RANK(J44,J$6:J$107) -> 64 | L44: =COUNTA(C44,D44,E44,F44,G44)/5 -> 0.8
A45: 151 | B45: 여 | H45: =SUM(C45:G45) -> 0 | I45: ='3월 1주차'!H52 -> 29 | J45: =SUM(H45,I45) -> 29 | K45: =RANK(J45,J$6:J$107) -> 73 | L45: =COUNTA(C45,D45,E45,F45,G45)/5 -> 0 | M45: 1차 경고
A46: 152 | B46: 여 | H46: =SUM(C46:G46) -> 0 | I46: ='3월 1주차'!H53 -> 9 | J46: =SUM(H46,I46) -> 9 | K46: =RANK(J46,J$6:J$107) -> 95 | L46: =COUNTA(C46,D46,E46,F46,G46)/5 -> 0 | M46: 1차 경고
A47: 153 | B47: 여 | C47: 6 | D47: 6 | E47: 5 | F47: 3 | H47: =SUM(C47:G47) -> 20 | I47: ='3월 1주차'!H54 -> 27 | J47: =SUM(H47,I47) -> 47 | K47: =RANK(J47,J$6:J$107) -> 59 | L47: =COUNTA(C47,D47,E47,F47,G47)/5 -> 0.8
A48: 154 | B48: 남 | C48: 11 | D48: 14 | E48: 9 | F48: 9 | G48: 10 | H48: =SUM(C48:G48) -> 53 | I48: ='3월 1주차'!H55 -> 41 | J48: =SUM(H48,I48) -> 94 | K48: =RANK(J48,J$6:J$107) -> 15 | L48: =COUNTA(C48,D48,E48,F48,G48)/5 -> 1
A49: 155 | B49: 여 | C49: 13 | D49: 14 | E49: 7 | F49: 10 | G49: 15 | H49: =SUM(C49:G49) -> 59 | I49: ='3월 1주차'!H56 -> 53 | J49: =SUM(H49,I49) -> 112 | K49: =RANK(J49,J$6:J$107) -> 8 | L49: =COUNTA(C49,D49,E49,F49,G49)/5 -> 1
A50: 156 | B50: 여 | C50: 11 | D50: 11 | E50: 11 | F50: 11 | G50: 15 | H50: =SUM(C50:G50) -> 59 | I50: ='3월 1주차'!H57 -> 55 | J50: =SUM(H50,I50) -> 114 | K50: =RANK(J50,J$6:J$107) -> 7 | L50: =COUNTA(C50,D50,E50,F50,G50)/5 -> 1
A51: 157 | B51: 남 | C51: 12 | D51: 9 | E51: 8 | F51: 9 | H51: =SUM(C51:G51) -> 38 | I51: ='3월 1주차'!H58 -> 51 | J51: =SUM(H51,I51) -> 89 | K51: =RANK(J51,J$6:J$107) -> 20 | L51: =COUNTA(C51,D51,E51,F51,G51)/5 -> 0.8
A52: 158 | B52: 여 | C52: 6 | D52: 9 | E52: 5 | G52: 13 | H52: =SUM(C52:G52) -> 33 | I52: ='3월 1주차'!H59 -> 33 | J52: =SUM(H52,I52) -> 66 | K52: =RANK(J52,J$6:J$107) -> 34 | L52: =COUNTA(C52,D52,E52,F52,G52)/5 -> 0.8
A53: 159 | B53: 여 | C53: 8 | D53: 7 | E53: 6 | F53: 8 | G53: 6 | H53: =SUM(C53:G53) -> 35 | I53: ='3월 1주차'!H60 -> 27 | J53: =SUM(H53,I53) -> 62 | K53: =RANK(J53,J$6:J$107) -> 38 | L53: =COUNTA(C53,D53,E53,F53,G53)/5 -> 1
A54: 160 | B54: 여 | C54: 13 | D54: 12 | E54: 8 | F54: 7 | G54: 8 | H54: =SUM(C54:G54) -> 48 | I54: ='3월 1주차'!H61 -> 43 | J54: =SUM(H54,I54) -> 91 | K54: =RANK(J54,J$6:J$107) -> 17 | L54: =COUNTA(C54,D54,E54,F54,G54)/5 -> 1
A55: 161 | B55: 남 | C55: 10 | D55: 9 | E55: 7 | F55: 4 | G55: 8 | H55: =SUM(C55:G55) -> 38 | I55: ='3월 1주차'!H62 -> 38 | J55: =SUM(H55,I55) -> 76 | K55: =RANK(J55,J$6:J$107) -> 29 | L55: =COUNTA(C55,D55,E55,F55,G55)/5 -> 1
A56: 162 | B56: 남 | E56: 7 | F56: 4 | G56: 11 | H56: =SUM(C56:G56) -> 22 | I56: ='3월 1주차'!H63 -> 12 | J56: =SUM(H56,I56) -> 34 | K56: =RANK(J56,J$6:J$107) -> 67 | L56: =COUNTA(C56,D56,E56,F56,G56)/5 -> 0.6
A57: 163 | B57: 남 | C57: 10 | D57: 13 | H57: =SUM(C57:G57) -> 23 | I57: ='3월 1주차'!H64 -> 31 | J57: =SUM(H57,I57) -> 54 | K57: =RANK(J57,J$6:J$107) -> 48 | L57: =COUNTA(C57,D57,E57,F57,G57)/5 -> 0.4
A58: 164 | B58: 남 | C58: 8 | D58: 8 | E58: 5 | H58: =SUM(C58:G58) -> 21 | I58: ='3월 1주차'!H65 -> 36 | J58: =SUM(H58,I58) -> 57 | K58: =RANK(J58,J$6:J$107) -> 44 | L58: =COUNTA(C58,D58,E58,F58,G58)/5 -> 0.6
A59: 165 | B59: 여 | C59: 11 | D59: 9 | E59: 7 | F59: 12 | G59: 13 | H59: =SUM(C59:G59) -> 52 | I59: ='3월 1주차'!H66 -> 33 | J59: =SUM(H59,I59) -> 85 | K59: =RANK(J59,J$6:J$107) -> 21 | L59: =COUNTA(C59,D59,E59,F59,G59)/5 -> 1
A60: 166 | B60: 남 | C60: 14 | D60: 13 | F60: 10 | G60: 14 | H60: =SUM(C60:G60) -> 51 | I60: ='3월 1주차'!H67 -> 20 | J60: =SUM(H60,I60) -> 71 | K60: =RANK(J60,J$6:J$107) -> 32 | L60: =COUNTA(C60,D60,E60,F60,G60)/5 -> 0.8
A61: 167 | B61: 여 | C61: 3 | H61: =SUM(C61:G61) -> 3 | I61: ='3월 1주차'!H68 -> 26 | J61: =SUM(H61,I61) -> 29 | K61: =RANK(J61,J$6:J$107) -> 73 | L61: =COUNTA(C61,D61,E61,F61,G61)/5 -> 0.2
A62: 168 | B62: 남 | C62: 5 | D62: 13 | E62: 5 | F62: 7 | G62: 13 | H62: =SUM(C62:G62) -> 43 | I62: ='3월 1주차'!H69 -> 55 | J62: =SUM(H62,I62) -> 98 | K62: =RANK(J62,J$6:J$107) -> 12 | L62: =COUNTA(C62,D62,E62,F62,G62)/5 -> 1
A63: 169 | B63: 남 | C63: 9 | D63: 8 | E63: 6 | F63: 1 | G63: 8 | H63: =SUM(C63:G63) -> 32 | I63: ='3월 1주차'!H70 -> 22 | J63: =SUM(H63,I63) -> 54 | K63: =RANK(J63,J$6:J$107) -> 48 | L63: =COUNTA(C63,D63,E63,F63,G63)/5 -> 1
A64: 170 | B64: 남 | H64: =SUM(C64:G64) -> 0 | I64: ='3월 1주차'!H71 -> 18 | J64: =SUM(H64,I64) -> 18 | K64: =RANK(J64,J$6:J$107) -> 83 | L64: =COUNTA(C64,D64,E64,F64,G64)/5 -> 0 | M64: 1차 경고
A65: 171 | B65: 남 | H65: =SUM(C65:G65) -> 0 | I65: ='3월 1주차'!H72 -> 10 | J65: =SUM(H65,I65) -> 10 | K65: =RANK(J65,J$6:J$107) -> 93 | L65: =COUNTA(C65,D65,E65,F65,G65)/5 -> 0 | M65: 1차 경고
A66: 172 | B66: 남 | H66: =SUM(C66:G66) -> 0 | I66: ='3월 1주차'!H73 -> 14 | J66: =SUM(H66,I66) -> 14 | K66: =RANK(J66,J$6:J$107) -> 87 | L66: =COUNTA(C66,D66,E66,F66,G66)/5 -> 0 | M66: 1차 경고
A67: 173 | B67: 여 | D67: 13 | H67: =SUM(C67:G67) -> 13 | I67: ='3월 1주차'!H74 -> 45 | J67: =SUM(H67,I67) -> 58 | K67: =RANK(J67,J$6:J$107) -> 42 | L67: =COUNTA(C67,D67,E67,F67,G67)/5 -> 0.2
A68: 174 | B68: 남 | C68: 11 | D68: 13 | E68: 5 | F68: 6 | G68: 9 | H68: =SUM(C68:G68) -> 44 | I68: ='3월 1주차'!H75 -> 34 | J68: =SUM(H68,I68) -> 78 | K68: =RANK(J68,J$6:J$107) -> 27 | L68: =COUNTA(C68,D68,E68,F68,G68)/5 -> 1
A69: 175 | B69: 남 | C69: 8 | D69: 5 | E69: 7 | F69: 3 | H69: =SUM(C69:G69) -> 23 | I69: ='3월 1주차'!H76 -> 31 | J69: =SUM(H69,I69) -> 54 | K69: =RANK(J69,J$6:J$107) -> 48 | L69: =COUNTA(C69,D69,E69,F69,G69)/5 -> 0.8
A70: 176 | B70: 여 | H70: =SUM(C70:G70) -> 0 | I70: ='3월 1주차'!H77 -> 6 | J70: =SUM(H70,I70) -> 6 | K70: =RANK(J70,J$6:J$107) -> 97 | L70: =COUNTA(C70,D70,E70,F70,G70)/5 -> 0 | M70: 1차 경고
A71: 177 | B71: 남 | D71: 10 | E71: 6 | F71: 7 | G71: 9 | H71: =SUM(C71:G71) -> 32 | I71: ='3월 1주차'!H78 -> 19 | J71: =SUM(H71,I71) -> 51 | K71: =RANK(J71,J$6:J$107) -> 53 | L71: =COUNTA(C71,D71,E71,F71,G71)/5 -> 0.8
A72: 178 | B72: 남 | C72: 12 | D72: 14 | E72: 5 | F72: 7 | G72: 11 | H72: =SUM(C72:G72) -> 49 | I72: ='3월 1주차'!H79 -> 44 | J72: =SUM(H72,I72) -> 93 | K72: =RANK(J72,J$6:J$107) -> 16 | L72: =COUNTA(C72,D72,E72,F72,G72)/5 -> 1
A73: 179 | B73: 남 | C73: 13 | D73: 14 | F73: 13 | G73: 15 | H73: =SUM(C73:G73) -> 55 | I73: ='3월 1주차'!H80 -> 62 | J73: =SUM(H73,I73) -> 117 | K73: =RANK(J73,J$6:J$107) -> 5 | L73: =COUNTA(C73,D73,E73,F73,G73)/5 -> 0.8
A74: 180 | B74: 여 | C74: 12 | D74: 14 | E74: 12 | F74: 11 | G74: 16 | H74: =SUM(C74:G74) -> 65 | I74: ='3월 1주차'!H81 -> 56 | J74: =SUM(H74,I74) -> 121 | K74: =RANK(J74,J$6:J$107) -> 3 | L74: =COUNTA(C74,D74,E74,F74,G74)/5 -> 1
A75: 181 | B75: 남 | C75: 11 | D75: 8 | E75: 7 | F75: 8 | G75: 11 | H75: =SUM(C75:G75) -> 45 | I75: ='3월 1주차'!H82 -> 31 | J75: =SUM(H75,I75) -> 76 | K75: =RANK(J75,J$6:J$107) -> 29 | L75: =COUNTA(C75,D75,E75,F75,G75)/5 -> 1
A76: 182 | B76: 남 | C76: 12 | D76: 13 | E76: 8 | F76: 9 | G76: 15 | H76: =SUM(C76:G76) -> 57 | I76: ='3월 1주차'!H83 -> 53 | J76: =SUM(H76,I76) -> 110 | K76: =RANK(J76,J$6:J$107) -> 9 | L76: =COUNTA(C76,D76,E76,F76,G76)/5 -> 1
A77: 183 | B77: 여 | H77: =SUM(C77:G77) -> 0 | I77: ='3월 1주차'!H84 -> 0 | J77: =SUM(H77,I77) -> 0 | K77: =RANK(J77,J$6:J$107) -> 98 | L77: =COUNTA(C77,D77,E77,F77,G77)/5 -> 0 | M77: 1차 경고
A78: 184 | B78: 여 | C78: 3 | D78: 7 | E78: 4 | F78: 5 | G78: 6 | H78: =SUM(C78:G78) -> 25 | I78: ='3월 1주차'!H85 -> 18 | J78: =SUM(H78,I78) -> 43 | K78: =RANK(J78,J$6:J$107) -> 63 | L78: =COUNTA(C78,D78,E78,F78,G78)/5 -> 1
A79: 185 | B79: 여 | C79: 9 | D79: 11 | F79: 9 | H79: =SUM(C79:G79) -> 29 | I79: ='3월 1주차'!H86 -> 32 | J79: =SUM(H79,I79) -> 61 | K79: =RANK(J79,J$6:J$107) -> 40 | L79: =COUNTA(C79,D79,E79,F79,G79)/5 -> 0.6
A80: 186 | B80: 남 | C80: 9 | D80: 6 | E80: 11 | F80: 6 | G80: 11 | H80: =SUM(C80:G80) -> 43 | I80: ='3월 1주차'!H87 -> 39 | J80: =SUM(H80,I80) -> 82 | K80: =RANK(J80,J$6:J$107) -> 24 | L80: =COUNTA(C80,D80,E80,F80,G80)/5 -> 1
A81: 187 | B81: 여 | C81: 12 | D81: 14 | E81: 7 | F81: 9 | G81: 14 | H81: =SUM(C81:G81) -> 56 | I81: ='3월 1주차'!H88 -> 46 | J81: =SUM(H81,I81) -> 102 | K81: =RANK(J81,J$6:J$107) -> 10 | L81: =COUNTA(C81,D81,E81,F81,G81)/5 -> 1
A82: 188 | B82: 남 | C82: 13 | D82: 13 | F82: 11 | G82: 16 | H82: =SUM(C82:G82) -> 53 | I82: ='3월 1주차'!H89 -> 37 | J82: =SUM(H82,I82) -> 90 | K82: =RANK(J82,J$6:J$107) -> 19 | L82: =COUNTA(C82,D82,E82,F82,G82)/5 -> 0.8
A83: 189 | B83: 남 | C83: 8 | D83: 6 | F83: 5 | H83: =SUM(C83:G83) -> 19 | I83: ='3월 1주차'!H90 -> 38 | J83: =SUM(H83,I83) -> 57 | K83: =RANK(J83,J$6:J$107) -> 44 | L83: =COUNTA(C83,D83,E83,F83,G83)/5 -> 0.6
A84: 190 | B84: 남 | C84: 5 | D84: 8 | E84: 5 | F84: 3 | G84: 10 | H84: =SUM(C84:G84) -> 31 | I84: ='3월 1주차'!H91 -> 31 | J84: =SUM(H84,I84) -> 62 | K84: =RANK(J84,J$6:J$107) -> 38 | L84: =COUNTA(C84,D84,E84,F84,G84)/5 -> 1
A85: 191 | B85: 여 | H85: =SUM(C85:G85) -> 0 | I85: ='3월 1주차'!H92 -> 0 | J85: =SUM(H85,I85) -> 0 | K85: =RANK(J85,J$6:J$107) -> 98 | L85: =COUNTA(C85,D85,E85,F85,G85)/5 -> 0 | M85: 1차 경고
A86: 192 | B86: 남 | C86: 11 | D86: 13 | F86: 8 | G86: 11 | H86: =SUM(C86:G86) -> 43 | I86: ='3월 1주차'!H93 -> 12 | J86: =SUM(H86,I86) -> 55 | K86: =RANK(J86,J$6:J$107) -> 47 | L86: =COUNTA(C86,D86,E86,F86,G86)/5 -> 0.8
A87: 193 | B87: 여 | E87: 7 | F87: 5 | G87: 12 | H87: =SUM(C87:G87) -> 24 | I87: ='3월 1주차'!H94 -> 24 | J87: =SUM(H87,I87) -> 48 | K87: =RANK(J87,J$6:J$107) -> 57 | L87: =COUNTA(C87,D87,E87,F87,G87)/5 -> 0.6
A88: 194 | B88: 여 | C88: 8 | D88: 7 | E88: 8 | F88: 8 | G88: 5 | H88: =SUM(C88:G88) -> 36 | I88: ='3월 1주차'!H95 -> 41 | J88: =SUM(H88,I88) -> 77 | K88: =RANK(J88,J$6:J$107) -> 28 | L88: =COUNTA(C88,D88,E88,F88,G88)/5 -> 1
A89: 195 | B89: 남 | H89: =SUM(C89:G89) -> 0 | I89: ='3월 1주차'!H96 -> 24 | J89: =SUM(H89,I89) -> 24 | K89: =RANK(J89,J$6:J$107) -> 79 | L89: =COUNTA(C89,D89,E89,F89,G89)/5 -> 0 | M89: 1차 경고
A90: 196 | B90: 남 | C90: 8 | D90: 9 | E90: 4 | H90: =SUM(C90:G90) -> 21 | I90: ='3월 1주차'!H97 -> 27 | J90: =SUM(H90,I90) -> 48 | K90: =RANK(J90,J$6:J$107) -> 57 | L90: =COUNTA(C90,D90,E90,F90,G90)/5 -> 0.6
A91: 197 | B91: 여 | H91: =SUM(C91:G91) -> 0 | I91: ='3월 1주차'!H98 -> 27 | J91: =SUM(H91,I91) -> 27 | K91: =RANK(J91,J$6:J$107) -> 76 | L91: =COUNTA(C91,D91,E91,F91,G91)/5 -> 0 | M91: 1차 경고
A92: 198 | B92: 남 | C92: 5 | H92: =SUM(C92:G92) -> 5 | I92: ='3월 1주차'!H99 -> 9 | J92: =SUM(H92,I92) -> 14 | K92: =RANK(J92,J$6:J$107) -> 87 | L92: =COUNTA(C92,D92,E92,F92,G92)/5 -> 0.2
A93: 200 | B93: 남 | H93: =SUM(C93:G93) -> 0 | I93: ='3월 1주차'!H100 -> 36 | J93: =SUM(H93,I93) -> 36 | K93: =RANK(J93,J$6:J$107) -> 65 | L93: =COUNTA(C93,D93,E93,F93,G93)/5 -> 0 | M93: 1차 경고
A94: 201 | B94: 여 | C94: 8 | H94: =SUM(C94:G94) -> 8 | I94: ='3월 1주차'!H101 -> 23 | J94: =SUM(H94,I94) -> 31 | K94: =RANK(J94,J$6:J$107) -> 70 | L94: =COUNTA(C94,D94,E94,F94,G94)/5 -> 0.2
A95: 202 | B95: 여 | C95: 1 | D95: 10 | G95: 8 | H95: =SUM(C95:G95) -> 19 | I95: ='3월 1주차'!H102 -> 25 | J95: =SUM(H95,I95) -> 44 | K95: =RANK(J95,J$6:J$107) -> 60 | L95: =COUNTA(C95,D95,E95,F95,G95)/5 -> 0.6
A96: 203 | B96: 여 | H96: =SUM(C96:G96) -> 0 | I96: ='3월 1주차'!H103 -> 14 | J96: =SUM(H96,I96) -> 14 | K96: =RANK(J96,J$6:J$107) -> 87 | L96: =COUNTA(C96,D96,E96,F96,G96)/5 -> 0 | M96: 1차 경고
A97: 204 | B97: 남 | D97: 7 | E97: 10 | F97: 6 | H97: =SUM(C97:G97) -> 23 | I97: ='3월 1주차'!H104 -> 0 | J97: =SUM(H97,I97) -> 23 | K97: =RANK(J97,J$6:J$107) -> 80 | L97: =COUNTA(C97,D97,E97,F97,G97)/5 -> 0.6
A98: 205 | B98: 여 | H98: =SUM(C98:G98) -> 0 | I98: ='3월 1주차'!H105 -> 15 | J98: =SUM(H98,I98) -> 15 | K98: =RANK(J98,J$6:J$107) -> 86 | L98: =COUNTA(C98,D98,E98,F98,G98)/5 -> 0 | M98: 1차 경고
A99: 210 | B99: 여 | C99: 10 | D99: 13 | E99: 9 | F99: 9 | G99: 6 | H99: =SUM(C99:G99) -> 47 | I99: ='3월 1주차'!H106 -> 48 | J99: =SUM(H99,I99) -> 95 | K99: =RANK(J99,J$6:J$107) -> 14 | L99: =COUNTA(C99,D99,E99,F99,G99)/5 -> 1
A100: 211 | B100: 여 | H100: =SUM(C100:G100) -> 0 | I100: ='3월 1주차'!H107 -> 21 | J100: =SUM(H100,I100) -> 21 | K100: =RANK(J100,J$6:J$107) -> 81 | L100: =COUNTA(C100,D100,E100,F100,G100)/5 -> 0 | M100: 1차 경고
A101: 212 | B101: 남 | C101: 13 | D101: 13 | E101: 12 | F101: 11 | G101: 15 | H101: =SUM(C101:G101) -> 64 | I101: ='3월 1주차'!H108 -> 52 | J101: =SUM(H101,I101) -> 116 | K101: =RANK(J101,J$6:J$107) -> 6 | L101: =COUNTA(C101,D101,E101,F101,G101)/5 -> 1
...

Sheet 3월 3주차
A2: 5월 아침 모의고사 성적현황
A3: 시험 3주차 : 5월 28일 ~ 6월 1일
C4: 28 | D4: 29 | E4: 30 | F4: 31 | G4: 1 | H4: 주간성적 | L4: 모의고사 참여율 | M4: 비고
A5: 수험 번호 | B5: 성별 | C5: 국사 | D5: 형소법 | E5: 경찰학 | F5: 형법 | G5: 영어 | H5: 이번주 총점 | I5: 누적 총점 | J5: 전체 총점 | K5: 등수
A6: 100 | B6: 남 | C6: 6 | D6: 12 | E6: 8 | F6: 8 | G6: 8 | H6: =SUM(C6:G6) -> 42 | I6: ='[1]2주차'!N6 -> 99 | J6: =SUM(H6,I6) -> 141 | K6: =RANK(J6,J$6:J$107) -> 10 | L6: =COUNTA(C6,D6,E6,F6,G6)/5 -> 1
A7: 103 | B7: 남 | H7: =SUM(C7:G7) -> 0 | I7: ='[1]2주차'!N7 -> 13 | J7: =SUM(H7,I7) -> 13 | K7: =RANK(J7,J$6:J$107) -> 94 | L7: =COUNTA(C7,D7,E7,F7,G7)/5 -> 0 | M7: 1차 경고
A8: 106 | B8: 여 | C8: 7 | D8: 12 | E8: 10 | F8: 7 | G8: 6 | H8: =SUM(C8:G8) -> 42 | I8: ='[1]2주차'!N8 -> 82 | J8: =SUM(H8,I8) -> 124 | K8: =RANK(J8,J$6:J$107) -> 17 | L8: =COUNTA(C8,D8,E8,F8,G8)/5 -> 1
A9: 107 | B9: 여 | C9: 4 | D9: 7 | E9: 6 | G9: 4 | H9: =SUM(C9:G9) -> 21 | I9: ='[1]2주차'!N9 -> 64 | J9: =SUM(H9,I9) -> 85 | K9: =RANK(J9,J$6:J$107) -> 36 | L9: =COUNTA(C9,D9,E9,F9,G9)/5 -> 0.8
A10: 108 | B10: 여 | C10: 6 | D10: 6 | F10: 2 | G10: 3 | H10: =SUM(C10:G10) -> 17 | I10: ='[1]2주차'!N10 -> 60 | J10: =SUM(H10,I10) -> 77 | K10: =RANK(J10,J$6:J$107) -> 45 | L10: =COUNTA(C10,D10,E10,F10,G10)/5 -> 0.8
A11: 109 | B11: 남 | C11: 8 | D11: 9 | E11: 7 | F11: 8 | G11: 8 | H11: =SUM(C11:G11) -> 40 | I11: ='[1]2주차'!N11 -> 84 | J11: =SUM(H11,I11) -> 124 | K11: =RANK(J11,J$6:J$107) -> 17 | L11: =COUNTA(C11,D11,E11,F11,G11)/5 -> 1
A12: 110 | B12: 남 | D12: 9 | E12: 7 | F12: 3 | G12: 9 | H12: =SUM(C12:G12) -> 28 | I12: ='[1]2주차'!N12 -> 91 | J12: =SUM(H12,I12) -> 119 | K12: =RANK(J12,J$6:J$107) -> 20 | L12: =COUNTA(C12,D12,E12,F12,G12)/5 -> 0.8
A13: 111 | B13: 남 | E13: 3 | H13: =SUM(C13:G13) -> 3 | I13: ='[1]2주차'!N13 -> 63 | J13: =SUM(H13,I13) -> 66 | K13: =RANK(J13,J$6:J$107) -> 53 | L13: =COUNTA(C13,D13,E13,F13,G13)/5 -> 0.2
A14: 113 | B14: 남 | H14: =SUM(C14:G14) -> 0 | I14: ='[1]2주차'!N15 -> 9 | J14: =SUM(H14,I14) -> 9 | K14: =RANK(J14,J$6:J$107) -> 97 | L14: =COUNTA(C14,D14,E14,F14,G14)/5 -> 0 | M14: 1차 경고
A15: 114 | B15: 남 | C15: 4 | D15: 8 | E15: 6 | F15: 8 | G15: 3 | H15: =SUM(C15:G15) -> 29 | I15: ='[1]2주차'!N16 -> 65 | J15: =SUM(H15,I15) -> 94 | K15: =RANK(J15,J$6:J$107) -> 33 | L15: =COUNTA(C15,D15,E15,F15,G15)/5 -> 1
A16: 116 | B16: 남 | D16: 5 | E16: 3 | F16: 1 | G16: 7 | H16: =SUM(C16:G16) -> 16 | I16: ='[1]2주차'!N17 -> 51 | J16: =SUM(H16,I16) -> 67 | K16: =RANK(J16,J$6:J$107) -> 52 | L16: =COUNTA(C16,D16,E16,F16,G16)/5 -> 0.8
A17: 117 | B17: 여 | C17: 5 | D17: 4 | H17: =SUM(C17:G17) -> 9 | I17: ='[1]2주차'!N18 -> 49 | J17: =SUM(H17,I17) -> 58 | K17: =RANK(J17,J$6:J$107) -> 60 | L17: =COUNTA(C17,D17,E17,F17,G17)/5 -> 0.4
A18: 118 | B18: 남 | C18: 3 | D18: 13 | E18: 9 | F18: 2 | G18: 9 | H18: =SUM(C18:G18) -> 36 | I18: ='[1]2주차'!N19 -> 98 | J18: =SUM(H18,I18) -> 134 | K18: =RANK(J18,J$6:J$107) -> 12 | L18: =COUNTA(C18,D18,E18,F18,G18)/5 -> 1
A19: 119 | B19: 남 | C19: 5 | D19: 9 | E19: 2 | F19: 3 | G19: 9 | H19: =SUM(C19:G19) -> 28 | I19: ='[1]2주차'!N20 -> 56 | J19: =SUM(H19,I19) -> 84 | K19: =RANK(J19,J$6:J$107) -> 39 | L19: =COUNTA(C19,D19,E19,F19,G19)/5 -> 1
A20: 121 | B20: 남 | D20: 4 | E20: 2 | F20: 3 | G20: 3 | H20: =SUM(C20:G20) -> 12 | I20: ='[1]2주차'!N21 -> 44 | J20: =SUM(H20,I20) -> 56 | K20: =RANK(J20,J$6:J$107) -> 61 | L20: =COUNTA(C20,D20,E20,F20,G20)/5 -> 0.8
A21: 122 | B21: 남 | C21: 8 | D21: 3 | E21: 3 | H21: =SUM(C21:G21) -> 14 | I21: ='[1]2주차'!N22 -> 31 | J21: =SUM(H21,I21) -> 45 | K21: =RANK(J21,J$6:J$107) -> 67 | L21: =COUNTA(C21,D21,E21,F21,G21)/5 -> 0.6
A22: 123 | B22: 남 | C22: 6 | G22: 7 | H22: =SUM(C22:G22) -> 13 | I22: ='[1]2주차'!N23 -> 125 | J22: =SUM(H22,I22) -> 138 | K22: =RANK(J22,J$6:J$107) -> 11 | L22: =COUNTA(C22,D22,E22,F22,G22)/5 -> 0.4
A23: 124 | B23: 남 | C23: 8 | G23: 8 | H23: =SUM(C23:G23) -> 16 | I23: ='[1]2주차'!N24 -> 68 | J23: =SUM(H23,I23) -> 84 | K23: =RANK(J23,J$6:J$107) -> 39 | L23: =COUNTA(C23,D23,E23,F23,G23)/5 -> 0.4
A24: 126 | B24: 남 | C24: 5 | D24: 6 | E24: 8 | F24: 4 | G24: 8 | H24: =SUM(C24:G24) -> 31 | I24: ='[1]2주차'!N25 -> 85 | J24: =SUM(H24,I24) -> 116 | K24: =RANK(J24,J$6:J$107) -> 21 | L24: =COUNTA(C24,D24,E24,F24,G24)/5 -> 1
A25: 128 | B25: 남 | H25: =SUM(C25:G25) -> 0 | I25: ='[1]2주차'!N26 -> 21 | J25: =SUM(H25,I25) -> 21 | K25: =RANK(J25,J$6:J$107) -> 85 | L25: =COUNTA(C25,D25,E25,F25,G25)/5 -> 0 | M25: 1차 경고
A26: 129 | B26: 여 | H26: =SUM(C26:G26) -> 0 | I26: ='[1]2주차'!N27 -> 25 | J26: =SUM(H26,I26) -> 25 | K26: =RANK(J26,J$6:J$107) -> 82 | L26: =COUNTA(C26,D26,E26,F26,G26)/5 -> 0 | M26: 1차 경고
A27: 130 | B27: 남 | C27: 5 | D27: 5 | E27: 5 | F27: 3 | G27: 2 | H27: =SUM(C27:G27) -> 20 | I27: ='[1]2주차'!N28 -> 35 | J27: =SUM(H27,I27) -> 55 | K27: =RANK(J27,J$6:J$107) -> 63 | L27: =COUNTA(C27,D27,E27,F27,G27)/5 -> 1
A28: 131 | B28: 남 | C28: 7 | D28: 14 | E28: 12 | F28: 8 | G28: 10 | H28: =SUM(C28:G28) -> 51 | I28: ='[1]2주차'!N29 -> 118 | J28: =SUM(H28,I28) -> 169 | K28: =RANK(J28,J$6:J$107) -> 3 | L28: =COUNTA(C28,D28,E28,F28,G28)/5 -> 1
A29: 132 | B29: 남 | C29: 6 | D29: 7 | E29: 4 | F29: 6 | G29: 6 | H29: =SUM(C29:G29) -> 29 | I29: ='[1]2주차'!N30 -> 74 | J29: =SUM(H29,I29) -> 103 | K29: =RANK(J29,J$6:J$107) -> 30 | L29: =COUNTA(C29,D29,E29,F29,G29)/5 -> 1
A30: 133 | B30: 남 | C30: 12 | D30: 11 | G30: 7 | H30: =SUM(C30:G30) -> 30 | I30: ='[1]2주차'!N31 -> 44 | J30: =SUM(H30,I30) -> 74 | K30: =RANK(J30,J$6:J$107) -> 48 | L30: =COUNTA(C30,D30,E30,F30,G30)/5 -> 0.6
A31: 134 | B31: 남 | C31: 7 | D31: 8 | E31: 3 | F31: 1 | G31: 8 | H31: =SUM(C31:G31) -> 27 | I31: ='[1]2주차'!N32 -> 52 | J31: =SUM(H31,I31) -> 79 | K31: =RANK(J31,J$6:J$107) -> 43 | L31: =COUNTA(C31,D31,E31,F31,G31)/5 -> 1
A32: 135 | B32: 남 | C32: 7 | D32: 14 | E32: 12 | F32: 8 | G32: 7 | H32: =SUM(C32:G32) -> 48 | I32: ='[1]2주차'!N33 -> 126 | J32: =SUM(H32,I32) -> 174 | K32: =RANK(J32,J$6:J$107) -> 1 | L32: =COUNTA(C32,D32,E32,F32,G32)/5 -> 1
A33: 136 | B33: 남 | C33: 5 | H33: =SUM(C33:G33) -> 5 | I33: ='[1]2주차'!N34 -> 17 | J33: =SUM(H33,I33) -> 22 | K33: =RANK(J33,J$6:J$107) -> 84 | L33: =COUNTA(C33,D33,E33,F33,G33)/5 -> 0.2
A34: 137 | B34: 남 | C34: 6 | D34: 11 | E34: 5 | F34: 6 | G34: 3 | H34: =SUM(C34:G34) -> 31 | I34: ='[1]2주차'!N35 -> 58 | J34: =SUM(H34,I34) -> 89 | K34: =RANK(J34,J$6:J$107) -> 35 | L34: =COUNTA(C34,D34,E34,F34,G34)/5 -> 1
A35: 139 | B35: 남 | C35: 5 | D35: 7 | E35: 4 | F35: 5 | G35: 7 | H35: =SUM(C35:G35) -> 28 | I35: ='[1]2주차'!N36 -> 51 | J35: =SUM(H35,I35) -> 79 | K35: =RANK(J35,J$6:J$107) -> 43 | L35: =COUNTA(C35,D35,E35,F35,G35)/5 -> 1
A36: 140 | B36: 남 | E36: 4 | G36: 8 | H36: =SUM(C36:G36) -> 12 | I36: ='[1]2주차'!N37 -> 33 | J36: =SUM(H36,I36) -> 45 | K36: =RANK(J36,J$6:J$107) -> 67 | L36: =COUNTA(C36,D36,E36,F36,G36)/5 -> 0.4
A37: 230 | B37: 남 | F37: 6 | H37: =SUM(C37:G37) -> 6 | I37: ='[1]2주차'!N38 -> 26 | J37: =SUM(H37,I37) -> 32 | K37: =RANK(J37,J$6:J$107) -> 74 | L37: =COUNTA(C37,D37,E37,F37,G37)/5 -> 0.2
A38: 231 | B38: 남 | C38: 7 | D38: 3 | E38: 8 | F38: 3 | G38: 11 | H38: =SUM(C38:G38) -> 32 | I38: ='[1]2주차'!N39 -> 79 | J38: =SUM(H38,I38) -> 111 | K38: =RANK(J38,J$6:J$107) -> 25 | L38: =COUNTA(C38,D38,E38,F38,G38)/5 -> 1
A39: 232 | B39: 남 | C39: 6 | D39: 6 | E39: 8 | F39: 2 | G39: 7 | H39: =SUM(C39:G39) -> 29 | I39: ='[1]2주차'!N40 -> 54 | J39: =SUM(H39,I39) -> 83 | K39: =RANK(J39,J$6:J$107) -> 42 | L39: =COUNTA(C39,D39,E39,F39,G39)/5 -> 1
A40: 236 | B40: 남 | C40: 4 | D40: 10 | F40: 5 | G40: 9 | H40: =SUM(C40:G40) -> 28 | I40: ='[1]2주차'!N44 -> 38 | J40: =SUM(H40,I40) -> 66 | K40: =RANK(J40,J$6:J$107) -> 53 | L40: =COUNTA(C40,D40,E40,F40,G40)/5 -> 0.8
A41: 151 | B41: 여 | G41: 3 | H41: =SUM(C41:G41) -> 3 | I41: ='[1]2주차'!N45 -> 29 | J41: =SUM(H41,I41) -> 32 | K41: =RANK(J41,J$6:J$107) -> 74 | L41: =COUNTA(C41,D41,E41,F41,G41)/5 -> 0.2
A42: 152 | B42: 여 | H42: =SUM(C42:G42) -> 0 | I42: ='[1]2주차'!N46 -> 9 | J42: =SUM(H42,I42) -> 9 | K42: =RANK(J42,J$6:J$107) -> 97 | L42: =COUNTA(C42,D42,E42,F42,G42)/5 -> 0 | M42: 1차 경고
A43: 153 | B43: 여 | E43: 6 | F43: 5 | G43: 6 | H43: =SUM(C43:G43) -> 17 | I43: ='[1]2주차'!N47 -> 47 | J43: =SUM(H43,I43) -> 64 | K43: =RANK(J43,J$6:J$107) -> 57 | L43: =COUNTA(C43,D43,E43,F43,G43)/5 -> 0.6
A44: 154 | B44: 남 | C44: 8 | G44: 11 | H44: =SUM(C44:G44) -> 19 | I44: ='[1]2주차'!N48 -> 94 | J44: =SUM(H44,I44) -> 113 | K44: =RANK(J44,J$6:J$107) -> 23 | L44: =COUNTA(C44,D44,E44,F44,G44)/5 -> 0.4
A45: 155 | B45: 여 | C45: 6 | D45: 9 | E45: 9 | F45: 6 | G45: 7 | H45: =SUM(C45:G45) -> 37 | I45: ='[1]2주차'!N49 -> 112 | J45: =SUM(H45,I45) -> 149 | K45: =RANK(J45,J$6:J$107) -> 7 | L45: =COUNTA(C45,D45,E45,F45,G45)/5 -> 1
A46: 156 | B46: 여 | C46: 9 | D46: 14 | G46: 10 | H46: =SUM(C46:G46) -> 33 | I46: ='[1]2주차'!N50 -> 114 | J46: =SUM(H46,I46) -> 147 | K46: =RANK(J46,J$6:J$107) -> 8 | L46: =COUNTA(C46,D46,E46,F46,G46)/5 -> 0.6
A47: 157 | B47: 남 | C47: 8 | D47: 13 | E47: 8 | F47: 8 | G47: 7 | H47: =SUM(C47:G47) -> 44 | I47: ='[1]2주차'!N51 -> 89 | J47: =SUM(H47,I47) -> 133 | K47: =RANK(J47,J$6:J$107) -> 13 | L47: =COUNTA(C47,D47,E47,F47,G47)/5 -> 1
A48: 158 | B48: 여 | C48: 7 | D48: 11 | E48: 5 | G48: 9 | H48: =SUM(C48:G48) -> 32 | I48: ='[1]2주차'!N52 -> 66 | J48: =SUM(H48,I48) -> 98 | K48: =RANK(J48,J$6:J$107) -> 32 | L48: =COUNTA(C48,D48,E48,F48,G48)/5 -> 0.8
A49: 159 | B49: 여 | D49: 7 | E49: 9 | F49: 5 | G49: 8 | H49: =SUM(C49:G49) -> 29 | I49: ='[1]2주차'!N53 -> 62 | J49: =SUM(H49,I49) -> 91 | K49: =RANK(J49,J$6:J$107) -> 34 | L49: =COUNTA(C49,D49,E49,F49,G49)/5 -> 0.8
A50: 160 | B50: 여 | C50: 7 | D50: 11 | E50: 5 | F50: 6 | G50: 7 | H50: =SUM(C50:G50) -> 36 | I50: ='[1]2주차'!N54 -> 91 | J50: =SUM(H50,I50) -> 127 | K50: =RANK(J50,J$6:J$107) -> 15 | L50: =COUNTA(C50,D50,E50,F50,G50)/5 -> 1
A51: 161 | B51: 남 | C51: 5 | D51: 7 | E51: 8 | F51: 3 | H51: =SUM(C51:G51) -> 23 | I51: ='[1]2주차'!N55 -> 76 | J51: =SUM(H51,I51) -> 99 | K51: =RANK(J51,J$6:J$107) -> 31 | L51: =COUNTA(C51,D51,E51,F51,G51)/5 -> 0.8
A52: 162 | B52: 남 | E52: 4 | H52: =SUM(C52:G52) -> 4 | I52: ='[1]2주차'!N56 -> 34 | J52: =SUM(H52,I52) -> 38 | K52: =RANK(J52,J$6:J$107) -> 70 | L52: =COUNTA(C52,D52,E52,F52,G52)/5 -> 0.2
A53: 163 | B53: 남 | H53: =SUM(C53:G53) -> 0 | I53: ='[1]2주차'!N57 -> 54 | J53: =SUM(H53,I53) -> 54 | K53: =RANK(J53,J$6:J$107) -> 65 | L53: =COUNTA(C53,D53,E53,F53,G53)/5 -> 0 | M53: 1차 경고
A54: 164 | B54: 남 | D54: 11 | E54: 10 | F54: 7 | H54: =SUM(C54:G54) -> 28 | I54: ='[1]2주차'!N58 -> 57 | J54: =SUM(H54,I54) -> 85 | K54: =RANK(J54,J$6:J$107) -> 36 | L54: =COUNTA(C54,D54,E54,F54,G54)/5 -> 0.6
A55: 165 | B55: 여 | C55: 9 | D55: 9 | E55: 11 | F55: 9 | G55: 9 | H55: =SUM(C55:G55) -> 47 | I55: ='[1]2주차'!N59 -> 85 | J55: =SUM(H55,I55) -> 132 | K55: =RANK(J55,J$6:J$107) -> 14 | L55: =COUNTA(C55,D55,E55,F55,G55)/5 -> 1
A56: 166 | B56: 남 | H56: =SUM(C56:G56) -> 0 | I56: ='[1]2주차'!N60 -> 71 | J56: =SUM(H56,I56) -> 71 | K56: =RANK(J56,J$6:J$107) -> 50 | L56: =COUNTA(C56,D56,E56,F56,G56)/5 -> 0 | M56: 1차 경고
A57: 167 | B57: 여 | H57: =SUM(C57:G57) -> 0 | I57: ='[1]2주차'!N61 -> 29 | J57: =SUM(H57,I57) -> 29 | K57: =RANK(J57,J$6:J$107) -> 79 | L57: =COUNTA(C57,D57,E57,F57,G57)/5 -> 0 | M57: 1차 경고
A58: 168 | B58: 남 | D58: 8 | F58: 5 | H58: =SUM(C58:G58) -> 13 | I58: ='[1]2주차'!N62 -> 98 | J58: =SUM(H58,I58) -> 111 | K58: =RANK(J58,J$6:J$107) -> 25 | L58: =COUNTA(C58,D58,E58,F58,G58)/5 -> 0.4
A59: 169 | B59: 남 | C59: 8 | D59: 6 | E59: 7 | F59: 3 | G59: 6 | H59: =SUM(C59:G59) -> 30 | I59: ='[1]2주차'!N63 -> 54 | J59: =SUM(H59,I59) -> 84 | K59: =RANK(J59,J$6:J$107) -> 39 | L59: =COUNTA(C59,D59,E59,F59,G59)/5 -> 1
A60: 170 | B60: 남 | H60: =SUM(C60:G60) -> 0 | I60: ='[1]2주차'!N64 -> 18 | J60: =SUM(H60,I60) -> 18 | K60: =RANK(J60,J$6:J$107) -> 88 | L60: =COUNTA(C60,D60,E60,F60,G60)/5 -> 0 | M60: 1차 경고
A61: 171 | B61: 남 | H61: =SUM(C61:G61) -> 0 | I61: ='[1]2주차'!N65 -> 10 | J61: =SUM(H61,I61) -> 10 | K61: =RANK(J61,J$6:J$107) -> 96 | L61: =COUNTA(C61,D61,E61,F61,G61)/5 -> 0 | M61: 1차 경고
A62: 172 | B62: 남 | H62: =SUM(C62:G62) -> 0 | I62: ='[1]2주차'!N66 -> 14 | J62: =SUM(H62,I62) -> 14 | K62: =RANK(J62,J$6:J$107) -> 91 | L62: =COUNTA(C62,D62,E62,F62,G62)/5 -> 0 | M62: 1차 경고
A63: 173 | B63: 여 | C63: 3 | D63: 11 | H63: =SUM(C63:G63) -> 14 | I63: ='[1]2주차'!N67 -> 58 | J63: =SUM(H63,I63) -> 72 | K63: =RANK(J63,J$6:J$107) -> 49 | L63: =COUNTA(C63,D63,E63,F63,G63)/5 -> 0.4
A64: 174 | B64: 남 | C64: 9 | D64: 8 | E64: 5 | F64: 4 | G64: 4 | H64: =SUM(C64:G64) -> 30 | I64: ='[1]2주차'!N68 -> 78 | J64: =SUM(H64,I64) -> 108 | K64: =RANK(J64,J$6:J$107) -> 28 | L64: =COUNTA(C64,D64,E64,F64,G64)/5 -> 1
A65: 175 | B65: 남 | C65: 5 | D65: 7 | H65: =SUM(C65:G65) -> 12 | I65: ='[1]2주차'!N69 -> 54 | J65: =SUM(H65,I65) -> 66 | K65: =RANK(J65,J$6:J$107) -> 53 | L65: =COUNTA(C65,D65,E65,F65,G65)/5 -> 0.4
A66: 176 | B66: 여 | H66: =SUM(C66:G66) -> 0 | I66: ='[1]2주차'!N70 -> 6 | J66: =SUM(H66,I66) -> 6 | K66: =RANK(J66,J$6:J$107) -> 99 | L66: =COUNTA(C66,D66,E66,F66,G66)/5 -> 0 | M66: 1차 경고
A67: 177 | B67: 남 | C67: 5 | D67: 8 | F67: 5 | G67: 8 | H67: =SUM(C67:G67) -> 26 | I67: ='[1]2주차'!N71 -> 51 | J67: =SUM(H67,I67) -> 77 | K67: =RANK(J67,J$6:J$107) -> 45 | L67: =COUNTA(C67,D67,E67,F67,G67)/5 -> 0.8
A68: 178 | B68: 남 | C68: 6 | D68: 9 | E68: 8 | F68: 4 | G68: 6 | H68: =SUM(C68:G68) -> 33 | I68: ='[1]2주차'!N72 -> 93 | J68: =SUM(H68,I68) -> 126 | K68: =RANK(J68,J$6:J$107) -> 16 | L68: =COUNTA(C68,D68,E68,F68,G68)/5 -> 1
A69: 179 | B69: 남 | C69: 5 | D69: 11 | E69: 11 | F69: 8 | G69: 9 | H69: =SUM(C69:G69) -> 44 | I69: ='[1]2주차'!N73 -> 117 | J69: =SUM(H69,I69) -> 161 | K69: =RANK(J69,J$6:J$107) -> 4 | L69: =COUNTA(C69,D69,E69,F69,G69)/5 -> 1
A70: 180 | B70: 여 | C70: 9 | D70: 12 | E70: 13 | F70: 8 | G70: 8 | H70: =SUM(C70:G70) -> 50 | I70: ='[1]2주차'!N74 -> 121 | J70: =SUM(H70,I70) -> 171 | K70: =RANK(J70,J$6:J$107) -> 2 | L70: =COUNTA(C70,D70,E70,F70,G70)/5 -> 1
A71: 181 | B71: 남 | C71: 5 | D71: 8 | E71: 6 | F71: 4 | G71: 8 | H71: =SUM(C71:G71) -> 31 | I71: ='[1]2주차'!N75 -> 76 | J71: =SUM(H71,I71) -> 107 | K71: =RANK(J71,J$6:J$107) -> 29 | L71: =COUNTA(C71,D71,E71,F71,G71)/5 -> 1
A72: 182 | B72: 남 | C72: 9 | D72: 14 | E72: 10 | F72: 8 | G72: 10 | H72: =SUM(C72:G72) -> 51 | I72: ='[1]2주차'!N76 -> 110 | J72: =SUM(H72,I72) -> 161 | K72: =RANK(J72,J$6:J$107) -> 4 | L72: =COUNTA(C72,D72,E72,F72,G72)/5 -> 1
A73: 183 | B73: 여 | H73: =SUM(C73:G73) -> 0 | I73: ='[1]2주차'!N77 -> 0 | J73: =SUM(H73,I73) -> 0 | K73: =RANK(J73,J$6:J$107) -> 102 | L73: =COUNTA(C73,D73,E73,F73,G73)/5 -> 0 | M73: 1차 경고
A74: 184 | B74: 여 | C74: 4 | D74: 6 | E74: 7 | F74: 4 | G74: 5 | H74: =SUM(C74:G74) -> 26 | I74: ='[1]2주차'!N78 -> 43 | J74: =SUM(H74,I74) -> 69 | K74: =RANK(J74,J$6:J$107) -> 51 | L74: =COUNTA(C74,D74,E74,F74,G74)/5 -> 1
A75: 185 | B75: 여 | C75: 7 | D75: 9 | E75: 8 | H75: =SUM(C75:G75) -> 24 | I75: ='[1]2주차'!N79 -> 61 | J75: =SUM(H75,I75) -> 85 | K75: =RANK(J75,J$6:J$107) -> 36 | L75: =COUNTA(C75,D75,E75,F75,G75)/5 -> 0.6
A76: 186 | B76: 남 | C76: 8 | D76: 7 | E76: 8 | G76: 5 | H76: =SUM(C76:G76) -> 28 | I76: ='[1]2주차'!N80 -> 82 | J76: =SUM(H76,I76) -> 110 | K76: =RANK(J76,J$6:J$107) -> 27 | L76: =COUNTA(C76,D76,E76,F76,G76)/5 -> 0.8
A77: 187 | B77: 여 | C77: 6 | D77: 13 | E77: 13 | F77: 9 | G77: 10 | H77: =SUM(C77:G77) -> 51 | I77: ='[1]2주차'!N81 -> 102 | J77: =SUM(H77,I77) -> 153 | K77: =RANK(J77,J$6:J$107) -> 6 | L77: =COUNTA(C77,D77,E77,F77,G77)/5 -> 1
A78: 188 | B78: 남 | C78: 10 | F78: 5 | G78: 9 | H78: =SUM(C78:G78) -> 24 | I78: ='[1]2주차'!N82 -> 90 | J78: =SUM(H78,I78) -> 114 | K78: =RANK(J78,J$6:J$107) -> 22 | L78: =COUNTA(C78,D78,E78,F78,G78)/5 -> 0.6
A79: 189 | B79: 남 | C79: 8 | D79: 6 | F79: 4 | H79: =SUM(C79:G79) -> 18 | I79: ='[1]2주차'!N83 -> 57 | J79: =SUM(H79,I79) -> 75 | K79: =RANK(J79,J$6:J$107) -> 47 | L79: =COUNTA(C79,D79,E79,F79,G79)/5 -> 0.6
A80: 190 | B80: 남 | H80: =SUM(C80:G80) -> 0 | I80: ='[1]2주차'!N84 -> 62 | J80: =SUM(H80,I80) -> 62 | K80: =RANK(J80,J$6:J$107) -> 58 | L80: =COUNTA(C80,D80,E80,F80,G80)/5 -> 0
A81: 191 | B81: 여 | F81: 3 | H81: =SUM(C81:G81) -> 3 | I81: ='[1]2주차'!N85 -> 0 | J81: =SUM(H81,I81) -> 3 | K81: =RANK(J81,J$6:J$107) -> 101 | L81: =COUNTA(C81,D81,E81,F81,G81)/5 -> 0.2
A82: 192 | B82: 남 | H82: =SUM(C82:G82) -> 0 | I82: ='[1]2주차'!N86 -> 55 | J82: =SUM(H82,I82) -> 55 | K82: =RANK(J82,J$6:J$107) -> 63 | L82: =COUNTA(C82,D82,E82,F82,G82)/5 -> 0
A83: 193 | B83: 여 | C83: 8 | H83: =SUM(C83:G83) -> 8 | I83: ='[1]2주차'!N87 -> 48 | J83: =SUM(H83,I83) -> 56 | K83: =RANK(J83,J$6:J$107) -> 61 | L83: =COUNTA(C83,D83,E83,F83,G83)/5 -> 0.2
A84: 194 | B84: 여 | C84: 7 | D84: 13 | E84: 9 | F84: 2 | G84: 4 | H84: =SUM(C84:G84) -> 35 | I84: ='[1]2주차'!N88 -> 77 | J84: =SUM(H84,I84) -> 112 | K84: =RANK(J84,J$6:J$107) -> 24 | L84: =COUNTA(C84,D84,E84,F84,G84)/5 -> 1
A85: 195 | B85: 남 | D85: 5 | H85: =SUM(C85:G85) -> 5 | I85: ='[1]2주차'!N89 -> 24 | J85: =SUM(H85,I85) -> 29 | K85: =RANK(J85,J$6:J$107) -> 79 | L85: =COUNTA(C85,D85,E85,F85,G85)/5 -> 0.2
A86: 196 | B86: 남 | D86: 10 | F86: 7 | H86: =SUM(C86:G86) -> 17 | I86: ='[1]2주차'!N90 -> 48 | J86: =SUM(H86,I86) -> 65 | K86: =RANK(J86,J$6:J$107) -> 56 | L86: =COUNTA(C86,D86,E86,F86,G86)/5 -> 0.4
A87: 197 | B87: 여 | D87: 3 | H87: =SUM(C87:G87) -> 3 | I87: ='[1]2주차'!N91 -> 27 | J87: =SUM(H87,I87) -> 30 | K87: =RANK(J87,J$6:J$107) -> 78 | L87: =COUNTA(C87,D87,E87,F87,G87)/5 -> 0.2
A88: 198 | B88: 남 | H88: =SUM(C88:G88) -> 0 | I88: ='[1]2주차'!N92 -> 14 | J88: =SUM(H88,I88) -> 14 | K88: =RANK(J88,J$6:J$107) -> 91 | L88: =COUNTA(C88,D88,E88,F88,G88)/5 -> 0
A89: 200 | B89: 남 | H89: =SUM(C89:G89) -> 0 | I89: ='[1]2주차'!N93 -> 36 | J89: =SUM(H89,I89) -> 36 | K89: =RANK(J89,J$6:J$107) -> 72 | L89: =COUNTA(C89,D89,E89,F89,G89)/5 -> 0
A90: 201 | B90: 여 | H90: =SUM(C90:G90) -> 0 | I90: ='[1]2주차'!N94 -> 31 | J90: =SUM(H90,I90) -> 31 | K90: =RANK(J90,J$6:J$107) -> 77 | L90: =COUNTA(C90,D90,E90,F90,G90)/5 -> 0
A91: 202 | B91: 여 | C91: 4 | D91: 6 | E91: 6 | H91: =SUM(C91:G91) -> 16 | I91: ='[1]2주차'!N95 -> 44 | J91: =SUM(H91,I91) -> 60 | K91: =RANK(J91,J$6:J$107) -> 59 | L91: =COUNTA(C91,D91,E91,F91,G91)/5 -> 0.6
A92: 203 | B92: 여 | H92: =SUM(C92:G92) -> 0 | I92: ='[1]2주차'!N96 -> 14 | J92: =SUM(H92,I92) -> 14 | K92: =RANK(J92,J$6:J$107) -> 91 | L92: =COUNTA(C92,D92,E92,F92,G92)/5 -> 0
A93: 204 | B93: 남 | E93: 7 | F93: 3 | G93: 3 | H93: =SUM(C93:G93) -> 13 | I93: ='[1]2주차'!N97 -> 23 | J93: =SUM(H93,I93) -> 36 | K93: =RANK(J93,J$6:J$107) -> 72 | L93: =COUNTA(C93,D93,E93,F93,G93)/5 -> 0.6
A94: 205 | B94: 여 | H94: =SUM(C94:G94) -> 0 | I94: ='[1]2주차'!N98 -> 15 | J94: =SUM(H94,I94) -> 15 | K94: =RANK(J94,J$6:J$107) -> 90 | L94: =COUNTA(C94,D94,E94,F94,G94)/5 -> 0 | M94: 1차 경고
A95: 210 | B95: 여 | C95: 7 | D95: 6 | E95: 7 | G95: 6 | H95: =SUM(C95:G95) -> 26 | I95: ='[1]2주차'!N99 -> 95 | J95: =SUM(H95,I95) -> 121 | K95: =RANK(J95,J$6:J$107) -> 19 | L95: =COUNTA(C95,D95,E95,F95,G95)/5 -> 0.8
A96: 211 | B96: 여 | H96: =SUM(C96:G96) -> 0 | I96: ='[1]2주차'!N100 -> 21 | J96: =SUM(H96,I96) -> 21 | K96: =RANK(J96,J$6:J$107) -> 85 | L96: =COUNTA(C96,D96,E96,F96,G96)/5 -> 0 | M96: 1차 경고
A97: 212 | B97: 남 | C97: 6 | D97: 10 | F97: 6 | G97: 6 | H97: =SUM(C97:G97) -> 28 | I97: ='[1]2주차'!N101 -> 116 | J97: =SUM(H97,I97) -> 144 | K97: =RANK(J97,J$6:J$107) -> 9 | L97: =COUNTA(C97,D97,E97,F97,G97)/5 -> 0.8
A98: 213 | B98: 남 | F98: 5 | G98: 11 | H98: =SUM(C98:G98) -> 16 | I98: ='[1]2주차'!N102 -> 31 | J98: =SUM(H98,I98) -> 47 | K98: =RANK(J98,J$6:J$107) -> 66 | L98: =COUNTA(C98,D98,E98,F98,G98)/5 -> 0.4
A99: 214 | B99: 여 | F99: 5 | G99: 7 | H99: =SUM(C99:G99) -> 12 | I99: ='[1]2주차'!N103 -> 28 | J99: =SUM(H99,I99) -> 40 | K99: =RANK(J99,J$6:J$107) -> 69 | L99: =COUNTA(C99,D99,E99,F99,G99)/5 -> 0.4
A100: 215 | B100: 남 | C100: 5 | H100: =SUM(C100:G100) -> 5 | I100: ='[1]2주차'!N104 -> 32 | J100: =SUM(H100,I100) -> 37 | K100: =RANK(J100,J$6:J$107) -> 71 | L100: =COUNTA(C100,D100,E100,F100,G100)/5 -> 0.2
A101: 216 | B101: 남 | H101: =SUM(C101:G101) -> 0 | I101: ='[1]2주차'!N105 -> 17 | J101: =SUM(H101,I101) -> 17 | K101: =RANK(J101,J$6:J$107) -> 89 | L101: =COUNTA(C101,D101,E101,F101,G101)/5 -> 0 | M101: 1차 경고
...
