Workbook

Sheet 3월 1주차
A1: 5월 아침 모의고사 성적현황
A2: 시험 1주차 : 5월 14일 ~ 18일
C3: 14 | D3: 15 | E3: 16 | F3: 17 | G3: 18 | H3: 주간성적 | J3: 모의고사 참여율 | K3: 비고
A4: 수험 번호 | B4: 성별 | C4: 국사 | D4: 형소법 | E4: 경찰학 | F4: 형법 | G4: 영어 | H4: 전체 총점 | I4: 등수
A5: 100 | B5: 남 | C5: 9 | D5: 10 | E5: 7 | F5: 8 | G5: 9 | H5: =SUM(C5,D5,E5,F5,G5) -> 43 | I5: =RANK(H5,H$4:H$112) -> 17 | J5: =COUNTA(C5,D5,E5,F5,G5)/5 -> 1
A6: 101 | B6: 여 | H6: =SUM(C6,D6,E6,F6,G6) -> 0 | I6: =RANK(H6,H$4:H$112) -> 93 | J6: =COUNTA(C6,D6,E6,F6,G6)/5 -> 0 | K6: 1차 경고
A7: 102 | B7: 남 | H7: =SUM(C7,D7,E7,F7,G7) -> 0 | I7: =RANK(H7,H$4:H$112) -> 93 | J7: =COUNTA(C7,D7,E7,F7,G7)/5 -> 0 | K7: 1차 경고
A8: 103 | B8: 남 | G8: 6 | H8: =SUM(C8,D8,E8,F8,G8) -> 6 | I8: =RANK(H8,H$4:H$112) -> 90 | J8: =COUNTA(C8,D8,E8,F8,G8)/5 -> 0.2
A9: 105 | B9: 여 | H9: =SUM(C9,D9,E9,F9,G9) -> 0 | I9: =RANK(H9,H$4:H$112) -> 93 | J9: =COUNTA(C9,D9,E9,F9,G9)/5 -> 0 | K9: 1차 경고
A10: 106 | B10: 여 | C10: 12 | D10: 11 | E10: 9 | H10: =SUM(C10,D10,E10,F10,G10) -> 32 | I10: =RANK(H10,H$4:H$112) -> 39 | J10: =COUNTA(C10,D10,E10,F10,G10)/5 -> 0.6
A11: 107 | B11: 여 | C11: 7 | D11: 8 | E11: 6 | F11: 6 | G11: 3 | H11: =SUM(C11,D11,E11,F11,G11) -> 30 | I11: =RANK(H11,H$4:H$112) -> 46 | J11: =COUNTA(C11,D11,E11,F11,G11)/5 -> 1
A12: 108 | B12: 여 | C12: 8 | D12: 10 | E12: 8 | F12: 2 | G12: 6 | H12: =SUM(C12,D12,E12,F12,G12) -> 34 | I12: =RANK(H12,H$4:H$112) -> 35 | J12: =COUNTA(C12,D12,E12,F12,G12)/5 -> 1
A13: 109 | B13: 남 | C13: 11 | D13: 8 | E13: 8 | F13: 8 | G13: 6 | H13: =SUM(C13,D13,E13,F13,G13) -> 41 | I13: =RANK(H13,H$4:H$112) -> 20 | J13: =COUNTA(C13,D13,E13,F13,G13)/5 -> 1
A14: 110 | B14: 남 | C14: 8 | D14: 12 | E14: 8 | F14: 6 | G14: 9 | H14: =SUM(C14,D14,E14,F14,G14) -> 43 | I14: =RANK(H14,H$4:H$112) -> 17 | J14: =COUNTA(C14,D14,E14,F14,G14)/5 -> 1
A15: 111 | B15: 남 | C15: 8 | D15: 7 | E15: 11 | F15: 8 | G15: 7 | H15: =SUM(C15,D15,E15,F15,G15) -> 41 | I15: =RANK(H15,H$4:H$112) -> 20 | J15: =COUNTA(C15,D15,E15,F15,G15)/5 -> 1
A16: 112 | B16: 여 | C16: 4 | F16: 6 | H16: =SUM(C16,D16,E16,F16,G16) -> 10 | I16: =RANK(H16,H$4:H$112) -> 86 | J16: =COUNTA(C16,D16,E16,F16,G16)/5 -> 0.4
A17: 113 | B17: 남 | G17: 4 | H17: =SUM(C17,D17,E17,F17,G17) -> 4 | I17: =RANK(H17,H$4:H$112) -> 92 | J17: =COUNTA(C17,D17,E17,F17,G17)/5 -> 0.2
A18: 114 | B18: 남 | C18: 9 | D18: 10 | E18: 7 | F18: 6 | G18: 5 | H18: =SUM(C18,D18,E18,F18,G18) -> 37 | I18: =RANK(H18,H$4:H$112) -> 28 | J18: =COUNTA(C18,D18,E18,F18,G18)/5 -> 1
A19: 115 | B19: 남 | H19: =SUM(C19,D19,E19,F19,G19) -> 0 | I19: =RANK(H19,H$4:H$112) -> 93 | J19: =COUNTA(C19,D19,E19,F19,G19)/5 -> 0
A20: 116 | B20: 남 | C20: 8 | D20: 7 | E20: 5 | F20: 4 | G20: 6 | H20: =SUM(C20,D20,E20,F20,G20) -> 30 | I20: =RANK(H20,H$4:H$112) -> 46 | J20: =COUNTA(C20,D20,E20,F20,G20)/5 -> 1
A21: 117 | B21: 여 | C21: 10 | D21: 9 | E21: 8 | F21: 4 | G21: 9 | H21: =SUM(C21,D21,E21,F21,G21) -> 40 | I21: =RANK(H21,H$4:H$112) -> 24 | J21: =COUNTA(C21,D21,E21,F21,G21)/5 -> 1
A22: 118 | B22: 남 | C22: 12 | D22: 13 | E22: 8 | F22: 11 | G22: 8 | H22: =SUM(C22,D22,E22,F22,G22) -> 52 | I22: =RANK(H22,H$4:H$112) -> 10 | J22: =COUNTA(C22,D22,E22,F22,G22)/5 -> 1
A23: 119 | B23: 남 | C23: 10 | D23: 4 | G23: 7 | H23: =SUM(C23,D23,E23,F23,G23) -> 21 | I23: =RANK(H23,H$4:H$112) -> 66 | J23: =COUNTA(C23,D23,E23,F23,G23)/5 -> 0.6
A24: 120 | B24: 여 | H24: =SUM(C24,D24,E24,F24,G24) -> 0 | I24: =RANK(H24,H$4:H$112) -> 93 | J24: =COUNTA(C24,D24,E24,F24,G24)/5 -> 0
A25: 121 | B25: 남 | C25: 6 | D25: 5 | E25: 4 | F25: 8 | G25: 4 | H25: =SUM(C25,D25,E25,F25,G25) -> 27 | I25: =RANK(H25,H$4:H$112) -> 50 | J25: =COUNTA(C25,D25,E25,F25,G25)/5 -> 1
A26: 122 | B26: 남 | C26: 7 | D26: 4 | E26: 7 | F26: 7 | H26: =SUM(C26,D26,E26,F26,G26) -> 25 | I26: =RANK(H26,H$4:H$112) -> 58 | J26: =COUNTA(C26,D26,E26,F26,G26)/5 -> 0.8
A27: 123 | B27: 남 | C27: 14 | D27: 15 | E27: 15 | F27: 10 | G27: 6 | H27: =SUM(C27,D27,E27,F27,G27) -> 60 | I27: =RANK(H27,H$4:H$112) -> 3 | J27: =COUNTA(C27,D27,E27,F27,G27)/5 -> 1
A28: 124 | B28: 남 | C28: 10 | D28: 2 | E28: 5 | F28: 8 | G28: 4 | H28: =SUM(C28,D28,E28,F28,G28) -> 29 | I28: =RANK(H28,H$4:H$112) -> 48 | J28: =COUNTA(C28,D28,E28,F28,G28)/5 -> 1
A29: 125 | B29: 남 | H29: =SUM(C29,D29,E29,F29,G29) -> 0 | I29: =RANK(H29,H$4:H$112) -> 93 | J29: =COUNTA(C29,D29,E29,F29,G29)/5 -> 0 | K29: 1차 경고
A30: 126 | B30: 남 | C30: 9 | D30: 11 | E30: 8 | F30: 3 | G30: 6 | H30: =SUM(C30,D30,E30,F30,G30) -> 37 | I30: =RANK(H30,H$4:H$112) -> 28 | J30: =COUNTA(C30,D30,E30,F30,G30)/5 -> 1
A31: 127 | B31: 남 | H31: =SUM(C31,D31,E31,F31,G31) -> 0 | I31: =RANK(H31,H$4:H$112) -> 93 | J31: =COUNTA(C31,D31,E31,F31,G31)/5 -> 0 | K31: 1차 경고
A32: 128 | B32: 남 | D32: 9 | E32: 6 | H32: =SUM(C32,D32,E32,F32,G32) -> 15 | I32: =RANK(H32,H$4:H$112) -> 76 | J32: =COUNTA(C32,D32,E32,F32,G32)/5 -> 0.4
A33: 129 | B33: 여 | C33: 7 | F33: 5 | H33: =SUM(C33,D33,E33,F33,G33) -> 12 | I33: =RANK(H33,H$4:H$112) -> 82 | J33: =COUNTA(C33,D33,E33,F33,G33)/5 -> 0.4
A34: 130 | B34: 남 | C34: 5 | D34: 4 | E34: 5 | F34: 3 | G34: 5 | H34: =SUM(C34,D34,E34,F34,G34) -> 22 | I34: =RANK(H34,H$4:H$112) -> 64 | J34: =COUNTA(C34,D34,E34,F34,G34)/5 -> 1
A35: 131 | B35: 남 | C35: 14 | D35: 13 | E35: 9 | F35: 10 | G35: 7 | H35: =SUM(C35,D35,E35,F35,G35) -> 53 | I35: =RANK(H35,H$4:H$112) -> 7 | J35: =COUNTA(C35,D35,E35,F35,G35)/5 -> 1
A36: 132 | B36: 남 | C36: 8 | D36: 6 | E36: 9 | F36: 8 | G36: 6 | H36: =SUM(C36,D36,E36,F36,G36) -> 37 | I36: =RANK(H36,H$4:H$112) -> 28 | J36: =COUNTA(C36,D36,E36,F36,G36)/5 -> 1
A37: 133 | B37: 남 | E37: 11 | H37: =SUM(C37,D37,E37,F37,G37) -> 11 | I37: =RANK(H37,H$4:H$112) -> 85 | J37: =COUNTA(C37,D37,E37,F37,G37)/5 -> 0.2
A38: 134 | B38: 남 | C38: 6 | D38: 4 | E38: 4 | F38: 4 | G38: 7 | H38: =SUM(C38,D38,E38,F38,G38) -> 25 | I38: =RANK(H38,H$4:H$112) -> 58 | J38: =COUNTA(C38,D38,E38,F38,G38)/5 -> 1
A39: 135 | B39: 남 | C39: 12 | D39: 13 | E39: 12 | F39: 13 | G39: 11 | H39: =SUM(C39,D39,E39,F39,G39) -> 61 | I39: =RANK(H39,H$4:H$112) -> 2 | J39: =COUNTA(C39,D39,E39,F39,G39)/5 -> 1
A40: 136 | B40: 남 | H40: =SUM(C40,D40,E40,F40,G40) -> 0 | I40: =RANK(H40,H$4:H$112) -> 93 | J40: =COUNTA(C40,D40,E40,F40,G40)/5 -> 0 | K40: 1차 경고
...

Sheet 3월 2주차
A2: 5월 아침 모의고사 성적현황
A3: 시험 2주차 : 5월 21일 ~ 25일
C4: 21 | D4: 22 | E4: 23 | F4: 24 | G4: 25 | H4: 주간성적 | L4: 모의고사 참여율 | M4: 비고
A5: 수험 번호 | B5: 성별 | C5: 국사 | D5: 형소법 | E5: 경찰학 | F5: 형법 | G5: 영어 | H5: 이번주 총점 | I5: 누적 총점 | J5: 전체 총점 | K5: 등수
A6: 100 | B6: 남 | C6: 10 | D6: 13 | E6: 10 | F6: 10 | G6: 13 | H6: =SUM(C6:G6) -> 56 | I6: ='3월 1주차'!H5 -> 43 | J6: =SUM(H6,I6) -> 99 | K6: =RANK(J6,J$6:J$107) -> 11 | L6: =COUNTA(C6,D6,E6,F6,G6)/5 -> 1
A7: 103 | B7: 남 | C7: 7 | H7: =SUM(C7:G7) -> 7 | I7: ='3월 1주차'!H8 -> 6 | J7: =SUM(H7,I7) -> 13 | K7: =RANK(J7,J$6:J$107) -> 90 | L7: =COUNTA(C7,D7,E7,F7,G7)/5 -> 0.2
A8: 106 | B8: 여 | C8: 11 | D8: 9 | E8: 10 | F8: 4 | G8: 16 | H8: =SUM(C8:G8) -> 50 | I8: ='3월 1주차'!H10 -> 32 | J8: =SUM(H8,I8) -> 82 | K8: =RANK(J8,J$6:J$107) -> 24 | L8: =COUNTA(C8,D8,E8,F8,G8)/5 -> 1
A9: 107 | B9: 여 | C9: 5 | D9: 8 | E9: 6 | F9: 4 | G9: 11 | H9: =SUM(C9:G9) -> 34 | I9: ='3월 1주차'!H11 -> 30 | J9: =SUM(H9,I9) -> 64 | K9: =RANK(J9,J$6:J$107) -> 36 | L9: =COUNTA(C9,D9,E9,F9,G9)/5 -> 1
A10: 108 | B10: 여 | C10: 4 | D10: 2 | E10: 6 | F10: 4 | G10: 10 | H10: =SUM(C10:G10) -> 26 | I10: ='3월 1주차'!H12 -> 34 | J10: =SUM(H10,I10) -> 60 | K10: =RANK(J10,J$6:J$107) -> 41 | L10: =COUNTA(C10,D10,E10,F10,G10)/5 -> 1
A11: 109 | B11: 남 | C11: 7 | D11: 8 | E11: 6 | F11: 8 | G11: 14 | H11: =SUM(C11:G11) -> 43 | I11: ='3월 1주차'!H13 -> 41 | J11: =SUM(H11,I11) -> 84 | K11: =RANK(J11,J$6:J$107) -> 23 | L11: =COUNTA(C11,D11,E11,F11,G11)/5 -> 1
A12: 110 | B12: 남 | C12: 5 | D12: 11 | E12: 9 | F12: 7 | G12: 16 | H12: =SUM(C12:G12) -> 48 | I12: ='3월 1주차'!H14 -> 43 | J12: =SUM(H12,I12) -> 91 | K12: =RANK(J12,J$6:J$107) -> 17 | L12: =COUNTA(C12,D12,E12,F12,G12)/5 -> 1
A13: 111 | B13: 남 | D13: 11 | E13: 5 | F13: 6 | H13: =SUM(C13:G13) -> 22 | I13: ='3월 1주차'!H15 -> 41 | J13: =SUM(H13,I13) -> 63 | K13: =RANK(J13,J$6:J$107) -> 37 | L13: =COUNTA(C13,D13,E13,F13,G13)/5 -> 0.6
A14: 112 | B14: 여 | H14: =SUM(C14:G14) -> 0 | I14: ='3월 1주차'!H16 -> 10 | J14: =SUM(H14,I14) -> 10 | K14: =RANK(J14,J$6:J$107) -> 93 | L14: =COUNTA(C14,D14,E14,F14,G14)/5 -> 0 | M14: 1차 경고
A15: 113 | B15: 남 | C15: 5 | H15: =SUM(C15:G15) -> 5 | I15: ='3월 1주차'!H17 -> 4 | J15: =SUM(H15,I15) -> 9 | K15: =RANK(J15,J$6:J$107) -> 95 | L15: =COUNTA(C15,D15,E15,F15,G15)/5 -> 0.2
A16: 114 | B16: 남 | D16: 7 | E16: 6 | F16: 7 | G16: 8 | H16: =SUM(C16:G16) -> 28 | I16: ='3월 1주차'!H18 -> 37 | J16: =SUM(H16,I16) -> 65 | K16: =RANK(J16,J$6:J$107) -> 35 | L16: =COUNTA(C16,D16,E16,F16,G16)/5 -> 0.8
A17: 116 | B17: 남 | C17: 7 | D17: 3 | E17: 3 | F17: 1 | G17: 7 | H17: =SUM(C17:G17) -> 21 | I17: ='3월 1주차'!H20 -> 30 | J17: =SUM(H17,I17) -> 51 | K17: =RANK(J17,J$6:J$107) -> 53 | L17: =COUNTA(C17,D17,E17,F17,G17)/5 -> 1
A18: 117 | B18: 여 | C18: 9 | H18: =SUM(C18:G18) -> 9 | I18: ='3월 1주차'!H21 -> 40 | J18: =SUM(H18,I18) -> 49 | K18: =RANK(J18,J$6:J$107) -> 56 | L18: =COUNTA(C18,D18,E18,F18,G18)/5 -> 0.2
A19: 118 | B19: 남 | C19: 14 | D19: 11 | E19: 7 | G19: 14 | H19: =SUM(C19:G19) -> 46 | I19: ='3월 1주차'!H22 -> 52 | J19: =SUM(H19,I19) -> 98 | K19: =RANK(J19,J$6:J$107) -> 12 | L19: =COUNTA(C19,D19,E19,F19,G19)/5 -> 0.8
A20: 119 | B20: 남 | C20: 8 | D20: 8 | F20: 8 | G20: 11 | H20: =SUM(C20:G20) -> 35 | I20: ='3월 1주차'!H23 -> 21 | J20: =SUM(H20,I20) -> 56 | K20: =RANK(J20,J$6:J$107) -> 46 | L20: =COUNTA(C20,D20,E20,F20,G20)/5 -> 0.8
A21: 121 | B21: 남 | C21: 2 | D21: 7 | E21: 3 | F21: 4 | G21: 1 | H21: =SUM(C21:G21) -> 17 | I21: ='3월 1주차'!H25 -> 27 | J21: =SUM(H21,I21) -> 44 | K21: =RANK(J21,J$6:J$107) -> 60 | L21: =COUNTA(C21,D21,E21,F21,G21)/5 -> 1
A22: 122 | B22: 남 | C22: 6 | H22: =SUM(C22:G22) -> 6 | I22: ='3월 1주차'!H26 -> 25 | J22: =SUM(H22,I22) -> 31 | K22: =RANK(J22,J$6:J$107) -> 70 | L22: =COUNTA(C22,D22,E22,F22,G22)/5 -> 0.2
A23: 123 | B23: 남 | C23: 15 | D23: 15 | E23: 14 | F23: 11 | G23: 10 | H23: =SUM(C23:G23) -> 65 | I23: ='3월 1주차'!H27 -> 60 | J23: =SUM(H23,I23) -> 125 | K23: =RANK(J23,J$6:J$107) -> 2 | L23: =COUNTA(C23,D23,E23,F23,G23)/5 -> 1
A24: 124 | B24: 남 | C24: 8 | D24: 11 | E24: 9 | F24: 4 | G24: 7 | H24: =SUM(C24:G24) -> 39 | I24: ='3월 1주차'!H28 -> 29 | J24: =SUM(H24,I24) -> 68 | K24: =RANK(J24,J$6:J$107) -> 33 | L24: =COUNTA(C24,D24,E24,F24,G24)/5 -> 1
A25: 126 | B25: 남 | C25: 9 | D25: 10 | E25: 6 | F25: 9 | G25: 14 | H25: =SUM(C25:G25) -> 48 | I25: ='3월 1주차'!H30 -> 37 | J25: =SUM(H25,I25) -> 85 | K25: =RANK(J25,J$6:J$107) -> 21 | L25: =COUNTA(C25,D25,E25,F25,G25)/5 -> 1
A26: 128 | B26: 남 | D26: 6 | H26: =SUM(C26:G26) -> 6 | I26: ='3월 1주차'!H32 -> 15 | J26: =SUM(H26,I26) -> 21 | K26: =RANK(J26,J$6:J$107) -> 81 | L26: =COUNTA(C26,D26,E26,F26,G26)/5 -> 0.2
A27: 129 | B27: 여 | D27: 5 | E27: 4 | F27: 4 | H27: =SUM(C27:G27) -> 13 | I27: ='3월 1주차'!H33 -> 12 | J27: =SUM(H27,I27) -> 25 | K27: =RANK(J27,J$6:J$107) -> 78 | L27: =COUNTA(C27,D27,E27,F27,G27)/5 -> 0.6
A28: 130 | B28: 남 | D28: 2 | E28: 2 | F28: 5 | G28: 4 | H28: =SUM(C28:G28) -> 13 | I28: ='3월 1주차'!H34 -> 22 | J28: =SUM(H28,I28) -> 35 | K28: =RANK(J28,J$6:J$107) -> 66 | L28: =COUNTA(C28,D28,E28,F28,G28)/5 -> 0.8
A29: 131 | B29: 남 | C29: 15 | D29: 14 | E29: 11 | F29: 12 | G29: 13 | H29: =SUM(C29:G29) -> 65 | I29: ='3월 1주차'!H35 -> 53 | J29: =SUM(H29,I29) -> 118 | K29: =RANK(J29,J$6:J$107) -> 4 | L29: =COUNTA(C29,D29,E29,F29,G29)/5 -> 1
A30: 132 | B30: 남 | C30: 6 | D30: 9 | E30: 10 | F30: 2 | G30: 10 | H30: =SUM(C30:G30) -> 37 | I30: ='3월 1주차'!H36 -> 37 | J30: =SUM(H30,I30) -> 74 | K30: =RANK(J30,J$6:J$107) -> 31 | L30: =COUNTA(C30,D30,E30,F30,G30)/5 -> 1
A31: 133 | B31: 남 | C31: 13 | F31: 9 | G31: 11 | H31: =SUM(C31:G31) -> 33 | I31: ='3월 1주차'!H37 -> 11 | J31: =SUM(H31,I31) -> 44 | K31: =RANK(J31,J$6:J$107) -> 60 | L31: =COUNTA(C31,D31,E31,F31,G31)/5 -> 0.6
A32: 134 | B32: 남 | C32: 7 | D32: 6 | E32: 3 | F32: 1 | G32: 10 | H32: =SUM(C32:G32) -> 27 | I32: ='3월 1주차'!H38 -> 25 | J32: =SUM(H32,I32) -> 52 | K32: =RANK(J32,J$6:J$107) -> 52 | L32: =COUNTA(C32,D32,E32,F32,G32)/5 -> 1
A33: 135 | B33: 남 | C33: 12 | D33: 13 | E33: 12 | F33: 10 | G33: 18 | H33: =SUM(C33:G33) -> 65 | I33: ='3월 1주차'!H39 -> 61 | J33: =SUM(H33,I33) -> 126 | K33: =RANK(J33,J$6:J$107) -> 1 | L33: =COUNTA(C33,D33,E33,F33,G33)/5 -> 1
A34: 136 | B34: 남 | C34: 9 | D34: 6 | F34: 2 | H34: =SUM(C34:G34) -> 17 | I34: ='3월 1주차'!H40 -> 0 | J34: =SUM(H34,I34) -> 17 | K34: =RANK(J34,J$6:J$107) -> 84 | L34: =COUNTA(C34,D34,E34,F34,G34)/5 -> 0.6
A35: 137 | B35: 남 | C35: 4 | D35: 11 | E35: 5 | F35: 6 | G35: 11 | H35: =SUM(C35:G35) -> 37 | I35: ='3월 1주차'!H41 -> 21 | J35: =SUM(H35,I35) -> 58 | K35: =RANK(J35,J$6:J$107) -> 42 | L35: =COUNTA(C35,D35,E35,F35,G35)/5 -> 1
A36: 139 | B36: 남 | C36: 7 | D36: 7 | E36: 6 | F36: 5 | G36: 10 | H36: =SUM(C36:G36) -> 35 | I36: ='3월 1주차'!H43 -> 16 | J36: =SUM(H36,I36) -> 51 | K36: =RANK(J36,J$6:J$107) -> 53 | L36: =COUNTA(C36,D36,E36,F36,G36)/5 -> 1
A37: 140 | B37: 남 | C37: 5 | D37: 7 | E37: 1 | F37: 3 | G37: 4 | H37: =SUM(C37:G37) -> 20 | I37: ='3월 1주차'!H44 -> 13 | J37: =SUM(H37,I37) -> 33 | K37: =RANK(J37,J$6:J$107) -> 68 | L37: =COUNTA(C37,D37,E37,F37,G37)/5 -> 1
A38: 230 | B38: 남 | H38: =SUM(C38:G38) -> 0 | I38: ='3월 1주차'!H45 -> 26 | J38: =SUM(H38,I38) -> 26 | K38: =RANK(J38,J$6:J$107) -> 77 | L38: =COUNTA(C38,D38,E38,F38,G38)/5 -> 0 | M38: 1차 경고
A39: 231 | B39: 남 | C39: 10 | D39: 6 | E39: 9 | F39: 3 | G39: 14 | H39: =SUM(C39:G39) -> 42 | I39: ='3월 1주차'!H46 -> 37 | J39: =SUM(H39,I39) -> 79 | K39: =RANK(J39,J$6:J$107) -> 26 | L39: =COUNTA(C39,D39,E39,F39,G39)/5 -> 1
A40: 232 | B40: 남 | C40: 5 | D40: 7 | E40: 3 | F40: 4 | G40: 9 | H40: =SUM(C40:G40) -> 28 | I40: ='3월 1주차'!H47 -> 26 | J40: =SUM(H40,I40) -> 54 | K40: =RANK(J40,J$6:J$107) -> 48 | L40: =COUNTA(C40,D40,E40,F40,G40)/5 -> 1
A41: 233 | B41: 여 | H41: =SUM(C41:G41) -> 0 | I41: ='3월 1주차'!H48 -> 0 | J41: =SUM(H41,I41) -> 0 | K41: =RANK(J41,J$6:J$107) -> 98 | L41: =COUNTA(C41,D41,E41,F41,G41)/5 -> 0 | M41: 1차 경고
...

Sheet 3월 3주차
A2: 5월 아침 모의고사 성적현황
A3: 시험 3주차 : 5월 28일 ~ 6월 1일
C4: 28 | D4: 29 | E4: 30 | F4: 31 | G4: 1 | H4: 주간성적 | L4: 모의고사 참여율 | M4: 비고
A5: 수험 번호 | B5: 성별 | C5: 국사 | D5: 형소법 | E5: 경찰학 | F5: 형법 | G5: 영어 | H5: 이번주 총점 | I5: 누적 총점 | J5: 전체 총점 | K5: 등수
A6: 100 | B6: 남 | C6: 6 | D6: 12 | E6: 8 | F6: 8 | G6: 8 | H6: =SUM(C6:G6) -> 42 | I6: ='[1]2주차'!N6 -> 99 | J6: =SUM(H6,I6) -> 141 | K6: =RANK(J6,J$6:J$107) -> 10 | L6: =COUNTA(C6,D6,E6,F6,G6)/5 -> 1
A7: 103 | B7: 남 | H7: =SUM(C7:G7) -> 0 | I7: ='[1]2주차'!N7 -> 13 | J7: =SUM(H7,I7) -> 13 | K7: =RANK(J7,J$6:J$107) -> 94 | L7: =COUNTA(C7,D7,E7,F7,G7)/5 -> 0 | M7: 1차 경고
A8: 106 | B8: 여 | C8: 7 | D8: 12 | E8: 10 | F8: 7 | G8: 6 | H8: =SUM(C8:G8) -> 42 | I8: ='[1]2주차'!N8 -> 82 | J8: =SUM(H8,I8) -> 124 | K8: =RANK(J8,J$6:J$107) -> 17 | L8: =COUNTA(C8,D8,E8,F8,G8)/5 -> 1
A9: 107 | B9: 여 | C9: 4 | D9: 7 | E9: 6 | G9: 4 | H9: =SUM(C9:G9) -> 21 | I9: ='[1]2주차'!N9 -> 64 | J9: =SUM(H9,I9) -> 85 | K9: =RANK(J9,J$6:J$107) -> 36 | L9: =COUNTA(C9,D9,E9,F9,G9)/5 -> 0.8
A10: 108 | B10: 여 | C10: 6 | D10: 6 | F10: 2 | G10: 3 | H10: =SUM(C10:G10) -> 17 | I10: ='[1]2주차'!N10 -> 60 | J10: =SUM(H10,I10) -> 77 | K10: =RANK(J10,J$6:J$107) -> 45 | L10: =COUNTA(C10,D10,E10,F10,G10)/5 -> 0.8
A11: 109 | B11: 남 | C11: 8 | D11: 9 | E11: 7 | F11: 8 | G11: 8 | H11: =SUM(C11:G11) -> 40 | I11: ='[1]2주차'!N11 -> 84 | J11: =SUM(H11,I11) -> 124 | K11: =RANK(J11,J$6:J$107) -> 17 | L11: =COUNTA(C11,D11,E11,F11,G11)/5 -> 1
A12: 110 | B12: 남 | D12: 9 | E12: 7 | F12: 3 | G12: 9 | H12: =SUM(C12:G12) -> 28 | I12: ='[1]2주차'!N12 -> 91 | J12: =SUM(H12,I12) -> 119 | K12: =RANK(J12,J$6:J$107) -> 20 | L12: =COUNTA(C12,D12,E12,F12,G12)/5 -> 0.8
A13: 111 | B13: 남 | E13: 3 | H13: =SUM(C13:G13) -> 3 | I13: ='[1]2주차'!N13 -> 63 | J13: =SUM(H13,I13) -> 66 | K13: =RANK(J13,J$6:J$107) -> 53 | L13: =COUNTA(C13,D13,E13,F13,G13)/5 -> 0.2
A14: 113 | B14: 남 | H14: =SUM(C14:G14) -> 0 | I14: ='[1]2주차'!N15 -> 9 | J14: =SUM(H14,I14) -> 9 | K14: =RANK(J14,J$6:J$107) -> 97 | L14: =COUNTA(C14,D14,E14,F14,G14)/5 -> 0 | M14: 1차 경고
A15: 114 | B15: 남 | C15: 4 | D15: 8 | E15: 6 | F15: 8 | G15: 3 | H15: =SUM(C15:G15) -> 29 | I15: ='[1]2주차'!N16 -> 65 | J15: =SUM(H15,I15) -> 94 | K15: =RANK(J15,J$6:J$107) -> 33 | L15: =COUNTA(C15,D15,E15,F15,G15)/5 -> 1
A16: 116 | B16: 남 | D16: 5 | E16: 3 | F16: 1 | G16: 7 | H16: =SUM(C16:G16) -> 16 | I16: ='[1]2주차'!N17 -> 51 | J16: =SUM(H16,I16) -> 67 | K16: =RANK(J16,J$6:J$107) -> 52 | L16: =COUNTA(C16,D16,E16,F16,G16)/5 -> 0.8
A17: 117 | B17: 여 | C17: 5 | D17: 4 | H17: =SUM(C17:G17) -> 9 | I17: ='[1]2주차'!N18 -> 49 | J17: =SUM(H17,I17) -> 58 | K17: =RANK(J17,J$6:J$107) -> 60 | L17: =COUNTA(C17,D17,E17,F17,G17)/5 -> 0.4
A18: 118 | B18: 남 | C18: 3 | D18: 13 | E18: 9 | F18: 2 | G18: 9 | H18: =SUM(C18:G18) -> 36 | I18: ='[1]2주차'!N19 -> 98 | J18: =SUM(H18,I18) -> 134 | K18: =RANK(J18,J$6:J$107) -> 12 | L18: =COUNTA(C18,D18,E18,F18,G18)/5 -> 1
A19: 119 | B19: 남 | C19: 5 | D19: 9 | E19: 2 | F19: 3 | G19: 9 | H19: =SUM(C19:G19) -> 28 | I19: ='[1]2주차'!N20 -> 56 | J19: =SUM(H19,I19) -> 84 | K19: =RANK(J19,J$6:J$107) -> 39 | L19: =COUNTA(C19,D19,E19,F19,G19)/5 -> 1
A20: 121 | B20: 남 | D20: 4 | E20: 2 | F20: 3 | G20: 3 | H20: =SUM(C20:G20) -> 12 | I20: ='[1]2주차'!N21 -> 44 | J20: =SUM(H20,I20) -> 56 | K20: =RANK(J20,J$6:J$107) -> 61 | L20: =COUNTA(C20,D20,E20,F20,G20)/5 -> 0.8
A21: 122 | B21: 남 | C21: 8 | D21: 3 | E21: 3 | H21: =SUM(C21:G21) -> 14 | I21: ='[1]2주차'!N22 -> 31 | J21: =SUM(H21,I21) -> 45 | K21: =RANK(J21,J$6:J$107) -> 67 | L21: =COUNTA(C21,D21,E21,F21,G21)/5 -> 0.6
A22: 123 | B22: 남 | C22: 6 | G22: 7 | H22: =SUM(C22:G22) -> 13 | I22: ='[1]2주차'!N23 -> 125 | J22: =SUM(H22,I22) -> 138 | K22: =RANK(J22,J$6:J$107) -> 11 | L22: =COUNTA(C22,D22,E22,F22,G22)/5 -> 0.4
A23: 124 | B23: 남 | C23: 8 | G23: 8 | H23: =SUM(C23:G23) -> 16 | I23: ='[1]2주차'!N24 -> 68 | J23: =SUM(H23,I23) -> 84 | K23: =RANK(J23,J$6:J$107) -> 39 | L23: =COUNTA(C23,D23,E23,F23,G23)/5 -> 0.4
A24: 126 | B24: 남 | C24: 5 | D24: 6 | E24: 8 | F24: 4 | G24: 8 | H24: =SUM(C24:G24) -> 31 | I24: ='[1]2주차'!N25 -> 85 | J24: =SUM(H24,I24) -> 116 | K24: =RANK(J24,J$6:J$107) -> 21 | L24: =COUNTA(C24,D24,E24,F24,G24)/5 -> 1
A25: 128 | B25: 남 | H25: =SUM(C25:G25) -> 0 | I25: ='[1]2주차'!N26 -> 21 | J25: =SUM(H25,I25) -> 21 | K25: =RANK(J25,J$6:J$107) -> 85 | L25: =COUNTA(C25,D25,E25,F25,G25)/5 -> 0 | M25: 1차 경고
A26: 129 | B26: 여 | H26: =SUM(C26:G26) -> 0 | I26: ='[1]2주차'!N27 -> 25 | J26: =SUM(H26,I26) -> 25 | K26: =RANK(J26,J$6:J$107) -> 82 | L26: =COUNTA(C26,D26,E26,F26,G26)/5 -> 0 | M26: 1차 경고
A27: 130 | B27: 남 | C27: 5 | D27: 5 | E27: 5 | F27: 3 | G27: 2 | H27: =SUM(C27:G27) -> 20 | I27: ='[1]2주차'!N28 -> 35 | J27: =SUM(H27,I27) -> 55 | K27: =RANK(J27,J$6:J$107) -> 63 | L27: =COUNTA(C27,D27,E27,F27,G27)/5 -> 1
A28: 131 | B28: 남 | C28: 7 | D28: 14 | E28: 12 | F28: 8 | G28: 10 | H28: =SUM(C28:G28) -> 51 | I28: ='[1]2주차'!N29 -> 118 | J28: =SUM(H28,I28) -> 169 | K28: =RANK(J28,J$6:J$107) -> 3 | L28: =COUNTA(C28,D28,E28,F28,G28)/5 -> 1
A29: 132 | B29: 남 | C29: 6 | D29: 7 | E29: 4 | F29: 6 | G29: 6 | H29: =SUM(C29:G29) -> 29 | I29: ='[1]2주차'!N30 -> 74 | J29: =SUM(H29,I29) -> 103 | K29: =RANK(J29,J$6:J$107) -> 30 | L29: =COUNTA(C29,D29,E29,F29,G29)/5 -> 1
A30: 133 | B30: 남 | C30: 12 | D30: 11 | G30: 7 | H30: =SUM(C30:G30) -> 30 | I30: ='[1]2주차'!N31 -> 44 | J30: =SUM(H30,I30) -> 74 | K30: =RANK(J30,J$6:J$107) -> 48 | L30: =COUNTA(C30,D30,E30,F30,G30)/5 -> 0.6
A31: 134 | B31: 남 | C31: 7 | D31: 8 | E31: 3 | F31: 1 | G31: 8 | H31: =SUM(C31:G31) -> 27 | I31: ='[1]2주차'!N32 -> 52 | J31: =SUM(H31,I31) -> 79 | K31: =RANK(J31,J$6:J$107) -> 43 | L31: =COUNTA(C31,D31,E31,F31,G31)/5 -> 1
A32: 135 | B32: 남 | C32: 7 | D32: 14 | E32: 12 | F32: 8 | G32: 7 | H32: =SUM(C32:G32) -> 48 | I32: ='[1]2주차'!N33 -> 126 | J32: =SUM(H32,I32) -> 174 | K32: =RANK(J32,J$6:J$107) -> 1 | L32: =COUNTA(C32,D32,E32,F32,G32)/5 -> 1
A33: 136 | B33: 남 | C33: 5 | H33: =SUM(C33:G33) -> 5 | I33: ='[1]2주차'!N34 -> 17 | J33: =SUM(H33,I33) -> 22 | K33: =RANK(J33,J$6:J$107) -> 84 | L33: =COUNTA(C33,D33,E33,F33,G33)/5 -> 0.2
A34: 137 | B34: 남 | C34: 6 | D34: 11 | E34: 5 | F34: 6 | G34: 3 | H34: =SUM(C34:G34) -> 31 | I34: ='[1]2주차'!N35 -> 58 | J34: =SUM(H34,I34) -> 89 | K34: =RANK(J34,J$6:J$107) -> 35 | L34: =COUNTA(C34,D34,E34,F34,G34)/5 -> 1
A35: 139 | B35: 남 | C35: 5 | D35: 7 | E35: 4 | F35: 5 | G35: 7 | H35: =SUM(C35:G35) -> 28 | I35: ='[1]2주차'!N36 -> 51 | J35: =SUM(H35,I35) -> 79 | K35: =RANK(J35,J$6:J$107) -> 43 | L35: =COUNTA(C35,D35,E35,F35,G35)/5 -> 1
A36: 140 | B36: 남 | E36: 4 | G36: 8 | H36: =SUM(C36:G36) -> 12 | I36: ='[1]2주차'!N37 -> 33 | J36: =SUM(H36,I36) -> 45 | K36: =RANK(J36,J$6:J$107) -> 67 | L36: =COUNTA(C36,D36,E36,F36,G36)/5 -> 0.4
A37: 230 | B37: 남 | F37: 6 | H37: =SUM(C37:G37) -> 6 | I37: ='[1]2주차'!N38 -> 26 | J37: =SUM(H37,I37) -> 32 | K37: =RANK(J37,J$6:J$107) -> 74 | L37: =COUNTA(C37,D37,E37,F37,G37)/5 -> 0.2
A38: 231 | B38: 남 | C38: 7 | D38: 3 | E38: 8 | F38: 3 | G38: 11 | H38: =SUM(C38:G38) -> 32 | I38: ='[1]2주차'!N39 -> 79 | J38: =SUM(H38,I38) -> 111 | K38: =RANK(J38,J$6:J$107) -> 25 | L38: =COUNTA(C38,D38,E38,F38,G38)/5 -> 1
A39: 232 | B39: 남 | C39: 6 | D39: 6 | E39: 8 | F39: 2 | G39: 7 | H39: =SUM(C39:G39) -> 29 | I39: ='[1]2주차'!N40 -> 54 | J39: =SUM(H39,I39) -> 83 | K39: =RANK(J39,J$6:J$107) -> 42 | L39: =COUNTA(C39,D39,E39,F39,G39)/5 -> 1
A40: 236 | B40: 남 | C40: 4 | D40: 10 | F40: 5 | G40: 9 | H40: =SUM(C40:G40) -> 28 | I40: ='[1]2주차'!N44 -> 38 | J40: =SUM(H40,I40) -> 66 | K40: =RANK(J40,J$6:J$107) -> 53 | L40: =COUNTA(C40,D40,E40,F40,G40)/5 -> 0.8
A41: 151 | B41: 여 | G41: 3 | H41: =SUM(C41:G41) -> 3 | I41: ='[1]2주차'!N45 -> 29 | J41: =SUM(H41,I41) -> 32 | K41: =RANK(J41,J$6:J$107) -> 74 | L41: =COUNTA(C41,D41,E41,F41,G41)/5 -> 0.2
...
